Workbook

Sheet Planning
A1: Priorité | B1: Date d'emballage théorique | C1: Projet | D1: Jour de coupe | E1: Livraison au montage | F1: PLAN JOUR C/T | G1: Date emballage | H1: Infos | I1: Date ARC | J1: Typologie | K1: Désignation | L1: Client | M1: Qté | N1: Tiges | O1: Tiges récept. | P1: Ø Tige | Q1: COMP TIGE | R1: EMBARREUR | S1: 520 JPH | T1: 800 HER | U1: MAG | V1: Robot | W1: Lieder | X1: Date livraison tiges | Y1: Corps | Z1: Fûts récept. | AA1: Ø Fut | AB1: COMP Corps | AC1: FMS | AD1: OMG | AE1: DOOSAN | AF1: 1° soudure | AG1: Galetage | AH1: 2° soudure | AI1: Robot corps | AJ1: Divers | AK1: Date livraison corps | AL1: livraison phasée | AM1: Commentaires prépa | AN1: Composants | AO1: Dispo Composants | AP1: Vérin | AQ1: Hélium / lavage | AR1: Prémontage | AS1: Montage | AT1: Date montage | AU1: Hydraulique | AV1: Peinture | AW1: Date emballage | AX1: Commentaires
A2: s | B2: #N/A | C2: 285835 | D2: #N/A | F2: 22.5 | G2: 23.2 | I2: 23.2 | J2: GROS R | K2: 203.2/88.9 C1067 | L2: SERTA AMERICA INC | M2: 4 | N2: TES27297 | P2: 0 | X2: 1822.5 | Y2: CS27297 | AK2: 1822.5 | AL2: 1822.5 | AO2: #N/A | AP2: 27297 | AT2: 23.2 | AW2: 23.2 | AX2: palettes ok Demande de clôture le 13/06/18
A3: TGV | B3: 32.5 | C3: 288043 | D3: 31.5 | E3: 32.3 | F3: 35.1 | G3: 35.1 | H3: Aérien | I3: 31,5 | J3: GROS R | K3: 203.2/88.9 C1067 | L3: SERTA AMERICA INC | M3: 36 | N3: TES27297 | P3: 0 | R3: 0 | T3: 0 | U3: 0 | W3: 0 | X3: 1834.5 | Y3: CS27297 | AC3: 0 | AD3: 0 | AF3: 0 | AG3: 0 | AH3: 0 | AJ3: 0 | AK3: prêt | AM3: Partiel de 12 TGV !! Et 2 tiges hs au robot | AP3: 27297 | AQ3: ec | AR3: ec | AS3: 2 | AT3: 34.5 | AX3: 2 TES NC Relancées le 24/08/18
A4: R | B4: 32.2 | C4: 288149 | D4: 31.2 | E4: 31.5 | F4: 34.5 | G4: 35.1 | H4: rupture 34,2 | I4: 32.5 | J4: LONG | K4: 100/60C3497 | L4: MANITOU 1ère monte | M4: 24 | N4: TIG060.26250 | R4: 0 | S4: 0 | U4: 0 | V4: 0 | W4: 0 | X4: 1834.4 | Y4: CS26710 | AC4: 0 | AI4: 0 | AJ4: 0 | AK4: 1834.5 | AL4: 1834.5 | AM4: 2 corps hs en soudure | AO4: 32.3 | AP4: 26710 | AR4: ec | AS4: 1 | AU4: H | AV4: F N
A5: s | B5: 29.3 | C5: 291354 | D5: 28.3 | E5: 29.1 | F5: 30.3 | G5: 31.2 | I5: 30,3 | J5: LONG | K5: 100/85C2137 | L5: JLG EMEA BV 1ère monte | M5: 1 | N5: TES26747 | R5: 0 | S5: 0 | U5: 0 | X5: 1830.3 | Y5: CS26747 | AD5: 0 | AF5: 0 | AI5: 0 | AJ5: 0 | AK5: 1830.3 | AL5: 1830.3 | AM5: uncorps hs en soudure | AO5: 29.4 | AP5: 26747 | AT5: 31.1 | AW5: 31.2 | AX5: 1 corps NC Relancé le 26/07/18
A6: s | B6: #N/A | C6: 283984 | D6: #N/A | F6: 14.5 | I6: 15.3 | J6: GROS | K6: 200/105C1186 | L6: SERTA AMERICA INC | M6: 1 | N6: HA TES26964 | X6: 1814.5 | Y6: CS26756 | AK6: 1814.5 | AL6: 1814.5 | AO6: #N/A | AP6: 26964 | AT6: 20.5 | AU6: x | AV6: M Black | AX6: Vérin à démonter : manque racleur
A7: s | B7: 30.2 | C7: 287997 | D7: 29.2 | E7: 29.5 | F7: 30.4 | G7: 31.2 | I7: 31,3 | J7: GROS R | K7: 203.2/88.9 C730 | L7: SERTA AMERICA INC | M7: 1 | N7: TES27287 | W7: 0 | X7: 1830.3 | Y7: CS27287 | AC7: 0 | AD7: 0 | AG7: 0 | AH7: 0 | AJ7: 0 | AK7: 1830.4 | AL7: 1830.4 | AO7: 30.5 | AP7: 27287 | AT7: 31.2 | AW7: 30.2 | AX7: palettes ok
A8: s | B8: 29.4 | C8: 288205 | D8: 28.4 | E8: 29.2 | F8: 30.4 | G8: 31.1 | H8: rupture 33,4 | I8: 30.5 | J8: LONG | K8: 65/45C3620 | L8: MANITOU Candé | M8: 1 | N8: TES25092 | R8: 0 | S8: 0 | V8: 0 | W8: 0 | X8: 1830.4 | Y8: CS25092 | AK8: 1830.5 | AL8: 1830.4 | AM8: bfu25092 | AO8: 30.2 | AP8: 25092 | AT8: 30.5 | AW8: 31.1 | AX8: 1 tige NC
A9: s | B9: 28.4 | C9: 289543 | D9: 27.4 | E9: 28.2 | F9: 30.4 | G9: 31.1 | H9: fd27312 qté:2 | I9: 27,5 | J9: GROS | K9: 150/90C1070 | L9: JLG Industries - Americas | M9: 2 | N9: TES27312 | R9: 0 | U9: 0 | W9: 0 | X9: 1830.4 | Y9: CS27312 | AA9: 0 | AD9: 0 | AF9: 0 | AG9: 0 | AI9: 0 | AJ9: 0 | AK9: 1830.4 | AL9: 1830.4 | AM9: manque tube fms pour 2 corps | AO9: 30.4 | AP9: 27312 | AT9: 31.1 | AW9: 31.2 | AX9: Appeler Ludo pour photo création fiche de réglage manque 2 corps

Sheet Soldes
A1: Priorité | B1: Date d'emballage théorique | C1: Projet | D1: Jour de coupe | E1: Livraison au montage | F1: PLAN JOUR C/T | G1: Date emballage | H1: Infos | I1: Date ARC | J1: Typologie | K1: Désignation | L1: Client | M1: Qté | N1: Tiges | O1: Tiges récept. | P1: Ø Tige | Q1: COMP TIGE | R1: EMBARREUR | S1: 520 JPH | T1: 800 HER | U1: MAG | V1: Robot | W1: Lieder | X1: Date livraison tiges | Y1: Corps | Z1: Fûts récept. | AA1: Ø Fut | AB1: COMP Corps | AC1: FMS | AD1: OMG | AE1: DOOSAN | AF1: 1° soudure | AG1: Galetage | AH1: 2° soudure | AI1: Robot corps | AJ1: Divers | AK1: Date livraison corps | AL1: livraison phasée | AM1: Commentaires prépa | AN1: Composants | AO1: Dispo Composants | AP1: Vérin | AQ1: Hélium / lavage | AR1: Prémontage | AS1: Montage | AT1: Date montage | AU1: Hydraulique | AV1: Peinture | AW1: Date emballage | AX1: Commentaires
A2: =IF(ISNUMBER(FIND("s",Planning!$A2,1)),Planning!A2,"-") -> s | B2: =IF(ISNUMBER(FIND("s",Planning!$A2,1)),Planning!B2,"-") -> #N/A | C2: =IF(ISNUMBER(FIND("s",Planning!$A2,1)),Planning!C2,"-") -> 285835 | D2: =IF(ISNUMBER(FIND("s",Planning!$A2,1)),Planning!D2,"-") -> #N/A | E2: =IF(ISNUMBER(FIND("s",Planning!$A2,1)),Planning!E2,"-") | F2: =IF(ISNUMBER(FIND("s",Planning!$A2,1)),Planning!F2,"-") -> 22.5 | G2: =IF(ISNUMBER(FIND("s",Planning!$A2,1)),Planning!G2,"-") -> 23.2 | H2: =IF(ISNUMBER(FIND("s",Planning!$A2,1)),Planning!H2,"-") -> 0 | ... AX2: =IF(ISNUMBER(FIND("s",Planning!$A2,1)),Planning!AX2,"-") -> palettes ok Demande de clôture le 13/06/18
A3: =IF(ISNUMBER(FIND("s",Planning!$A3,1)),Planning!A3,"-") -> - | B3: =IF(ISNUMBER(FIND("s",Planning!$A3,1)),Planning!B3,"-") -> - | C3: =IF(ISNUMBER(FIND("s",Planning!$A3,1)),Planning!C3,"-") -> - | D3: =IF(ISNUMBER(FIND("s",Planning!$A3,1)),Planning!D3,"-") -> - | E3: =IF(ISNUMBER(FIND("s",Planning!$A3,1)),Planning!E3,"-") -> - | F3: =IF(ISNUMBER(FIND("s",Planning!$A3,1)),Planning!F3,"-") -> - | G3: =IF(ISNUMBER(FIND("s",Planning!$A3,1)),Planning!G3,"-") -> - | H3: =IF(ISNUMBER(FIND("s",Planning!$A3,1)),Planning!H3,"-") -> - | ... AX3: =IF(ISNUMBER(FIND("s",Planning!$A3,1)),Planning!AX3,"-") -> -
A4: =IF(ISNUMBER(FIND("s",Planning!$A4,1)),Planning!A4,"-") -> - | B4: =IF(ISNUMBER(FIND("s",Planning!$A4,1)),Planning!B4,"-") -> - | C4: =IF(ISNUMBER(FIND("s",Planning!$A4,1)),Planning!C4,"-") -> - | D4: =IF(ISNUMBER(FIND("s",Planning!$A4,1)),Planning!D4,"-") -> - | E4: =IF(ISNUMBER(FIND("s",Planning!$A4,1)),Planning!E4,"-") -> - | F4: =IF(ISNUMBER(FIND("s",Planning!$A4,1)),Planning!F4,"-") -> - | G4: =IF(ISNUMBER(FIND("s",Planning!$A4,1)),Planning!G4,"-") -> - | H4: =IF(ISNUMBER(FIND("s",Planning!$A4,1)),Planning!H4,"-") -> - | ... AX4: =IF(ISNUMBER(FIND("s",Planning!$A4,1)),Planning!AX4,"-") -> -
A5: =IF(ISNUMBER(FIND("s",Planning!$A5,1)),Planning!A5,"-") -> s | B5: =IF(ISNUMBER(FIND("s",Planning!$A5,1)),Planning!B5,"-") -> 29.3 | C5: =IF(ISNUMBER(FIND("s",Planning!$A5,1)),Planning!C5,"-") -> 291354 | D5: =IF(ISNUMBER(FIND("s",Planning!$A5,1)),Planning!D5,"-") -> 28.3 | E5: =IF(ISNUMBER(FIND("s",Planning!$A5,1)),Planning!E5,"-") -> 29.1 | F5: =IF(ISNUMBER(FIND("s",Planning!$A5,1)),Planning!F5,"-") -> 30.3 | G5: =IF(ISNUMBER(FIND("s",Planning!$A5,1)),Planning!G5,"-") -> 31.2 | H5: =IF(ISNUMBER(FIND("s",Planning!$A5,1)),Planning!H5,"-") -> 0 | ... AX5: =IF(ISNUMBER(FIND("s",Planning!$A5,1)),Planning!AX5,"-") -> 1 corps NC Relancé le 26/07/18
A6: =IF(ISNUMBER(FIND("s",Planning!$A6,1)),Planning!A6,"-") -> s | B6: =IF(ISNUMBER(FIND("s",Planning!$A6,1)),Planning!B6,"-") -> #N/A | C6: =IF(ISNUMBER(FIND("s",Planning!$A6,1)),Planning!C6,"-") -> 283984 | D6: =IF(ISNUMBER(FIND("s",Planning!$A6,1)),Planning!D6,"-") -> #N/A | E6: =IF(ISNUMBER(FIND("s",Planning!$A6,1)),Planning!E6,"-") | F6: =IF(ISNUMBER(FIND("s",Planning!$A6,1)),Planning!F6,"-") -> 14.5 | G6: =IF(ISNUMBER(FIND("s",Planning!$A6,1)),Planning!G6,"-") -> 0 | H6: =IF(ISNUMBER(FIND("s",Planning!$A6,1)),Planning!H6,"-") -> 0 | ... AX6: =IF(ISNUMBER(FIND("s",Planning!$A6,1)),Planning!AX6,"-") -> Vérin à démonter : manque racleur
A7: =IF(ISNUMBER(FIND("s",Planning!$A7,1)),Planning!A7,"-") -> s | B7: =IF(ISNUMBER(FIND("s",Planning!$A7,1)),Planning!B7,"-") -> 30.2 | C7: =IF(ISNUMBER(FIND("s",Planning!$A7,1)),Planning!C7,"-") -> 287997 | D7: =IF(ISNUMBER(FIND("s",Planning!$A7,1)),Planning!D7,"-") -> 29.2 | E7: =IF(ISNUMBER(FIND("s",Planning!$A7,1)),Planning!E7,"-") -> 29.5 | F7: =IF(ISNUMBER(FIND("s",Planning!$A7,1)),Planning!F7,"-") -> 30.4 | G7: =IF(ISNUMBER(FIND("s",Planning!$A7,1)),Planning!G7,"-") -> 31.2 | H7: =IF(ISNUMBER(FIND("s",Planning!$A7,1)),Planning!H7,"-") -> 0 | ... AX7: =IF(ISNUMBER(FIND("s",Planning!$A7,1)),Planning!AX7,"-") -> palettes ok
A8: =IF(ISNUMBER(FIND("s",Planning!$A8,1)),Planning!A8,"-") -> s | B8: =IF(ISNUMBER(FIND("s",Planning!$A8,1)),Planning!B8,"-") -> 29.4 | C8: =IF(ISNUMBER(FIND("s",Planning!$A8,1)),Planning!C8,"-") -> 288205 | D8: =IF(ISNUMBER(FIND("s",Planning!$A8,1)),Planning!D8,"-") -> 28.4 | E8: =IF(ISNUMBER(FIND("s",Planning!$A8,1)),Planning!E8,"-") -> 29.2 | F8: =IF(ISNUMBER(FIND("s",Planning!$A8,1)),Planning!F8,"-") -> 30.4 | G8: =IF(ISNUMBER(FIND("s",Planning!$A8,1)),Planning!G8,"-") -> 31.1 | H8: =IF(ISNUMBER(FIND("s",Planning!$A8,1)),Planning!H8,"-") -> rupture 33,4 | ... AX8: =IF(ISNUMBER(FIND("s",Planning!$A8,1)),Planning!AX8,"-") -> 1 tige NC
A9: =IF(ISNUMBER(FIND("s",Planning!$A9,1)),Planning!A9,"-") -> s | B9: =IF(ISNUMBER(FIND("s",Planning!$A9,1)),Planning!B9,"-") -> 28.4 | C9: =IF(ISNUMBER(FIND("s",Planning!$A9,1)),Planning!C9,"-") -> 289543 | D9: =IF(ISNUMBER(FIND("s",Planning!$A9,1)),Planning!D9,"-") -> 27.4 | E9: =IF(ISNUMBER(FIND("s",Planning!$A9,1)),Planning!E9,"-") -> 28.2 | F9: =IF(ISNUMBER(FIND("s",Planning!$A9,1)),Planning!F9,"-") -> 30.4 | G9: =IF(ISNUMBER(FIND("s",Planning!$A9,1)),Planning!G9,"-") -> 31.1 | H9: =IF(ISNUMBER(FIND("s",Planning!$A9,1)),Planning!H9,"-") -> fd27312 qté:2 | ... AX9: =IF(ISNUMBER(FIND("s",Planning!$A9,1)),Planning!AX9,"-") -> Appeler Ludo pour photo création fiche de réglage manque 2 corps
A10: =IF(ISNUMBER(FIND("s",Planning!$A10,1)),Planning!A10,"-") -> - | B10: =IF(ISNUMBER(FIND("s",Planning!$A10,1)),Planning!B10,"-") -> - | C10: =IF(ISNUMBER(FIND("s",Planning!$A10,1)),Planning!C10,"-") -> - | D10: =IF(ISNUMBER(FIND("s",Planning!$A10,1)),Planning!D10,"-") -> - | E10: =IF(ISNUMBER(FIND("s",Planning!$A10,1)),Planning!E10,"-") -> - | F10: =IF(ISNUMBER(FIND("s",Planning!$A10,1)),Planning!F10,"-") -> - | G10: =IF(ISNUMBER(FIND("s",Planning!$A10,1)),Planning!G10,"-") -> - | H10: =IF(ISNUMBER(FIND("s",Planning!$A10,1)),Planning!H10,"-") -> - | ... AX10: =IF(ISNUMBER(FIND("s",Planning!$A10,1)),Planning!AX10,"-") -> -
A11: =IF(ISNUMBER(FIND("s",Planning!$A11,1)),Planning!A11,"-") -> - | B11: =IF(ISNUMBER(FIND("s",Planning!$A11,1)),Planning!B11,"-") -> - | C11: =IF(ISNUMBER(FIND("s",Planning!$A11,1)),Planning!C11,"-") -> - | D11: =IF(ISNUMBER(FIND("s",Planning!$A11,1)),Planning!D11,"-") -> - | E11: =IF(ISNUMBER(FIND("s",Planning!$A11,1)),Planning!E11,"-") -> - | F11: =IF(ISNUMBER(FIND("s",Planning!$A11,1)),Planning!F11,"-") -> - | G11: =IF(ISNUMBER(FIND("s",Planning!$A11,1)),Planning!G11,"-") -> - | H11: =IF(ISNUMBER(FIND("s",Planning!$A11,1)),Planning!H11,"-") -> - | ... AX11: =IF(ISNUMBER(FIND("s",Planning!$A11,1)),Planning!AX11,"-") -> -
A12: =IF(ISNUMBER(FIND("s",Planning!$A12,1)),Planning!A12,"-") -> - | B12: =IF(ISNUMBER(FIND("s",Planning!$A12,1)),Planning!B12,"-") -> - | C12: =IF(ISNUMBER(FIND("s",Planning!$A12,1)),Planning!C12,"-") -> - | D12: =IF(ISNUMBER(FIND("s",Planning!$A12,1)),Planning!D12,"-") -> - | E12: =IF(ISNUMBER(FIND("s",Planning!$A12,1)),Planning!E12,"-") -> - | F12: =IF(ISNUMBER(FIND("s",Planning!$A12,1)),Planning!F12,"-") -> - | G12: =IF(ISNUMBER(FIND("s",Planning!$A12,1)),Planning!G12,"-") -> - | H12: =IF(ISNUMBER(FIND("s",Planning!$A12,1)),Planning!H12,"-") -> - | ... AX12: =IF(ISNUMBER(FIND("s",Planning!$A12,1)),Planning!AX12,"-") -> -
A13: =IF(ISNUMBER(FIND("s",Planning!$A13,1)),Planning!A13,"-") -> - | B13: =IF(ISNUMBER(FIND("s",Planning!$A13,1)),Planning!B13,"-") -> - | C13: =IF(ISNUMBER(FIND("s",Planning!$A13,1)),Planning!C13,"-") -> - | D13: =IF(ISNUMBER(FIND("s",Planning!$A13,1)),Planning!D13,"-") -> - | E13: =IF(ISNUMBER(FIND("s",Planning!$A13,1)),Planning!E13,"-") -> - | F13: =IF(ISNUMBER(FIND("s",Planning!$A13,1)),Planning!F13,"-") -> - | G13: =IF(ISNUMBER(FIND("s",Planning!$A13,1)),Planning!G13,"-") -> - | H13: =IF(ISNUMBER(FIND("s",Planning!$A13,1)),Planning!H13,"-") -> - | ... AX13: =IF(ISNUMBER(FIND("s",Planning!$A13,1)),Planning!AX13,"-") -> -
... A31: =IF(ISNUMBER(FIND("s",Planning!$A31,1)),Planning!A31,"-") -> - | B31: =IF(ISNUMBER(FIND("s",Planning!$A31,1)),Planning!B31,"-") -> - | C31: =IF(ISNUMBER(FIND("s",Planning!$A31,1)),Planning!C31,"-") -> - | D31: =IF(ISNUMBER(FIND("s",Planning!$A31,1)),Planning!D31,"-") -> - | E31: =IF(ISNUMBER(FIND("s",Planning!$A31,1)),Planning!E31,"-") -> - | F31: =IF(ISNUMBER(FIND("s",Planning!$A31,1)),Planning!F31,"-") -> - | G31: =IF(ISNUMBER(FIND("s",Planning!$A31,1)),Planning!G31,"-") -> - | H31: =IF(ISNUMBER(FIND("s",Planning!$A31,1)),Planning!H31,"-") -> - | ... AX31: =IF(ISNUMBER(FIND("s",Planning!$A31,1)),Planning!AX31,"-") -> -

Sheet Feuil3
