Workbook
Name Adresse: #REF!
Name Excel_BuiltIn__FilterDatabase_1: '[1]Contacts Sc 1 & 2'!#REF!
Name Excel_BuiltIn_Print_Titles_1_1: ('[1]Contacts Sc 1 & 2'!$B:$C,'[1]Contacts Sc 1 & 2'!$A$5:$IL$6)
Name Excel_BuiltIn_Print_Titles_2_1: ('[1]Logistique Sc 1 & 2'!$B:$C,'[1]Logistique Sc 1 & 2'!$3:$5)
Name Excel_BuiltIn_Print_Titles_2_1_1: ('[1]Logistique Sc 1 & 2'!$B:$C,'[1]Logistique Sc 1 & 2'!$3:$5)
Name HOTEL: #REF!
Name kmdejvl: ('[1]Logistique Sc 1 & 2'!$B:$C,'[1]Logistique Sc 1 & 2'!$3:$5)
Name NOM: #REF!
Name TEL: #REF!
Name test: '[1]Contacts Sc 1 & 2'!#REF!

Sheet Résultat
D1: Nom1
A2: Trajets
A3: =IFERROR(INDEX(Source!$D:$D,MATCH(ROW()-2,Source!$G:$G,0)),"") -> 0.5625 | D3: =IFERROR(INDEX(Source!$B:$B,MATCH(ROW()-2,Source!$G:$G,0))&" personnes","") -> 12 personnes | E3: =IFERROR(INDEX(Source!$C:$C,MATCH(ROW()-2,Source!$G:$G,0))&" <-> "&(INDEX(Source!$E:$E,MATCH(ROW()-2,Source!$G:$G,0))),"") -> Gare <-> Mairie
A4: =IFERROR(INDEX(Source!$D:$D,MATCH(ROW()-2,Source!$G:$G,0)),"") | D4: =IFERROR(INDEX(Source!$B:$B,MATCH(ROW()-2,Source!$G:$G,0))&" personnes","") | E4: =IFERROR(INDEX(Source!$C:$C,MATCH(ROW()-2,Source!$G:$G,0))&" <-> "&(INDEX(Source!$E:$E,MATCH(ROW()-2,Source!$G:$G,0))),"")
A5: =IFERROR(INDEX(Source!$D:$D,MATCH(ROW()-2,Source!$G:$G,0)),"") | D5: =IFERROR(INDEX(Source!$B:$B,MATCH(ROW()-2,Source!$G:$G,0))&" personnes","") | E5: =IFERROR(INDEX(Source!$C:$C,MATCH(ROW()-2,Source!$G:$G,0))&" <-> "&(INDEX(Source!$E:$E,MATCH(ROW()-2,Source!$G:$G,0))),"")
A6: =IFERROR(INDEX(Source!$D:$D,MATCH(ROW()-2,Source!$G:$G,0)),"") | D6: =IFERROR(INDEX(Source!$B:$B,MATCH(ROW()-2,Source!$G:$G,0))&" personnes","") | E6: =IFERROR(INDEX(Source!$C:$C,MATCH(ROW()-2,Source!$G:$G,0))&" <-> "&(INDEX(Source!$E:$E,MATCH(ROW()-2,Source!$G:$G,0))),"")

Sheet Source
A1: 1 | B1: =A1+1 -> 2 | C1: =B1+1 -> 3 | D1: =C1+1 -> 4 | E1: =D1+1 -> 5 | F1: =E1+1 -> 6
A2: Nom | B2: Nombre | C2: Départ | D2: Heure | E2: Destination | F2: Bagage | G2: LIGNE
A3: Nom1 | B3: 12 | C3: Gare | D3: 0.5625 | E3: Mairie | F3: petit | G3: =IF(A3=Résultat!$D$1,MAX($G$2:G2)+1,"") -> 1
A4: Nom3 | B4: 13 | C4: Gare | D4: 0.60416667 | E4: Mairie | F4: Moyen | G4: =IF(A4=Résultat!$D$1,MAX($G$2:G3)+1,"")
A5: Nom3 | B5: 14 | C5: Gare | D5: 0.64583333 | E5: Mairie | F5: gros sac | G5: =IF(A5=Résultat!$D$1,MAX($G$2:G4)+1,"")
A6: Nom2 | B6: 3 | C6: Mairie | D6: 0.91666667 | E6: Gare | F6: Moyen | G6: =IF(A6=Résultat!$D$1,MAX($G$2:G5)+1,"")
A7: Nom2 | B7: 4 | C7: Mairie | D7: 0.95833333 | E7: Gare | F7: gros sac | G7: =IF(A7=Résultat!$D$1,MAX($G$2:G6)+1,"")
A8: Nom5 | B8: 15 | C8: Gare | D8: 0.6875 | E8: Mairie | F8: petit | G8: =IF(A8=Résultat!$D$1,MAX($G$2:G7)+1,"")
A9: Nom6 | B9: 16 | C9: Gare | D9: 0.72916667 | E9: Mairie | F9: Petit | G9: =IF(A9=Résultat!$D$1,MAX($G$2:G8)+1,"")
