Workbook
Name liste: Analyse!$A$11:$A$168

Sheet Analyse
K1: ='msc transposer'!A1 -> NRissOur | L1: ='msc transposer'!B1 -> RNDRRL | M1: ='msc transposer'!C1 -> RUNORU | N1: ='msc transposer'!D1 -> SRNDOT | O1: ='msc transposer'!E1 -> SRNDOT | P1: ='msc transposer'!F1 -> SRNDOT | Q1: ='msc transposer'!G1 -> SRNDOT | R1: ='msc transposer'!H1 -> SRNDOT | ... T1: ='msc transposer'!J1 -> SRTIOT
K2: ='msc transposer'!A2 -> N° élOvOur | L2: ='msc transposer'!B2 -> 89128521 | M2: ='msc transposer'!C2 -> 85020018 | N2: ='msc transposer'!D2 -> 84028159 | O2: ='msc transposer'!E2 -> 84028159 | P2: ='msc transposer'!F2 -> 84028159 | Q2: ='msc transposer'!G2 -> 84028159 | R2: ='msc transposer'!H2 -> 84148145 | ... T2: ='msc transposer'!J2 -> 85211022
K3: ='msc transposer'!A3 -> LMM | L3: ='msc transposer'!B3 -> 52525220005 | M3: ='msc transposer'!C3 -> 8502001022 | N3: ='msc transposer'!D3 -> 00000CVOVR1 | O3: ='msc transposer'!E3 -> 00000POITR1 | P3: ='msc transposer'!F3 -> 00000POITR1 | Q3: ='msc transposer'!G3 -> 00000CVOVR1 | R3: ='msc transposer'!H3 -> 00000POITR1 | ... T3: ='msc transposer'!J3 -> 4112805002
K4: ='msc transposer'!A4 -> LPM | L4: ='msc transposer'!B4 -> 4401002008 | M4: ='msc transposer'!C4 -> 8502001001 | N4: ='msc transposer'!D4 -> 00000CVOVM1 | O4: ='msc transposer'!E4 -> 00000POITM1 | P4: ='msc transposer'!F4 -> 00000POITM1 | Q4: ='msc transposer'!G4 -> 00000CVOVM1 | R4: ='msc transposer'!H4 -> 00000POITM1 | ... T4: ='msc transposer'!J4 -> 4112808202
K5: ='msc transposer'!A5 -> LMP | L5: ='msc transposer'!B5 -> 12044140028 | M5: ='msc transposer'!C5 -> 00000CVOVR1 | N5: ='msc transposer'!D5 -> 00000CVOVR1 | O5: ='msc transposer'!E5 -> 00000POITR1 | P5: ='msc transposer'!F5 -> 00000POITR1 | Q5: ='msc transposer'!G5 -> 00000CVOVR1 | R5: ='msc transposer'!H5 -> 49S9598001 | ... T5: ='msc transposer'!J5 -> 00000POITR1
K6: ='msc transposer'!A6 -> LPP | L6: ='msc transposer'!B6 -> 54420120020 | M6: ='msc transposer'!C6 -> 00000CVOVM1 | N6: ='msc transposer'!D6 -> 00000CVOVM1 | O6: ='msc transposer'!E6 -> 00000POITM1 | P6: ='msc transposer'!F6 -> 00000POITM1 | Q6: ='msc transposer'!G6 -> 00000CVOVM1 | R6: ='msc transposer'!H6 -> 4992498091 | ... T6: ='msc transposer'!J6 -> 00000POITM1
K7: ='msc transposer'!A7 -> MOrO | L7: ='msc transposer'!B7 -> 20110010018 | M7: ='msc transposer'!C7 -> 8502001012 | N7: ='msc transposer'!D7 -> 00000CVOVR1 | O7: ='msc transposer'!E7 -> 00000POITR1 | P7: ='msc transposer'!F7 -> 15228110050 | Q7: ='msc transposer'!G7 -> 8028208021 | R7: ='msc transposer'!H7 -> 00000POITR1 | ... T7: ='msc transposer'!J7 -> 4112804015
K8: ='msc transposer'!A8 -> pOrO | L8: ='msc transposer'!B8 -> 12044100088 | M8: ='msc transposer'!C8 -> 1419000881 | N8: ='msc transposer'!D8 -> 00000CVOVM1 | O8: ='msc transposer'!E8 -> 00000POITM1 | P8: ='msc transposer'!F8 -> 15228110028 | Q8: ='msc transposer'!G8 -> 8402809010 | R8: ='msc transposer'!H8 -> 49S9592184 | ... T8: ='msc transposer'!J8 -> 00000POITM1
K9: ='msc transposer'!A9 -> SOxO | L9: ='msc transposer'!B9 -> 1 | M9: ='msc transposer'!C9 -> 1 | N9: ='msc transposer'!D9 -> 1 | O9: ='msc transposer'!E9 -> 1 | P9: ='msc transposer'!F9 -> 1 | Q9: ='msc transposer'!G9 -> 1 | R9: ='msc transposer'!H9 -> 1 | ... T9: ='msc transposer'!J9 -> 1
A10: NRissOur | B10: N° élOvOur | C10: Lmm.N° RnimRl | D10: Lpm.N° RnimRl | E10: Lmp.N° RnimRl | F10: Lpp.N° RnimRl | G10: mOrO.N° RnimRl | H10: pOrO.N° RnimRl | I10: SOxO | J10: RnimRl.N° RnimRl | K10: animal.N° animal | L10: ='msc transposer'!B10 -> 201100tOst1 | M10: ='msc transposer'!C10 -> 8502002025 | N10: ='msc transposer'!D10 -> 8402809010 | O10: ='msc transposer'!E10 -> 15228110028 | P10: ='msc transposer'!F10 -> 15228180125 | Q10: ='msc transposer'!G10 -> 15228110021 | R10: ='msc transposer'!H10 -> 2815920012 | S10: ='msc transposer'!I10 -> 54248180008 | T10: ='msc transposer'!J10 -> 54248120001
A11: =VLOOKUP(C11,élOvOur!$A$1:$D$199,3,FALSE) -> #N/A | B11: =Fim!A2 -> RIMO | C11: =Fim!B2 -> 28284001 | D11: =Fim!C2 -> 8248008082 | E11: =Fim!D2 -> 4112808202 | F11: =Fim!E2 -> 1410402008 | G11: =Fim!F2 -> 1410408015 | H11: =Fim!G2 -> 8248002081 | I11: =Fim!H2 -> 1410409021 | ... K11: =Fim!J2 -> 22485811022 | L11: =IF($K11=L$10,"Ind/Ind",IF($K11=L$8,"Ind/Père",IF($K11=L$6,"Ind/GPP",IF($K11=L$4,"Ind/GPM",IF($K11=L$7,"Ind/Mère",IF($K11=L$5,"Ind/GMP",IF($K11=L$3,"Ind/GMM",IF($I11=L$10,"Père/Ind",IF($I11=L$8,"Père/Père",IF($I11=L$6,"Père/GPP",IF($I11=L$4,"Père/GPM",IF($H11=L$10,"Mère/Ind",IF($H11=L$7,"Mère/Mère",IF($H11=L$5,"Mère/GMP",IF($H11=L$3,"Mère/GMM",IF($G11=L$10,"GPP/Ind",IF($G11=L$8,"GPP/Père",IF($G11=L$6,"GPP/GPP",IF($G11=L$4,"GPP/GPM","")))))))))))))))))))&IF($F11=L$10,"GMP/Ind",IF($F11=L$7,"GMP/Mère",IF($F11=L$5,"GMP/GMP",IF($F11=L$3,"GMP/GMM",IF($E11=L$10,"GPM/Ind",IF($E11=L$8,"GPM/Père",IF($E11=L$6,"GPM/GPP",IF($E11=L$4,"GPM/GPM",IF($D11=L$10,"GMM/Ind",IF($D11=L$7,"GMM/Mère",IF($D11=L$5,"GMM/GMP",IF($D11=L$3,"GMM/GMM","")))))))))))) | M11: =IF($K11=M$10,"Ind/Ind",IF($K11=M$8,"Ind/Père",IF($K11=M$6,"Ind/GPP",IF($K11=M$4,"Ind/GPM",IF($K11=M$7,"Ind/Mère",IF($K11=M$5,"Ind/GMP",IF($K11=M$3,"Ind/GMM",IF($I11=M$10,"Père/Ind",IF($I11=M$8,"Père/Père",IF($I11=M$6,"Père/GPP",IF($I11=M$4,"Père/GPM",IF($H11=M$10,"Mère/Ind",IF($H11=M$7,"Mère/Mère",IF($H11=M$5,"Mère/GMP",IF($H11=M$3,"Mère/GMM",IF($G11=M$10,"GPP/Ind",IF($G11=M$8,"GPP/Père",IF($G11=M$6,"GPP/GPP",IF($G11=M$4,"GPP/GPM","")))))))))))))))))))&IF($F11=M$10,"GMP/Ind",IF($F11=M$7,"GMP/Mère",IF($F11=M$5,"GMP/GMP",IF($F11=M$3,"GMP/GMM",IF($E11=M$10,"GPM/Ind",IF($E11=M$8,"GPM/Père",IF($E11=M$6,"GPM/GPP",IF($E11=M$4,"GPM/GPM",IF($D11=M$10,"GMM/Ind",IF($D11=M$7,"GMM/Mère",IF($D11=M$5,"GMM/GMP",IF($D11=M$3,"GMM/GMM","")))))))))))) | N11: =IF($K11=N$10,"Ind/Ind",IF($K11=N$8,"Ind/Père",IF($K11=N$6,"Ind/GPP",IF($K11=N$4,"Ind/GPM",IF($K11=N$7,"Ind/Mère",IF($K11=N$5,"Ind/GMP",IF($K11=N$3,"Ind/GMM",IF($I11=N$10,"Père/Ind",IF($I11=N$8,"Père/Père",IF($I11=N$6,"Père/GPP",IF($I11=N$4,"Père/GPM",IF($H11=N$10,"Mère/Ind",IF($H11=N$7,"Mère/Mère",IF($H11=N$5,"Mère/GMP",IF($H11=N$3,"Mère/GMM",IF($G11=N$10,"GPP/Ind",IF($G11=N$8,"GPP/Père",IF($G11=N$6,"GPP/GPP",IF($G11=N$4,"GPP/GPM","")))))))))))))))))))&IF($F11=N$10,"GMP/Ind",IF($F11=N$7,"GMP/Mère",IF($F11=N$5,"GMP/GMP",IF($F11=N$3,"GMP/GMM",IF($E11=N$10,"GPM/Ind",IF($E11=N$8,"GPM/Père",IF($E11=N$6,"GPM/GPP",IF($E11=N$4,"GPM/GPM",IF($D11=N$10,"GMM/Ind",IF($D11=N$7,"GMM/Mère",IF($D11=N$5,"GMM/GMP",IF($D11=N$3,"GMM/GMM","")))))))))))) | O11: =IF($K11=O$10,"Ind/Ind",IF($K11=O$8,"Ind/Père",IF($K11=O$6,"Ind/GPP",IF($K11=O$4,"Ind/GPM",IF($K11=O$7,"Ind/Mère",IF($K11=O$5,"Ind/GMP",IF($K11=O$3,"Ind/GMM",IF($I11=O$10,"Père/Ind",IF($I11=O$8,"Père/Père",IF($I11=O$6,"Père/GPP",IF($I11=O$4,"Père/GPM",IF($H11=O$10,"Mère/Ind",IF($H11=O$7,"Mère/Mère",IF($H11=O$5,"Mère/GMP",IF($H11=O$3,"Mère/GMM",IF($G11=O$10,"GPP/Ind",IF($G11=O$8,"GPP/Père",IF($G11=O$6,"GPP/GPP",IF($G11=O$4,"GPP/GPM","")))))))))))))))))))&IF($F11=O$10,"GMP/Ind",IF($F11=O$7,"GMP/Mère",IF($F11=O$5,"GMP/GMP",IF($F11=O$3,"GMP/GMM",IF($E11=O$10,"GPM/Ind",IF($E11=O$8,"GPM/Père",IF($E11=O$6,"GPM/GPP",IF($E11=O$4,"GPM/GPM",IF($D11=O$10,"GMM/Ind",IF($D11=O$7,"GMM/Mère",IF($D11=O$5,"GMM/GMP",IF($D11=O$3,"GMM/GMM","")))))))))))) | P11: =IF($K11=P$10,"Ind/Ind",IF($K11=P$8,"Ind/Père",IF($K11=P$6,"Ind/GPP",IF($K11=P$4,"Ind/GPM",IF($K11=P$7,"Ind/Mère",IF($K11=P$5,"Ind/GMP",IF($K11=P$3,"Ind/GMM",IF($I11=P$10,"Père/Ind",IF($I11=P$8,"Père/Père",IF($I11=P$6,"Père/GPP",IF($I11=P$4,"Père/GPM",IF($H11=P$10,"Mère/Ind",IF($H11=P$7,"Mère/Mère",IF($H11=P$5,"Mère/GMP",IF($H11=P$3,"Mère/GMM",IF($G11=P$10,"GPP/Ind",IF($G11=P$8,"GPP/Père",IF($G11=P$6,"GPP/GPP",IF($G11=P$4,"GPP/GPM","")))))))))))))))))))&IF($F11=P$10,"GMP/Ind",IF($F11=P$7,"GMP/Mère",IF($F11=P$5,"GMP/GMP",IF($F11=P$3,"GMP/GMM",IF($E11=P$10,"GPM/Ind",IF($E11=P$8,"GPM/Père",IF($E11=P$6,"GPM/GPP",IF($E11=P$4,"GPM/GPM",IF($D11=P$10,"GMM/Ind",IF($D11=P$7,"GMM/Mère",IF($D11=P$5,"GMM/GMP",IF($D11=P$3,"GMM/GMM","")))))))))))) | Q11: =IF($K11=Q$10,"Ind/Ind",IF($K11=Q$8,"Ind/Père",IF($K11=Q$6,"Ind/GPP",IF($K11=Q$4,"Ind/GPM",IF($K11=Q$7,"Ind/Mère",IF($K11=Q$5,"Ind/GMP",IF($K11=Q$3,"Ind/GMM",IF($I11=Q$10,"Père/Ind",IF($I11=Q$8,"Père/Père",IF($I11=Q$6,"Père/GPP",IF($I11=Q$4,"Père/GPM",IF($H11=Q$10,"Mère/Ind",IF($H11=Q$7,"Mère/Mère",IF($H11=Q$5,"Mère/GMP",IF($H11=Q$3,"Mère/GMM",IF($G11=Q$10,"GPP/Ind",IF($G11=Q$8,"GPP/Père",IF($G11=Q$6,"GPP/GPP",IF($G11=Q$4,"GPP/GPM","")))))))))))))))))))&IF($F11=Q$10,"GMP/Ind",IF($F11=Q$7,"GMP/Mère",IF($F11=Q$5,"GMP/GMP",IF($F11=Q$3,"GMP/GMM",IF($E11=Q$10,"GPM/Ind",IF($E11=Q$8,"GPM/Père",IF($E11=Q$6,"GPM/GPP",IF($E11=Q$4,"GPM/GPM",IF($D11=Q$10,"GMM/Ind",IF($D11=Q$7,"GMM/Mère",IF($D11=Q$5,"GMM/GMP",IF($D11=Q$3,"GMM/GMM","")))))))))))) | R11: =IF($K11=R$10,"Ind/Ind",IF($K11=R$8,"Ind/Père",IF($K11=R$6,"Ind/GPP",IF($K11=R$4,"Ind/GPM",IF($K11=R$7,"Ind/Mère",IF($K11=R$5,"Ind/GMP",IF($K11=R$3,"Ind/GMM",IF($I11=R$10,"Père/Ind",IF($I11=R$8,"Père/Père",IF($I11=R$6,"Père/GPP",IF($I11=R$4,"Père/GPM",IF($H11=R$10,"Mère/Ind",IF($H11=R$7,"Mère/Mère",IF($H11=R$5,"Mère/GMP",IF($H11=R$3,"Mère/GMM",IF($G11=R$10,"GPP/Ind",IF($G11=R$8,"GPP/Père",IF($G11=R$6,"GPP/GPP",IF($G11=R$4,"GPP/GPM","")))))))))))))))))))&IF($F11=R$10,"GMP/Ind",IF($F11=R$7,"GMP/Mère",IF($F11=R$5,"GMP/GMP",IF($F11=R$3,"GMP/GMM",IF($E11=R$10,"GPM/Ind",IF($E11=R$8,"GPM/Père",IF($E11=R$6,"GPM/GPP",IF($E11=R$4,"GPM/GPM",IF($D11=R$10,"GMM/Ind",IF($D11=R$7,"GMM/Mère",IF($D11=R$5,"GMM/GMP",IF($D11=R$3,"GMM/GMM","")))))))))))) | S11: =IF($K11=S$10,"Ind/Ind",IF($K11=S$8,"Ind/Père",IF($K11=S$6,"Ind/GPP",IF($K11=S$4,"Ind/GPM",IF($K11=S$7,"Ind/Mère",IF($K11=S$5,"Ind/GMP",IF($K11=S$3,"Ind/GMM",IF($I11=S$10,"Père/Ind",IF($I11=S$8,"Père/Père",IF($I11=S$6,"Père/GPP",IF($I11=S$4,"Père/GPM",IF($H11=S$10,"Mère/Ind",IF($H11=S$7,"Mère/Mère",IF($H11=S$5,"Mère/GMP",IF($H11=S$3,"Mère/GMM",IF($G11=S$10,"GPP/Ind",IF($G11=S$8,"GPP/Père",IF($G11=S$6,"GPP/GPP",IF($G11=S$4,"GPP/GPM","")))))))))))))))))))&IF($F11=S$10,"GMP/Ind",IF($F11=S$7,"GMP/Mère",IF($F11=S$5,"GMP/GMP",IF($F11=S$3,"GMP/GMM",IF($E11=S$10,"GPM/Ind",IF($E11=S$8,"GPM/Père",IF($E11=S$6,"GPM/GPP",IF($E11=S$4,"GPM/GPM",IF($D11=S$10,"GMM/Ind",IF($D11=S$7,"GMM/Mère",IF($D11=S$5,"GMM/GMP",IF($D11=S$3,"GMM/GMM","")))))))))))) | T11: =IF($K11=T$10,"Ind/Ind",IF($K11=T$8,"Ind/Père",IF($K11=T$6,"Ind/GPP",IF($K11=T$4,"Ind/GPM",IF($K11=T$7,"Ind/Mère",IF($K11=T$5,"Ind/GMP",IF($K11=T$3,"Ind/GMM",IF($I11=T$10,"Père/Ind",IF($I11=T$8,"Père/Père",IF($I11=T$6,"Père/GPP",IF($I11=T$4,"Père/GPM",IF($H11=T$10,"Mère/Ind",IF($H11=T$7,"Mère/Mère",IF($H11=T$5,"Mère/GMP",IF($H11=T$3,"Mère/GMM",IF($G11=T$10,"GPP/Ind",IF($G11=T$8,"GPP/Père",IF($G11=T$6,"GPP/GPP",IF($G11=T$4,"GPP/GPM","")))))))))))))))))))&IF($F11=T$10,"GMP/Ind",IF($F11=T$7,"GMP/Mère",IF($F11=T$5,"GMP/GMP",IF($F11=T$3,"GMP/GMM",IF($E11=T$10,"GPM/Ind",IF($E11=T$8,"GPM/Père",IF($E11=T$6,"GPM/GPP",IF($E11=T$4,"GPM/GPM",IF($D11=T$10,"GMM/Ind",IF($D11=T$7,"GMM/Mère",IF($D11=T$5,"GMM/GMP",IF($D11=T$3,"GMM/GMM","")))))))))))) -> GPM/GPM
A12: =VLOOKUP(C12,élOvOur!$A$1:$D$199,3,FALSE) -> #N/A | B12: =Fim!A3 -> RIMO | C12: =Fim!B3 -> 28284001 | D12: =Fim!C3 -> 121800500- | E12: =Fim!D3 -> 1410402024 | F12: =Fim!E3 -> 1410402008 | G12: =Fim!F3 -> 1410408015 | H12: =Fim!G3 -> 1118000001 | I12: =Fim!H3 -> 1410409021 | ... K12: =Fim!J3 -> 22485811021 | L12: =IF(K12=L$10,"Ind/Ind",IF(K12=L$8,"Ind/Père",IF(K12=L$6,"Ind/GPP",IF(K12=L$4,"Ind/GPM",IF(K12=L$7,"Ind/Mère",IF(K12=L$5,"Ind/GMP",IF(K12=L$3,"Ind/GMM",IF(I12=L$10,"Père/Ind",IF(I12=L$8,"Père/Père",IF(I12=L$6,"Père/GPP",IF(I12=L$4,"Père/GPM",IF(H12=L$10,"Mère/Ind",IF(H12=L$7,"Mère/Mère",IF(H12=L$5,"Mère/GMP",IF(H12=L$3,"Mère/GMM",IF(G12=L$10,"GPP/Ind",IF(G12=L$8,"GPP/Père",IF(G12=L$6,"GPP/GPP",IF(G12=L$4,"GPP/GPM","")))))))))))))))))))&IF(F12=L$10,"GMP/Ind",IF(F12=L$7,"GMP/Mère",IF(F12=L$5,"GMP/GMP",IF(F12=L$3,"GMP/GMM",IF(E12=L$10,"GPM/Ind",IF(E12=L$8,"GPM/Père",IF(E12=L$6,"GPM/GPP",IF(E12=L$4,"GPM/GPM",IF(D12=L$10,"GMM/Ind",IF(D12=L$7,"GMM/Mère",IF(D12=L$5,"GMM/GMP",IF(D12=L$3,"GMM/GMM","")))))))))))) | M12: =IF($K12=M$10,"Ind/Ind",IF($K12=M$8,"Ind/Père",IF($K12=M$6,"Ind/GPP",IF($K12=M$4,"Ind/GPM",IF($K12=M$7,"Ind/Mère",IF($K12=M$5,"Ind/GMP",IF($K12=M$3,"Ind/GMM",IF($I12=M$10,"Père/Ind",IF($I12=M$8,"Père/Père",IF($I12=M$6,"Père/GPP",IF($I12=M$4,"Père/GPM",IF($H12=M$10,"Mère/Ind",IF($H12=M$7,"Mère/Mère",IF($H12=M$5,"Mère/GMP",IF($H12=M$3,"Mère/GMM",IF($G12=M$10,"GPP/Ind",IF($G12=M$8,"GPP/Père",IF($G12=M$6,"GPP/GPP",IF($G12=M$4,"GPP/GPM","")))))))))))))))))))&IF($F12=M$10,"GMP/Ind",IF($F12=M$7,"GMP/Mère",IF($F12=M$5,"GMP/GMP",IF($F12=M$3,"GMP/GMM",IF($E12=M$10,"GPM/Ind",IF($E12=M$8,"GPM/Père",IF($E12=M$6,"GPM/GPP",IF($E12=M$4,"GPM/GPM",IF($D12=M$10,"GMM/Ind",IF($D12=M$7,"GMM/Mère",IF($D12=M$5,"GMM/GMP",IF($D12=M$3,"GMM/GMM","")))))))))))) | N12: =IF($K12=N$10,"Ind/Ind",IF($K12=N$8,"Ind/Père",IF($K12=N$6,"Ind/GPP",IF($K12=N$4,"Ind/GPM",IF($K12=N$7,"Ind/Mère",IF($K12=N$5,"Ind/GMP",IF($K12=N$3,"Ind/GMM",IF($I12=N$10,"Père/Ind",IF($I12=N$8,"Père/Père",IF($I12=N$6,"Père/GPP",IF($I12=N$4,"Père/GPM",IF($H12=N$10,"Mère/Ind",IF($H12=N$7,"Mère/Mère",IF($H12=N$5,"Mère/GMP",IF($H12=N$3,"Mère/GMM",IF($G12=N$10,"GPP/Ind",IF($G12=N$8,"GPP/Père",IF($G12=N$6,"GPP/GPP",IF($G12=N$4,"GPP/GPM","")))))))))))))))))))&IF($F12=N$10,"GMP/Ind",IF($F12=N$7,"GMP/Mère",IF($F12=N$5,"GMP/GMP",IF($F12=N$3,"GMP/GMM",IF($E12=N$10,"GPM/Ind",IF($E12=N$8,"GPM/Père",IF($E12=N$6,"GPM/GPP",IF($E12=N$4,"GPM/GPM",IF($D12=N$10,"GMM/Ind",IF($D12=N$7,"GMM/Mère",IF($D12=N$5,"GMM/GMP",IF($D12=N$3,"GMM/GMM","")))))))))))) | O12: =IF($K12=O$10,"Ind/Ind",IF($K12=O$8,"Ind/Père",IF($K12=O$6,"Ind/GPP",IF($K12=O$4,"Ind/GPM",IF($K12=O$7,"Ind/Mère",IF($K12=O$5,"Ind/GMP",IF($K12=O$3,"Ind/GMM",IF($I12=O$10,"Père/Ind",IF($I12=O$8,"Père/Père",IF($I12=O$6,"Père/GPP",IF($I12=O$4,"Père/GPM",IF($H12=O$10,"Mère/Ind",IF($H12=O$7,"Mère/Mère",IF($H12=O$5,"Mère/GMP",IF($H12=O$3,"Mère/GMM",IF($G12=O$10,"GPP/Ind",IF($G12=O$8,"GPP/Père",IF($G12=O$6,"GPP/GPP",IF($G12=O$4,"GPP/GPM","")))))))))))))))))))&IF($F12=O$10,"GMP/Ind",IF($F12=O$7,"GMP/Mère",IF($F12=O$5,"GMP/GMP",IF($F12=O$3,"GMP/GMM",IF($E12=O$10,"GPM/Ind",IF($E12=O$8,"GPM/Père",IF($E12=O$6,"GPM/GPP",IF($E12=O$4,"GPM/GPM",IF($D12=O$10,"GMM/Ind",IF($D12=O$7,"GMM/Mère",IF($D12=O$5,"GMM/GMP",IF($D12=O$3,"GMM/GMM","")))))))))))) | P12: =IF($K12=P$10,"Ind/Ind",IF($K12=P$8,"Ind/Père",IF($K12=P$6,"Ind/GPP",IF($K12=P$4,"Ind/GPM",IF($K12=P$7,"Ind/Mère",IF($K12=P$5,"Ind/GMP",IF($K12=P$3,"Ind/GMM",IF($I12=P$10,"Père/Ind",IF($I12=P$8,"Père/Père",IF($I12=P$6,"Père/GPP",IF($I12=P$4,"Père/GPM",IF($H12=P$10,"Mère/Ind",IF($H12=P$7,"Mère/Mère",IF($H12=P$5,"Mère/GMP",IF($H12=P$3,"Mère/GMM",IF($G12=P$10,"GPP/Ind",IF($G12=P$8,"GPP/Père",IF($G12=P$6,"GPP/GPP",IF($G12=P$4,"GPP/GPM","")))))))))))))))))))&IF($F12=P$10,"GMP/Ind",IF($F12=P$7,"GMP/Mère",IF($F12=P$5,"GMP/GMP",IF($F12=P$3,"GMP/GMM",IF($E12=P$10,"GPM/Ind",IF($E12=P$8,"GPM/Père",IF($E12=P$6,"GPM/GPP",IF($E12=P$4,"GPM/GPM",IF($D12=P$10,"GMM/Ind",IF($D12=P$7,"GMM/Mère",IF($D12=P$5,"GMM/GMP",IF($D12=P$3,"GMM/GMM","")))))))))))) | Q12: =IF($K12=Q$10,"Ind/Ind",IF($K12=Q$8,"Ind/Père",IF($K12=Q$6,"Ind/GPP",IF($K12=Q$4,"Ind/GPM",IF($K12=Q$7,"Ind/Mère",IF($K12=Q$5,"Ind/GMP",IF($K12=Q$3,"Ind/GMM",IF($I12=Q$10,"Père/Ind",IF($I12=Q$8,"Père/Père",IF($I12=Q$6,"Père/GPP",IF($I12=Q$4,"Père/GPM",IF($H12=Q$10,"Mère/Ind",IF($H12=Q$7,"Mère/Mère",IF($H12=Q$5,"Mère/GMP",IF($H12=Q$3,"Mère/GMM",IF($G12=Q$10,"GPP/Ind",IF($G12=Q$8,"GPP/Père",IF($G12=Q$6,"GPP/GPP",IF($G12=Q$4,"GPP/GPM","")))))))))))))))))))&IF($F12=Q$10,"GMP/Ind",IF($F12=Q$7,"GMP/Mère",IF($F12=Q$5,"GMP/GMP",IF($F12=Q$3,"GMP/GMM",IF($E12=Q$10,"GPM/Ind",IF($E12=Q$8,"GPM/Père",IF($E12=Q$6,"GPM/GPP",IF($E12=Q$4,"GPM/GPM",IF($D12=Q$10,"GMM/Ind",IF($D12=Q$7,"GMM/Mère",IF($D12=Q$5,"GMM/GMP",IF($D12=Q$3,"GMM/GMM","")))))))))))) | R12: =IF($K12=R$10,"Ind/Ind",IF($K12=R$8,"Ind/Père",IF($K12=R$6,"Ind/GPP",IF($K12=R$4,"Ind/GPM",IF($K12=R$7,"Ind/Mère",IF($K12=R$5,"Ind/GMP",IF($K12=R$3,"Ind/GMM",IF($I12=R$10,"Père/Ind",IF($I12=R$8,"Père/Père",IF($I12=R$6,"Père/GPP",IF($I12=R$4,"Père/GPM",IF($H12=R$10,"Mère/Ind",IF($H12=R$7,"Mère/Mère",IF($H12=R$5,"Mère/GMP",IF($H12=R$3,"Mère/GMM",IF($G12=R$10,"GPP/Ind",IF($G12=R$8,"GPP/Père",IF($G12=R$6,"GPP/GPP",IF($G12=R$4,"GPP/GPM","")))))))))))))))))))&IF($F12=R$10,"GMP/Ind",IF($F12=R$7,"GMP/Mère",IF($F12=R$5,"GMP/GMP",IF($F12=R$3,"GMP/GMM",IF($E12=R$10,"GPM/Ind",IF($E12=R$8,"GPM/Père",IF($E12=R$6,"GPM/GPP",IF($E12=R$4,"GPM/GPM",IF($D12=R$10,"GMM/Ind",IF($D12=R$7,"GMM/Mère",IF($D12=R$5,"GMM/GMP",IF($D12=R$3,"GMM/GMM","")))))))))))) | S12: =IF($K12=S$10,"Ind/Ind",IF($K12=S$8,"Ind/Père",IF($K12=S$6,"Ind/GPP",IF($K12=S$4,"Ind/GPM",IF($K12=S$7,"Ind/Mère",IF($K12=S$5,"Ind/GMP",IF($K12=S$3,"Ind/GMM",IF($I12=S$10,"Père/Ind",IF($I12=S$8,"Père/Père",IF($I12=S$6,"Père/GPP",IF($I12=S$4,"Père/GPM",IF($H12=S$10,"Mère/Ind",IF($H12=S$7,"Mère/Mère",IF($H12=S$5,"Mère/GMP",IF($H12=S$3,"Mère/GMM",IF($G12=S$10,"GPP/Ind",IF($G12=S$8,"GPP/Père",IF($G12=S$6,"GPP/GPP",IF($G12=S$4,"GPP/GPM","")))))))))))))))))))&IF($F12=S$10,"GMP/Ind",IF($F12=S$7,"GMP/Mère",IF($F12=S$5,"GMP/GMP",IF($F12=S$3,"GMP/GMM",IF($E12=S$10,"GPM/Ind",IF($E12=S$8,"GPM/Père",IF($E12=S$6,"GPM/GPP",IF($E12=S$4,"GPM/GPM",IF($D12=S$10,"GMM/Ind",IF($D12=S$7,"GMM/Mère",IF($D12=S$5,"GMM/GMP",IF($D12=S$3,"GMM/GMM","")))))))))))) | T12: =IF($K12=T$10,"Ind/Ind",IF($K12=T$8,"Ind/Père",IF($K12=T$6,"Ind/GPP",IF($K12=T$4,"Ind/GPM",IF($K12=T$7,"Ind/Mère",IF($K12=T$5,"Ind/GMP",IF($K12=T$3,"Ind/GMM",IF($I12=T$10,"Père/Ind",IF($I12=T$8,"Père/Père",IF($I12=T$6,"Père/GPP",IF($I12=T$4,"Père/GPM",IF($H12=T$10,"Mère/Ind",IF($H12=T$7,"Mère/Mère",IF($H12=T$5,"Mère/GMP",IF($H12=T$3,"Mère/GMM",IF($G12=T$10,"GPP/Ind",IF($G12=T$8,"GPP/Père",IF($G12=T$6,"GPP/GPP",IF($G12=T$4,"GPP/GPM","")))))))))))))))))))&IF($F12=T$10,"GMP/Ind",IF($F12=T$7,"GMP/Mère",IF($F12=T$5,"GMP/GMP",IF($F12=T$3,"GMP/GMM",IF($E12=T$10,"GPM/Ind",IF($E12=T$8,"GPM/Père",IF($E12=T$6,"GPM/GPP",IF($E12=T$4,"GPM/GPM",IF($D12=T$10,"GMM/Ind",IF($D12=T$7,"GMM/Mère",IF($D12=T$5,"GMM/GMP",IF($D12=T$3,"GMM/GMM",""))))))))))))
A13: =VLOOKUP(C13,élOvOur!$A$1:$D$199,3,FALSE) -> #N/A | B13: =Fim!A4 -> RIMO | C13: =Fim!B4 -> 28284001 | D13: =Fim!C4 -> 8248005010 | E13: =Fim!D4 -> 8248005011 | F13: =Fim!E4 -> 4112801004 | G13: =Fim!F4 -> 49S9598121 | H13: =Fim!G4 -> 8248002012 | I13: =Fim!H4 -> 8202104058 | ... K13: =Fim!J4 -> 22485800002 | L13: =IF(K13=L$10,"Ind/Ind",IF(K13=L$8,"Ind/Père",IF(K13=L$6,"Ind/GPP",IF(K13=L$4,"Ind/GPM",IF(K13=L$7,"Ind/Mère",IF(K13=L$5,"Ind/GMP",IF(K13=L$3,"Ind/GMM",IF(I13=L$10,"Père/Ind",IF(I13=L$8,"Père/Père",IF(I13=L$6,"Père/GPP",IF(I13=L$4,"Père/GPM",IF(H13=L$10,"Mère/Ind",IF(H13=L$7,"Mère/Mère",IF(H13=L$5,"Mère/GMP",IF(H13=L$3,"Mère/GMM",IF(G13=L$10,"GPP/Ind",IF(G13=L$8,"GPP/Père",IF(G13=L$6,"GPP/GPP",IF(G13=L$4,"GPP/GPM","")))))))))))))))))))&IF(F13=L$10,"GMP/Ind",IF(F13=L$7,"GMP/Mère",IF(F13=L$5,"GMP/GMP",IF(F13=L$3,"GMP/GMM",IF(E13=L$10,"GPM/Ind",IF(E13=L$8,"GPM/Père",IF(E13=L$6,"GPM/GPP",IF(E13=L$4,"GPM/GPM",IF(D13=L$10,"GMM/Ind",IF(D13=L$7,"GMM/Mère",IF(D13=L$5,"GMM/GMP",IF(D13=L$3,"GMM/GMM","")))))))))))) | M13: =IF($K13=M$10,"Ind/Ind",IF($K13=M$8,"Ind/Père",IF($K13=M$6,"Ind/GPP",IF($K13=M$4,"Ind/GPM",IF($K13=M$7,"Ind/Mère",IF($K13=M$5,"Ind/GMP",IF($K13=M$3,"Ind/GMM",IF($I13=M$10,"Père/Ind",IF($I13=M$8,"Père/Père",IF($I13=M$6,"Père/GPP",IF($I13=M$4,"Père/GPM",IF($H13=M$10,"Mère/Ind",IF($H13=M$7,"Mère/Mère",IF($H13=M$5,"Mère/GMP",IF($H13=M$3,"Mère/GMM",IF($G13=M$10,"GPP/Ind",IF($G13=M$8,"GPP/Père",IF($G13=M$6,"GPP/GPP",IF($G13=M$4,"GPP/GPM","")))))))))))))))))))&IF($F13=M$10,"GMP/Ind",IF($F13=M$7,"GMP/Mère",IF($F13=M$5,"GMP/GMP",IF($F13=M$3,"GMP/GMM",IF($E13=M$10,"GPM/Ind",IF($E13=M$8,"GPM/Père",IF($E13=M$6,"GPM/GPP",IF($E13=M$4,"GPM/GPM",IF($D13=M$10,"GMM/Ind",IF($D13=M$7,"GMM/Mère",IF($D13=M$5,"GMM/GMP",IF($D13=M$3,"GMM/GMM","")))))))))))) | N13: =IF($K13=N$10,"Ind/Ind",IF($K13=N$8,"Ind/Père",IF($K13=N$6,"Ind/GPP",IF($K13=N$4,"Ind/GPM",IF($K13=N$7,"Ind/Mère",IF($K13=N$5,"Ind/GMP",IF($K13=N$3,"Ind/GMM",IF($I13=N$10,"Père/Ind",IF($I13=N$8,"Père/Père",IF($I13=N$6,"Père/GPP",IF($I13=N$4,"Père/GPM",IF($H13=N$10,"Mère/Ind",IF($H13=N$7,"Mère/Mère",IF($H13=N$5,"Mère/GMP",IF($H13=N$3,"Mère/GMM",IF($G13=N$10,"GPP/Ind",IF($G13=N$8,"GPP/Père",IF($G13=N$6,"GPP/GPP",IF($G13=N$4,"GPP/GPM","")))))))))))))))))))&IF($F13=N$10,"GMP/Ind",IF($F13=N$7,"GMP/Mère",IF($F13=N$5,"GMP/GMP",IF($F13=N$3,"GMP/GMM",IF($E13=N$10,"GPM/Ind",IF($E13=N$8,"GPM/Père",IF($E13=N$6,"GPM/GPP",IF($E13=N$4,"GPM/GPM",IF($D13=N$10,"GMM/Ind",IF($D13=N$7,"GMM/Mère",IF($D13=N$5,"GMM/GMP",IF($D13=N$3,"GMM/GMM","")))))))))))) | O13: =IF($K13=O$10,"Ind/Ind",IF($K13=O$8,"Ind/Père",IF($K13=O$6,"Ind/GPP",IF($K13=O$4,"Ind/GPM",IF($K13=O$7,"Ind/Mère",IF($K13=O$5,"Ind/GMP",IF($K13=O$3,"Ind/GMM",IF($I13=O$10,"Père/Ind",IF($I13=O$8,"Père/Père",IF($I13=O$6,"Père/GPP",IF($I13=O$4,"Père/GPM",IF($H13=O$10,"Mère/Ind",IF($H13=O$7,"Mère/Mère",IF($H13=O$5,"Mère/GMP",IF($H13=O$3,"Mère/GMM",IF($G13=O$10,"GPP/Ind",IF($G13=O$8,"GPP/Père",IF($G13=O$6,"GPP/GPP",IF($G13=O$4,"GPP/GPM","")))))))))))))))))))&IF($F13=O$10,"GMP/Ind",IF($F13=O$7,"GMP/Mère",IF($F13=O$5,"GMP/GMP",IF($F13=O$3,"GMP/GMM",IF($E13=O$10,"GPM/Ind",IF($E13=O$8,"GPM/Père",IF($E13=O$6,"GPM/GPP",IF($E13=O$4,"GPM/GPM",IF($D13=O$10,"GMM/Ind",IF($D13=O$7,"GMM/Mère",IF($D13=O$5,"GMM/GMP",IF($D13=O$3,"GMM/GMM","")))))))))))) | P13: =IF($K13=P$10,"Ind/Ind",IF($K13=P$8,"Ind/Père",IF($K13=P$6,"Ind/GPP",IF($K13=P$4,"Ind/GPM",IF($K13=P$7,"Ind/Mère",IF($K13=P$5,"Ind/GMP",IF($K13=P$3,"Ind/GMM",IF($I13=P$10,"Père/Ind",IF($I13=P$8,"Père/Père",IF($I13=P$6,"Père/GPP",IF($I13=P$4,"Père/GPM",IF($H13=P$10,"Mère/Ind",IF($H13=P$7,"Mère/Mère",IF($H13=P$5,"Mère/GMP",IF($H13=P$3,"Mère/GMM",IF($G13=P$10,"GPP/Ind",IF($G13=P$8,"GPP/Père",IF($G13=P$6,"GPP/GPP",IF($G13=P$4,"GPP/GPM","")))))))))))))))))))&IF($F13=P$10,"GMP/Ind",IF($F13=P$7,"GMP/Mère",IF($F13=P$5,"GMP/GMP",IF($F13=P$3,"GMP/GMM",IF($E13=P$10,"GPM/Ind",IF($E13=P$8,"GPM/Père",IF($E13=P$6,"GPM/GPP",IF($E13=P$4,"GPM/GPM",IF($D13=P$10,"GMM/Ind",IF($D13=P$7,"GMM/Mère",IF($D13=P$5,"GMM/GMP",IF($D13=P$3,"GMM/GMM","")))))))))))) | Q13: =IF($K13=Q$10,"Ind/Ind",IF($K13=Q$8,"Ind/Père",IF($K13=Q$6,"Ind/GPP",IF($K13=Q$4,"Ind/GPM",IF($K13=Q$7,"Ind/Mère",IF($K13=Q$5,"Ind/GMP",IF($K13=Q$3,"Ind/GMM",IF($I13=Q$10,"Père/Ind",IF($I13=Q$8,"Père/Père",IF($I13=Q$6,"Père/GPP",IF($I13=Q$4,"Père/GPM",IF($H13=Q$10,"Mère/Ind",IF($H13=Q$7,"Mère/Mère",IF($H13=Q$5,"Mère/GMP",IF($H13=Q$3,"Mère/GMM",IF($G13=Q$10,"GPP/Ind",IF($G13=Q$8,"GPP/Père",IF($G13=Q$6,"GPP/GPP",IF($G13=Q$4,"GPP/GPM","")))))))))))))))))))&IF($F13=Q$10,"GMP/Ind",IF($F13=Q$7,"GMP/Mère",IF($F13=Q$5,"GMP/GMP",IF($F13=Q$3,"GMP/GMM",IF($E13=Q$10,"GPM/Ind",IF($E13=Q$8,"GPM/Père",IF($E13=Q$6,"GPM/GPP",IF($E13=Q$4,"GPM/GPM",IF($D13=Q$10,"GMM/Ind",IF($D13=Q$7,"GMM/Mère",IF($D13=Q$5,"GMM/GMP",IF($D13=Q$3,"GMM/GMM","")))))))))))) | R13: =IF($K13=R$10,"Ind/Ind",IF($K13=R$8,"Ind/Père",IF($K13=R$6,"Ind/GPP",IF($K13=R$4,"Ind/GPM",IF($K13=R$7,"Ind/Mère",IF($K13=R$5,"Ind/GMP",IF($K13=R$3,"Ind/GMM",IF($I13=R$10,"Père/Ind",IF($I13=R$8,"Père/Père",IF($I13=R$6,"Père/GPP",IF($I13=R$4,"Père/GPM",IF($H13=R$10,"Mère/Ind",IF($H13=R$7,"Mère/Mère",IF($H13=R$5,"Mère/GMP",IF($H13=R$3,"Mère/GMM",IF($G13=R$10,"GPP/Ind",IF($G13=R$8,"GPP/Père",IF($G13=R$6,"GPP/GPP",IF($G13=R$4,"GPP/GPM","")))))))))))))))))))&IF($F13=R$10,"GMP/Ind",IF($F13=R$7,"GMP/Mère",IF($F13=R$5,"GMP/GMP",IF($F13=R$3,"GMP/GMM",IF($E13=R$10,"GPM/Ind",IF($E13=R$8,"GPM/Père",IF($E13=R$6,"GPM/GPP",IF($E13=R$4,"GPM/GPM",IF($D13=R$10,"GMM/Ind",IF($D13=R$7,"GMM/Mère",IF($D13=R$5,"GMM/GMP",IF($D13=R$3,"GMM/GMM","")))))))))))) | S13: =IF($K13=S$10,"Ind/Ind",IF($K13=S$8,"Ind/Père",IF($K13=S$6,"Ind/GPP",IF($K13=S$4,"Ind/GPM",IF($K13=S$7,"Ind/Mère",IF($K13=S$5,"Ind/GMP",IF($K13=S$3,"Ind/GMM",IF($I13=S$10,"Père/Ind",IF($I13=S$8,"Père/Père",IF($I13=S$6,"Père/GPP",IF($I13=S$4,"Père/GPM",IF($H13=S$10,"Mère/Ind",IF($H13=S$7,"Mère/Mère",IF($H13=S$5,"Mère/GMP",IF($H13=S$3,"Mère/GMM",IF($G13=S$10,"GPP/Ind",IF($G13=S$8,"GPP/Père",IF($G13=S$6,"GPP/GPP",IF($G13=S$4,"GPP/GPM","")))))))))))))))))))&IF($F13=S$10,"GMP/Ind",IF($F13=S$7,"GMP/Mère",IF($F13=S$5,"GMP/GMP",IF($F13=S$3,"GMP/GMM",IF($E13=S$10,"GPM/Ind",IF($E13=S$8,"GPM/Père",IF($E13=S$6,"GPM/GPP",IF($E13=S$4,"GPM/GPM",IF($D13=S$10,"GMM/Ind",IF($D13=S$7,"GMM/Mère",IF($D13=S$5,"GMM/GMP",IF($D13=S$3,"GMM/GMM","")))))))))))) | T13: =IF($K13=T$10,"Ind/Ind",IF($K13=T$8,"Ind/Père",IF($K13=T$6,"Ind/GPP",IF($K13=T$4,"Ind/GPM",IF($K13=T$7,"Ind/Mère",IF($K13=T$5,"Ind/GMP",IF($K13=T$3,"Ind/GMM",IF($I13=T$10,"Père/Ind",IF($I13=T$8,"Père/Père",IF($I13=T$6,"Père/GPP",IF($I13=T$4,"Père/GPM",IF($H13=T$10,"Mère/Ind",IF($H13=T$7,"Mère/Mère",IF($H13=T$5,"Mère/GMP",IF($H13=T$3,"Mère/GMM",IF($G13=T$10,"GPP/Ind",IF($G13=T$8,"GPP/Père",IF($G13=T$6,"GPP/GPP",IF($G13=T$4,"GPP/GPM","")))))))))))))))))))&IF($F13=T$10,"GMP/Ind",IF($F13=T$7,"GMP/Mère",IF($F13=T$5,"GMP/GMP",IF($F13=T$3,"GMP/GMM",IF($E13=T$10,"GPM/Ind",IF($E13=T$8,"GPM/Père",IF($E13=T$6,"GPM/GPP",IF($E13=T$4,"GPM/GPM",IF($D13=T$10,"GMM/Ind",IF($D13=T$7,"GMM/Mère",IF($D13=T$5,"GMM/GMP",IF($D13=T$3,"GMM/GMM",""))))))))))))
A14: =VLOOKUP(C14,élOvOur!$A$1:$D$199,3,FALSE) -> #N/A | B14: =Fim!A5 -> RIMO | C14: =Fim!B5 -> 28284001 | D14: =Fim!C5 -> 8248001020 | E14: =Fim!D5 -> 4112808202 | F14: =Fim!E5 -> 4112801004 | G14: =Fim!F5 -> 49S9598121 | H14: =Fim!G5 -> 8248002001 | I14: =Fim!H5 -> 8202104058 | ... K14: =Fim!J5 -> 22485800008 | L14: =IF(K14=L$10,"Ind/Ind",IF(K14=L$8,"Ind/Père",IF(K14=L$6,"Ind/GPP",IF(K14=L$4,"Ind/GPM",IF(K14=L$7,"Ind/Mère",IF(K14=L$5,"Ind/GMP",IF(K14=L$3,"Ind/GMM",IF(I14=L$10,"Père/Ind",IF(I14=L$8,"Père/Père",IF(I14=L$6,"Père/GPP",IF(I14=L$4,"Père/GPM",IF(H14=L$10,"Mère/Ind",IF(H14=L$7,"Mère/Mère",IF(H14=L$5,"Mère/GMP",IF(H14=L$3,"Mère/GMM",IF(G14=L$10,"GPP/Ind",IF(G14=L$8,"GPP/Père",IF(G14=L$6,"GPP/GPP",IF(G14=L$4,"GPP/GPM","")))))))))))))))))))&IF(F14=L$10,"GMP/Ind",IF(F14=L$7,"GMP/Mère",IF(F14=L$5,"GMP/GMP",IF(F14=L$3,"GMP/GMM",IF(E14=L$10,"GPM/Ind",IF(E14=L$8,"GPM/Père",IF(E14=L$6,"GPM/GPP",IF(E14=L$4,"GPM/GPM",IF(D14=L$10,"GMM/Ind",IF(D14=L$7,"GMM/Mère",IF(D14=L$5,"GMM/GMP",IF(D14=L$3,"GMM/GMM","")))))))))))) | M14: =IF($K14=M$10,"Ind/Ind",IF($K14=M$8,"Ind/Père",IF($K14=M$6,"Ind/GPP",IF($K14=M$4,"Ind/GPM",IF($K14=M$7,"Ind/Mère",IF($K14=M$5,"Ind/GMP",IF($K14=M$3,"Ind/GMM",IF($I14=M$10,"Père/Ind",IF($I14=M$8,"Père/Père",IF($I14=M$6,"Père/GPP",IF($I14=M$4,"Père/GPM",IF($H14=M$10,"Mère/Ind",IF($H14=M$7,"Mère/Mère",IF($H14=M$5,"Mère/GMP",IF($H14=M$3,"Mère/GMM",IF($G14=M$10,"GPP/Ind",IF($G14=M$8,"GPP/Père",IF($G14=M$6,"GPP/GPP",IF($G14=M$4,"GPP/GPM","")))))))))))))))))))&IF($F14=M$10,"GMP/Ind",IF($F14=M$7,"GMP/Mère",IF($F14=M$5,"GMP/GMP",IF($F14=M$3,"GMP/GMM",IF($E14=M$10,"GPM/Ind",IF($E14=M$8,"GPM/Père",IF($E14=M$6,"GPM/GPP",IF($E14=M$4,"GPM/GPM",IF($D14=M$10,"GMM/Ind",IF($D14=M$7,"GMM/Mère",IF($D14=M$5,"GMM/GMP",IF($D14=M$3,"GMM/GMM","")))))))))))) | N14: =IF($K14=N$10,"Ind/Ind",IF($K14=N$8,"Ind/Père",IF($K14=N$6,"Ind/GPP",IF($K14=N$4,"Ind/GPM",IF($K14=N$7,"Ind/Mère",IF($K14=N$5,"Ind/GMP",IF($K14=N$3,"Ind/GMM",IF($I14=N$10,"Père/Ind",IF($I14=N$8,"Père/Père",IF($I14=N$6,"Père/GPP",IF($I14=N$4,"Père/GPM",IF($H14=N$10,"Mère/Ind",IF($H14=N$7,"Mère/Mère",IF($H14=N$5,"Mère/GMP",IF($H14=N$3,"Mère/GMM",IF($G14=N$10,"GPP/Ind",IF($G14=N$8,"GPP/Père",IF($G14=N$6,"GPP/GPP",IF($G14=N$4,"GPP/GPM","")))))))))))))))))))&IF($F14=N$10,"GMP/Ind",IF($F14=N$7,"GMP/Mère",IF($F14=N$5,"GMP/GMP",IF($F14=N$3,"GMP/GMM",IF($E14=N$10,"GPM/Ind",IF($E14=N$8,"GPM/Père",IF($E14=N$6,"GPM/GPP",IF($E14=N$4,"GPM/GPM",IF($D14=N$10,"GMM/Ind",IF($D14=N$7,"GMM/Mère",IF($D14=N$5,"GMM/GMP",IF($D14=N$3,"GMM/GMM","")))))))))))) | O14: =IF($K14=O$10,"Ind/Ind",IF($K14=O$8,"Ind/Père",IF($K14=O$6,"Ind/GPP",IF($K14=O$4,"Ind/GPM",IF($K14=O$7,"Ind/Mère",IF($K14=O$5,"Ind/GMP",IF($K14=O$3,"Ind/GMM",IF($I14=O$10,"Père/Ind",IF($I14=O$8,"Père/Père",IF($I14=O$6,"Père/GPP",IF($I14=O$4,"Père/GPM",IF($H14=O$10,"Mère/Ind",IF($H14=O$7,"Mère/Mère",IF($H14=O$5,"Mère/GMP",IF($H14=O$3,"Mère/GMM",IF($G14=O$10,"GPP/Ind",IF($G14=O$8,"GPP/Père",IF($G14=O$6,"GPP/GPP",IF($G14=O$4,"GPP/GPM","")))))))))))))))))))&IF($F14=O$10,"GMP/Ind",IF($F14=O$7,"GMP/Mère",IF($F14=O$5,"GMP/GMP",IF($F14=O$3,"GMP/GMM",IF($E14=O$10,"GPM/Ind",IF($E14=O$8,"GPM/Père",IF($E14=O$6,"GPM/GPP",IF($E14=O$4,"GPM/GPM",IF($D14=O$10,"GMM/Ind",IF($D14=O$7,"GMM/Mère",IF($D14=O$5,"GMM/GMP",IF($D14=O$3,"GMM/GMM","")))))))))))) | P14: =IF($K14=P$10,"Ind/Ind",IF($K14=P$8,"Ind/Père",IF($K14=P$6,"Ind/GPP",IF($K14=P$4,"Ind/GPM",IF($K14=P$7,"Ind/Mère",IF($K14=P$5,"Ind/GMP",IF($K14=P$3,"Ind/GMM",IF($I14=P$10,"Père/Ind",IF($I14=P$8,"Père/Père",IF($I14=P$6,"Père/GPP",IF($I14=P$4,"Père/GPM",IF($H14=P$10,"Mère/Ind",IF($H14=P$7,"Mère/Mère",IF($H14=P$5,"Mère/GMP",IF($H14=P$3,"Mère/GMM",IF($G14=P$10,"GPP/Ind",IF($G14=P$8,"GPP/Père",IF($G14=P$6,"GPP/GPP",IF($G14=P$4,"GPP/GPM","")))))))))))))))))))&IF($F14=P$10,"GMP/Ind",IF($F14=P$7,"GMP/Mère",IF($F14=P$5,"GMP/GMP",IF($F14=P$3,"GMP/GMM",IF($E14=P$10,"GPM/Ind",IF($E14=P$8,"GPM/Père",IF($E14=P$6,"GPM/GPP",IF($E14=P$4,"GPM/GPM",IF($D14=P$10,"GMM/Ind",IF($D14=P$7,"GMM/Mère",IF($D14=P$5,"GMM/GMP",IF($D14=P$3,"GMM/GMM","")))))))))))) | Q14: =IF($K14=Q$10,"Ind/Ind",IF($K14=Q$8,"Ind/Père",IF($K14=Q$6,"Ind/GPP",IF($K14=Q$4,"Ind/GPM",IF($K14=Q$7,"Ind/Mère",IF($K14=Q$5,"Ind/GMP",IF($K14=Q$3,"Ind/GMM",IF($I14=Q$10,"Père/Ind",IF($I14=Q$8,"Père/Père",IF($I14=Q$6,"Père/GPP",IF($I14=Q$4,"Père/GPM",IF($H14=Q$10,"Mère/Ind",IF($H14=Q$7,"Mère/Mère",IF($H14=Q$5,"Mère/GMP",IF($H14=Q$3,"Mère/GMM",IF($G14=Q$10,"GPP/Ind",IF($G14=Q$8,"GPP/Père",IF($G14=Q$6,"GPP/GPP",IF($G14=Q$4,"GPP/GPM","")))))))))))))))))))&IF($F14=Q$10,"GMP/Ind",IF($F14=Q$7,"GMP/Mère",IF($F14=Q$5,"GMP/GMP",IF($F14=Q$3,"GMP/GMM",IF($E14=Q$10,"GPM/Ind",IF($E14=Q$8,"GPM/Père",IF($E14=Q$6,"GPM/GPP",IF($E14=Q$4,"GPM/GPM",IF($D14=Q$10,"GMM/Ind",IF($D14=Q$7,"GMM/Mère",IF($D14=Q$5,"GMM/GMP",IF($D14=Q$3,"GMM/GMM","")))))))))))) | R14: =IF($K14=R$10,"Ind/Ind",IF($K14=R$8,"Ind/Père",IF($K14=R$6,"Ind/GPP",IF($K14=R$4,"Ind/GPM",IF($K14=R$7,"Ind/Mère",IF($K14=R$5,"Ind/GMP",IF($K14=R$3,"Ind/GMM",IF($I14=R$10,"Père/Ind",IF($I14=R$8,"Père/Père",IF($I14=R$6,"Père/GPP",IF($I14=R$4,"Père/GPM",IF($H14=R$10,"Mère/Ind",IF($H14=R$7,"Mère/Mère",IF($H14=R$5,"Mère/GMP",IF($H14=R$3,"Mère/GMM",IF($G14=R$10,"GPP/Ind",IF($G14=R$8,"GPP/Père",IF($G14=R$6,"GPP/GPP",IF($G14=R$4,"GPP/GPM","")))))))))))))))))))&IF($F14=R$10,"GMP/Ind",IF($F14=R$7,"GMP/Mère",IF($F14=R$5,"GMP/GMP",IF($F14=R$3,"GMP/GMM",IF($E14=R$10,"GPM/Ind",IF($E14=R$8,"GPM/Père",IF($E14=R$6,"GPM/GPP",IF($E14=R$4,"GPM/GPM",IF($D14=R$10,"GMM/Ind",IF($D14=R$7,"GMM/Mère",IF($D14=R$5,"GMM/GMP",IF($D14=R$3,"GMM/GMM","")))))))))))) | S14: =IF($K14=S$10,"Ind/Ind",IF($K14=S$8,"Ind/Père",IF($K14=S$6,"Ind/GPP",IF($K14=S$4,"Ind/GPM",IF($K14=S$7,"Ind/Mère",IF($K14=S$5,"Ind/GMP",IF($K14=S$3,"Ind/GMM",IF($I14=S$10,"Père/Ind",IF($I14=S$8,"Père/Père",IF($I14=S$6,"Père/GPP",IF($I14=S$4,"Père/GPM",IF($H14=S$10,"Mère/Ind",IF($H14=S$7,"Mère/Mère",IF($H14=S$5,"Mère/GMP",IF($H14=S$3,"Mère/GMM",IF($G14=S$10,"GPP/Ind",IF($G14=S$8,"GPP/Père",IF($G14=S$6,"GPP/GPP",IF($G14=S$4,"GPP/GPM","")))))))))))))))))))&IF($F14=S$10,"GMP/Ind",IF($F14=S$7,"GMP/Mère",IF($F14=S$5,"GMP/GMP",IF($F14=S$3,"GMP/GMM",IF($E14=S$10,"GPM/Ind",IF($E14=S$8,"GPM/Père",IF($E14=S$6,"GPM/GPP",IF($E14=S$4,"GPM/GPM",IF($D14=S$10,"GMM/Ind",IF($D14=S$7,"GMM/Mère",IF($D14=S$5,"GMM/GMP",IF($D14=S$3,"GMM/GMM","")))))))))))) | T14: =IF($K14=T$10,"Ind/Ind",IF($K14=T$8,"Ind/Père",IF($K14=T$6,"Ind/GPP",IF($K14=T$4,"Ind/GPM",IF($K14=T$7,"Ind/Mère",IF($K14=T$5,"Ind/GMP",IF($K14=T$3,"Ind/GMM",IF($I14=T$10,"Père/Ind",IF($I14=T$8,"Père/Père",IF($I14=T$6,"Père/GPP",IF($I14=T$4,"Père/GPM",IF($H14=T$10,"Mère/Ind",IF($H14=T$7,"Mère/Mère",IF($H14=T$5,"Mère/GMP",IF($H14=T$3,"Mère/GMM",IF($G14=T$10,"GPP/Ind",IF($G14=T$8,"GPP/Père",IF($G14=T$6,"GPP/GPP",IF($G14=T$4,"GPP/GPM","")))))))))))))))))))&IF($F14=T$10,"GMP/Ind",IF($F14=T$7,"GMP/Mère",IF($F14=T$5,"GMP/GMP",IF($F14=T$3,"GMP/GMM",IF($E14=T$10,"GPM/Ind",IF($E14=T$8,"GPM/Père",IF($E14=T$6,"GPM/GPP",IF($E14=T$4,"GPM/GPM",IF($D14=T$10,"GMM/Ind",IF($D14=T$7,"GMM/Mère",IF($D14=T$5,"GMM/GMP",IF($D14=T$3,"GMM/GMM","")))))))))))) -> GPM/GPM
A15: =VLOOKUP(C15,élOvOur!$A$1:$D$199,3,FALSE) -> #N/A | B15: =Fim!A6 -> RIMO | C15: =Fim!B6 -> 28284001 | D15: =Fim!C6 -> 1218002002 | E15: =Fim!D6 -> 49S9598121 | F15: =Fim!E6 -> 1821599015 | G15: =Fim!F6 -> 8244108829 | H15: =Fim!G6 -> 121800500- | I15: =Fim!H6 -> 1410402024 | ... K15: =Fim!J6 -> 1118000001 | L15: =IF(K15=L$10,"Ind/Ind",IF(K15=L$8,"Ind/Père",IF(K15=L$6,"Ind/GPP",IF(K15=L$4,"Ind/GPM",IF(K15=L$7,"Ind/Mère",IF(K15=L$5,"Ind/GMP",IF(K15=L$3,"Ind/GMM",IF(I15=L$10,"Père/Ind",IF(I15=L$8,"Père/Père",IF(I15=L$6,"Père/GPP",IF(I15=L$4,"Père/GPM",IF(H15=L$10,"Mère/Ind",IF(H15=L$7,"Mère/Mère",IF(H15=L$5,"Mère/GMP",IF(H15=L$3,"Mère/GMM",IF(G15=L$10,"GPP/Ind",IF(G15=L$8,"GPP/Père",IF(G15=L$6,"GPP/GPP",IF(G15=L$4,"GPP/GPM","")))))))))))))))))))&IF(F15=L$10,"GMP/Ind",IF(F15=L$7,"GMP/Mère",IF(F15=L$5,"GMP/GMP",IF(F15=L$3,"GMP/GMM",IF(E15=L$10,"GPM/Ind",IF(E15=L$8,"GPM/Père",IF(E15=L$6,"GPM/GPP",IF(E15=L$4,"GPM/GPM",IF(D15=L$10,"GMM/Ind",IF(D15=L$7,"GMM/Mère",IF(D15=L$5,"GMM/GMP",IF(D15=L$3,"GMM/GMM","")))))))))))) | M15: =IF($K15=M$10,"Ind/Ind",IF($K15=M$8,"Ind/Père",IF($K15=M$6,"Ind/GPP",IF($K15=M$4,"Ind/GPM",IF($K15=M$7,"Ind/Mère",IF($K15=M$5,"Ind/GMP",IF($K15=M$3,"Ind/GMM",IF($I15=M$10,"Père/Ind",IF($I15=M$8,"Père/Père",IF($I15=M$6,"Père/GPP",IF($I15=M$4,"Père/GPM",IF($H15=M$10,"Mère/Ind",IF($H15=M$7,"Mère/Mère",IF($H15=M$5,"Mère/GMP",IF($H15=M$3,"Mère/GMM",IF($G15=M$10,"GPP/Ind",IF($G15=M$8,"GPP/Père",IF($G15=M$6,"GPP/GPP",IF($G15=M$4,"GPP/GPM","")))))))))))))))))))&IF($F15=M$10,"GMP/Ind",IF($F15=M$7,"GMP/Mère",IF($F15=M$5,"GMP/GMP",IF($F15=M$3,"GMP/GMM",IF($E15=M$10,"GPM/Ind",IF($E15=M$8,"GPM/Père",IF($E15=M$6,"GPM/GPP",IF($E15=M$4,"GPM/GPM",IF($D15=M$10,"GMM/Ind",IF($D15=M$7,"GMM/Mère",IF($D15=M$5,"GMM/GMP",IF($D15=M$3,"GMM/GMM","")))))))))))) | N15: =IF($K15=N$10,"Ind/Ind",IF($K15=N$8,"Ind/Père",IF($K15=N$6,"Ind/GPP",IF($K15=N$4,"Ind/GPM",IF($K15=N$7,"Ind/Mère",IF($K15=N$5,"Ind/GMP",IF($K15=N$3,"Ind/GMM",IF($I15=N$10,"Père/Ind",IF($I15=N$8,"Père/Père",IF($I15=N$6,"Père/GPP",IF($I15=N$4,"Père/GPM",IF($H15=N$10,"Mère/Ind",IF($H15=N$7,"Mère/Mère",IF($H15=N$5,"Mère/GMP",IF($H15=N$3,"Mère/GMM",IF($G15=N$10,"GPP/Ind",IF($G15=N$8,"GPP/Père",IF($G15=N$6,"GPP/GPP",IF($G15=N$4,"GPP/GPM","")))))))))))))))))))&IF($F15=N$10,"GMP/Ind",IF($F15=N$7,"GMP/Mère",IF($F15=N$5,"GMP/GMP",IF($F15=N$3,"GMP/GMM",IF($E15=N$10,"GPM/Ind",IF($E15=N$8,"GPM/Père",IF($E15=N$6,"GPM/GPP",IF($E15=N$4,"GPM/GPM",IF($D15=N$10,"GMM/Ind",IF($D15=N$7,"GMM/Mère",IF($D15=N$5,"GMM/GMP",IF($D15=N$3,"GMM/GMM","")))))))))))) | O15: =IF($K15=O$10,"Ind/Ind",IF($K15=O$8,"Ind/Père",IF($K15=O$6,"Ind/GPP",IF($K15=O$4,"Ind/GPM",IF($K15=O$7,"Ind/Mère",IF($K15=O$5,"Ind/GMP",IF($K15=O$3,"Ind/GMM",IF($I15=O$10,"Père/Ind",IF($I15=O$8,"Père/Père",IF($I15=O$6,"Père/GPP",IF($I15=O$4,"Père/GPM",IF($H15=O$10,"Mère/Ind",IF($H15=O$7,"Mère/Mère",IF($H15=O$5,"Mère/GMP",IF($H15=O$3,"Mère/GMM",IF($G15=O$10,"GPP/Ind",IF($G15=O$8,"GPP/Père",IF($G15=O$6,"GPP/GPP",IF($G15=O$4,"GPP/GPM","")))))))))))))))))))&IF($F15=O$10,"GMP/Ind",IF($F15=O$7,"GMP/Mère",IF($F15=O$5,"GMP/GMP",IF($F15=O$3,"GMP/GMM",IF($E15=O$10,"GPM/Ind",IF($E15=O$8,"GPM/Père",IF($E15=O$6,"GPM/GPP",IF($E15=O$4,"GPM/GPM",IF($D15=O$10,"GMM/Ind",IF($D15=O$7,"GMM/Mère",IF($D15=O$5,"GMM/GMP",IF($D15=O$3,"GMM/GMM","")))))))))))) | P15: =IF($K15=P$10,"Ind/Ind",IF($K15=P$8,"Ind/Père",IF($K15=P$6,"Ind/GPP",IF($K15=P$4,"Ind/GPM",IF($K15=P$7,"Ind/Mère",IF($K15=P$5,"Ind/GMP",IF($K15=P$3,"Ind/GMM",IF($I15=P$10,"Père/Ind",IF($I15=P$8,"Père/Père",IF($I15=P$6,"Père/GPP",IF($I15=P$4,"Père/GPM",IF($H15=P$10,"Mère/Ind",IF($H15=P$7,"Mère/Mère",IF($H15=P$5,"Mère/GMP",IF($H15=P$3,"Mère/GMM",IF($G15=P$10,"GPP/Ind",IF($G15=P$8,"GPP/Père",IF($G15=P$6,"GPP/GPP",IF($G15=P$4,"GPP/GPM","")))))))))))))))))))&IF($F15=P$10,"GMP/Ind",IF($F15=P$7,"GMP/Mère",IF($F15=P$5,"GMP/GMP",IF($F15=P$3,"GMP/GMM",IF($E15=P$10,"GPM/Ind",IF($E15=P$8,"GPM/Père",IF($E15=P$6,"GPM/GPP",IF($E15=P$4,"GPM/GPM",IF($D15=P$10,"GMM/Ind",IF($D15=P$7,"GMM/Mère",IF($D15=P$5,"GMM/GMP",IF($D15=P$3,"GMM/GMM","")))))))))))) | Q15: =IF($K15=Q$10,"Ind/Ind",IF($K15=Q$8,"Ind/Père",IF($K15=Q$6,"Ind/GPP",IF($K15=Q$4,"Ind/GPM",IF($K15=Q$7,"Ind/Mère",IF($K15=Q$5,"Ind/GMP",IF($K15=Q$3,"Ind/GMM",IF($I15=Q$10,"Père/Ind",IF($I15=Q$8,"Père/Père",IF($I15=Q$6,"Père/GPP",IF($I15=Q$4,"Père/GPM",IF($H15=Q$10,"Mère/Ind",IF($H15=Q$7,"Mère/Mère",IF($H15=Q$5,"Mère/GMP",IF($H15=Q$3,"Mère/GMM",IF($G15=Q$10,"GPP/Ind",IF($G15=Q$8,"GPP/Père",IF($G15=Q$6,"GPP/GPP",IF($G15=Q$4,"GPP/GPM","")))))))))))))))))))&IF($F15=Q$10,"GMP/Ind",IF($F15=Q$7,"GMP/Mère",IF($F15=Q$5,"GMP/GMP",IF($F15=Q$3,"GMP/GMM",IF($E15=Q$10,"GPM/Ind",IF($E15=Q$8,"GPM/Père",IF($E15=Q$6,"GPM/GPP",IF($E15=Q$4,"GPM/GPM",IF($D15=Q$10,"GMM/Ind",IF($D15=Q$7,"GMM/Mère",IF($D15=Q$5,"GMM/GMP",IF($D15=Q$3,"GMM/GMM","")))))))))))) | R15: =IF($K15=R$10,"Ind/Ind",IF($K15=R$8,"Ind/Père",IF($K15=R$6,"Ind/GPP",IF($K15=R$4,"Ind/GPM",IF($K15=R$7,"Ind/Mère",IF($K15=R$5,"Ind/GMP",IF($K15=R$3,"Ind/GMM",IF($I15=R$10,"Père/Ind",IF($I15=R$8,"Père/Père",IF($I15=R$6,"Père/GPP",IF($I15=R$4,"Père/GPM",IF($H15=R$10,"Mère/Ind",IF($H15=R$7,"Mère/Mère",IF($H15=R$5,"Mère/GMP",IF($H15=R$3,"Mère/GMM",IF($G15=R$10,"GPP/Ind",IF($G15=R$8,"GPP/Père",IF($G15=R$6,"GPP/GPP",IF($G15=R$4,"GPP/GPM","")))))))))))))))))))&IF($F15=R$10,"GMP/Ind",IF($F15=R$7,"GMP/Mère",IF($F15=R$5,"GMP/GMP",IF($F15=R$3,"GMP/GMM",IF($E15=R$10,"GPM/Ind",IF($E15=R$8,"GPM/Père",IF($E15=R$6,"GPM/GPP",IF($E15=R$4,"GPM/GPM",IF($D15=R$10,"GMM/Ind",IF($D15=R$7,"GMM/Mère",IF($D15=R$5,"GMM/GMP",IF($D15=R$3,"GMM/GMM","")))))))))))) | S15: =IF($K15=S$10,"Ind/Ind",IF($K15=S$8,"Ind/Père",IF($K15=S$6,"Ind/GPP",IF($K15=S$4,"Ind/GPM",IF($K15=S$7,"Ind/Mère",IF($K15=S$5,"Ind/GMP",IF($K15=S$3,"Ind/GMM",IF($I15=S$10,"Père/Ind",IF($I15=S$8,"Père/Père",IF($I15=S$6,"Père/GPP",IF($I15=S$4,"Père/GPM",IF($H15=S$10,"Mère/Ind",IF($H15=S$7,"Mère/Mère",IF($H15=S$5,"Mère/GMP",IF($H15=S$3,"Mère/GMM",IF($G15=S$10,"GPP/Ind",IF($G15=S$8,"GPP/Père",IF($G15=S$6,"GPP/GPP",IF($G15=S$4,"GPP/GPM","")))))))))))))))))))&IF($F15=S$10,"GMP/Ind",IF($F15=S$7,"GMP/Mère",IF($F15=S$5,"GMP/GMP",IF($F15=S$3,"GMP/GMM",IF($E15=S$10,"GPM/Ind",IF($E15=S$8,"GPM/Père",IF($E15=S$6,"GPM/GPP",IF($E15=S$4,"GPM/GPM",IF($D15=S$10,"GMM/Ind",IF($D15=S$7,"GMM/Mère",IF($D15=S$5,"GMM/GMP",IF($D15=S$3,"GMM/GMM","")))))))))))) | T15: =IF($K15=T$10,"Ind/Ind",IF($K15=T$8,"Ind/Père",IF($K15=T$6,"Ind/GPP",IF($K15=T$4,"Ind/GPM",IF($K15=T$7,"Ind/Mère",IF($K15=T$5,"Ind/GMP",IF($K15=T$3,"Ind/GMM",IF($I15=T$10,"Père/Ind",IF($I15=T$8,"Père/Père",IF($I15=T$6,"Père/GPP",IF($I15=T$4,"Père/GPM",IF($H15=T$10,"Mère/Ind",IF($H15=T$7,"Mère/Mère",IF($H15=T$5,"Mère/GMP",IF($H15=T$3,"Mère/GMM",IF($G15=T$10,"GPP/Ind",IF($G15=T$8,"GPP/Père",IF($G15=T$6,"GPP/GPP",IF($G15=T$4,"GPP/GPM","")))))))))))))))))))&IF($F15=T$10,"GMP/Ind",IF($F15=T$7,"GMP/Mère",IF($F15=T$5,"GMP/GMP",IF($F15=T$3,"GMP/GMM",IF($E15=T$10,"GPM/Ind",IF($E15=T$8,"GPM/Père",IF($E15=T$6,"GPM/GPP",IF($E15=T$4,"GPM/GPM",IF($D15=T$10,"GMM/Ind",IF($D15=T$7,"GMM/Mère",IF($D15=T$5,"GMM/GMP",IF($D15=T$3,"GMM/GMM",""))))))))))))
A16: =VLOOKUP(C16,élOvOur!$A$1:$D$199,3,FALSE) -> #N/A | B16: =Fim!A7 -> RIMO | C16: =Fim!B7 -> 28284001 | D16: =Fim!C7 -> 8244108415 | E16: =Fim!D7 -> 1410408015 | F16: =Fim!E7 -> 1410402008 | G16: =Fim!F7 -> 1410408015 | H16: =Fim!G7 -> 1410409012 | I16: =Fim!H7 -> 1410409021 | ... K16: =Fim!J7 -> 22485811028 | L16: =IF(K16=L$10,"Ind/Ind",IF(K16=L$8,"Ind/Père",IF(K16=L$6,"Ind/GPP",IF(K16=L$4,"Ind/GPM",IF(K16=L$7,"Ind/Mère",IF(K16=L$5,"Ind/GMP",IF(K16=L$3,"Ind/GMM",IF(I16=L$10,"Père/Ind",IF(I16=L$8,"Père/Père",IF(I16=L$6,"Père/GPP",IF(I16=L$4,"Père/GPM",IF(H16=L$10,"Mère/Ind",IF(H16=L$7,"Mère/Mère",IF(H16=L$5,"Mère/GMP",IF(H16=L$3,"Mère/GMM",IF(G16=L$10,"GPP/Ind",IF(G16=L$8,"GPP/Père",IF(G16=L$6,"GPP/GPP",IF(G16=L$4,"GPP/GPM","")))))))))))))))))))&IF(F16=L$10,"GMP/Ind",IF(F16=L$7,"GMP/Mère",IF(F16=L$5,"GMP/GMP",IF(F16=L$3,"GMP/GMM",IF(E16=L$10,"GPM/Ind",IF(E16=L$8,"GPM/Père",IF(E16=L$6,"GPM/GPP",IF(E16=L$4,"GPM/GPM",IF(D16=L$10,"GMM/Ind",IF(D16=L$7,"GMM/Mère",IF(D16=L$5,"GMM/GMP",IF(D16=L$3,"GMM/GMM","")))))))))))) | M16: =IF($K16=M$10,"Ind/Ind",IF($K16=M$8,"Ind/Père",IF($K16=M$6,"Ind/GPP",IF($K16=M$4,"Ind/GPM",IF($K16=M$7,"Ind/Mère",IF($K16=M$5,"Ind/GMP",IF($K16=M$3,"Ind/GMM",IF($I16=M$10,"Père/Ind",IF($I16=M$8,"Père/Père",IF($I16=M$6,"Père/GPP",IF($I16=M$4,"Père/GPM",IF($H16=M$10,"Mère/Ind",IF($H16=M$7,"Mère/Mère",IF($H16=M$5,"Mère/GMP",IF($H16=M$3,"Mère/GMM",IF($G16=M$10,"GPP/Ind",IF($G16=M$8,"GPP/Père",IF($G16=M$6,"GPP/GPP",IF($G16=M$4,"GPP/GPM","")))))))))))))))))))&IF($F16=M$10,"GMP/Ind",IF($F16=M$7,"GMP/Mère",IF($F16=M$5,"GMP/GMP",IF($F16=M$3,"GMP/GMM",IF($E16=M$10,"GPM/Ind",IF($E16=M$8,"GPM/Père",IF($E16=M$6,"GPM/GPP",IF($E16=M$4,"GPM/GPM",IF($D16=M$10,"GMM/Ind",IF($D16=M$7,"GMM/Mère",IF($D16=M$5,"GMM/GMP",IF($D16=M$3,"GMM/GMM","")))))))))))) | N16: =IF($K16=N$10,"Ind/Ind",IF($K16=N$8,"Ind/Père",IF($K16=N$6,"Ind/GPP",IF($K16=N$4,"Ind/GPM",IF($K16=N$7,"Ind/Mère",IF($K16=N$5,"Ind/GMP",IF($K16=N$3,"Ind/GMM",IF($I16=N$10,"Père/Ind",IF($I16=N$8,"Père/Père",IF($I16=N$6,"Père/GPP",IF($I16=N$4,"Père/GPM",IF($H16=N$10,"Mère/Ind",IF($H16=N$7,"Mère/Mère",IF($H16=N$5,"Mère/GMP",IF($H16=N$3,"Mère/GMM",IF($G16=N$10,"GPP/Ind",IF($G16=N$8,"GPP/Père",IF($G16=N$6,"GPP/GPP",IF($G16=N$4,"GPP/GPM","")))))))))))))))))))&IF($F16=N$10,"GMP/Ind",IF($F16=N$7,"GMP/Mère",IF($F16=N$5,"GMP/GMP",IF($F16=N$3,"GMP/GMM",IF($E16=N$10,"GPM/Ind",IF($E16=N$8,"GPM/Père",IF($E16=N$6,"GPM/GPP",IF($E16=N$4,"GPM/GPM",IF($D16=N$10,"GMM/Ind",IF($D16=N$7,"GMM/Mère",IF($D16=N$5,"GMM/GMP",IF($D16=N$3,"GMM/GMM","")))))))))))) | O16: =IF($K16=O$10,"Ind/Ind",IF($K16=O$8,"Ind/Père",IF($K16=O$6,"Ind/GPP",IF($K16=O$4,"Ind/GPM",IF($K16=O$7,"Ind/Mère",IF($K16=O$5,"Ind/GMP",IF($K16=O$3,"Ind/GMM",IF($I16=O$10,"Père/Ind",IF($I16=O$8,"Père/Père",IF($I16=O$6,"Père/GPP",IF($I16=O$4,"Père/GPM",IF($H16=O$10,"Mère/Ind",IF($H16=O$7,"Mère/Mère",IF($H16=O$5,"Mère/GMP",IF($H16=O$3,"Mère/GMM",IF($G16=O$10,"GPP/Ind",IF($G16=O$8,"GPP/Père",IF($G16=O$6,"GPP/GPP",IF($G16=O$4,"GPP/GPM","")))))))))))))))))))&IF($F16=O$10,"GMP/Ind",IF($F16=O$7,"GMP/Mère",IF($F16=O$5,"GMP/GMP",IF($F16=O$3,"GMP/GMM",IF($E16=O$10,"GPM/Ind",IF($E16=O$8,"GPM/Père",IF($E16=O$6,"GPM/GPP",IF($E16=O$4,"GPM/GPM",IF($D16=O$10,"GMM/Ind",IF($D16=O$7,"GMM/Mère",IF($D16=O$5,"GMM/GMP",IF($D16=O$3,"GMM/GMM","")))))))))))) | P16: =IF($K16=P$10,"Ind/Ind",IF($K16=P$8,"Ind/Père",IF($K16=P$6,"Ind/GPP",IF($K16=P$4,"Ind/GPM",IF($K16=P$7,"Ind/Mère",IF($K16=P$5,"Ind/GMP",IF($K16=P$3,"Ind/GMM",IF($I16=P$10,"Père/Ind",IF($I16=P$8,"Père/Père",IF($I16=P$6,"Père/GPP",IF($I16=P$4,"Père/GPM",IF($H16=P$10,"Mère/Ind",IF($H16=P$7,"Mère/Mère",IF($H16=P$5,"Mère/GMP",IF($H16=P$3,"Mère/GMM",IF($G16=P$10,"GPP/Ind",IF($G16=P$8,"GPP/Père",IF($G16=P$6,"GPP/GPP",IF($G16=P$4,"GPP/GPM","")))))))))))))))))))&IF($F16=P$10,"GMP/Ind",IF($F16=P$7,"GMP/Mère",IF($F16=P$5,"GMP/GMP",IF($F16=P$3,"GMP/GMM",IF($E16=P$10,"GPM/Ind",IF($E16=P$8,"GPM/Père",IF($E16=P$6,"GPM/GPP",IF($E16=P$4,"GPM/GPM",IF($D16=P$10,"GMM/Ind",IF($D16=P$7,"GMM/Mère",IF($D16=P$5,"GMM/GMP",IF($D16=P$3,"GMM/GMM","")))))))))))) | Q16: =IF($K16=Q$10,"Ind/Ind",IF($K16=Q$8,"Ind/Père",IF($K16=Q$6,"Ind/GPP",IF($K16=Q$4,"Ind/GPM",IF($K16=Q$7,"Ind/Mère",IF($K16=Q$5,"Ind/GMP",IF($K16=Q$3,"Ind/GMM",IF($I16=Q$10,"Père/Ind",IF($I16=Q$8,"Père/Père",IF($I16=Q$6,"Père/GPP",IF($I16=Q$4,"Père/GPM",IF($H16=Q$10,"Mère/Ind",IF($H16=Q$7,"Mère/Mère",IF($H16=Q$5,"Mère/GMP",IF($H16=Q$3,"Mère/GMM",IF($G16=Q$10,"GPP/Ind",IF($G16=Q$8,"GPP/Père",IF($G16=Q$6,"GPP/GPP",IF($G16=Q$4,"GPP/GPM","")))))))))))))))))))&IF($F16=Q$10,"GMP/Ind",IF($F16=Q$7,"GMP/Mère",IF($F16=Q$5,"GMP/GMP",IF($F16=Q$3,"GMP/GMM",IF($E16=Q$10,"GPM/Ind",IF($E16=Q$8,"GPM/Père",IF($E16=Q$6,"GPM/GPP",IF($E16=Q$4,"GPM/GPM",IF($D16=Q$10,"GMM/Ind",IF($D16=Q$7,"GMM/Mère",IF($D16=Q$5,"GMM/GMP",IF($D16=Q$3,"GMM/GMM","")))))))))))) | R16: =IF($K16=R$10,"Ind/Ind",IF($K16=R$8,"Ind/Père",IF($K16=R$6,"Ind/GPP",IF($K16=R$4,"Ind/GPM",IF($K16=R$7,"Ind/Mère",IF($K16=R$5,"Ind/GMP",IF($K16=R$3,"Ind/GMM",IF($I16=R$10,"Père/Ind",IF($I16=R$8,"Père/Père",IF($I16=R$6,"Père/GPP",IF($I16=R$4,"Père/GPM",IF($H16=R$10,"Mère/Ind",IF($H16=R$7,"Mère/Mère",IF($H16=R$5,"Mère/GMP",IF($H16=R$3,"Mère/GMM",IF($G16=R$10,"GPP/Ind",IF($G16=R$8,"GPP/Père",IF($G16=R$6,"GPP/GPP",IF($G16=R$4,"GPP/GPM","")))))))))))))))))))&IF($F16=R$10,"GMP/Ind",IF($F16=R$7,"GMP/Mère",IF($F16=R$5,"GMP/GMP",IF($F16=R$3,"GMP/GMM",IF($E16=R$10,"GPM/Ind",IF($E16=R$8,"GPM/Père",IF($E16=R$6,"GPM/GPP",IF($E16=R$4,"GPM/GPM",IF($D16=R$10,"GMM/Ind",IF($D16=R$7,"GMM/Mère",IF($D16=R$5,"GMM/GMP",IF($D16=R$3,"GMM/GMM","")))))))))))) | S16: =IF($K16=S$10,"Ind/Ind",IF($K16=S$8,"Ind/Père",IF($K16=S$6,"Ind/GPP",IF($K16=S$4,"Ind/GPM",IF($K16=S$7,"Ind/Mère",IF($K16=S$5,"Ind/GMP",IF($K16=S$3,"Ind/GMM",IF($I16=S$10,"Père/Ind",IF($I16=S$8,"Père/Père",IF($I16=S$6,"Père/GPP",IF($I16=S$4,"Père/GPM",IF($H16=S$10,"Mère/Ind",IF($H16=S$7,"Mère/Mère",IF($H16=S$5,"Mère/GMP",IF($H16=S$3,"Mère/GMM",IF($G16=S$10,"GPP/Ind",IF($G16=S$8,"GPP/Père",IF($G16=S$6,"GPP/GPP",IF($G16=S$4,"GPP/GPM","")))))))))))))))))))&IF($F16=S$10,"GMP/Ind",IF($F16=S$7,"GMP/Mère",IF($F16=S$5,"GMP/GMP",IF($F16=S$3,"GMP/GMM",IF($E16=S$10,"GPM/Ind",IF($E16=S$8,"GPM/Père",IF($E16=S$6,"GPM/GPP",IF($E16=S$4,"GPM/GPM",IF($D16=S$10,"GMM/Ind",IF($D16=S$7,"GMM/Mère",IF($D16=S$5,"GMM/GMP",IF($D16=S$3,"GMM/GMM","")))))))))))) | T16: =IF($K16=T$10,"Ind/Ind",IF($K16=T$8,"Ind/Père",IF($K16=T$6,"Ind/GPP",IF($K16=T$4,"Ind/GPM",IF($K16=T$7,"Ind/Mère",IF($K16=T$5,"Ind/GMP",IF($K16=T$3,"Ind/GMM",IF($I16=T$10,"Père/Ind",IF($I16=T$8,"Père/Père",IF($I16=T$6,"Père/GPP",IF($I16=T$4,"Père/GPM",IF($H16=T$10,"Mère/Ind",IF($H16=T$7,"Mère/Mère",IF($H16=T$5,"Mère/GMP",IF($H16=T$3,"Mère/GMM",IF($G16=T$10,"GPP/Ind",IF($G16=T$8,"GPP/Père",IF($G16=T$6,"GPP/GPP",IF($G16=T$4,"GPP/GPM","")))))))))))))))))))&IF($F16=T$10,"GMP/Ind",IF($F16=T$7,"GMP/Mère",IF($F16=T$5,"GMP/GMP",IF($F16=T$3,"GMP/GMM",IF($E16=T$10,"GPM/Ind",IF($E16=T$8,"GPM/Père",IF($E16=T$6,"GPM/GPP",IF($E16=T$4,"GPM/GPM",IF($D16=T$10,"GMM/Ind",IF($D16=T$7,"GMM/Mère",IF($D16=T$5,"GMM/GMP",IF($D16=T$3,"GMM/GMM",""))))))))))))
A17: =VLOOKUP(C17,élOvOur!$A$1:$D$199,3,FALSE) -> #N/A | B17: =Fim!A8 -> RIMO | C17: =Fim!B8 -> 28284001 | D17: =Fim!C8 -> 1218094019 | E17: =Fim!D8 -> 4992490108 | F17: =Fim!E8 -> 1410402008 | G17: =Fim!F8 -> 1410408015 | H17: =Fim!G8 -> 1218001004 | I17: =Fim!H8 -> 1410409021 | ... K17: =Fim!J8 -> 22485811024 | L17: =IF(K17=L$10,"Ind/Ind",IF(K17=L$8,"Ind/Père",IF(K17=L$6,"Ind/GPP",IF(K17=L$4,"Ind/GPM",IF(K17=L$7,"Ind/Mère",IF(K17=L$5,"Ind/GMP",IF(K17=L$3,"Ind/GMM",IF(I17=L$10,"Père/Ind",IF(I17=L$8,"Père/Père",IF(I17=L$6,"Père/GPP",IF(I17=L$4,"Père/GPM",IF(H17=L$10,"Mère/Ind",IF(H17=L$7,"Mère/Mère",IF(H17=L$5,"Mère/GMP",IF(H17=L$3,"Mère/GMM",IF(G17=L$10,"GPP/Ind",IF(G17=L$8,"GPP/Père",IF(G17=L$6,"GPP/GPP",IF(G17=L$4,"GPP/GPM","")))))))))))))))))))&IF(F17=L$10,"GMP/Ind",IF(F17=L$7,"GMP/Mère",IF(F17=L$5,"GMP/GMP",IF(F17=L$3,"GMP/GMM",IF(E17=L$10,"GPM/Ind",IF(E17=L$8,"GPM/Père",IF(E17=L$6,"GPM/GPP",IF(E17=L$4,"GPM/GPM",IF(D17=L$10,"GMM/Ind",IF(D17=L$7,"GMM/Mère",IF(D17=L$5,"GMM/GMP",IF(D17=L$3,"GMM/GMM","")))))))))))) | M17: =IF($K17=M$10,"Ind/Ind",IF($K17=M$8,"Ind/Père",IF($K17=M$6,"Ind/GPP",IF($K17=M$4,"Ind/GPM",IF($K17=M$7,"Ind/Mère",IF($K17=M$5,"Ind/GMP",IF($K17=M$3,"Ind/GMM",IF($I17=M$10,"Père/Ind",IF($I17=M$8,"Père/Père",IF($I17=M$6,"Père/GPP",IF($I17=M$4,"Père/GPM",IF($H17=M$10,"Mère/Ind",IF($H17=M$7,"Mère/Mère",IF($H17=M$5,"Mère/GMP",IF($H17=M$3,"Mère/GMM",IF($G17=M$10,"GPP/Ind",IF($G17=M$8,"GPP/Père",IF($G17=M$6,"GPP/GPP",IF($G17=M$4,"GPP/GPM","")))))))))))))))))))&IF($F17=M$10,"GMP/Ind",IF($F17=M$7,"GMP/Mère",IF($F17=M$5,"GMP/GMP",IF($F17=M$3,"GMP/GMM",IF($E17=M$10,"GPM/Ind",IF($E17=M$8,"GPM/Père",IF($E17=M$6,"GPM/GPP",IF($E17=M$4,"GPM/GPM",IF($D17=M$10,"GMM/Ind",IF($D17=M$7,"GMM/Mère",IF($D17=M$5,"GMM/GMP",IF($D17=M$3,"GMM/GMM","")))))))))))) | N17: =IF($K17=N$10,"Ind/Ind",IF($K17=N$8,"Ind/Père",IF($K17=N$6,"Ind/GPP",IF($K17=N$4,"Ind/GPM",IF($K17=N$7,"Ind/Mère",IF($K17=N$5,"Ind/GMP",IF($K17=N$3,"Ind/GMM",IF($I17=N$10,"Père/Ind",IF($I17=N$8,"Père/Père",IF($I17=N$6,"Père/GPP",IF($I17=N$4,"Père/GPM",IF($H17=N$10,"Mère/Ind",IF($H17=N$7,"Mère/Mère",IF($H17=N$5,"Mère/GMP",IF($H17=N$3,"Mère/GMM",IF($G17=N$10,"GPP/Ind",IF($G17=N$8,"GPP/Père",IF($G17=N$6,"GPP/GPP",IF($G17=N$4,"GPP/GPM","")))))))))))))))))))&IF($F17=N$10,"GMP/Ind",IF($F17=N$7,"GMP/Mère",IF($F17=N$5,"GMP/GMP",IF($F17=N$3,"GMP/GMM",IF($E17=N$10,"GPM/Ind",IF($E17=N$8,"GPM/Père",IF($E17=N$6,"GPM/GPP",IF($E17=N$4,"GPM/GPM",IF($D17=N$10,"GMM/Ind",IF($D17=N$7,"GMM/Mère",IF($D17=N$5,"GMM/GMP",IF($D17=N$3,"GMM/GMM","")))))))))))) | O17: =IF($K17=O$10,"Ind/Ind",IF($K17=O$8,"Ind/Père",IF($K17=O$6,"Ind/GPP",IF($K17=O$4,"Ind/GPM",IF($K17=O$7,"Ind/Mère",IF($K17=O$5,"Ind/GMP",IF($K17=O$3,"Ind/GMM",IF($I17=O$10,"Père/Ind",IF($I17=O$8,"Père/Père",IF($I17=O$6,"Père/GPP",IF($I17=O$4,"Père/GPM",IF($H17=O$10,"Mère/Ind",IF($H17=O$7,"Mère/Mère",IF($H17=O$5,"Mère/GMP",IF($H17=O$3,"Mère/GMM",IF($G17=O$10,"GPP/Ind",IF($G17=O$8,"GPP/Père",IF($G17=O$6,"GPP/GPP",IF($G17=O$4,"GPP/GPM","")))))))))))))))))))&IF($F17=O$10,"GMP/Ind",IF($F17=O$7,"GMP/Mère",IF($F17=O$5,"GMP/GMP",IF($F17=O$3,"GMP/GMM",IF($E17=O$10,"GPM/Ind",IF($E17=O$8,"GPM/Père",IF($E17=O$6,"GPM/GPP",IF($E17=O$4,"GPM/GPM",IF($D17=O$10,"GMM/Ind",IF($D17=O$7,"GMM/Mère",IF($D17=O$5,"GMM/GMP",IF($D17=O$3,"GMM/GMM","")))))))))))) | P17: =IF($K17=P$10,"Ind/Ind",IF($K17=P$8,"Ind/Père",IF($K17=P$6,"Ind/GPP",IF($K17=P$4,"Ind/GPM",IF($K17=P$7,"Ind/Mère",IF($K17=P$5,"Ind/GMP",IF($K17=P$3,"Ind/GMM",IF($I17=P$10,"Père/Ind",IF($I17=P$8,"Père/Père",IF($I17=P$6,"Père/GPP",IF($I17=P$4,"Père/GPM",IF($H17=P$10,"Mère/Ind",IF($H17=P$7,"Mère/Mère",IF($H17=P$5,"Mère/GMP",IF($H17=P$3,"Mère/GMM",IF($G17=P$10,"GPP/Ind",IF($G17=P$8,"GPP/Père",IF($G17=P$6,"GPP/GPP",IF($G17=P$4,"GPP/GPM","")))))))))))))))))))&IF($F17=P$10,"GMP/Ind",IF($F17=P$7,"GMP/Mère",IF($F17=P$5,"GMP/GMP",IF($F17=P$3,"GMP/GMM",IF($E17=P$10,"GPM/Ind",IF($E17=P$8,"GPM/Père",IF($E17=P$6,"GPM/GPP",IF($E17=P$4,"GPM/GPM",IF($D17=P$10,"GMM/Ind",IF($D17=P$7,"GMM/Mère",IF($D17=P$5,"GMM/GMP",IF($D17=P$3,"GMM/GMM","")))))))))))) | Q17: =IF($K17=Q$10,"Ind/Ind",IF($K17=Q$8,"Ind/Père",IF($K17=Q$6,"Ind/GPP",IF($K17=Q$4,"Ind/GPM",IF($K17=Q$7,"Ind/Mère",IF($K17=Q$5,"Ind/GMP",IF($K17=Q$3,"Ind/GMM",IF($I17=Q$10,"Père/Ind",IF($I17=Q$8,"Père/Père",IF($I17=Q$6,"Père/GPP",IF($I17=Q$4,"Père/GPM",IF($H17=Q$10,"Mère/Ind",IF($H17=Q$7,"Mère/Mère",IF($H17=Q$5,"Mère/GMP",IF($H17=Q$3,"Mère/GMM",IF($G17=Q$10,"GPP/Ind",IF($G17=Q$8,"GPP/Père",IF($G17=Q$6,"GPP/GPP",IF($G17=Q$4,"GPP/GPM","")))))))))))))))))))&IF($F17=Q$10,"GMP/Ind",IF($F17=Q$7,"GMP/Mère",IF($F17=Q$5,"GMP/GMP",IF($F17=Q$3,"GMP/GMM",IF($E17=Q$10,"GPM/Ind",IF($E17=Q$8,"GPM/Père",IF($E17=Q$6,"GPM/GPP",IF($E17=Q$4,"GPM/GPM",IF($D17=Q$10,"GMM/Ind",IF($D17=Q$7,"GMM/Mère",IF($D17=Q$5,"GMM/GMP",IF($D17=Q$3,"GMM/GMM","")))))))))))) | R17: =IF($K17=R$10,"Ind/Ind",IF($K17=R$8,"Ind/Père",IF($K17=R$6,"Ind/GPP",IF($K17=R$4,"Ind/GPM",IF($K17=R$7,"Ind/Mère",IF($K17=R$5,"Ind/GMP",IF($K17=R$3,"Ind/GMM",IF($I17=R$10,"Père/Ind",IF($I17=R$8,"Père/Père",IF($I17=R$6,"Père/GPP",IF($I17=R$4,"Père/GPM",IF($H17=R$10,"Mère/Ind",IF($H17=R$7,"Mère/Mère",IF($H17=R$5,"Mère/GMP",IF($H17=R$3,"Mère/GMM",IF($G17=R$10,"GPP/Ind",IF($G17=R$8,"GPP/Père",IF($G17=R$6,"GPP/GPP",IF($G17=R$4,"GPP/GPM","")))))))))))))))))))&IF($F17=R$10,"GMP/Ind",IF($F17=R$7,"GMP/Mère",IF($F17=R$5,"GMP/GMP",IF($F17=R$3,"GMP/GMM",IF($E17=R$10,"GPM/Ind",IF($E17=R$8,"GPM/Père",IF($E17=R$6,"GPM/GPP",IF($E17=R$4,"GPM/GPM",IF($D17=R$10,"GMM/Ind",IF($D17=R$7,"GMM/Mère",IF($D17=R$5,"GMM/GMP",IF($D17=R$3,"GMM/GMM","")))))))))))) | S17: =IF($K17=S$10,"Ind/Ind",IF($K17=S$8,"Ind/Père",IF($K17=S$6,"Ind/GPP",IF($K17=S$4,"Ind/GPM",IF($K17=S$7,"Ind/Mère",IF($K17=S$5,"Ind/GMP",IF($K17=S$3,"Ind/GMM",IF($I17=S$10,"Père/Ind",IF($I17=S$8,"Père/Père",IF($I17=S$6,"Père/GPP",IF($I17=S$4,"Père/GPM",IF($H17=S$10,"Mère/Ind",IF($H17=S$7,"Mère/Mère",IF($H17=S$5,"Mère/GMP",IF($H17=S$3,"Mère/GMM",IF($G17=S$10,"GPP/Ind",IF($G17=S$8,"GPP/Père",IF($G17=S$6,"GPP/GPP",IF($G17=S$4,"GPP/GPM","")))))))))))))))))))&IF($F17=S$10,"GMP/Ind",IF($F17=S$7,"GMP/Mère",IF($F17=S$5,"GMP/GMP",IF($F17=S$3,"GMP/GMM",IF($E17=S$10,"GPM/Ind",IF($E17=S$8,"GPM/Père",IF($E17=S$6,"GPM/GPP",IF($E17=S$4,"GPM/GPM",IF($D17=S$10,"GMM/Ind",IF($D17=S$7,"GMM/Mère",IF($D17=S$5,"GMM/GMP",IF($D17=S$3,"GMM/GMM","")))))))))))) | T17: =IF($K17=T$10,"Ind/Ind",IF($K17=T$8,"Ind/Père",IF($K17=T$6,"Ind/GPP",IF($K17=T$4,"Ind/GPM",IF($K17=T$7,"Ind/Mère",IF($K17=T$5,"Ind/GMP",IF($K17=T$3,"Ind/GMM",IF($I17=T$10,"Père/Ind",IF($I17=T$8,"Père/Père",IF($I17=T$6,"Père/GPP",IF($I17=T$4,"Père/GPM",IF($H17=T$10,"Mère/Ind",IF($H17=T$7,"Mère/Mère",IF($H17=T$5,"Mère/GMP",IF($H17=T$3,"Mère/GMM",IF($G17=T$10,"GPP/Ind",IF($G17=T$8,"GPP/Père",IF($G17=T$6,"GPP/GPP",IF($G17=T$4,"GPP/GPM","")))))))))))))))))))&IF($F17=T$10,"GMP/Ind",IF($F17=T$7,"GMP/Mère",IF($F17=T$5,"GMP/GMP",IF($F17=T$3,"GMP/GMM",IF($E17=T$10,"GPM/Ind",IF($E17=T$8,"GPM/Père",IF($E17=T$6,"GPM/GPP",IF($E17=T$4,"GPM/GPM",IF($D17=T$10,"GMM/Ind",IF($D17=T$7,"GMM/Mère",IF($D17=T$5,"GMM/GMP",IF($D17=T$3,"GMM/GMM",""))))))))))))
