Workbook
Name liste: Analyse!$A$11:$A$168

Sheet Analyse
K1: ='msc transposer'!A1 -> NRissOur | L1: ='msc transposer'!B1 -> RNDRRL | M1: ='msc transposer'!C1 -> RUNORU | N1: ='msc transposer'!D1 -> SRNDOT | O1: ='msc transposer'!E1 -> SRNDOT | P1: ='msc transposer'!F1 -> SRNDOT | Q1: ='msc transposer'!G1 -> SRNDOT | R1: ='msc transposer'!H1 -> SRNDOT | ... T1: ='msc transposer'!J1 -> SRTIOT
K2: ='msc transposer'!A2 -> N° élOvOur | L2: ='msc transposer'!B2 -> 89128521 | M2: ='msc transposer'!C2 -> 85020018 | N2: ='msc transposer'!D2 -> 84028159 | O2: ='msc transposer'!E2 -> 84028159 | P2: ='msc transposer'!F2 -> 84028159 | Q2: ='msc transposer'!G2 -> 84028159 | R2: ='msc transposer'!H2 -> 84148145 | ... T2: ='msc transposer'!J2 -> 85211022
K3: ='msc transposer'!A3 -> LMM | L3: ='msc transposer'!B3 -> 52525220005 | M3: ='msc transposer'!C3 -> 8502001022 | N3: ='msc transposer'!D3 -> 00000CVOVR1 | O3: ='msc transposer'!E3 -> 00000POITR1 | P3: ='msc transposer'!F3 -> 00000POITR1 | Q3: ='msc transposer'!G3 -> 00000CVOVR1 | R3: ='msc transposer'!H3 -> 00000POITR1 | ... T3: ='msc transposer'!J3 -> 4112805002
K4: ='msc transposer'!A4 -> LPM | L4: ='msc transposer'!B4 -> 4401002008 | M4: ='msc transposer'!C4 -> 8502001001 | N4: ='msc transposer'!D4 -> 00000CVOVM1 | O4: ='msc transposer'!E4 -> 00000POITM1 | P4: ='msc transposer'!F4 -> 00000POITM1 | Q4: ='msc transposer'!G4 -> 00000CVOVM1 | R4: ='msc transposer'!H4 -> 00000POITM1 | ... T4: ='msc transposer'!J4 -> 4112808202
K5: ='msc transposer'!A5 -> LMP | L5: ='msc transposer'!B5 -> 12044140028 | M5: ='msc transposer'!C5 -> 00000CVOVR1 | N5: ='msc transposer'!D5 -> 00000CVOVR1 | O5: ='msc transposer'!E5 -> 00000POITR1 | P5: ='msc transposer'!F5 -> 00000POITR1 | Q5: ='msc transposer'!G5 -> 00000CVOVR1 | R5: ='msc transposer'!H5 -> 49S9598001 | ... T5: ='msc transposer'!J5 -> 00000POITR1
K6: ='msc transposer'!A6 -> LPP | L6: ='msc transposer'!B6 -> 54420120020 | M6: ='msc transposer'!C6 -> 00000CVOVM1 | N6: ='msc transposer'!D6 -> 00000CVOVM1 | O6: ='msc transposer'!E6 -> 00000POITM1 | P6: ='msc transposer'!F6 -> 00000POITM1 | Q6: ='msc transposer'!G6 -> 00000CVOVM1 | R6: ='msc transposer'!H6 -> 4992498091 | ... T6: ='msc transposer'!J6 -> 00000POITM1
K7: ='msc transposer'!A7 -> MOrO | L7: ='msc transposer'!B7 -> 20110010018 | M7: ='msc transposer'!C7 -> 8502001012 | N7: ='msc transposer'!D7 -> 00000CVOVR1 | O7: ='msc transposer'!E7 -> 00000POITR1 | P7: ='msc transposer'!F7 -> 15228110050 | Q7: ='msc transposer'!G7 -> 8028208021 | R7: ='msc transposer'!H7 -> 00000POITR1 | ... T7: ='msc transposer'!J7 -> 4112804015
K8: ='msc transposer'!A8 -> pOrO | L8: ='msc transposer'!B8 -> 12044100088 | M8: ='msc transposer'!C8 -> 1419000881 | N8: ='msc transposer'!D8 -> 00000CVOVM1 | O8: ='msc transposer'!E8 -> 00000POITM1 | P8: ='msc transposer'!F8 -> 15228110028 | Q8: ='msc transposer'!G8 -> 8402809010 | R8: ='msc transposer'!H8 -> 49S9592184 | ... T8: ='msc transposer'!J8 -> 00000POITM1
K9: ='msc transposer'!A9 -> SOxO | L9: ='msc transposer'!B9 -> 1 | M9: ='msc transposer'!C9 -> 1 | N9: ='msc transposer'!D9 -> 1 | O9: ='msc transposer'!E9 -> 1 | P9: ='msc transposer'!F9 -> 1 | Q9: ='msc transposer'!G9 -> 1 | R9: ='msc transposer'!H9 -> 1 | ... T9: ='msc transposer'!J9 -> 1
A10: NRissOur | B10: N° élOvOur | C10: Lmm.N° RnimRl | D10: Lpm.N° RnimRl | E10: Lmp.N° RnimRl | F10: Lpp.N° RnimRl | G10: mOrO.N° RnimRl | H10: pOrO.N° RnimRl | I10: SOxO | J10: RnimRl.N° RnimRl | K10: animal.N° animal | L10: ='msc transposer'!B10 -> 201100tOst1 | M10: ='msc transposer'!C10 -> 8502002025 | N10: ='msc transposer'!D10 -> 8402809010 | O10: ='msc transposer'!E10 -> 15228110028 | P10: ='msc transposer'!F10 -> 15228180125 | Q10: ='msc transposer'!G10 -> 15228110021 | R10: ='msc transposer'!H10 -> 2815920012 | S10: ='msc transposer'!I10 -> 54248180008 | T10: ='msc transposer'!J10 -> 54248120001
A11: =VLOOKUP(C11,élOvOur!$A$1:$D$199,3,FALSE) -> #N/A | B11: =Fim!A2 -> RIMO | C11: =Fim!B2 -> 28284001 | D11: =Fim!C2 -> 8248008082 | E11: =Fim!D2 -> 4112808202 | F11: =Fim!E2 -> 1410402008 | G11: =Fim!F2 -> 1410408015 | H11: =Fim!G2 -> 8248002081 | I11: =Fim!H2 -> 1410409021 | ... K11: =Fim!J2 -> 22485811022 | L11: =IF($K11=L$10,"Ind/Ind",IF($K11=L$8,"Ind/Père",IF($K11=L$6,"Ind/GPP",IF($K11=L$4,"Ind/GPM",IF($K11=L$7,"Ind/Mère",IF($K11=L$5,"Ind/GMP",IF($K11=L$3,"Ind/GMM",IF($I11=L$10,"Père/Ind",IF($I11=L$8,"Père/Père",IF($I11=L$6,"Père/GPP",IF($I11=L$4,"Père/GPM",IF($H11=L$10,"Mère/Ind",IF($H11=L$7,"Mère/Mère",IF($H11=L$5,"Mère/GMP",IF($H11=L$3,"Mère/GMM",IF($G11=L$10,"GPP/Ind",IF($G11=L$8,"GPP/Père",IF($G11=L$6,"GPP/GPP",IF($G11=L$4,"GPP/GPM","")))))))))))))))))))&IF($F11=L$10,"GMP/Ind",IF($F11=L$7,"GMP/Mère",IF($F11=L$5,"GMP/GMP",IF($F11=L$3,"GMP/GMM",IF($E11=L$10,"GPM/Ind",IF($E11=L$8,"GPM/Père",IF($E11=L$6,"GPM/GPP",IF($E11=L$4,"GPM/GPM",IF($D11=L$10,"GMM/Ind",IF($D11=L$7,"GMM/Mère",IF($D11=L$5,"GMM/GMP",IF($D11=L$3,"GMM/GMM","")))))))))))) | M11: =IF($K11=M$10,"Ind/Ind",IF($K11=M$8,"Ind/Père",IF($K11=M$6,"Ind/GPP",IF($K11=M$4,"Ind/GPM",IF($K11=M$7,"Ind/Mère",IF($K11=M$5,"Ind/GMP",IF($K11=M$3,"Ind/GMM",IF($I11=M$10,"Père/Ind",IF($I11=M$8,"Père/Père",IF($I11=M$6,"Père/GPP",IF($I11=M$4,"Père/GPM",IF($H11=M$10,"Mère/Ind",IF($H11=M$7,"Mère/Mère",IF($H11=M$5,"Mère/GMP",IF($H11=M$3,"Mère/GMM",IF($G11=M$10,"GPP/Ind",IF($G11=M$8,"GPP/Père",IF($G11=M$6,"GPP/GPP",IF($G11=M$4,"GPP/GPM","")))))))))))))))))))&IF($F11=M$10,"GMP/Ind",IF($F11=M$7,"GMP/Mère",IF($F11=M$5,"GMP/GMP",IF($F11=M$3,"GMP/GMM",IF($E11=M$10,"GPM/Ind",IF($E11=M$8,"GPM/Père",IF($E11=M$6,"GPM/GPP",IF($E11=M$4,"GPM/GPM",IF($D11=M$10,"GMM/Ind",IF($D11=M$7,"GMM/Mère",IF($D11=M$5,"GMM/GMP",IF($D11=M$3,"GMM/GMM","")))))))))))) | N11: =IF($K11=N$10,"Ind/Ind",IF($K11=N$8,"Ind/Père",IF($K11=N$6,"Ind/GPP",IF($K11=N$4,"Ind/GPM",IF($K11=N$7,"Ind/Mère",IF($K11=N$5,"Ind/GMP",IF($K11=N$3,"Ind/GMM",IF($I11=N$10,"Père/Ind",IF($I11=N$8,"Père/Père",IF($I11=N$6,"Père/GPP",IF($I11=N$4,"Père/GPM",IF($H11=N$10,"Mère/Ind",IF($H11=N$7,"Mère/Mère",IF($H11=N$5,"Mère/GMP",IF($H11=N$3,"Mère/GMM",IF($G11=N$10,"GPP/Ind",IF($G11=N$8,"GPP/Père",IF($G11=N$6,"GPP/GPP",IF($G11=N$4,"GPP/GPM","")))))))))))))))))))&IF($F11=N$10,"GMP/Ind",IF($F11=N$7,"GMP/Mère",IF($F11=N$5,"GMP/GMP",IF($F11=N$3,"GMP/GMM",IF($E11=N$10,"GPM/Ind",IF($E11=N$8,"GPM/Père",IF($E11=N$6,"GPM/GPP",IF($E11=N$4,"GPM/GPM",IF($D11=N$10,"GMM/Ind",IF($D11=N$7,"GMM/Mère",IF($D11=N$5,"GMM/GMP",IF($D11=N$3,"GMM/GMM","")))))))))))) | O11: =IF($K11=O$10,"Ind/Ind",IF($K11=O$8,"Ind/Père",IF($K11=O$6,"Ind/GPP",IF($K11=O$4,"Ind/GPM",IF($K11=O$7,"Ind/Mère",IF($K11=O$5,"Ind/GMP",IF($K11=O$3,"Ind/GMM",IF($I11=O$10,"Père/Ind",IF($I11=O$8,"Père/Père",IF($I11=O$6,"Père/GPP",IF($I11=O$4,"Père/GPM",IF($H11=O$10,"Mère/Ind",IF($H11=O$7,"Mère/Mère",IF($H11=O$5,"Mère/GMP",IF($H11=O$3,"Mère/GMM",IF($G11=O$10,"GPP/Ind",IF($G11=O$8,"GPP/Père",IF($G11=O$6,"GPP/GPP",IF($G11=O$4,"GPP/GPM","")))))))))))))))))))&IF($F11=O$10,"GMP/Ind",IF($F11=O$7,"GMP/Mère",IF($F11=O$5,"GMP/GMP",IF($F11=O$3,"GMP/GMM",IF($E11=O$10,"GPM/Ind",IF($E11=O$8,"GPM/Père",IF($E11=O$6,"GPM/GPP",IF($E11=O$4,"GPM/GPM",IF($D11=O$10,"GMM/Ind",IF($D11=O$7,"GMM/Mère",IF($D11=O$5,"GMM/GMP",IF($D11=O$3,"GMM/GMM","")))))))))))) | P11: =IF($K11=P$10,"Ind/Ind",IF($K11=P$8,"Ind/Père",IF($K11=P$6,"Ind/GPP",IF($K11=P$4,"Ind/GPM",IF($K11=P$7,"Ind/Mère",IF($K11=P$5,"Ind/GMP",IF($K11=P$3,"Ind/GMM",IF($I11=P$10,"Père/Ind",IF($I11=P$8,"Père/Père",IF($I11=P$6,"Père/GPP",IF($I11=P$4,"Père/GPM",IF($H11=P$10,"Mère/Ind",IF($H11=P$7,"Mère/Mère",IF($H11=P$5,"Mère/GMP",IF($H11=P$3,"Mère/GMM",IF($G11=P$10,"GPP/Ind",IF($G11=P$8,"GPP/Père",IF($G11=P$6,"GPP/GPP",IF($G11=P$4,"GPP/GPM","")))))))))))))))))))&IF($F11=P$10,"GMP/Ind",IF($F11=P$7,"GMP/Mère",IF($F11=P$5,"GMP/GMP",IF($F11=P$3,"GMP/GMM",IF($E11=P$10,"GPM/Ind",IF($E11=P$8,"GPM/Père",IF($E11=P$6,"GPM/GPP",IF($E11=P$4,"GPM/GPM",IF($D11=P$10,"GMM/Ind",IF($D11=P$7,"GMM/Mère",IF($D11=P$5,"GMM/GMP",IF($D11=P$3,"GMM/GMM","")))))))))))) | Q11: =IF($K11=Q$10,"Ind/Ind",IF($K11=Q$8,"Ind/Père",IF($K11=Q$6,"Ind/GPP",IF($K11=Q$4,"Ind/GPM",IF($K11=Q$7,"Ind/Mère",IF($K11=Q$5,"Ind/GMP",IF($K11=Q$3,"Ind/GMM",IF($I11=Q$10,"Père/Ind",IF($I11=Q$8,"Père/Père",IF($I11=Q$6,"Père/GPP",IF($I11=Q$4,"Père/GPM",IF($H11=Q$10,"Mère/Ind",IF($H11=Q$7,"Mère/Mère",IF($H11=Q$5,"Mère/GMP",IF($H11=Q$3,"Mère/GMM",IF($G11=Q$10,"GPP/Ind",IF($G11=Q$8,"GPP/Père",IF($G11=Q$6,"GPP/GPP",IF($G11=Q$4,"GPP/GPM","")))))))))))))))))))&IF($F11=Q$10,"GMP/Ind",IF($F11=Q$7,"GMP/Mère",IF($F11=Q$5,"GMP/GMP",IF($F11=Q$3,"GMP/GMM",IF($E11=Q$10,"GPM/Ind",IF($E11=Q$8,"GPM/Père",IF($E11=Q$6,"GPM/GPP",IF($E11=Q$4,"GPM/GPM",IF($D11=Q$10,"GMM/Ind",IF($D11=Q$7,"GMM/Mère",IF($D11=Q$5,"GMM/GMP",IF($D11=Q$3,"GMM/GMM","")))))))))))) | R11: =IF($K11=R$10,"Ind/Ind",IF($K11=R$8,"Ind/Père",IF($K11=R$6,"Ind/GPP",IF($K11=R$4,"Ind/GPM",IF($K11=R$7,"Ind/Mère",IF($K11=R$5,"Ind/GMP",IF($K11=R$3,"Ind/GMM",IF($I11=R$10,"Père/Ind",IF($I11=R$8,"Père/Père",IF($I11=R$6,"Père/GPP",IF($I11=R$4,"Père/GPM",IF($H11=R$10,"Mère/Ind",IF($H11=R$7,"Mère/Mère",IF($H11=R$5,"Mère/GMP",IF($H11=R$3,"Mère/GMM",IF($G11=R$10,"GPP/Ind",IF($G11=R$8,"GPP/Père",IF($G11=R$6,"GPP/GPP",IF($G11=R$4,"GPP/GPM","")))))))))))))))))))&IF($F11=R$10,"GMP/Ind",IF($F11=R$7,"GMP/Mère",IF($F11=R$5,"GMP/GMP",IF($F11=R$3,"GMP/GMM",IF($E11=R$10,"GPM/Ind",IF($E11=R$8,"GPM/Père",IF($E11=R$6,"GPM/GPP",IF($E11=R$4,"GPM/GPM",IF($D11=R$10,"GMM/Ind",IF($D11=R$7,"GMM/Mère",IF($D11=R$5,"GMM/GMP",IF($D11=R$3,"GMM/GMM","")))))))))))) | S11: =IF($K11=S$10,"Ind/Ind",IF($K11=S$8,"Ind/Père",IF($K11=S$6,"Ind/GPP",IF($K11=S$4,"Ind/GPM",IF($K11=S$7,"Ind/Mère",IF($K11=S$5,"Ind/GMP",IF($K11=S$3,"Ind/GMM",IF($I11=S$10,"Père/Ind",IF($I11=S$8,"Père/Père",IF($I11=S$6,"Père/GPP",IF($I11=S$4,"Père/GPM",IF($H11=S$10,"Mère/Ind",IF($H11=S$7,"Mère/Mère",IF($H11=S$5,"Mère/GMP",IF($H11=S$3,"Mère/GMM",IF($G11=S$10,"GPP/Ind",IF($G11=S$8,"GPP/Père",IF($G11=S$6,"GPP/GPP",IF($G11=S$4,"GPP/GPM","")))))))))))))))))))&IF($F11=S$10,"GMP/Ind",IF($F11=S$7,"GMP/Mère",IF($F11=S$5,"GMP/GMP",IF($F11=S$3,"GMP/GMM",IF($E11=S$10,"GPM/Ind",IF($E11=S$8,"GPM/Père",IF($E11=S$6,"GPM/GPP",IF($E11=S$4,"GPM/GPM",IF($D11=S$10,"GMM/Ind",IF($D11=S$7,"GMM/Mère",IF($D11=S$5,"GMM/GMP",IF($D11=S$3,"GMM/GMM","")))))))))))) | T11: =IF($K11=T$10,"Ind/Ind",IF($K11=T$8,"Ind/Père",IF($K11=T$6,"Ind/GPP",IF($K11=T$4,"Ind/GPM",IF($K11=T$7,"Ind/Mère",IF($K11=T$5,"Ind/GMP",IF($K11=T$3,"Ind/GMM",IF($I11=T$10,"Père/Ind",IF($I11=T$8,"Père/Père",IF($I11=T$6,"Père/GPP",IF($I11=T$4,"Père/GPM",IF($H11=T$10,"Mère/Ind",IF($H11=T$7,"Mère/Mère",IF($H11=T$5,"Mère/GMP",IF($H11=T$3,"Mère/GMM",IF($G11=T$10,"GPP/Ind",IF($G11=T$8,"GPP/Père",IF($G11=T$6,"GPP/GPP",IF($G11=T$4,"GPP/GPM","")))))))))))))))))))&IF($F11=T$10,"GMP/Ind",IF($F11=T$7,"GMP/Mère",IF($F11=T$5,"GMP/GMP",IF($F11=T$3,"GMP/GMM",IF($E11=T$10,"GPM/Ind",IF($E11=T$8,"GPM/Père",IF($E11=T$6,"GPM/GPP",IF($E11=T$4,"GPM/GPM",IF($D11=T$10,"GMM/Ind",IF($D11=T$7,"GMM/Mère",IF($D11=T$5,"GMM/GMP",IF($D11=T$3,"GMM/GMM","")))))))))))) -> GPM/GPM
A12: =VLOOKUP(C12,élOvOur!$A$1:$D$199,3,FALSE) -> #N/A | B12: =Fim!A3 -> RIMO | C12: =Fim!B3 -> 28284001 | D12: =Fim!C3 -> 121800500- | E12: =Fim!D3 -> 1410402024 | F12: =Fim!E3 -> 1410402008 | G12: =Fim!F3 -> 1410408015 | H12: =Fim!G3 -> 1118000001 | I12: =Fim!H3 -> 1410409021 | ... K12: =Fim!J3 -> 22485811021 | L12: =IF(K12=L$10,"Ind/Ind",IF(K12=L$8,"Ind/Père",IF(K12=L$6,"Ind/GPP",IF(K12=L$4,"Ind/GPM",IF(K12=L$7,"Ind/Mère",IF(K12=L$5,"Ind/GMP",IF(K12=L$3,"Ind/GMM",IF(I12=L$10,"Père/Ind",IF(I12=L$8,"Père/Père",IF(I12=L$6,"Père/GPP",IF(I12=L$4,"Père/GPM",IF(H12=L$10,"Mère/Ind",IF(H12=L$7,"Mère/Mère",IF(H12=L$5,"Mère/GMP",IF(H12=L$3,"Mère/GMM",IF(G12=L$10,"GPP/Ind",IF(G12=L$8,"GPP/Père",IF(G12=L$6,"GPP/GPP",IF(G12=L$4,"GPP/GPM","")))))))))))))))))))&IF(F12=L$10,"GMP/Ind",IF(F12=L$7,"GMP/Mère",IF(F12=L$5,"GMP/GMP",IF(F12=L$3,"GMP/GMM",IF(E12=L$10,"GPM/Ind",IF(E12=L$8,"GPM/Père",IF(E12=L$6,"GPM/GPP",IF(E12=L$4,"GPM/GPM",IF(D12=L$10,"GMM/Ind",IF(D12=L$7,"GMM/Mère",IF(D12=L$5,"GMM/GMP",IF(D12=L$3,"GMM/GMM","")))))))))))) | M12: =IF($K12=M$10,"Ind/Ind",IF($K12=M$8,"Ind/Père",IF($K12=M$6,"Ind/GPP",IF($K12=M$4,"Ind/GPM",IF($K12=M$7,"Ind/Mère",IF($K12=M$5,"Ind/GMP",IF($K12=M$3,"Ind/GMM",IF($I12=M$10,"Père/Ind",IF($I12=M$8,"Père/Père",IF($I12=M$6,"Père/GPP",IF($I12=M$4,"Père/GPM",IF($H12=M$10,"Mère/Ind",IF($H12=M$7,"Mère/Mère",IF($H12=M$5,"Mère/GMP",IF($H12=M$3,"Mère/GMM",IF($G12=M$10,"GPP/Ind",IF($G12=M$8,"GPP/Père",IF($G12=M$6,"GPP/GPP",IF($G12=M$4,"GPP/GPM","")))))))))))))))))))&IF($F12=M$10,"GMP/Ind",IF($F12=M$7,"GMP/Mère",IF($F12=M$5,"GMP/GMP",IF($F12=M$3,"GMP/GMM",IF($E12=M$10,"GPM/Ind",IF($E12=M$8,"GPM/Père",IF($E12=M$6,"GPM/GPP",IF($E12=M$4,"GPM/GPM",IF($D12=M$10,"GMM/Ind",IF($D12=M$7,"GMM/Mère",IF($D12=M$5,"GMM/GMP",IF($D12=M$3,"GMM/GMM","")))))))))))) | N12: =IF($K12=N$10,"Ind/Ind",IF($K12=N$8,"Ind/Père",IF($K12=N$6,"Ind/GPP",IF($K12=N$4,"Ind/GPM",IF($K12=N$7,"Ind/Mère",IF($K12=N$5,"Ind/GMP",IF($K12=N$3,"Ind/GMM",IF($I12=N$10,"Père/Ind",IF($I12=N$8,"Père/Père",IF($I12=N$6,"Père/GPP",IF($I12=N$4,"Père/GPM",IF($H12=N$10,"Mère/Ind",IF($H12=N$7,"Mère/Mère",IF($H12=N$5,"Mère/GMP",IF($H12=N$3,"Mère/GMM",IF($G12=N$10,"GPP/Ind",IF($G12=N$8,"GPP/Père",IF($G12=N$6,"GPP/GPP",IF($G12=N$4,"GPP/GPM","")))))))))))))))))))&IF($F12=N$10,"GMP/Ind",IF($F12=N$7,"GMP/Mère",IF($F12=N$5,"GMP/GMP",IF($F12=N$3,"GMP/GMM",IF($E12=N$10,"GPM/Ind",IF($E12=N$8,"GPM/Père",IF($E12=N$6,"GPM/GPP",IF($E12=N$4,"GPM/GPM",IF($D12=N$10,"GMM/Ind",IF($D12=N$7,"GMM/Mère",IF($D12=N$5,"GMM/GMP",IF($D12=N$3,"GMM/GMM","")))))))))))) | O12: =IF($K12=O$10,"Ind/Ind",IF($K12=O$8,"Ind/Père",IF($K12=O$6,"Ind/GPP",IF($K12=O$4,"Ind/GPM",IF($K12=O$7,"Ind/Mère",IF($K12=O$5,"Ind/GMP",IF($K12=O$3,"Ind/GMM",IF($I12=O$10,"Père/Ind",IF($I12=O$8,"Père/Père",IF($I12=O$6,"Père/GPP",IF($I12=O$4,"Père/GPM",IF($H12=O$10,"Mère/Ind",IF($H12=O$7,"Mère/Mère",IF($H12=O$5,"Mère/GMP",IF($H12=O$3,"Mère/GMM",IF($G12=O$10,"GPP/Ind",IF($G12=O$8,"GPP/Père",IF($G12=O$6,"GPP/GPP",IF($G12=O$4,"GPP/GPM","")))))))))))))))))))&IF($F12=O$10,"GMP/Ind",IF($F12=O$7,"GMP/Mère",IF($F12=O$5,"GMP/GMP",IF($F12=O$3,"GMP/GMM",IF($E12=O$10,"GPM/Ind",IF($E12=O$8,"GPM/Père",IF($E12=O$6,"GPM/GPP",IF($E12=O$4,"GPM/GPM",IF($D12=O$10,"GMM/Ind",IF($D12=O$7,"GMM/Mère",IF($D12=O$5,"GMM/GMP",IF($D12=O$3,"GMM/GMM","")))))))))))) | P12: =IF($K12=P$10,"Ind/Ind",IF($K12=P$8,"Ind/Père",IF($K12=P$6,"Ind/GPP",IF($K12=P$4,"Ind/GPM",IF($K12=P$7,"Ind/Mère",IF($K12=P$5,"Ind/GMP",IF($K12=P$3,"Ind/GMM",IF($I12=P$10,"Père/Ind",IF($I12=P$8,"Père/Père",IF($I12=P$6,"Père/GPP",IF($I12=P$4,"Père/GPM",IF($H12=P$10,"Mère/Ind",IF($H12=P$7,"Mère/Mère",IF($H12=P$5,"Mère/GMP",IF($H12=P$3,"Mère/GMM",IF($G12=P$10,"GPP/Ind",IF($G12=P$8,"GPP/Père",IF($G12=P$6,"GPP/GPP",IF($G12=P$4,"GPP/GPM","")))))))))))))))))))&IF($F12=P$10,"GMP/Ind",IF($F12=P$7,"GMP/Mère",IF($F12=P$5,"GMP/GMP",IF($F12=P$3,"GMP/GMM",IF($E12=P$10,"GPM/Ind",IF($E12=P$8,"GPM/Père",IF($E12=P$6,"GPM/GPP",IF($E12=P$4,"GPM/GPM",IF($D12=P$10,"GMM/Ind",IF($D12=P$7,"GMM/Mère",IF($D12=P$5,"GMM/GMP",IF($D12=P$3,"GMM/GMM","")))))))))))) | Q12: =IF($K12=Q$10,"Ind/Ind",IF($K12=Q$8,"Ind/Père",IF($K12=Q$6,"Ind/GPP",IF($K12=Q$4,"Ind/GPM",IF($K12=Q$7,"Ind/Mère",IF($K12=Q$5,"Ind/GMP",IF($K12=Q$3,"Ind/GMM",IF($I12=Q$10,"Père/Ind",IF($I12=Q$8,"Père/Père",IF($I12=Q$6,"Père/GPP",IF($I12=Q$4,"Père/GPM",IF($H12=Q$10,"Mère/Ind",IF($H12=Q$7,"Mère/Mère",IF($H12=Q$5,"Mère/GMP",IF($H12=Q$3,"Mère/GMM",IF($G12=Q$10,"GPP/Ind",IF($G12=Q$8,"GPP/Père",IF($G12=Q$6,"GPP/GPP",IF($G12=Q$4,"GPP/GPM","")))))))))))))))))))&IF($F12=Q$10,"GMP/Ind",IF($F12=Q$7,"GMP/Mère",IF($F12=Q$5,"GMP/GMP",IF($F12=Q$3,"GMP/GMM",IF($E12=Q$10,"GPM/Ind",IF($E12=Q$8,"GPM/Père",IF($E12=Q$6,"GPM/GPP",IF($E12=Q$4,"GPM/GPM",IF($D12=Q$10,"GMM/Ind",IF($D12=Q$7,"GMM/Mère",IF($D12=Q$5,"GMM/GMP",IF($D12=Q$3,"GMM/GMM","")))))))))))) | R12: =IF($K12=R$10,"Ind/Ind",IF($K12=R$8,"Ind/Père",IF($K12=R$6,"Ind/GPP",IF($K12=R$4,"Ind/GPM",IF($K12=R$7,"Ind/Mère",IF($K12=R$5,"Ind/GMP",IF($K12=R$3,"Ind/GMM",IF($I12=R$10,"Père/Ind",IF($I12=R$8,"Père/Père",IF($I12=R$6,"Père/GPP",IF($I12=R$4,"Père/GPM",IF($H12=R$10,"Mère/Ind",IF($H12=R$7,"Mère/Mère",IF($H12=R$5,"Mère/GMP",IF($H12=R$3,"Mère/GMM",IF($G12=R$10,"GPP/Ind",IF($G12=R$8,"GPP/Père",IF($G12=R$6,"GPP/GPP",IF($G12=R$4,"GPP/GPM","")))))))))))))))))))&IF($F12=R$10,"GMP/Ind",IF($F12=R$7,"GMP/Mère",IF($F12=R$5,"GMP/GMP",IF($F12=R$3,"GMP/GMM",IF($E12=R$10,"GPM/Ind",IF($E12=R$8,"GPM/Père",IF($E12=R$6,"GPM/GPP",IF($E12=R$4,"GPM/GPM",IF($D12=R$10,"GMM/Ind",IF($D12=R$7,"GMM/Mère",IF($D12=R$5,"GMM/GMP",IF($D12=R$3,"GMM/GMM","")))))))))))) | S12: =IF($K12=S$10,"Ind/Ind",IF($K12=S$8,"Ind/Père",IF($K12=S$6,"Ind/GPP",IF($K12=S$4,"Ind/GPM",IF($K12=S$7,"Ind/Mère",IF($K12=S$5,"Ind/GMP",IF($K12=S$3,"Ind/GMM",IF($I12=S$10,"Père/Ind",IF($I12=S$8,"Père/Père",IF($I12=S$6,"Père/GPP",IF($I12=S$4,"Père/GPM",IF($H12=S$10,"Mère/Ind",IF($H12=S$7,"Mère/Mère",IF($H12=S$5,"Mère/GMP",IF($H12=S$3,"Mère/GMM",IF($G12=S$10,"GPP/Ind",IF($G12=S$8,"GPP/Père",IF($G12=S$6,"GPP/GPP",IF($G12=S$4,"GPP/GPM","")))))))))))))))))))&IF($F12=S$10,"GMP/Ind",IF($F12=S$7,"GMP/Mère",IF($F12=S$5,"GMP/GMP",IF($F12=S$3,"GMP/GMM",IF($E12=S$10,"GPM/Ind",IF($E12=S$8,"GPM/Père",IF($E12=S$6,"GPM/GPP",IF($E12=S$4,"GPM/GPM",IF($D12=S$10,"GMM/Ind",IF($D12=S$7,"GMM/Mère",IF($D12=S$5,"GMM/GMP",IF($D12=S$3,"GMM/GMM","")))))))))))) | T12: =IF($K12=T$10,"Ind/Ind",IF($K12=T$8,"Ind/Père",IF($K12=T$6,"Ind/GPP",IF($K12=T$4,"Ind/GPM",IF($K12=T$7,"Ind/Mère",IF($K12=T$5,"Ind/GMP",IF($K12=T$3,"Ind/GMM",IF($I12=T$10,"Père/Ind",IF($I12=T$8,"Père/Père",IF($I12=T$6,"Père/GPP",IF($I12=T$4,"Père/GPM",IF($H12=T$10,"Mère/Ind",IF($H12=T$7,"Mère/Mère",IF($H12=T$5,"Mère/GMP",IF($H12=T$3,"Mère/GMM",IF($G12=T$10,"GPP/Ind",IF($G12=T$8,"GPP/Père",IF($G12=T$6,"GPP/GPP",IF($G12=T$4,"GPP/GPM","")))))))))))))))))))&IF($F12=T$10,"GMP/Ind",IF($F12=T$7,"GMP/Mère",IF($F12=T$5,"GMP/GMP",IF($F12=T$3,"GMP/GMM",IF($E12=T$10,"GPM/Ind",IF($E12=T$8,"GPM/Père",IF($E12=T$6,"GPM/GPP",IF($E12=T$4,"GPM/GPM",IF($D12=T$10,"GMM/Ind",IF($D12=T$7,"GMM/Mère",IF($D12=T$5,"GMM/GMP",IF($D12=T$3,"GMM/GMM",""))))))))))))
A13: =VLOOKUP(C13,élOvOur!$A$1:$D$199,3,FALSE) -> #N/A | B13: =Fim!A4 -> RIMO | C13: =Fim!B4 -> 28284001 | D13: =Fim!C4 -> 8248005010 | E13: =Fim!D4 -> 8248005011 | F13: =Fim!E4 -> 4112801004 | G13: =Fim!F4 -> 49S9598121 | H13: =Fim!G4 -> 8248002012 | I13: =Fim!H4 -> 8202104058 | ... K13: =Fim!J4 -> 22485800002 | L13: =IF(K13=L$10,"Ind/Ind",IF(K13=L$8,"Ind/Père",IF(K13=L$6,"Ind/GPP",IF(K13=L$4,"Ind/GPM",IF(K13=L$7,"Ind/Mère",IF(K13=L$5,"Ind/GMP",IF(K13=L$3,"Ind/GMM",IF(I13=L$10,"Père/Ind",IF(I13=L$8,"Père/Père",IF(I13=L$6,"Père/GPP",IF(I13=L$4,"Père/GPM",IF(H13=L$10,"Mère/Ind",IF(H13=L$7,"Mère/Mère",IF(H13=L$5,"Mère/GMP",IF(H13=L$3,"Mère/GMM",IF(G13=L$10,"GPP/Ind",IF(G13=L$8,"GPP/Père",IF(G13=L$6,"GPP/GPP",IF(G13=L$4,"GPP/GPM","")))))))))))))))))))&IF(F13=L$10,"GMP/Ind",IF(F13=L$7,"GMP/Mère",IF(F13=L$5,"GMP/GMP",IF(F13=L$3,"GMP/GMM",IF(E13=L$10,"GPM/Ind",IF(E13=L$8,"GPM/Père",IF(E13=L$6,"GPM/GPP",IF(E13=L$4,"GPM/GPM",IF(D13=L$10,"GMM/Ind",IF(D13=L$7,"GMM/Mère",IF(D13=L$5,"GMM/GMP",IF(D13=L$3,"GMM/GMM","")))))))))))) | M13: =IF($K13=M$10,"Ind/Ind",IF($K13=M$8,"Ind/Père",IF($K13=M$6,"Ind/GPP",IF($K13=M$4,"Ind/GPM",IF($K13=M$7,"Ind/Mère",IF($K13=M$5,"Ind/GMP",IF($K13=M$3,"Ind/GMM",IF($I13=M$10,"Père/Ind",IF($I13=M$8,"Père/Père",IF($I13=M$6,"Père/GPP",IF($I13=M$4,"Père/GPM",IF($H13=M$10,"Mère/Ind",IF($H13=M$7,"Mère/Mère",IF($H13=M$5,"Mère/GMP",IF($H13=M$3,"Mère/GMM",IF($G13=M$10,"GPP/Ind",IF($G13=M$8,"GPP/Père",IF($G13=M$6,"GPP/GPP",IF($G13=M$4,"GPP/GPM","")))))))))))))))))))&IF($F13=M$10,"GMP/Ind",IF($F13=M$7,"GMP/Mère",IF($F13=M$5,"GMP/GMP",IF($F13=M$3,"GMP/GMM",IF($E13=M$10,"GPM/Ind",IF($E13=M$8,"GPM/Père",IF($E13=M$6,"GPM/GPP",IF($E13=M$4,"GPM/GPM",IF($D13=M$10,"GMM/Ind",IF($D13=M$7,"GMM/Mère",IF($D13=M$5,"GMM/GMP",IF($D13=M$3,"GMM/GMM","")))))))))))) | N13: =IF($K13=N$10,"Ind/Ind",IF($K13=N$8,"Ind/Père",IF($K13=N$6,"Ind/GPP",IF($K13=N$4,"Ind/GPM",IF($K13=N$7,"Ind/Mère",IF($K13=N$5,"Ind/GMP",IF($K13=N$3,"Ind/GMM",IF($I13=N$10,"Père/Ind",IF($I13=N$8,"Père/Père",IF($I13=N$6,"Père/GPP",IF($I13=N$4,"Père/GPM",IF($H13=N$10,"Mère/Ind",IF($H13=N$7,"Mère/Mère",IF($H13=N$5,"Mère/GMP",IF($H13=N$3,"Mère/GMM",IF($G13=N$10,"GPP/Ind",IF($G13=N$8,"GPP/Père",IF($G13=N$6,"GPP/GPP",IF($G13=N$4,"GPP/GPM","")))))))))))))))))))&IF($F13=N$10,"GMP/Ind",IF($F13=N$7,"GMP/Mère",IF($F13=N$5,"GMP/GMP",IF($F13=N$3,"GMP/GMM",IF($E13=N$10,"GPM/Ind",IF($E13=N$8,"GPM/Père",IF($E13=N$6,"GPM/GPP",IF($E13=N$4,"GPM/GPM",IF($D13=N$10,"GMM/Ind",IF($D13=N$7,"GMM/Mère",IF($D13=N$5,"GMM/GMP",IF($D13=N$3,"GMM/GMM","")))))))))))) | O13: =IF($K13=O$10,"Ind/Ind",IF($K13=O$8,"Ind/Père",IF($K13=O$6,"Ind/GPP",IF($K13=O$4,"Ind/GPM",IF($K13=O$7,"Ind/Mère",IF($K13=O$5,"Ind/GMP",IF($K13=O$3,"Ind/GMM",IF($I13=O$10,"Père/Ind",IF($I13=O$8,"Père/Père",IF($I13=O$6,"Père/GPP",IF($I13=O$4,"Père/GPM",IF($H13=O$10,"Mère/Ind",IF($H13=O$7,"Mère/Mère",IF($H13=O$5,"Mère/GMP",IF($H13=O$3,"Mère/GMM",IF($G13=O$10,"GPP/Ind",IF($G13=O$8,"GPP/Père",IF($G13=O$6,"GPP/GPP",IF($G13=O$4,"GPP/GPM","")))))))))))))))))))&IF($F13=O$10,"GMP/Ind",IF($F13=O$7,"GMP/Mère",IF($F13=O$5,"GMP/GMP",IF($F13=O$3,"GMP/GMM",IF($E13=O$10,"GPM/Ind",IF($E13=O$8,"GPM/Père",IF($E13=O$6,"GPM/GPP",IF($E13=O$4,"GPM/GPM",IF($D13=O$10,"GMM/Ind",IF($D13=O$7,"GMM/Mère",IF($D13=O$5,"GMM/GMP",IF($D13=O$3,"GMM/GMM","")))))))))))) | P13: =IF($K13=P$10,"Ind/Ind",IF($K13=P$8,"Ind/Père",IF($K13=P$6,"Ind/GPP",IF($K13=P$4,"Ind/GPM",IF($K13=P$7,"Ind/Mère",IF($K13=P$5,"Ind/GMP",IF($K13=P$3,"Ind/GMM",IF($I13=P$10,"Père/Ind",IF($I13=P$8,"Père/Père",IF($I13=P$6,"Père/GPP",IF($I13=P$4,"Père/GPM",IF($H13=P$10,"Mère/Ind",IF($H13=P$7,"Mère/Mère",IF($H13=P$5,"Mère/GMP",IF($H13=P$3,"Mère/GMM",IF($G13=P$10,"GPP/Ind",IF($G13=P$8,"GPP/Père",IF($G13=P$6,"GPP/GPP",IF($G13=P$4,"GPP/GPM","")))))))))))))))))))&IF($F13=P$10,"GMP/Ind",IF($F13=P$7,"GMP/Mère",IF($F13=P$5,"GMP/GMP",IF($F13=P$3,"GMP/GMM",IF($E13=P$10,"GPM/Ind",IF($E13=P$8,"GPM/Père",IF($E13=P$6,"GPM/GPP",IF($E13=P$4,"GPM/GPM",IF($D13=P$10,"GMM/Ind",IF($D13=P$7,"GMM/Mère",IF($D13=P$5,"GMM/GMP",IF($D13=P$3,"GMM/GMM","")))))))))))) | Q13: =IF($K13=Q$10,"Ind/Ind",IF($K13=Q$8,"Ind/Père",IF($K13=Q$6,"Ind/GPP",IF($K13=Q$4,"Ind/GPM",IF($K13=Q$7,"Ind/Mère",IF($K13=Q$5,"Ind/GMP",IF($K13=Q$3,"Ind/GMM",IF($I13=Q$10,"Père/Ind",IF($I13=Q$8,"Père/Père",IF($I13=Q$6,"Père/GPP",IF($I13=Q$4,"Père/GPM",IF($H13=Q$10,"Mère/Ind",IF($H13=Q$7,"Mère/Mère",IF($H13=Q$5,"Mère/GMP",IF($H13=Q$3,"Mère/GMM",IF($G13=Q$10,"GPP/Ind",IF($G13=Q$8,"GPP/Père",IF($G13=Q$6,"GPP/GPP",IF($G13=Q$4,"GPP/GPM","")))))))))))))))))))&IF($F13=Q$10,"GMP/Ind",IF($F13=Q$7,"GMP/Mère",IF($F13=Q$5,"GMP/GMP",IF($F13=Q$3,"GMP/GMM",IF($E13=Q$10,"GPM/Ind",IF($E13=Q$8,"GPM/Père",IF($E13=Q$6,"GPM/GPP",IF($E13=Q$4,"GPM/GPM",IF($D13=Q$10,"GMM/Ind",IF($D13=Q$7,"GMM/Mère",IF($D13=Q$5,"GMM/GMP",IF($D13=Q$3,"GMM/GMM","")))))))))))) | R13: =IF($K13=R$10,"Ind/Ind",IF($K13=R$8,"Ind/Père",IF($K13=R$6,"Ind/GPP",IF($K13=R$4,"Ind/GPM",IF($K13=R$7,"Ind/Mère",IF($K13=R$5,"Ind/GMP",IF($K13=R$3,"Ind/GMM",IF($I13=R$10,"Père/Ind",IF($I13=R$8,"Père/Père",IF($I13=R$6,"Père/GPP",IF($I13=R$4,"Père/GPM",IF($H13=R$10,"Mère/Ind",IF($H13=R$7,"Mère/Mère",IF($H13=R$5,"Mère/GMP",IF($H13=R$3,"Mère/GMM",IF($G13=R$10,"GPP/Ind",IF($G13=R$8,"GPP/Père",IF($G13=R$6,"GPP/GPP",IF($G13=R$4,"GPP/GPM","")))))))))))))))))))&IF($F13=R$10,"GMP/Ind",IF($F13=R$7,"GMP/Mère",IF($F13=R$5,"GMP/GMP",IF($F13=R$3,"GMP/GMM",IF($E13=R$10,"GPM/Ind",IF($E13=R$8,"GPM/Père",IF($E13=R$6,"GPM/GPP",IF($E13=R$4,"GPM/GPM",IF($D13=R$10,"GMM/Ind",IF($D13=R$7,"GMM/Mère",IF($D13=R$5,"GMM/GMP",IF($D13=R$3,"GMM/GMM","")))))))))))) | S13: =IF($K13=S$10,"Ind/Ind",IF($K13=S$8,"Ind/Père",IF($K13=S$6,"Ind/GPP",IF($K13=S$4,"Ind/GPM",IF($K13=S$7,"Ind/Mère",IF($K13=S$5,"Ind/GMP",IF($K13=S$3,"Ind/GMM",IF($I13=S$10,"Père/Ind",IF($I13=S$8,"Père/Père",IF($I13=S$6,"Père/GPP",IF($I13=S$4,"Père/GPM",IF($H13=S$10,"Mère/Ind",IF($H13=S$7,"Mère/Mère",IF($H13=S$5,"Mère/GMP",IF($H13=S$3,"Mère/GMM",IF($G13=S$10,"GPP/Ind",IF($G13=S$8,"GPP/Père",IF($G13=S$6,"GPP/GPP",IF($G13=S$4,"GPP/GPM","")))))))))))))))))))&IF($F13=S$10,"GMP/Ind",IF($F13=S$7,"GMP/Mère",IF($F13=S$5,"GMP/GMP",IF($F13=S$3,"GMP/GMM",IF($E13=S$10,"GPM/Ind",IF($E13=S$8,"GPM/Père",IF($E13=S$6,"GPM/GPP",IF($E13=S$4,"GPM/GPM",IF($D13=S$10,"GMM/Ind",IF($D13=S$7,"GMM/Mère",IF($D13=S$5,"GMM/GMP",IF($D13=S$3,"GMM/GMM","")))))))))))) | T13: =IF($K13=T$10,"Ind/Ind",IF($K13=T$8,"Ind/Père",IF($K13=T$6,"Ind/GPP",IF($K13=T$4,"Ind/GPM",IF($K13=T$7,"Ind/Mère",IF($K13=T$5,"Ind/GMP",IF($K13=T$3,"Ind/GMM",IF($I13=T$10,"Père/Ind",IF($I13=T$8,"Père/Père",IF($I13=T$6,"Père/GPP",IF($I13=T$4,"Père/GPM",IF($H13=T$10,"Mère/Ind",IF($H13=T$7,"Mère/Mère",IF($H13=T$5,"Mère/GMP",IF($H13=T$3,"Mère/GMM",IF($G13=T$10,"GPP/Ind",IF($G13=T$8,"GPP/Père",IF($G13=T$6,"GPP/GPP",IF($G13=T$4,"GPP/GPM","")))))))))))))))))))&IF($F13=T$10,"GMP/Ind",IF($F13=T$7,"GMP/Mère",IF($F13=T$5,"GMP/GMP",IF($F13=T$3,"GMP/GMM",IF($E13=T$10,"GPM/Ind",IF($E13=T$8,"GPM/Père",IF($E13=T$6,"GPM/GPP",IF($E13=T$4,"GPM/GPM",IF($D13=T$10,"GMM/Ind",IF($D13=T$7,"GMM/Mère",IF($D13=T$5,"GMM/GMP",IF($D13=T$3,"GMM/GMM",""))))))))))))
A14: =VLOOKUP(C14,élOvOur!$A$1:$D$199,3,FALSE) -> #N/A | B14: =Fim!A5 -> RIMO | C14: =Fim!B5 -> 28284001 | D14: =Fim!C5 -> 8248001020 | E14: =Fim!D5 -> 4112808202 | F14: =Fim!E5 -> 4112801004 | G14: =Fim!F5 -> 49S9598121 | H14: =Fim!G5 -> 8248002001 | I14: =Fim!H5 -> 8202104058 | ... K14: =Fim!J5 -> 22485800008 | L14: =IF(K14=L$10,"Ind/Ind",IF(K14=L$8,"Ind/Père",IF(K14=L$6,"Ind/GPP",IF(K14=L$4,"Ind/GPM",IF(K14=L$7,"Ind/Mère",IF(K14=L$5,"Ind/GMP",IF(K14=L$3,"Ind/GMM",IF(I14=L$10,"Père/Ind",IF(I14=L$8,"Père/Père",IF(I14=L$6,"Père/GPP",IF(I14=L$4,"Père/GPM",IF(H14=L$10,"Mère/Ind",IF(H14=L$7,"Mère/Mère",IF(H14=L$5,"Mère/GMP",IF(H14=L$3,"Mère/GMM",IF(G14=L$10,"GPP/Ind",IF(G14=L$8,"GPP/Père",IF(G14=L$6,"GPP/GPP",IF(G14=L$4,"GPP/GPM","")))))))))))))))))))&IF(F14=L$10,"GMP/Ind",IF(F14=L$7,"GMP/Mère",IF(F14=L$5,"GMP/GMP",IF(F14=L$3,"GMP/GMM",IF(E14=L$10,"GPM/Ind",IF(E14=L$8,"GPM/Père",IF(E14=L$6,"GPM/GPP",IF(E14=L$4,"GPM/GPM",IF(D14=L$10,"GMM/Ind",IF(D14=L$7,"GMM/Mère",IF(D14=L$5,"GMM/GMP",IF(D14=L$3,"GMM/GMM","")))))))))))) | M14: =IF($K14=M$10,"Ind/Ind",IF($K14=M$8,"Ind/Père",IF($K14=M$6,"Ind/GPP",IF($K14=M$4,"Ind/GPM",IF($K14=M$7,"Ind/Mère",IF($K14=M$5,"Ind/GMP",IF($K14=M$3,"Ind/GMM",IF($I14=M$10,"Père/Ind",IF($I14=M$8,"Père/Père",IF($I14=M$6,"Père/GPP",IF($I14=M$4,"Père/GPM",IF($H14=M$10,"Mère/Ind",IF($H14=M$7,"Mère/Mère",IF($H14=M$5,"Mère/GMP",IF($H14=M$3,"Mère/GMM",IF($G14=M$10,"GPP/Ind",IF($G14=M$8,"GPP/Père",IF($G14=M$6,"GPP/GPP",IF($G14=M$4,"GPP/GPM","")))))))))))))))))))&IF($F14=M$10,"GMP/Ind",IF($F14=M$7,"GMP/Mère",IF($F14=M$5,"GMP/GMP",IF($F14=M$3,"GMP/GMM",IF($E14=M$10,"GPM/Ind",IF($E14=M$8,"GPM/Père",IF($E14=M$6,"GPM/GPP",IF($E14=M$4,"GPM/GPM",IF($D14=M$10,"GMM/Ind",IF($D14=M$7,"GMM/Mère",IF($D14=M$5,"GMM/GMP",IF($D14=M$3,"GMM/GMM","")))))))))))) | N14: =IF($K14=N$10,"Ind/Ind",IF($K14=N$8,"Ind/Père",IF($K14=N$6,"Ind/GPP",IF($K14=N$4,"Ind/GPM",IF($K14=N$7,"Ind/Mère",IF($K14=N$5,"Ind/GMP",IF($K14=N$3,"Ind/GMM",IF($I14=N$10,"Père/Ind",IF($I14=N$8,"Père/Père",IF($I14=N$6,"Père/GPP",IF($I14=N$4,"Père/GPM",IF($H14=N$10,"Mère/Ind",IF($H14=N$7,"Mère/Mère",IF($H14=N$5,"Mère/GMP",IF($H14=N$3,"Mère/GMM",IF($G14=N$10,"GPP/Ind",IF($G14=N$8,"GPP/Père",IF($G14=N$6,"GPP/GPP",IF($G14=N$4,"GPP/GPM","")))))))))))))))))))&IF($F14=N$10,"GMP/Ind",IF($F14=N$7,"GMP/Mère",IF($F14=N$5,"GMP/GMP",IF($F14=N$3,"GMP/GMM",IF($E14=N$10,"GPM/Ind",IF($E14=N$8,"GPM/Père",IF($E14=N$6,"GPM/GPP",IF($E14=N$4,"GPM/GPM",IF($D14=N$10,"GMM/Ind",IF($D14=N$7,"GMM/Mère",IF($D14=N$5,"GMM/GMP",IF($D14=N$3,"GMM/GMM","")))))))))))) | O14: =IF($K14=O$10,"Ind/Ind",IF($K14=O$8,"Ind/Père",IF($K14=O$6,"Ind/GPP",IF($K14=O$4,"Ind/GPM",IF($K14=O$7,"Ind/Mère",IF($K14=O$5,"Ind/GMP",IF($K14=O$3,"Ind/GMM",IF($I14=O$10,"Père/Ind",IF($I14=O$8,"Père/Père",IF($I14=O$6,"Père/GPP",IF($I14=O$4,"Père/GPM",IF($H14=O$10,"Mère/Ind",IF($H14=O$7,"Mère/Mère",IF($H14=O$5,"Mère/GMP",IF($H14=O$3,"Mère/GMM",IF($G14=O$10,"GPP/Ind",IF($G14=O$8,"GPP/Père",IF($G14=O$6,"GPP/GPP",IF($G14=O$4,"GPP/GPM","")))))))))))))))))))&IF($F14=O$10,"GMP/Ind",IF($F14=O$7,"GMP/Mère",IF($F14=O$5,"GMP/GMP",IF($F14=O$3,"GMP/GMM",IF($E14=O$10,"GPM/Ind",IF($E14=O$8,"GPM/Père",IF($E14=O$6,"GPM/GPP",IF($E14=O$4,"GPM/GPM",IF($D14=O$10,"GMM/Ind",IF($D14=O$7,"GMM/Mère",IF($D14=O$5,"GMM/GMP",IF($D14=O$3,"GMM/GMM","")))))))))))) | P14: =IF($K14=P$10,"Ind/Ind",IF($K14=P$8,"Ind/Père",IF($K14=P$6,"Ind/GPP",IF($K14=P$4,"Ind/GPM",IF($K14=P$7,"Ind/Mère",IF($K14=P$5,"Ind/GMP",IF($K14=P$3,"Ind/GMM",IF($I14=P$10,"Père/Ind",IF($I14=P$8,"Père/Père",IF($I14=P$6,"Père/GPP",IF($I14=P$4,"Père/GPM",IF($H14=P$10,"Mère/Ind",IF($H14=P$7,"Mère/Mère",IF($H14=P$5,"Mère/GMP",IF($H14=P$3,"Mère/GMM",IF($G14=P$10,"GPP/Ind",IF($G14=P$8,"GPP/Père",IF($G14=P$6,"GPP/GPP",IF($G14=P$4,"GPP/GPM","")))))))))))))))))))&IF($F14=P$10,"GMP/Ind",IF($F14=P$7,"GMP/Mère",IF($F14=P$5,"GMP/GMP",IF($F14=P$3,"GMP/GMM",IF($E14=P$10,"GPM/Ind",IF($E14=P$8,"GPM/Père",IF($E14=P$6,"GPM/GPP",IF($E14=P$4,"GPM/GPM",IF($D14=P$10,"GMM/Ind",IF($D14=P$7,"GMM/Mère",IF($D14=P$5,"GMM/GMP",IF($D14=P$3,"GMM/GMM","")))))))))))) | Q14: =IF($K14=Q$10,"Ind/Ind",IF($K14=Q$8,"Ind/Père",IF($K14=Q$6,"Ind/GPP",IF($K14=Q$4,"Ind/GPM",IF($K14=Q$7,"Ind/Mère",IF($K14=Q$5,"Ind/GMP",IF($K14=Q$3,"Ind/GMM",IF($I14=Q$10,"Père/Ind",IF($I14=Q$8,"Père/Père",IF($I14=Q$6,"Père/GPP",IF($I14=Q$4,"Père/GPM",IF($H14=Q$10,"Mère/Ind",IF($H14=Q$7,"Mère/Mère",IF($H14=Q$5,"Mère/GMP",IF($H14=Q$3,"Mère/GMM",IF($G14=Q$10,"GPP/Ind",IF($G14=Q$8,"GPP/Père",IF($G14=Q$6,"GPP/GPP",IF($G14=Q$4,"GPP/GPM","")))))))))))))))))))&IF($F14=Q$10,"GMP/Ind",IF($F14=Q$7,"GMP/Mère",IF($F14=Q$5,"GMP/GMP",IF($F14=Q$3,"GMP/GMM",IF($E14=Q$10,"GPM/Ind",IF($E14=Q$8,"GPM/Père",IF($E14=Q$6,"GPM/GPP",IF($E14=Q$4,"GPM/GPM",IF($D14=Q$10,"GMM/Ind",IF($D14=Q$7,"GMM/Mère",IF($D14=Q$5,"GMM/GMP",IF($D14=Q$3,"GMM/GMM","")))))))))))) | R14: =IF($K14=R$10,"Ind/Ind",IF($K14=R$8,"Ind/Père",IF($K14=R$6,"Ind/GPP",IF($K14=R$4,"Ind/GPM",IF($K14=R$7,"Ind/Mère",IF($K14=R$5,"Ind/GMP",IF($K14=R$3,"Ind/GMM",IF($I14=R$10,"Père/Ind",IF($I14=R$8,"Père/Père",IF($I14=R$6,"Père/GPP",IF($I14=R$4,"Père/GPM",IF($H14=R$10,"Mère/Ind",IF($H14=R$7,"Mère/Mère",IF($H14=R$5,"Mère/GMP",IF($H14=R$3,"Mère/GMM",IF($G14=R$10,"GPP/Ind",IF($G14=R$8,"GPP/Père",IF($G14=R$6,"GPP/GPP",IF($G14=R$4,"GPP/GPM","")))))))))))))))))))&IF($F14=R$10,"GMP/Ind",IF($F14=R$7,"GMP/Mère",IF($F14=R$5,"GMP/GMP",IF($F14=R$3,"GMP/GMM",IF($E14=R$10,"GPM/Ind",IF($E14=R$8,"GPM/Père",IF($E14=R$6,"GPM/GPP",IF($E14=R$4,"GPM/GPM",IF($D14=R$10,"GMM/Ind",IF($D14=R$7,"GMM/Mère",IF($D14=R$5,"GMM/GMP",IF($D14=R$3,"GMM/GMM","")))))))))))) | S14: =IF($K14=S$10,"Ind/Ind",IF($K14=S$8,"Ind/Père",IF($K14=S$6,"Ind/GPP",IF($K14=S$4,"Ind/GPM",IF($K14=S$7,"Ind/Mère",IF($K14=S$5,"Ind/GMP",IF($K14=S$3,"Ind/GMM",IF($I14=S$10,"Père/Ind",IF($I14=S$8,"Père/Père",IF($I14=S$6,"Père/GPP",IF($I14=S$4,"Père/GPM",IF($H14=S$10,"Mère/Ind",IF($H14=S$7,"Mère/Mère",IF($H14=S$5,"Mère/GMP",IF($H14=S$3,"Mère/GMM",IF($G14=S$10,"GPP/Ind",IF($G14=S$8,"GPP/Père",IF($G14=S$6,"GPP/GPP",IF($G14=S$4,"GPP/GPM","")))))))))))))))))))&IF($F14=S$10,"GMP/Ind",IF($F14=S$7,"GMP/Mère",IF($F14=S$5,"GMP/GMP",IF($F14=S$3,"GMP/GMM",IF($E14=S$10,"GPM/Ind",IF($E14=S$8,"GPM/Père",IF($E14=S$6,"GPM/GPP",IF($E14=S$4,"GPM/GPM",IF($D14=S$10,"GMM/Ind",IF($D14=S$7,"GMM/Mère",IF($D14=S$5,"GMM/GMP",IF($D14=S$3,"GMM/GMM","")))))))))))) | T14: =IF($K14=T$10,"Ind/Ind",IF($K14=T$8,"Ind/Père",IF($K14=T$6,"Ind/GPP",IF($K14=T$4,"Ind/GPM",IF($K14=T$7,"Ind/Mère",IF($K14=T$5,"Ind/GMP",IF($K14=T$3,"Ind/GMM",IF($I14=T$10,"Père/Ind",IF($I14=T$8,"Père/Père",IF($I14=T$6,"Père/GPP",IF($I14=T$4,"Père/GPM",IF($H14=T$10,"Mère/Ind",IF($H14=T$7,"Mère/Mère",IF($H14=T$5,"Mère/GMP",IF($H14=T$3,"Mère/GMM",IF($G14=T$10,"GPP/Ind",IF($G14=T$8,"GPP/Père",IF($G14=T$6,"GPP/GPP",IF($G14=T$4,"GPP/GPM","")))))))))))))))))))&IF($F14=T$10,"GMP/Ind",IF($F14=T$7,"GMP/Mère",IF($F14=T$5,"GMP/GMP",IF($F14=T$3,"GMP/GMM",IF($E14=T$10,"GPM/Ind",IF($E14=T$8,"GPM/Père",IF($E14=T$6,"GPM/GPP",IF($E14=T$4,"GPM/GPM",IF($D14=T$10,"GMM/Ind",IF($D14=T$7,"GMM/Mère",IF($D14=T$5,"GMM/GMP",IF($D14=T$3,"GMM/GMM","")))))))))))) -> GPM/GPM
A15: =VLOOKUP(C15,élOvOur!$A$1:$D$199,3,FALSE) -> #N/A | B15: =Fim!A6 -> RIMO | C15: =Fim!B6 -> 28284001 | D15: =Fim!C6 -> 1218002002 | E15: =Fim!D6 -> 49S9598121 | F15: =Fim!E6 -> 1821599015 | G15: =Fim!F6 -> 8244108829 | H15: =Fim!G6 -> 121800500- | I15: =Fim!H6 -> 1410402024 | ... K15: =Fim!J6 -> 1118000001 | L15: =IF(K15=L$10,"Ind/Ind",IF(K15=L$8,"Ind/Père",IF(K15=L$6,"Ind/GPP",IF(K15=L$4,"Ind/GPM",IF(K15=L$7,"Ind/Mère",IF(K15=L$5,"Ind/GMP",IF(K15=L$3,"Ind/GMM",IF(I15=L$10,"Père/Ind",IF(I15=L$8,"Père/Père",IF(I15=L$6,"Père/GPP",IF(I15=L$4,"Père/GPM",IF(H15=L$10,"Mère/Ind",IF(H15=L$7,"Mère/Mère",IF(H15=L$5,"Mère/GMP",IF(H15=L$3,"Mère/GMM",IF(G15=L$10,"GPP/Ind",IF(G15=L$8,"GPP/Père",IF(G15=L$6,"GPP/GPP",IF(G15=L$4,"GPP/GPM","")))))))))))))))))))&IF(F15=L$10,"GMP/Ind",IF(F15=L$7,"GMP/Mère",IF(F15=L$5,"GMP/GMP",IF(F15=L$3,"GMP/GMM",IF(E15=L$10,"GPM/Ind",IF(E15=L$8,"GPM/Père",IF(E15=L$6,"GPM/GPP",IF(E15=L$4,"GPM/GPM",IF(D15=L$10,"GMM/Ind",IF(D15=L$7,"GMM/Mère",IF(D15=L$5,"GMM/GMP",IF(D15=L$3,"GMM/GMM","")))))))))))) | M15: =IF($K15=M$10,"Ind/Ind",IF($K15=M$8,"Ind/Père",IF($K15=M$6,"Ind/GPP",IF($K15=M$4,"Ind/GPM",IF($K15=M$7,"Ind/Mère",IF($K15=M$5,"Ind/GMP",IF($K15=M$3,"Ind/GMM",IF($I15=M$10,"Père/Ind",IF($I15=M$8,"Père/Père",IF($I15=M$6,"Père/GPP",IF($I15=M$4,"Père/GPM",IF($H15=M$10,"Mère/Ind",IF($H15=M$7,"Mère/Mère",IF($H15=M$5,"Mère/GMP",IF($H15=M$3,"Mère/GMM",IF($G15=M$10,"GPP/Ind",IF($G15=M$8,"GPP/Père",IF($G15=M$6,"GPP/GPP",IF($G15=M$4,"GPP/GPM","")))))))))))))))))))&IF($F15=M$10,"GMP/Ind",IF($F15=M$7,"GMP/Mère",IF($F15=M$5,"GMP/GMP",IF($F15=M$3,"GMP/GMM",IF($E15=M$10,"GPM/Ind",IF($E15=M$8,"GPM/Père",IF($E15=M$6,"GPM/GPP",IF($E15=M$4,"GPM/GPM",IF($D15=M$10,"GMM/Ind",IF($D15=M$7,"GMM/Mère",IF($D15=M$5,"GMM/GMP",IF($D15=M$3,"GMM/GMM","")))))))))))) | N15: =IF($K15=N$10,"Ind/Ind",IF($K15=N$8,"Ind/Père",IF($K15=N$6,"Ind/GPP",IF($K15=N$4,"Ind/GPM",IF($K15=N$7,"Ind/Mère",IF($K15=N$5,"Ind/GMP",IF($K15=N$3,"Ind/GMM",IF($I15=N$10,"Père/Ind",IF($I15=N$8,"Père/Père",IF($I15=N$6,"Père/GPP",IF($I15=N$4,"Père/GPM",IF($H15=N$10,"Mère/Ind",IF($H15=N$7,"Mère/Mère",IF($H15=N$5,"Mère/GMP",IF($H15=N$3,"Mère/GMM",IF($G15=N$10,"GPP/Ind",IF($G15=N$8,"GPP/Père",IF($G15=N$6,"GPP/GPP",IF($G15=N$4,"GPP/GPM","")))))))))))))))))))&IF($F15=N$10,"GMP/Ind",IF($F15=N$7,"GMP/Mère",IF($F15=N$5,"GMP/GMP",IF($F15=N$3,"GMP/GMM",IF($E15=N$10,"GPM/Ind",IF($E15=N$8,"GPM/Père",IF($E15=N$6,"GPM/GPP",IF($E15=N$4,"GPM/GPM",IF($D15=N$10,"GMM/Ind",IF($D15=N$7,"GMM/Mère",IF($D15=N$5,"GMM/GMP",IF($D15=N$3,"GMM/GMM","")))))))))))) | O15: =IF($K15=O$10,"Ind/Ind",IF($K15=O$8,"Ind/Père",IF($K15=O$6,"Ind/GPP",IF($K15=O$4,"Ind/GPM",IF($K15=O$7,"Ind/Mère",IF($K15=O$5,"Ind/GMP",IF($K15=O$3,"Ind/GMM",IF($I15=O$10,"Père/Ind",IF($I15=O$8,"Père/Père",IF($I15=O$6,"Père/GPP",IF($I15=O$4,"Père/GPM",IF($H15=O$10,"Mère/Ind",IF($H15=O$7,"Mère/Mère",IF($H15=O$5,"Mère/GMP",IF($H15=O$3,"Mère/GMM",IF($G15=O$10,"GPP/Ind",IF($G15=O$8,"GPP/Père",IF($G15=O$6,"GPP/GPP",IF($G15=O$4,"GPP/GPM","")))))))))))))))))))&IF($F15=O$10,"GMP/Ind",IF($F15=O$7,"GMP/Mère",IF($F15=O$5,"GMP/GMP",IF($F15=O$3,"GMP/GMM",IF($E15=O$10,"GPM/Ind",IF($E15=O$8,"GPM/Père",IF($E15=O$6,"GPM/GPP",IF($E15=O$4,"GPM/GPM",IF($D15=O$10,"GMM/Ind",IF($D15=O$7,"GMM/Mère",IF($D15=O$5,"GMM/GMP",IF($D15=O$3,"GMM/GMM","")))))))))))) | P15: =IF($K15=P$10,"Ind/Ind",IF($K15=P$8,"Ind/Père",IF($K15=P$6,"Ind/GPP",IF($K15=P$4,"Ind/GPM",IF($K15=P$7,"Ind/Mère",IF($K15=P$5,"Ind/GMP",IF($K15=P$3,"Ind/GMM",IF($I15=P$10,"Père/Ind",IF($I15=P$8,"Père/Père",IF($I15=P$6,"Père/GPP",IF($I15=P$4,"Père/GPM",IF($H15=P$10,"Mère/Ind",IF($H15=P$7,"Mère/Mère",IF($H15=P$5,"Mère/GMP",IF($H15=P$3,"Mère/GMM",IF($G15=P$10,"GPP/Ind",IF($G15=P$8,"GPP/Père",IF($G15=P$6,"GPP/GPP",IF($G15=P$4,"GPP/GPM","")))))))))))))))))))&IF($F15=P$10,"GMP/Ind",IF($F15=P$7,"GMP/Mère",IF($F15=P$5,"GMP/GMP",IF($F15=P$3,"GMP/GMM",IF($E15=P$10,"GPM/Ind",IF($E15=P$8,"GPM/Père",IF($E15=P$6,"GPM/GPP",IF($E15=P$4,"GPM/GPM",IF($D15=P$10,"GMM/Ind",IF($D15=P$7,"GMM/Mère",IF($D15=P$5,"GMM/GMP",IF($D15=P$3,"GMM/GMM","")))))))))))) | Q15: =IF($K15=Q$10,"Ind/Ind",IF($K15=Q$8,"Ind/Père",IF($K15=Q$6,"Ind/GPP",IF($K15=Q$4,"Ind/GPM",IF($K15=Q$7,"Ind/Mère",IF($K15=Q$5,"Ind/GMP",IF($K15=Q$3,"Ind/GMM",IF($I15=Q$10,"Père/Ind",IF($I15=Q$8,"Père/Père",IF($I15=Q$6,"Père/GPP",IF($I15=Q$4,"Père/GPM",IF($H15=Q$10,"Mère/Ind",IF($H15=Q$7,"Mère/Mère",IF($H15=Q$5,"Mère/GMP",IF($H15=Q$3,"Mère/GMM",IF($G15=Q$10,"GPP/Ind",IF($G15=Q$8,"GPP/Père",IF($G15=Q$6,"GPP/GPP",IF($G15=Q$4,"GPP/GPM","")))))))))))))))))))&IF($F15=Q$10,"GMP/Ind",IF($F15=Q$7,"GMP/Mère",IF($F15=Q$5,"GMP/GMP",IF($F15=Q$3,"GMP/GMM",IF($E15=Q$10,"GPM/Ind",IF($E15=Q$8,"GPM/Père",IF($E15=Q$6,"GPM/GPP",IF($E15=Q$4,"GPM/GPM",IF($D15=Q$10,"GMM/Ind",IF($D15=Q$7,"GMM/Mère",IF($D15=Q$5,"GMM/GMP",IF($D15=Q$3,"GMM/GMM","")))))))))))) | R15: =IF($K15=R$10,"Ind/Ind",IF($K15=R$8,"Ind/Père",IF($K15=R$6,"Ind/GPP",IF($K15=R$4,"Ind/GPM",IF($K15=R$7,"Ind/Mère",IF($K15=R$5,"Ind/GMP",IF($K15=R$3,"Ind/GMM",IF($I15=R$10,"Père/Ind",IF($I15=R$8,"Père/Père",IF($I15=R$6,"Père/GPP",IF($I15=R$4,"Père/GPM",IF($H15=R$10,"Mère/Ind",IF($H15=R$7,"Mère/Mère",IF($H15=R$5,"Mère/GMP",IF($H15=R$3,"Mère/GMM",IF($G15=R$10,"GPP/Ind",IF($G15=R$8,"GPP/Père",IF($G15=R$6,"GPP/GPP",IF($G15=R$4,"GPP/GPM","")))))))))))))))))))&IF($F15=R$10,"GMP/Ind",IF($F15=R$7,"GMP/Mère",IF($F15=R$5,"GMP/GMP",IF($F15=R$3,"GMP/GMM",IF($E15=R$10,"GPM/Ind",IF($E15=R$8,"GPM/Père",IF($E15=R$6,"GPM/GPP",IF($E15=R$4,"GPM/GPM",IF($D15=R$10,"GMM/Ind",IF($D15=R$7,"GMM/Mère",IF($D15=R$5,"GMM/GMP",IF($D15=R$3,"GMM/GMM","")))))))))))) | S15: =IF($K15=S$10,"Ind/Ind",IF($K15=S$8,"Ind/Père",IF($K15=S$6,"Ind/GPP",IF($K15=S$4,"Ind/GPM",IF($K15=S$7,"Ind/Mère",IF($K15=S$5,"Ind/GMP",IF($K15=S$3,"Ind/GMM",IF($I15=S$10,"Père/Ind",IF($I15=S$8,"Père/Père",IF($I15=S$6,"Père/GPP",IF($I15=S$4,"Père/GPM",IF($H15=S$10,"Mère/Ind",IF($H15=S$7,"Mère/Mère",IF($H15=S$5,"Mère/GMP",IF($H15=S$3,"Mère/GMM",IF($G15=S$10,"GPP/Ind",IF($G15=S$8,"GPP/Père",IF($G15=S$6,"GPP/GPP",IF($G15=S$4,"GPP/GPM","")))))))))))))))))))&IF($F15=S$10,"GMP/Ind",IF($F15=S$7,"GMP/Mère",IF($F15=S$5,"GMP/GMP",IF($F15=S$3,"GMP/GMM",IF($E15=S$10,"GPM/Ind",IF($E15=S$8,"GPM/Père",IF($E15=S$6,"GPM/GPP",IF($E15=S$4,"GPM/GPM",IF($D15=S$10,"GMM/Ind",IF($D15=S$7,"GMM/Mère",IF($D15=S$5,"GMM/GMP",IF($D15=S$3,"GMM/GMM","")))))))))))) | T15: =IF($K15=T$10,"Ind/Ind",IF($K15=T$8,"Ind/Père",IF($K15=T$6,"Ind/GPP",IF($K15=T$4,"Ind/GPM",IF($K15=T$7,"Ind/Mère",IF($K15=T$5,"Ind/GMP",IF($K15=T$3,"Ind/GMM",IF($I15=T$10,"Père/Ind",IF($I15=T$8,"Père/Père",IF($I15=T$6,"Père/GPP",IF($I15=T$4,"Père/GPM",IF($H15=T$10,"Mère/Ind",IF($H15=T$7,"Mère/Mère",IF($H15=T$5,"Mère/GMP",IF($H15=T$3,"Mère/GMM",IF($G15=T$10,"GPP/Ind",IF($G15=T$8,"GPP/Père",IF($G15=T$6,"GPP/GPP",IF($G15=T$4,"GPP/GPM","")))))))))))))))))))&IF($F15=T$10,"GMP/Ind",IF($F15=T$7,"GMP/Mère",IF($F15=T$5,"GMP/GMP",IF($F15=T$3,"GMP/GMM",IF($E15=T$10,"GPM/Ind",IF($E15=T$8,"GPM/Père",IF($E15=T$6,"GPM/GPP",IF($E15=T$4,"GPM/GPM",IF($D15=T$10,"GMM/Ind",IF($D15=T$7,"GMM/Mère",IF($D15=T$5,"GMM/GMP",IF($D15=T$3,"GMM/GMM",""))))))))))))
A16: =VLOOKUP(C16,élOvOur!$A$1:$D$199,3,FALSE) -> #N/A | B16: =Fim!A7 -> RIMO | C16: =Fim!B7 -> 28284001 | D16: =Fim!C7 -> 8244108415 | E16: =Fim!D7 -> 1410408015 | F16: =Fim!E7 -> 1410402008 | G16: =Fim!F7 -> 1410408015 | H16: =Fim!G7 -> 1410409012 | I16: =Fim!H7 -> 1410409021 | ... K16: =Fim!J7 -> 22485811028 | L16: =IF(K16=L$10,"Ind/Ind",IF(K16=L$8,"Ind/Père",IF(K16=L$6,"Ind/GPP",IF(K16=L$4,"Ind/GPM",IF(K16=L$7,"Ind/Mère",IF(K16=L$5,"Ind/GMP",IF(K16=L$3,"Ind/GMM",IF(I16=L$10,"Père/Ind",IF(I16=L$8,"Père/Père",IF(I16=L$6,"Père/GPP",IF(I16=L$4,"Père/GPM",IF(H16=L$10,"Mère/Ind",IF(H16=L$7,"Mère/Mère",IF(H16=L$5,"Mère/GMP",IF(H16=L$3,"Mère/GMM",IF(G16=L$10,"GPP/Ind",IF(G16=L$8,"GPP/Père",IF(G16=L$6,"GPP/GPP",IF(G16=L$4,"GPP/GPM","")))))))))))))))))))&IF(F16=L$10,"GMP/Ind",IF(F16=L$7,"GMP/Mère",IF(F16=L$5,"GMP/GMP",IF(F16=L$3,"GMP/GMM",IF(E16=L$10,"GPM/Ind",IF(E16=L$8,"GPM/Père",IF(E16=L$6,"GPM/GPP",IF(E16=L$4,"GPM/GPM",IF(D16=L$10,"GMM/Ind",IF(D16=L$7,"GMM/Mère",IF(D16=L$5,"GMM/GMP",IF(D16=L$3,"GMM/GMM","")))))))))))) | M16: =IF($K16=M$10,"Ind/Ind",IF($K16=M$8,"Ind/Père",IF($K16=M$6,"Ind/GPP",IF($K16=M$4,"Ind/GPM",IF($K16=M$7,"Ind/Mère",IF($K16=M$5,"Ind/GMP",IF($K16=M$3,"Ind/GMM",IF($I16=M$10,"Père/Ind",IF($I16=M$8,"Père/Père",IF($I16=M$6,"Père/GPP",IF($I16=M$4,"Père/GPM",IF($H16=M$10,"Mère/Ind",IF($H16=M$7,"Mère/Mère",IF($H16=M$5,"Mère/GMP",IF($H16=M$3,"Mère/GMM",IF($G16=M$10,"GPP/Ind",IF($G16=M$8,"GPP/Père",IF($G16=M$6,"GPP/GPP",IF($G16=M$4,"GPP/GPM","")))))))))))))))))))&IF($F16=M$10,"GMP/Ind",IF($F16=M$7,"GMP/Mère",IF($F16=M$5,"GMP/GMP",IF($F16=M$3,"GMP/GMM",IF($E16=M$10,"GPM/Ind",IF($E16=M$8,"GPM/Père",IF($E16=M$6,"GPM/GPP",IF($E16=M$4,"GPM/GPM",IF($D16=M$10,"GMM/Ind",IF($D16=M$7,"GMM/Mère",IF($D16=M$5,"GMM/GMP",IF($D16=M$3,"GMM/GMM","")))))))))))) | N16: =IF($K16=N$10,"Ind/Ind",IF($K16=N$8,"Ind/Père",IF($K16=N$6,"Ind/GPP",IF($K16=N$4,"Ind/GPM",IF($K16=N$7,"Ind/Mère",IF($K16=N$5,"Ind/GMP",IF($K16=N$3,"Ind/GMM",IF($I16=N$10,"Père/Ind",IF($I16=N$8,"Père/Père",IF($I16=N$6,"Père/GPP",IF($I16=N$4,"Père/GPM",IF($H16=N$10,"Mère/Ind",IF($H16=N$7,"Mère/Mère",IF($H16=N$5,"Mère/GMP",IF($H16=N$3,"Mère/GMM",IF($G16=N$10,"GPP/Ind",IF($G16=N$8,"GPP/Père",IF($G16=N$6,"GPP/GPP",IF($G16=N$4,"GPP/GPM","")))))))))))))))))))&IF($F16=N$10,"GMP/Ind",IF($F16=N$7,"GMP/Mère",IF($F16=N$5,"GMP/GMP",IF($F16=N$3,"GMP/GMM",IF($E16=N$10,"GPM/Ind",IF($E16=N$8,"GPM/Père",IF($E16=N$6,"GPM/GPP",IF($E16=N$4,"GPM/GPM",IF($D16=N$10,"GMM/Ind",IF($D16=N$7,"GMM/Mère",IF($D16=N$5,"GMM/GMP",IF($D16=N$3,"GMM/GMM","")))))))))))) | O16: =IF($K16=O$10,"Ind/Ind",IF($K16=O$8,"Ind/Père",IF($K16=O$6,"Ind/GPP",IF($K16=O$4,"Ind/GPM",IF($K16=O$7,"Ind/Mère",IF($K16=O$5,"Ind/GMP",IF($K16=O$3,"Ind/GMM",IF($I16=O$10,"Père/Ind",IF($I16=O$8,"Père/Père",IF($I16=O$6,"Père/GPP",IF($I16=O$4,"Père/GPM",IF($H16=O$10,"Mère/Ind",IF($H16=O$7,"Mère/Mère",IF($H16=O$5,"Mère/GMP",IF($H16=O$3,"Mère/GMM",IF($G16=O$10,"GPP/Ind",IF($G16=O$8,"GPP/Père",IF($G16=O$6,"GPP/GPP",IF($G16=O$4,"GPP/GPM","")))))))))))))))))))&IF($F16=O$10,"GMP/Ind",IF($F16=O$7,"GMP/Mère",IF($F16=O$5,"GMP/GMP",IF($F16=O$3,"GMP/GMM",IF($E16=O$10,"GPM/Ind",IF($E16=O$8,"GPM/Père",IF($E16=O$6,"GPM/GPP",IF($E16=O$4,"GPM/GPM",IF($D16=O$10,"GMM/Ind",IF($D16=O$7,"GMM/Mère",IF($D16=O$5,"GMM/GMP",IF($D16=O$3,"GMM/GMM","")))))))))))) | P16: =IF($K16=P$10,"Ind/Ind",IF($K16=P$8,"Ind/Père",IF($K16=P$6,"Ind/GPP",IF($K16=P$4,"Ind/GPM",IF($K16=P$7,"Ind/Mère",IF($K16=P$5,"Ind/GMP",IF($K16=P$3,"Ind/GMM",IF($I16=P$10,"Père/Ind",IF($I16=P$8,"Père/Père",IF($I16=P$6,"Père/GPP",IF($I16=P$4,"Père/GPM",IF($H16=P$10,"Mère/Ind",IF($H16=P$7,"Mère/Mère",IF($H16=P$5,"Mère/GMP",IF($H16=P$3,"Mère/GMM",IF($G16=P$10,"GPP/Ind",IF($G16=P$8,"GPP/Père",IF($G16=P$6,"GPP/GPP",IF($G16=P$4,"GPP/GPM","")))))))))))))))))))&IF($F16=P$10,"GMP/Ind",IF($F16=P$7,"GMP/Mère",IF($F16=P$5,"GMP/GMP",IF($F16=P$3,"GMP/GMM",IF($E16=P$10,"GPM/Ind",IF($E16=P$8,"GPM/Père",IF($E16=P$6,"GPM/GPP",IF($E16=P$4,"GPM/GPM",IF($D16=P$10,"GMM/Ind",IF($D16=P$7,"GMM/Mère",IF($D16=P$5,"GMM/GMP",IF($D16=P$3,"GMM/GMM","")))))))))))) | Q16: =IF($K16=Q$10,"Ind/Ind",IF($K16=Q$8,"Ind/Père",IF($K16=Q$6,"Ind/GPP",IF($K16=Q$4,"Ind/GPM",IF($K16=Q$7,"Ind/Mère",IF($K16=Q$5,"Ind/GMP",IF($K16=Q$3,"Ind/GMM",IF($I16=Q$10,"Père/Ind",IF($I16=Q$8,"Père/Père",IF($I16=Q$6,"Père/GPP",IF($I16=Q$4,"Père/GPM",IF($H16=Q$10,"Mère/Ind",IF($H16=Q$7,"Mère/Mère",IF($H16=Q$5,"Mère/GMP",IF($H16=Q$3,"Mère/GMM",IF($G16=Q$10,"GPP/Ind",IF($G16=Q$8,"GPP/Père",IF($G16=Q$6,"GPP/GPP",IF($G16=Q$4,"GPP/GPM","")))))))))))))))))))&IF($F16=Q$10,"GMP/Ind",IF($F16=Q$7,"GMP/Mère",IF($F16=Q$5,"GMP/GMP",IF($F16=Q$3,"GMP/GMM",IF($E16=Q$10,"GPM/Ind",IF($E16=Q$8,"GPM/Père",IF($E16=Q$6,"GPM/GPP",IF($E16=Q$4,"GPM/GPM",IF($D16=Q$10,"GMM/Ind",IF($D16=Q$7,"GMM/Mère",IF($D16=Q$5,"GMM/GMP",IF($D16=Q$3,"GMM/GMM","")))))))))))) | R16: =IF($K16=R$10,"Ind/Ind",IF($K16=R$8,"Ind/Père",IF($K16=R$6,"Ind/GPP",IF($K16=R$4,"Ind/GPM",IF($K16=R$7,"Ind/Mère",IF($K16=R$5,"Ind/GMP",IF($K16=R$3,"Ind/GMM",IF($I16=R$10,"Père/Ind",IF($I16=R$8,"Père/Père",IF($I16=R$6,"Père/GPP",IF($I16=R$4,"Père/GPM",IF($H16=R$10,"Mère/Ind",IF($H16=R$7,"Mère/Mère",IF($H16=R$5,"Mère/GMP",IF($H16=R$3,"Mère/GMM",IF($G16=R$10,"GPP/Ind",IF($G16=R$8,"GPP/Père",IF($G16=R$6,"GPP/GPP",IF($G16=R$4,"GPP/GPM","")))))))))))))))))))&IF($F16=R$10,"GMP/Ind",IF($F16=R$7,"GMP/Mère",IF($F16=R$5,"GMP/GMP",IF($F16=R$3,"GMP/GMM",IF($E16=R$10,"GPM/Ind",IF($E16=R$8,"GPM/Père",IF($E16=R$6,"GPM/GPP",IF($E16=R$4,"GPM/GPM",IF($D16=R$10,"GMM/Ind",IF($D16=R$7,"GMM/Mère",IF($D16=R$5,"GMM/GMP",IF($D16=R$3,"GMM/GMM","")))))))))))) | S16: =IF($K16=S$10,"Ind/Ind",IF($K16=S$8,"Ind/Père",IF($K16=S$6,"Ind/GPP",IF($K16=S$4,"Ind/GPM",IF($K16=S$7,"Ind/Mère",IF($K16=S$5,"Ind/GMP",IF($K16=S$3,"Ind/GMM",IF($I16=S$10,"Père/Ind",IF($I16=S$8,"Père/Père",IF($I16=S$6,"Père/GPP",IF($I16=S$4,"Père/GPM",IF($H16=S$10,"Mère/Ind",IF($H16=S$7,"Mère/Mère",IF($H16=S$5,"Mère/GMP",IF($H16=S$3,"Mère/GMM",IF($G16=S$10,"GPP/Ind",IF($G16=S$8,"GPP/Père",IF($G16=S$6,"GPP/GPP",IF($G16=S$4,"GPP/GPM","")))))))))))))))))))&IF($F16=S$10,"GMP/Ind",IF($F16=S$7,"GMP/Mère",IF($F16=S$5,"GMP/GMP",IF($F16=S$3,"GMP/GMM",IF($E16=S$10,"GPM/Ind",IF($E16=S$8,"GPM/Père",IF($E16=S$6,"GPM/GPP",IF($E16=S$4,"GPM/GPM",IF($D16=S$10,"GMM/Ind",IF($D16=S$7,"GMM/Mère",IF($D16=S$5,"GMM/GMP",IF($D16=S$3,"GMM/GMM","")))))))))))) | T16: =IF($K16=T$10,"Ind/Ind",IF($K16=T$8,"Ind/Père",IF($K16=T$6,"Ind/GPP",IF($K16=T$4,"Ind/GPM",IF($K16=T$7,"Ind/Mère",IF($K16=T$5,"Ind/GMP",IF($K16=T$3,"Ind/GMM",IF($I16=T$10,"Père/Ind",IF($I16=T$8,"Père/Père",IF($I16=T$6,"Père/GPP",IF($I16=T$4,"Père/GPM",IF($H16=T$10,"Mère/Ind",IF($H16=T$7,"Mère/Mère",IF($H16=T$5,"Mère/GMP",IF($H16=T$3,"Mère/GMM",IF($G16=T$10,"GPP/Ind",IF($G16=T$8,"GPP/Père",IF($G16=T$6,"GPP/GPP",IF($G16=T$4,"GPP/GPM","")))))))))))))))))))&IF($F16=T$10,"GMP/Ind",IF($F16=T$7,"GMP/Mère",IF($F16=T$5,"GMP/GMP",IF($F16=T$3,"GMP/GMM",IF($E16=T$10,"GPM/Ind",IF($E16=T$8,"GPM/Père",IF($E16=T$6,"GPM/GPP",IF($E16=T$4,"GPM/GPM",IF($D16=T$10,"GMM/Ind",IF($D16=T$7,"GMM/Mère",IF($D16=T$5,"GMM/GMP",IF($D16=T$3,"GMM/GMM",""))))))))))))
A17: =VLOOKUP(C17,élOvOur!$A$1:$D$199,3,FALSE) -> #N/A | B17: =Fim!A8 -> RIMO | C17: =Fim!B8 -> 28284001 | D17: =Fim!C8 -> 1218094019 | E17: =Fim!D8 -> 4992490108 | F17: =Fim!E8 -> 1410402008 | G17: =Fim!F8 -> 1410408015 | H17: =Fim!G8 -> 1218001004 | I17: =Fim!H8 -> 1410409021 | ... K17: =Fim!J8 -> 22485811024 | L17: =IF(K17=L$10,"Ind/Ind",IF(K17=L$8,"Ind/Père",IF(K17=L$6,"Ind/GPP",IF(K17=L$4,"Ind/GPM",IF(K17=L$7,"Ind/Mère",IF(K17=L$5,"Ind/GMP",IF(K17=L$3,"Ind/GMM",IF(I17=L$10,"Père/Ind",IF(I17=L$8,"Père/Père",IF(I17=L$6,"Père/GPP",IF(I17=L$4,"Père/GPM",IF(H17=L$10,"Mère/Ind",IF(H17=L$7,"Mère/Mère",IF(H17=L$5,"Mère/GMP",IF(H17=L$3,"Mère/GMM",IF(G17=L$10,"GPP/Ind",IF(G17=L$8,"GPP/Père",IF(G17=L$6,"GPP/GPP",IF(G17=L$4,"GPP/GPM","")))))))))))))))))))&IF(F17=L$10,"GMP/Ind",IF(F17=L$7,"GMP/Mère",IF(F17=L$5,"GMP/GMP",IF(F17=L$3,"GMP/GMM",IF(E17=L$10,"GPM/Ind",IF(E17=L$8,"GPM/Père",IF(E17=L$6,"GPM/GPP",IF(E17=L$4,"GPM/GPM",IF(D17=L$10,"GMM/Ind",IF(D17=L$7,"GMM/Mère",IF(D17=L$5,"GMM/GMP",IF(D17=L$3,"GMM/GMM","")))))))))))) | M17: =IF($K17=M$10,"Ind/Ind",IF($K17=M$8,"Ind/Père",IF($K17=M$6,"Ind/GPP",IF($K17=M$4,"Ind/GPM",IF($K17=M$7,"Ind/Mère",IF($K17=M$5,"Ind/GMP",IF($K17=M$3,"Ind/GMM",IF($I17=M$10,"Père/Ind",IF($I17=M$8,"Père/Père",IF($I17=M$6,"Père/GPP",IF($I17=M$4,"Père/GPM",IF($H17=M$10,"Mère/Ind",IF($H17=M$7,"Mère/Mère",IF($H17=M$5,"Mère/GMP",IF($H17=M$3,"Mère/GMM",IF($G17=M$10,"GPP/Ind",IF($G17=M$8,"GPP/Père",IF($G17=M$6,"GPP/GPP",IF($G17=M$4,"GPP/GPM","")))))))))))))))))))&IF($F17=M$10,"GMP/Ind",IF($F17=M$7,"GMP/Mère",IF($F17=M$5,"GMP/GMP",IF($F17=M$3,"GMP/GMM",IF($E17=M$10,"GPM/Ind",IF($E17=M$8,"GPM/Père",IF($E17=M$6,"GPM/GPP",IF($E17=M$4,"GPM/GPM",IF($D17=M$10,"GMM/Ind",IF($D17=M$7,"GMM/Mère",IF($D17=M$5,"GMM/GMP",IF($D17=M$3,"GMM/GMM","")))))))))))) | N17: =IF($K17=N$10,"Ind/Ind",IF($K17=N$8,"Ind/Père",IF($K17=N$6,"Ind/GPP",IF($K17=N$4,"Ind/GPM",IF($K17=N$7,"Ind/Mère",IF($K17=N$5,"Ind/GMP",IF($K17=N$3,"Ind/GMM",IF($I17=N$10,"Père/Ind",IF($I17=N$8,"Père/Père",IF($I17=N$6,"Père/GPP",IF($I17=N$4,"Père/GPM",IF($H17=N$10,"Mère/Ind",IF($H17=N$7,"Mère/Mère",IF($H17=N$5,"Mère/GMP",IF($H17=N$3,"Mère/GMM",IF($G17=N$10,"GPP/Ind",IF($G17=N$8,"GPP/Père",IF($G17=N$6,"GPP/GPP",IF($G17=N$4,"GPP/GPM","")))))))))))))))))))&IF($F17=N$10,"GMP/Ind",IF($F17=N$7,"GMP/Mère",IF($F17=N$5,"GMP/GMP",IF($F17=N$3,"GMP/GMM",IF($E17=N$10,"GPM/Ind",IF($E17=N$8,"GPM/Père",IF($E17=N$6,"GPM/GPP",IF($E17=N$4,"GPM/GPM",IF($D17=N$10,"GMM/Ind",IF($D17=N$7,"GMM/Mère",IF($D17=N$5,"GMM/GMP",IF($D17=N$3,"GMM/GMM","")))))))))))) | O17: =IF($K17=O$10,"Ind/Ind",IF($K17=O$8,"Ind/Père",IF($K17=O$6,"Ind/GPP",IF($K17=O$4,"Ind/GPM",IF($K17=O$7,"Ind/Mère",IF($K17=O$5,"Ind/GMP",IF($K17=O$3,"Ind/GMM",IF($I17=O$10,"Père/Ind",IF($I17=O$8,"Père/Père",IF($I17=O$6,"Père/GPP",IF($I17=O$4,"Père/GPM",IF($H17=O$10,"Mère/Ind",IF($H17=O$7,"Mère/Mère",IF($H17=O$5,"Mère/GMP",IF($H17=O$3,"Mère/GMM",IF($G17=O$10,"GPP/Ind",IF($G17=O$8,"GPP/Père",IF($G17=O$6,"GPP/GPP",IF($G17=O$4,"GPP/GPM","")))))))))))))))))))&IF($F17=O$10,"GMP/Ind",IF($F17=O$7,"GMP/Mère",IF($F17=O$5,"GMP/GMP",IF($F17=O$3,"GMP/GMM",IF($E17=O$10,"GPM/Ind",IF($E17=O$8,"GPM/Père",IF($E17=O$6,"GPM/GPP",IF($E17=O$4,"GPM/GPM",IF($D17=O$10,"GMM/Ind",IF($D17=O$7,"GMM/Mère",IF($D17=O$5,"GMM/GMP",IF($D17=O$3,"GMM/GMM","")))))))))))) | P17: =IF($K17=P$10,"Ind/Ind",IF($K17=P$8,"Ind/Père",IF($K17=P$6,"Ind/GPP",IF($K17=P$4,"Ind/GPM",IF($K17=P$7,"Ind/Mère",IF($K17=P$5,"Ind/GMP",IF($K17=P$3,"Ind/GMM",IF($I17=P$10,"Père/Ind",IF($I17=P$8,"Père/Père",IF($I17=P$6,"Père/GPP",IF($I17=P$4,"Père/GPM",IF($H17=P$10,"Mère/Ind",IF($H17=P$7,"Mère/Mère",IF($H17=P$5,"Mère/GMP",IF($H17=P$3,"Mère/GMM",IF($G17=P$10,"GPP/Ind",IF($G17=P$8,"GPP/Père",IF($G17=P$6,"GPP/GPP",IF($G17=P$4,"GPP/GPM","")))))))))))))))))))&IF($F17=P$10,"GMP/Ind",IF($F17=P$7,"GMP/Mère",IF($F17=P$5,"GMP/GMP",IF($F17=P$3,"GMP/GMM",IF($E17=P$10,"GPM/Ind",IF($E17=P$8,"GPM/Père",IF($E17=P$6,"GPM/GPP",IF($E17=P$4,"GPM/GPM",IF($D17=P$10,"GMM/Ind",IF($D17=P$7,"GMM/Mère",IF($D17=P$5,"GMM/GMP",IF($D17=P$3,"GMM/GMM","")))))))))))) | Q17: =IF($K17=Q$10,"Ind/Ind",IF($K17=Q$8,"Ind/Père",IF($K17=Q$6,"Ind/GPP",IF($K17=Q$4,"Ind/GPM",IF($K17=Q$7,"Ind/Mère",IF($K17=Q$5,"Ind/GMP",IF($K17=Q$3,"Ind/GMM",IF($I17=Q$10,"Père/Ind",IF($I17=Q$8,"Père/Père",IF($I17=Q$6,"Père/GPP",IF($I17=Q$4,"Père/GPM",IF($H17=Q$10,"Mère/Ind",IF($H17=Q$7,"Mère/Mère",IF($H17=Q$5,"Mère/GMP",IF($H17=Q$3,"Mère/GMM",IF($G17=Q$10,"GPP/Ind",IF($G17=Q$8,"GPP/Père",IF($G17=Q$6,"GPP/GPP",IF($G17=Q$4,"GPP/GPM","")))))))))))))))))))&IF($F17=Q$10,"GMP/Ind",IF($F17=Q$7,"GMP/Mère",IF($F17=Q$5,"GMP/GMP",IF($F17=Q$3,"GMP/GMM",IF($E17=Q$10,"GPM/Ind",IF($E17=Q$8,"GPM/Père",IF($E17=Q$6,"GPM/GPP",IF($E17=Q$4,"GPM/GPM",IF($D17=Q$10,"GMM/Ind",IF($D17=Q$7,"GMM/Mère",IF($D17=Q$5,"GMM/GMP",IF($D17=Q$3,"GMM/GMM","")))))))))))) | R17: =IF($K17=R$10,"Ind/Ind",IF($K17=R$8,"Ind/Père",IF($K17=R$6,"Ind/GPP",IF($K17=R$4,"Ind/GPM",IF($K17=R$7,"Ind/Mère",IF($K17=R$5,"Ind/GMP",IF($K17=R$3,"Ind/GMM",IF($I17=R$10,"Père/Ind",IF($I17=R$8,"Père/Père",IF($I17=R$6,"Père/GPP",IF($I17=R$4,"Père/GPM",IF($H17=R$10,"Mère/Ind",IF($H17=R$7,"Mère/Mère",IF($H17=R$5,"Mère/GMP",IF($H17=R$3,"Mère/GMM",IF($G17=R$10,"GPP/Ind",IF($G17=R$8,"GPP/Père",IF($G17=R$6,"GPP/GPP",IF($G17=R$4,"GPP/GPM","")))))))))))))))))))&IF($F17=R$10,"GMP/Ind",IF($F17=R$7,"GMP/Mère",IF($F17=R$5,"GMP/GMP",IF($F17=R$3,"GMP/GMM",IF($E17=R$10,"GPM/Ind",IF($E17=R$8,"GPM/Père",IF($E17=R$6,"GPM/GPP",IF($E17=R$4,"GPM/GPM",IF($D17=R$10,"GMM/Ind",IF($D17=R$7,"GMM/Mère",IF($D17=R$5,"GMM/GMP",IF($D17=R$3,"GMM/GMM","")))))))))))) | S17: =IF($K17=S$10,"Ind/Ind",IF($K17=S$8,"Ind/Père",IF($K17=S$6,"Ind/GPP",IF($K17=S$4,"Ind/GPM",IF($K17=S$7,"Ind/Mère",IF($K17=S$5,"Ind/GMP",IF($K17=S$3,"Ind/GMM",IF($I17=S$10,"Père/Ind",IF($I17=S$8,"Père/Père",IF($I17=S$6,"Père/GPP",IF($I17=S$4,"Père/GPM",IF($H17=S$10,"Mère/Ind",IF($H17=S$7,"Mère/Mère",IF($H17=S$5,"Mère/GMP",IF($H17=S$3,"Mère/GMM",IF($G17=S$10,"GPP/Ind",IF($G17=S$8,"GPP/Père",IF($G17=S$6,"GPP/GPP",IF($G17=S$4,"GPP/GPM","")))))))))))))))))))&IF($F17=S$10,"GMP/Ind",IF($F17=S$7,"GMP/Mère",IF($F17=S$5,"GMP/GMP",IF($F17=S$3,"GMP/GMM",IF($E17=S$10,"GPM/Ind",IF($E17=S$8,"GPM/Père",IF($E17=S$6,"GPM/GPP",IF($E17=S$4,"GPM/GPM",IF($D17=S$10,"GMM/Ind",IF($D17=S$7,"GMM/Mère",IF($D17=S$5,"GMM/GMP",IF($D17=S$3,"GMM/GMM","")))))))))))) | T17: =IF($K17=T$10,"Ind/Ind",IF($K17=T$8,"Ind/Père",IF($K17=T$6,"Ind/GPP",IF($K17=T$4,"Ind/GPM",IF($K17=T$7,"Ind/Mère",IF($K17=T$5,"Ind/GMP",IF($K17=T$3,"Ind/GMM",IF($I17=T$10,"Père/Ind",IF($I17=T$8,"Père/Père",IF($I17=T$6,"Père/GPP",IF($I17=T$4,"Père/GPM",IF($H17=T$10,"Mère/Ind",IF($H17=T$7,"Mère/Mère",IF($H17=T$5,"Mère/GMP",IF($H17=T$3,"Mère/GMM",IF($G17=T$10,"GPP/Ind",IF($G17=T$8,"GPP/Père",IF($G17=T$6,"GPP/GPP",IF($G17=T$4,"GPP/GPM","")))))))))))))))))))&IF($F17=T$10,"GMP/Ind",IF($F17=T$7,"GMP/Mère",IF($F17=T$5,"GMP/GMP",IF($F17=T$3,"GMP/GMM",IF($E17=T$10,"GPM/Ind",IF($E17=T$8,"GPM/Père",IF($E17=T$6,"GPM/GPP",IF($E17=T$4,"GPM/GPM",IF($D17=T$10,"GMM/Ind",IF($D17=T$7,"GMM/Mère",IF($D17=T$5,"GMM/GMP",IF($D17=T$3,"GMM/GMM",""))))))))))))
A18: =VLOOKUP(C18,élOvOur!$A$1:$D$199,3,FALSE) -> #N/A | B18: =Fim!A9 -> RIMO | C18: =Fim!B9 -> 28284001 | D18: =Fim!C9 -> 00000CVOVR | E18: =Fim!D9 -> 00000CVOVM | F18: =Fim!E9 -> 1410402008 | G18: =Fim!F9 -> 1410408015 | H18: =Fim!G9 -> 00000CVOVR | I18: =Fim!H9 -> 1410409021 | ... K18: =Fim!J9 -> 22485811021 | L18: =IF(K18=L$10,"Ind/Ind",IF(K18=L$8,"Ind/Père",IF(K18=L$6,"Ind/GPP",IF(K18=L$4,"Ind/GPM",IF(K18=L$7,"Ind/Mère",IF(K18=L$5,"Ind/GMP",IF(K18=L$3,"Ind/GMM",IF(I18=L$10,"Père/Ind",IF(I18=L$8,"Père/Père",IF(I18=L$6,"Père/GPP",IF(I18=L$4,"Père/GPM",IF(H18=L$10,"Mère/Ind",IF(H18=L$7,"Mère/Mère",IF(H18=L$5,"Mère/GMP",IF(H18=L$3,"Mère/GMM",IF(G18=L$10,"GPP/Ind",IF(G18=L$8,"GPP/Père",IF(G18=L$6,"GPP/GPP",IF(G18=L$4,"GPP/GPM","")))))))))))))))))))&IF(F18=L$10,"GMP/Ind",IF(F18=L$7,"GMP/Mère",IF(F18=L$5,"GMP/GMP",IF(F18=L$3,"GMP/GMM",IF(E18=L$10,"GPM/Ind",IF(E18=L$8,"GPM/Père",IF(E18=L$6,"GPM/GPP",IF(E18=L$4,"GPM/GPM",IF(D18=L$10,"GMM/Ind",IF(D18=L$7,"GMM/Mère",IF(D18=L$5,"GMM/GMP",IF(D18=L$3,"GMM/GMM","")))))))))))) | M18: =IF($K18=M$10,"Ind/Ind",IF($K18=M$8,"Ind/Père",IF($K18=M$6,"Ind/GPP",IF($K18=M$4,"Ind/GPM",IF($K18=M$7,"Ind/Mère",IF($K18=M$5,"Ind/GMP",IF($K18=M$3,"Ind/GMM",IF($I18=M$10,"Père/Ind",IF($I18=M$8,"Père/Père",IF($I18=M$6,"Père/GPP",IF($I18=M$4,"Père/GPM",IF($H18=M$10,"Mère/Ind",IF($H18=M$7,"Mère/Mère",IF($H18=M$5,"Mère/GMP",IF($H18=M$3,"Mère/GMM",IF($G18=M$10,"GPP/Ind",IF($G18=M$8,"GPP/Père",IF($G18=M$6,"GPP/GPP",IF($G18=M$4,"GPP/GPM","")))))))))))))))))))&IF($F18=M$10,"GMP/Ind",IF($F18=M$7,"GMP/Mère",IF($F18=M$5,"GMP/GMP",IF($F18=M$3,"GMP/GMM",IF($E18=M$10,"GPM/Ind",IF($E18=M$8,"GPM/Père",IF($E18=M$6,"GPM/GPP",IF($E18=M$4,"GPM/GPM",IF($D18=M$10,"GMM/Ind",IF($D18=M$7,"GMM/Mère",IF($D18=M$5,"GMM/GMP",IF($D18=M$3,"GMM/GMM","")))))))))))) | N18: =IF($K18=N$10,"Ind/Ind",IF($K18=N$8,"Ind/Père",IF($K18=N$6,"Ind/GPP",IF($K18=N$4,"Ind/GPM",IF($K18=N$7,"Ind/Mère",IF($K18=N$5,"Ind/GMP",IF($K18=N$3,"Ind/GMM",IF($I18=N$10,"Père/Ind",IF($I18=N$8,"Père/Père",IF($I18=N$6,"Père/GPP",IF($I18=N$4,"Père/GPM",IF($H18=N$10,"Mère/Ind",IF($H18=N$7,"Mère/Mère",IF($H18=N$5,"Mère/GMP",IF($H18=N$3,"Mère/GMM",IF($G18=N$10,"GPP/Ind",IF($G18=N$8,"GPP/Père",IF($G18=N$6,"GPP/GPP",IF($G18=N$4,"GPP/GPM","")))))))))))))))))))&IF($F18=N$10,"GMP/Ind",IF($F18=N$7,"GMP/Mère",IF($F18=N$5,"GMP/GMP",IF($F18=N$3,"GMP/GMM",IF($E18=N$10,"GPM/Ind",IF($E18=N$8,"GPM/Père",IF($E18=N$6,"GPM/GPP",IF($E18=N$4,"GPM/GPM",IF($D18=N$10,"GMM/Ind",IF($D18=N$7,"GMM/Mère",IF($D18=N$5,"GMM/GMP",IF($D18=N$3,"GMM/GMM","")))))))))))) | O18: =IF($K18=O$10,"Ind/Ind",IF($K18=O$8,"Ind/Père",IF($K18=O$6,"Ind/GPP",IF($K18=O$4,"Ind/GPM",IF($K18=O$7,"Ind/Mère",IF($K18=O$5,"Ind/GMP",IF($K18=O$3,"Ind/GMM",IF($I18=O$10,"Père/Ind",IF($I18=O$8,"Père/Père",IF($I18=O$6,"Père/GPP",IF($I18=O$4,"Père/GPM",IF($H18=O$10,"Mère/Ind",IF($H18=O$7,"Mère/Mère",IF($H18=O$5,"Mère/GMP",IF($H18=O$3,"Mère/GMM",IF($G18=O$10,"GPP/Ind",IF($G18=O$8,"GPP/Père",IF($G18=O$6,"GPP/GPP",IF($G18=O$4,"GPP/GPM","")))))))))))))))))))&IF($F18=O$10,"GMP/Ind",IF($F18=O$7,"GMP/Mère",IF($F18=O$5,"GMP/GMP",IF($F18=O$3,"GMP/GMM",IF($E18=O$10,"GPM/Ind",IF($E18=O$8,"GPM/Père",IF($E18=O$6,"GPM/GPP",IF($E18=O$4,"GPM/GPM",IF($D18=O$10,"GMM/Ind",IF($D18=O$7,"GMM/Mère",IF($D18=O$5,"GMM/GMP",IF($D18=O$3,"GMM/GMM","")))))))))))) | P18: =IF($K18=P$10,"Ind/Ind",IF($K18=P$8,"Ind/Père",IF($K18=P$6,"Ind/GPP",IF($K18=P$4,"Ind/GPM",IF($K18=P$7,"Ind/Mère",IF($K18=P$5,"Ind/GMP",IF($K18=P$3,"Ind/GMM",IF($I18=P$10,"Père/Ind",IF($I18=P$8,"Père/Père",IF($I18=P$6,"Père/GPP",IF($I18=P$4,"Père/GPM",IF($H18=P$10,"Mère/Ind",IF($H18=P$7,"Mère/Mère",IF($H18=P$5,"Mère/GMP",IF($H18=P$3,"Mère/GMM",IF($G18=P$10,"GPP/Ind",IF($G18=P$8,"GPP/Père",IF($G18=P$6,"GPP/GPP",IF($G18=P$4,"GPP/GPM","")))))))))))))))))))&IF($F18=P$10,"GMP/Ind",IF($F18=P$7,"GMP/Mère",IF($F18=P$5,"GMP/GMP",IF($F18=P$3,"GMP/GMM",IF($E18=P$10,"GPM/Ind",IF($E18=P$8,"GPM/Père",IF($E18=P$6,"GPM/GPP",IF($E18=P$4,"GPM/GPM",IF($D18=P$10,"GMM/Ind",IF($D18=P$7,"GMM/Mère",IF($D18=P$5,"GMM/GMP",IF($D18=P$3,"GMM/GMM","")))))))))))) | Q18: =IF($K18=Q$10,"Ind/Ind",IF($K18=Q$8,"Ind/Père",IF($K18=Q$6,"Ind/GPP",IF($K18=Q$4,"Ind/GPM",IF($K18=Q$7,"Ind/Mère",IF($K18=Q$5,"Ind/GMP",IF($K18=Q$3,"Ind/GMM",IF($I18=Q$10,"Père/Ind",IF($I18=Q$8,"Père/Père",IF($I18=Q$6,"Père/GPP",IF($I18=Q$4,"Père/GPM",IF($H18=Q$10,"Mère/Ind",IF($H18=Q$7,"Mère/Mère",IF($H18=Q$5,"Mère/GMP",IF($H18=Q$3,"Mère/GMM",IF($G18=Q$10,"GPP/Ind",IF($G18=Q$8,"GPP/Père",IF($G18=Q$6,"GPP/GPP",IF($G18=Q$4,"GPP/GPM","")))))))))))))))))))&IF($F18=Q$10,"GMP/Ind",IF($F18=Q$7,"GMP/Mère",IF($F18=Q$5,"GMP/GMP",IF($F18=Q$3,"GMP/GMM",IF($E18=Q$10,"GPM/Ind",IF($E18=Q$8,"GPM/Père",IF($E18=Q$6,"GPM/GPP",IF($E18=Q$4,"GPM/GPM",IF($D18=Q$10,"GMM/Ind",IF($D18=Q$7,"GMM/Mère",IF($D18=Q$5,"GMM/GMP",IF($D18=Q$3,"GMM/GMM","")))))))))))) | R18: =IF($K18=R$10,"Ind/Ind",IF($K18=R$8,"Ind/Père",IF($K18=R$6,"Ind/GPP",IF($K18=R$4,"Ind/GPM",IF($K18=R$7,"Ind/Mère",IF($K18=R$5,"Ind/GMP",IF($K18=R$3,"Ind/GMM",IF($I18=R$10,"Père/Ind",IF($I18=R$8,"Père/Père",IF($I18=R$6,"Père/GPP",IF($I18=R$4,"Père/GPM",IF($H18=R$10,"Mère/Ind",IF($H18=R$7,"Mère/Mère",IF($H18=R$5,"Mère/GMP",IF($H18=R$3,"Mère/GMM",IF($G18=R$10,"GPP/Ind",IF($G18=R$8,"GPP/Père",IF($G18=R$6,"GPP/GPP",IF($G18=R$4,"GPP/GPM","")))))))))))))))))))&IF($F18=R$10,"GMP/Ind",IF($F18=R$7,"GMP/Mère",IF($F18=R$5,"GMP/GMP",IF($F18=R$3,"GMP/GMM",IF($E18=R$10,"GPM/Ind",IF($E18=R$8,"GPM/Père",IF($E18=R$6,"GPM/GPP",IF($E18=R$4,"GPM/GPM",IF($D18=R$10,"GMM/Ind",IF($D18=R$7,"GMM/Mère",IF($D18=R$5,"GMM/GMP",IF($D18=R$3,"GMM/GMM","")))))))))))) | S18: =IF($K18=S$10,"Ind/Ind",IF($K18=S$8,"Ind/Père",IF($K18=S$6,"Ind/GPP",IF($K18=S$4,"Ind/GPM",IF($K18=S$7,"Ind/Mère",IF($K18=S$5,"Ind/GMP",IF($K18=S$3,"Ind/GMM",IF($I18=S$10,"Père/Ind",IF($I18=S$8,"Père/Père",IF($I18=S$6,"Père/GPP",IF($I18=S$4,"Père/GPM",IF($H18=S$10,"Mère/Ind",IF($H18=S$7,"Mère/Mère",IF($H18=S$5,"Mère/GMP",IF($H18=S$3,"Mère/GMM",IF($G18=S$10,"GPP/Ind",IF($G18=S$8,"GPP/Père",IF($G18=S$6,"GPP/GPP",IF($G18=S$4,"GPP/GPM","")))))))))))))))))))&IF($F18=S$10,"GMP/Ind",IF($F18=S$7,"GMP/Mère",IF($F18=S$5,"GMP/GMP",IF($F18=S$3,"GMP/GMM",IF($E18=S$10,"GPM/Ind",IF($E18=S$8,"GPM/Père",IF($E18=S$6,"GPM/GPP",IF($E18=S$4,"GPM/GPM",IF($D18=S$10,"GMM/Ind",IF($D18=S$7,"GMM/Mère",IF($D18=S$5,"GMM/GMP",IF($D18=S$3,"GMM/GMM","")))))))))))) | T18: =IF($K18=T$10,"Ind/Ind",IF($K18=T$8,"Ind/Père",IF($K18=T$6,"Ind/GPP",IF($K18=T$4,"Ind/GPM",IF($K18=T$7,"Ind/Mère",IF($K18=T$5,"Ind/GMP",IF($K18=T$3,"Ind/GMM",IF($I18=T$10,"Père/Ind",IF($I18=T$8,"Père/Père",IF($I18=T$6,"Père/GPP",IF($I18=T$4,"Père/GPM",IF($H18=T$10,"Mère/Ind",IF($H18=T$7,"Mère/Mère",IF($H18=T$5,"Mère/GMP",IF($H18=T$3,"Mère/GMM",IF($G18=T$10,"GPP/Ind",IF($G18=T$8,"GPP/Père",IF($G18=T$6,"GPP/GPP",IF($G18=T$4,"GPP/GPM","")))))))))))))))))))&IF($F18=T$10,"GMP/Ind",IF($F18=T$7,"GMP/Mère",IF($F18=T$5,"GMP/GMP",IF($F18=T$3,"GMP/GMM",IF($E18=T$10,"GPM/Ind",IF($E18=T$8,"GPM/Père",IF($E18=T$6,"GPM/GPP",IF($E18=T$4,"GPM/GPM",IF($D18=T$10,"GMM/Ind",IF($D18=T$7,"GMM/Mère",IF($D18=T$5,"GMM/GMP",IF($D18=T$3,"GMM/GMM",""))))))))))))
A19: =VLOOKUP(C19,élOvOur!$A$1:$D$199,3,FALSE) -> #N/A | B19: =Fim!A10 -> RIMO | C19: =Fim!B10 -> 28284001 | D19: =Fim!C10 -> 8248001020 | E19: =Fim!D10 -> 4112808202 | F19: =Fim!E10 -> 4112801004 | G19: =Fim!F10 -> 49S9598121 | H19: =Fim!G10 -> 8248002001 | I19: =Fim!H10 -> 8202104058 | ... K19: =Fim!J10 -> 22485800005 | L19: =IF(K19=L$10,"Ind/Ind",IF(K19=L$8,"Ind/Père",IF(K19=L$6,"Ind/GPP",IF(K19=L$4,"Ind/GPM",IF(K19=L$7,"Ind/Mère",IF(K19=L$5,"Ind/GMP",IF(K19=L$3,"Ind/GMM",IF(I19=L$10,"Père/Ind",IF(I19=L$8,"Père/Père",IF(I19=L$6,"Père/GPP",IF(I19=L$4,"Père/GPM",IF(H19=L$10,"Mère/Ind",IF(H19=L$7,"Mère/Mère",IF(H19=L$5,"Mère/GMP",IF(H19=L$3,"Mère/GMM",IF(G19=L$10,"GPP/Ind",IF(G19=L$8,"GPP/Père",IF(G19=L$6,"GPP/GPP",IF(G19=L$4,"GPP/GPM","")))))))))))))))))))&IF(F19=L$10,"GMP/Ind",IF(F19=L$7,"GMP/Mère",IF(F19=L$5,"GMP/GMP",IF(F19=L$3,"GMP/GMM",IF(E19=L$10,"GPM/Ind",IF(E19=L$8,"GPM/Père",IF(E19=L$6,"GPM/GPP",IF(E19=L$4,"GPM/GPM",IF(D19=L$10,"GMM/Ind",IF(D19=L$7,"GMM/Mère",IF(D19=L$5,"GMM/GMP",IF(D19=L$3,"GMM/GMM","")))))))))))) | M19: =IF($K19=M$10,"Ind/Ind",IF($K19=M$8,"Ind/Père",IF($K19=M$6,"Ind/GPP",IF($K19=M$4,"Ind/GPM",IF($K19=M$7,"Ind/Mère",IF($K19=M$5,"Ind/GMP",IF($K19=M$3,"Ind/GMM",IF($I19=M$10,"Père/Ind",IF($I19=M$8,"Père/Père",IF($I19=M$6,"Père/GPP",IF($I19=M$4,"Père/GPM",IF($H19=M$10,"Mère/Ind",IF($H19=M$7,"Mère/Mère",IF($H19=M$5,"Mère/GMP",IF($H19=M$3,"Mère/GMM",IF($G19=M$10,"GPP/Ind",IF($G19=M$8,"GPP/Père",IF($G19=M$6,"GPP/GPP",IF($G19=M$4,"GPP/GPM","")))))))))))))))))))&IF($F19=M$10,"GMP/Ind",IF($F19=M$7,"GMP/Mère",IF($F19=M$5,"GMP/GMP",IF($F19=M$3,"GMP/GMM",IF($E19=M$10,"GPM/Ind",IF($E19=M$8,"GPM/Père",IF($E19=M$6,"GPM/GPP",IF($E19=M$4,"GPM/GPM",IF($D19=M$10,"GMM/Ind",IF($D19=M$7,"GMM/Mère",IF($D19=M$5,"GMM/GMP",IF($D19=M$3,"GMM/GMM","")))))))))))) | N19: =IF($K19=N$10,"Ind/Ind",IF($K19=N$8,"Ind/Père",IF($K19=N$6,"Ind/GPP",IF($K19=N$4,"Ind/GPM",IF($K19=N$7,"Ind/Mère",IF($K19=N$5,"Ind/GMP",IF($K19=N$3,"Ind/GMM",IF($I19=N$10,"Père/Ind",IF($I19=N$8,"Père/Père",IF($I19=N$6,"Père/GPP",IF($I19=N$4,"Père/GPM",IF($H19=N$10,"Mère/Ind",IF($H19=N$7,"Mère/Mère",IF($H19=N$5,"Mère/GMP",IF($H19=N$3,"Mère/GMM",IF($G19=N$10,"GPP/Ind",IF($G19=N$8,"GPP/Père",IF($G19=N$6,"GPP/GPP",IF($G19=N$4,"GPP/GPM","")))))))))))))))))))&IF($F19=N$10,"GMP/Ind",IF($F19=N$7,"GMP/Mère",IF($F19=N$5,"GMP/GMP",IF($F19=N$3,"GMP/GMM",IF($E19=N$10,"GPM/Ind",IF($E19=N$8,"GPM/Père",IF($E19=N$6,"GPM/GPP",IF($E19=N$4,"GPM/GPM",IF($D19=N$10,"GMM/Ind",IF($D19=N$7,"GMM/Mère",IF($D19=N$5,"GMM/GMP",IF($D19=N$3,"GMM/GMM","")))))))))))) | O19: =IF($K19=O$10,"Ind/Ind",IF($K19=O$8,"Ind/Père",IF($K19=O$6,"Ind/GPP",IF($K19=O$4,"Ind/GPM",IF($K19=O$7,"Ind/Mère",IF($K19=O$5,"Ind/GMP",IF($K19=O$3,"Ind/GMM",IF($I19=O$10,"Père/Ind",IF($I19=O$8,"Père/Père",IF($I19=O$6,"Père/GPP",IF($I19=O$4,"Père/GPM",IF($H19=O$10,"Mère/Ind",IF($H19=O$7,"Mère/Mère",IF($H19=O$5,"Mère/GMP",IF($H19=O$3,"Mère/GMM",IF($G19=O$10,"GPP/Ind",IF($G19=O$8,"GPP/Père",IF($G19=O$6,"GPP/GPP",IF($G19=O$4,"GPP/GPM","")))))))))))))))))))&IF($F19=O$10,"GMP/Ind",IF($F19=O$7,"GMP/Mère",IF($F19=O$5,"GMP/GMP",IF($F19=O$3,"GMP/GMM",IF($E19=O$10,"GPM/Ind",IF($E19=O$8,"GPM/Père",IF($E19=O$6,"GPM/GPP",IF($E19=O$4,"GPM/GPM",IF($D19=O$10,"GMM/Ind",IF($D19=O$7,"GMM/Mère",IF($D19=O$5,"GMM/GMP",IF($D19=O$3,"GMM/GMM","")))))))))))) | P19: =IF($K19=P$10,"Ind/Ind",IF($K19=P$8,"Ind/Père",IF($K19=P$6,"Ind/GPP",IF($K19=P$4,"Ind/GPM",IF($K19=P$7,"Ind/Mère",IF($K19=P$5,"Ind/GMP",IF($K19=P$3,"Ind/GMM",IF($I19=P$10,"Père/Ind",IF($I19=P$8,"Père/Père",IF($I19=P$6,"Père/GPP",IF($I19=P$4,"Père/GPM",IF($H19=P$10,"Mère/Ind",IF($H19=P$7,"Mère/Mère",IF($H19=P$5,"Mère/GMP",IF($H19=P$3,"Mère/GMM",IF($G19=P$10,"GPP/Ind",IF($G19=P$8,"GPP/Père",IF($G19=P$6,"GPP/GPP",IF($G19=P$4,"GPP/GPM","")))))))))))))))))))&IF($F19=P$10,"GMP/Ind",IF($F19=P$7,"GMP/Mère",IF($F19=P$5,"GMP/GMP",IF($F19=P$3,"GMP/GMM",IF($E19=P$10,"GPM/Ind",IF($E19=P$8,"GPM/Père",IF($E19=P$6,"GPM/GPP",IF($E19=P$4,"GPM/GPM",IF($D19=P$10,"GMM/Ind",IF($D19=P$7,"GMM/Mère",IF($D19=P$5,"GMM/GMP",IF($D19=P$3,"GMM/GMM","")))))))))))) | Q19: =IF($K19=Q$10,"Ind/Ind",IF($K19=Q$8,"Ind/Père",IF($K19=Q$6,"Ind/GPP",IF($K19=Q$4,"Ind/GPM",IF($K19=Q$7,"Ind/Mère",IF($K19=Q$5,"Ind/GMP",IF($K19=Q$3,"Ind/GMM",IF($I19=Q$10,"Père/Ind",IF($I19=Q$8,"Père/Père",IF($I19=Q$6,"Père/GPP",IF($I19=Q$4,"Père/GPM",IF($H19=Q$10,"Mère/Ind",IF($H19=Q$7,"Mère/Mère",IF($H19=Q$5,"Mère/GMP",IF($H19=Q$3,"Mère/GMM",IF($G19=Q$10,"GPP/Ind",IF($G19=Q$8,"GPP/Père",IF($G19=Q$6,"GPP/GPP",IF($G19=Q$4,"GPP/GPM","")))))))))))))))))))&IF($F19=Q$10,"GMP/Ind",IF($F19=Q$7,"GMP/Mère",IF($F19=Q$5,"GMP/GMP",IF($F19=Q$3,"GMP/GMM",IF($E19=Q$10,"GPM/Ind",IF($E19=Q$8,"GPM/Père",IF($E19=Q$6,"GPM/GPP",IF($E19=Q$4,"GPM/GPM",IF($D19=Q$10,"GMM/Ind",IF($D19=Q$7,"GMM/Mère",IF($D19=Q$5,"GMM/GMP",IF($D19=Q$3,"GMM/GMM","")))))))))))) | R19: =IF($K19=R$10,"Ind/Ind",IF($K19=R$8,"Ind/Père",IF($K19=R$6,"Ind/GPP",IF($K19=R$4,"Ind/GPM",IF($K19=R$7,"Ind/Mère",IF($K19=R$5,"Ind/GMP",IF($K19=R$3,"Ind/GMM",IF($I19=R$10,"Père/Ind",IF($I19=R$8,"Père/Père",IF($I19=R$6,"Père/GPP",IF($I19=R$4,"Père/GPM",IF($H19=R$10,"Mère/Ind",IF($H19=R$7,"Mère/Mère",IF($H19=R$5,"Mère/GMP",IF($H19=R$3,"Mère/GMM",IF($G19=R$10,"GPP/Ind",IF($G19=R$8,"GPP/Père",IF($G19=R$6,"GPP/GPP",IF($G19=R$4,"GPP/GPM","")))))))))))))))))))&IF($F19=R$10,"GMP/Ind",IF($F19=R$7,"GMP/Mère",IF($F19=R$5,"GMP/GMP",IF($F19=R$3,"GMP/GMM",IF($E19=R$10,"GPM/Ind",IF($E19=R$8,"GPM/Père",IF($E19=R$6,"GPM/GPP",IF($E19=R$4,"GPM/GPM",IF($D19=R$10,"GMM/Ind",IF($D19=R$7,"GMM/Mère",IF($D19=R$5,"GMM/GMP",IF($D19=R$3,"GMM/GMM","")))))))))))) | S19: =IF($K19=S$10,"Ind/Ind",IF($K19=S$8,"Ind/Père",IF($K19=S$6,"Ind/GPP",IF($K19=S$4,"Ind/GPM",IF($K19=S$7,"Ind/Mère",IF($K19=S$5,"Ind/GMP",IF($K19=S$3,"Ind/GMM",IF($I19=S$10,"Père/Ind",IF($I19=S$8,"Père/Père",IF($I19=S$6,"Père/GPP",IF($I19=S$4,"Père/GPM",IF($H19=S$10,"Mère/Ind",IF($H19=S$7,"Mère/Mère",IF($H19=S$5,"Mère/GMP",IF($H19=S$3,"Mère/GMM",IF($G19=S$10,"GPP/Ind",IF($G19=S$8,"GPP/Père",IF($G19=S$6,"GPP/GPP",IF($G19=S$4,"GPP/GPM","")))))))))))))))))))&IF($F19=S$10,"GMP/Ind",IF($F19=S$7,"GMP/Mère",IF($F19=S$5,"GMP/GMP",IF($F19=S$3,"GMP/GMM",IF($E19=S$10,"GPM/Ind",IF($E19=S$8,"GPM/Père",IF($E19=S$6,"GPM/GPP",IF($E19=S$4,"GPM/GPM",IF($D19=S$10,"GMM/Ind",IF($D19=S$7,"GMM/Mère",IF($D19=S$5,"GMM/GMP",IF($D19=S$3,"GMM/GMM","")))))))))))) | T19: =IF($K19=T$10,"Ind/Ind",IF($K19=T$8,"Ind/Père",IF($K19=T$6,"Ind/GPP",IF($K19=T$4,"Ind/GPM",IF($K19=T$7,"Ind/Mère",IF($K19=T$5,"Ind/GMP",IF($K19=T$3,"Ind/GMM",IF($I19=T$10,"Père/Ind",IF($I19=T$8,"Père/Père",IF($I19=T$6,"Père/GPP",IF($I19=T$4,"Père/GPM",IF($H19=T$10,"Mère/Ind",IF($H19=T$7,"Mère/Mère",IF($H19=T$5,"Mère/GMP",IF($H19=T$3,"Mère/GMM",IF($G19=T$10,"GPP/Ind",IF($G19=T$8,"GPP/Père",IF($G19=T$6,"GPP/GPP",IF($G19=T$4,"GPP/GPM","")))))))))))))))))))&IF($F19=T$10,"GMP/Ind",IF($F19=T$7,"GMP/Mère",IF($F19=T$5,"GMP/GMP",IF($F19=T$3,"GMP/GMM",IF($E19=T$10,"GPM/Ind",IF($E19=T$8,"GPM/Père",IF($E19=T$6,"GPM/GPP",IF($E19=T$4,"GPM/GPM",IF($D19=T$10,"GMM/Ind",IF($D19=T$7,"GMM/Mère",IF($D19=T$5,"GMM/GMP",IF($D19=T$3,"GMM/GMM","")))))))))))) -> GPM/GPM
A20: =VLOOKUP(C20,élOvOur!$A$1:$D$199,3,FALSE) -> #N/A | B20: =Fim!A11 -> RLSORT | C20: =Fim!B11 -> 49012501 | D20: =Fim!C11 -> 00000CVOVR | E20: =Fim!D11 -> 00000CVOVM | F20: =Fim!E11 -> 49O0190012 | G20: =Fim!F11 -> 49O0191012 | H20: =Fim!G11 -> 4995194002 | I20: =Fim!H11 -> 49O0195024 | ... K20: =Fim!J11 -> 4995101008 | L20: =IF(K20=L$10,"Ind/Ind",IF(K20=L$8,"Ind/Père",IF(K20=L$6,"Ind/GPP",IF(K20=L$4,"Ind/GPM",IF(K20=L$7,"Ind/Mère",IF(K20=L$5,"Ind/GMP",IF(K20=L$3,"Ind/GMM",IF(I20=L$10,"Père/Ind",IF(I20=L$8,"Père/Père",IF(I20=L$6,"Père/GPP",IF(I20=L$4,"Père/GPM",IF(H20=L$10,"Mère/Ind",IF(H20=L$7,"Mère/Mère",IF(H20=L$5,"Mère/GMP",IF(H20=L$3,"Mère/GMM",IF(G20=L$10,"GPP/Ind",IF(G20=L$8,"GPP/Père",IF(G20=L$6,"GPP/GPP",IF(G20=L$4,"GPP/GPM","")))))))))))))))))))&IF(F20=L$10,"GMP/Ind",IF(F20=L$7,"GMP/Mère",IF(F20=L$5,"GMP/GMP",IF(F20=L$3,"GMP/GMM",IF(E20=L$10,"GPM/Ind",IF(E20=L$8,"GPM/Père",IF(E20=L$6,"GPM/GPP",IF(E20=L$4,"GPM/GPM",IF(D20=L$10,"GMM/Ind",IF(D20=L$7,"GMM/Mère",IF(D20=L$5,"GMM/GMP",IF(D20=L$3,"GMM/GMM","")))))))))))) | M20: =IF($K20=M$10,"Ind/Ind",IF($K20=M$8,"Ind/Père",IF($K20=M$6,"Ind/GPP",IF($K20=M$4,"Ind/GPM",IF($K20=M$7,"Ind/Mère",IF($K20=M$5,"Ind/GMP",IF($K20=M$3,"Ind/GMM",IF($I20=M$10,"Père/Ind",IF($I20=M$8,"Père/Père",IF($I20=M$6,"Père/GPP",IF($I20=M$4,"Père/GPM",IF($H20=M$10,"Mère/Ind",IF($H20=M$7,"Mère/Mère",IF($H20=M$5,"Mère/GMP",IF($H20=M$3,"Mère/GMM",IF($G20=M$10,"GPP/Ind",IF($G20=M$8,"GPP/Père",IF($G20=M$6,"GPP/GPP",IF($G20=M$4,"GPP/GPM","")))))))))))))))))))&IF($F20=M$10,"GMP/Ind",IF($F20=M$7,"GMP/Mère",IF($F20=M$5,"GMP/GMP",IF($F20=M$3,"GMP/GMM",IF($E20=M$10,"GPM/Ind",IF($E20=M$8,"GPM/Père",IF($E20=M$6,"GPM/GPP",IF($E20=M$4,"GPM/GPM",IF($D20=M$10,"GMM/Ind",IF($D20=M$7,"GMM/Mère",IF($D20=M$5,"GMM/GMP",IF($D20=M$3,"GMM/GMM","")))))))))))) | N20: =IF($K20=N$10,"Ind/Ind",IF($K20=N$8,"Ind/Père",IF($K20=N$6,"Ind/GPP",IF($K20=N$4,"Ind/GPM",IF($K20=N$7,"Ind/Mère",IF($K20=N$5,"Ind/GMP",IF($K20=N$3,"Ind/GMM",IF($I20=N$10,"Père/Ind",IF($I20=N$8,"Père/Père",IF($I20=N$6,"Père/GPP",IF($I20=N$4,"Père/GPM",IF($H20=N$10,"Mère/Ind",IF($H20=N$7,"Mère/Mère",IF($H20=N$5,"Mère/GMP",IF($H20=N$3,"Mère/GMM",IF($G20=N$10,"GPP/Ind",IF($G20=N$8,"GPP/Père",IF($G20=N$6,"GPP/GPP",IF($G20=N$4,"GPP/GPM","")))))))))))))))))))&IF($F20=N$10,"GMP/Ind",IF($F20=N$7,"GMP/Mère",IF($F20=N$5,"GMP/GMP",IF($F20=N$3,"GMP/GMM",IF($E20=N$10,"GPM/Ind",IF($E20=N$8,"GPM/Père",IF($E20=N$6,"GPM/GPP",IF($E20=N$4,"GPM/GPM",IF($D20=N$10,"GMM/Ind",IF($D20=N$7,"GMM/Mère",IF($D20=N$5,"GMM/GMP",IF($D20=N$3,"GMM/GMM","")))))))))))) | O20: =IF($K20=O$10,"Ind/Ind",IF($K20=O$8,"Ind/Père",IF($K20=O$6,"Ind/GPP",IF($K20=O$4,"Ind/GPM",IF($K20=O$7,"Ind/Mère",IF($K20=O$5,"Ind/GMP",IF($K20=O$3,"Ind/GMM",IF($I20=O$10,"Père/Ind",IF($I20=O$8,"Père/Père",IF($I20=O$6,"Père/GPP",IF($I20=O$4,"Père/GPM",IF($H20=O$10,"Mère/Ind",IF($H20=O$7,"Mère/Mère",IF($H20=O$5,"Mère/GMP",IF($H20=O$3,"Mère/GMM",IF($G20=O$10,"GPP/Ind",IF($G20=O$8,"GPP/Père",IF($G20=O$6,"GPP/GPP",IF($G20=O$4,"GPP/GPM","")))))))))))))))))))&IF($F20=O$10,"GMP/Ind",IF($F20=O$7,"GMP/Mère",IF($F20=O$5,"GMP/GMP",IF($F20=O$3,"GMP/GMM",IF($E20=O$10,"GPM/Ind",IF($E20=O$8,"GPM/Père",IF($E20=O$6,"GPM/GPP",IF($E20=O$4,"GPM/GPM",IF($D20=O$10,"GMM/Ind",IF($D20=O$7,"GMM/Mère",IF($D20=O$5,"GMM/GMP",IF($D20=O$3,"GMM/GMM","")))))))))))) | P20: =IF($K20=P$10,"Ind/Ind",IF($K20=P$8,"Ind/Père",IF($K20=P$6,"Ind/GPP",IF($K20=P$4,"Ind/GPM",IF($K20=P$7,"Ind/Mère",IF($K20=P$5,"Ind/GMP",IF($K20=P$3,"Ind/GMM",IF($I20=P$10,"Père/Ind",IF($I20=P$8,"Père/Père",IF($I20=P$6,"Père/GPP",IF($I20=P$4,"Père/GPM",IF($H20=P$10,"Mère/Ind",IF($H20=P$7,"Mère/Mère",IF($H20=P$5,"Mère/GMP",IF($H20=P$3,"Mère/GMM",IF($G20=P$10,"GPP/Ind",IF($G20=P$8,"GPP/Père",IF($G20=P$6,"GPP/GPP",IF($G20=P$4,"GPP/GPM","")))))))))))))))))))&IF($F20=P$10,"GMP/Ind",IF($F20=P$7,"GMP/Mère",IF($F20=P$5,"GMP/GMP",IF($F20=P$3,"GMP/GMM",IF($E20=P$10,"GPM/Ind",IF($E20=P$8,"GPM/Père",IF($E20=P$6,"GPM/GPP",IF($E20=P$4,"GPM/GPM",IF($D20=P$10,"GMM/Ind",IF($D20=P$7,"GMM/Mère",IF($D20=P$5,"GMM/GMP",IF($D20=P$3,"GMM/GMM","")))))))))))) | Q20: =IF($K20=Q$10,"Ind/Ind",IF($K20=Q$8,"Ind/Père",IF($K20=Q$6,"Ind/GPP",IF($K20=Q$4,"Ind/GPM",IF($K20=Q$7,"Ind/Mère",IF($K20=Q$5,"Ind/GMP",IF($K20=Q$3,"Ind/GMM",IF($I20=Q$10,"Père/Ind",IF($I20=Q$8,"Père/Père",IF($I20=Q$6,"Père/GPP",IF($I20=Q$4,"Père/GPM",IF($H20=Q$10,"Mère/Ind",IF($H20=Q$7,"Mère/Mère",IF($H20=Q$5,"Mère/GMP",IF($H20=Q$3,"Mère/GMM",IF($G20=Q$10,"GPP/Ind",IF($G20=Q$8,"GPP/Père",IF($G20=Q$6,"GPP/GPP",IF($G20=Q$4,"GPP/GPM","")))))))))))))))))))&IF($F20=Q$10,"GMP/Ind",IF($F20=Q$7,"GMP/Mère",IF($F20=Q$5,"GMP/GMP",IF($F20=Q$3,"GMP/GMM",IF($E20=Q$10,"GPM/Ind",IF($E20=Q$8,"GPM/Père",IF($E20=Q$6,"GPM/GPP",IF($E20=Q$4,"GPM/GPM",IF($D20=Q$10,"GMM/Ind",IF($D20=Q$7,"GMM/Mère",IF($D20=Q$5,"GMM/GMP",IF($D20=Q$3,"GMM/GMM","")))))))))))) | R20: =IF($K20=R$10,"Ind/Ind",IF($K20=R$8,"Ind/Père",IF($K20=R$6,"Ind/GPP",IF($K20=R$4,"Ind/GPM",IF($K20=R$7,"Ind/Mère",IF($K20=R$5,"Ind/GMP",IF($K20=R$3,"Ind/GMM",IF($I20=R$10,"Père/Ind",IF($I20=R$8,"Père/Père",IF($I20=R$6,"Père/GPP",IF($I20=R$4,"Père/GPM",IF($H20=R$10,"Mère/Ind",IF($H20=R$7,"Mère/Mère",IF($H20=R$5,"Mère/GMP",IF($H20=R$3,"Mère/GMM",IF($G20=R$10,"GPP/Ind",IF($G20=R$8,"GPP/Père",IF($G20=R$6,"GPP/GPP",IF($G20=R$4,"GPP/GPM","")))))))))))))))))))&IF($F20=R$10,"GMP/Ind",IF($F20=R$7,"GMP/Mère",IF($F20=R$5,"GMP/GMP",IF($F20=R$3,"GMP/GMM",IF($E20=R$10,"GPM/Ind",IF($E20=R$8,"GPM/Père",IF($E20=R$6,"GPM/GPP",IF($E20=R$4,"GPM/GPM",IF($D20=R$10,"GMM/Ind",IF($D20=R$7,"GMM/Mère",IF($D20=R$5,"GMM/GMP",IF($D20=R$3,"GMM/GMM","")))))))))))) | S20: =IF($K20=S$10,"Ind/Ind",IF($K20=S$8,"Ind/Père",IF($K20=S$6,"Ind/GPP",IF($K20=S$4,"Ind/GPM",IF($K20=S$7,"Ind/Mère",IF($K20=S$5,"Ind/GMP",IF($K20=S$3,"Ind/GMM",IF($I20=S$10,"Père/Ind",IF($I20=S$8,"Père/Père",IF($I20=S$6,"Père/GPP",IF($I20=S$4,"Père/GPM",IF($H20=S$10,"Mère/Ind",IF($H20=S$7,"Mère/Mère",IF($H20=S$5,"Mère/GMP",IF($H20=S$3,"Mère/GMM",IF($G20=S$10,"GPP/Ind",IF($G20=S$8,"GPP/Père",IF($G20=S$6,"GPP/GPP",IF($G20=S$4,"GPP/GPM","")))))))))))))))))))&IF($F20=S$10,"GMP/Ind",IF($F20=S$7,"GMP/Mère",IF($F20=S$5,"GMP/GMP",IF($F20=S$3,"GMP/GMM",IF($E20=S$10,"GPM/Ind",IF($E20=S$8,"GPM/Père",IF($E20=S$6,"GPM/GPP",IF($E20=S$4,"GPM/GPM",IF($D20=S$10,"GMM/Ind",IF($D20=S$7,"GMM/Mère",IF($D20=S$5,"GMM/GMP",IF($D20=S$3,"GMM/GMM","")))))))))))) | T20: =IF($K20=T$10,"Ind/Ind",IF($K20=T$8,"Ind/Père",IF($K20=T$6,"Ind/GPP",IF($K20=T$4,"Ind/GPM",IF($K20=T$7,"Ind/Mère",IF($K20=T$5,"Ind/GMP",IF($K20=T$3,"Ind/GMM",IF($I20=T$10,"Père/Ind",IF($I20=T$8,"Père/Père",IF($I20=T$6,"Père/GPP",IF($I20=T$4,"Père/GPM",IF($H20=T$10,"Mère/Ind",IF($H20=T$7,"Mère/Mère",IF($H20=T$5,"Mère/GMP",IF($H20=T$3,"Mère/GMM",IF($G20=T$10,"GPP/Ind",IF($G20=T$8,"GPP/Père",IF($G20=T$6,"GPP/GPP",IF($G20=T$4,"GPP/GPM","")))))))))))))))))))&IF($F20=T$10,"GMP/Ind",IF($F20=T$7,"GMP/Mère",IF($F20=T$5,"GMP/GMP",IF($F20=T$3,"GMP/GMM",IF($E20=T$10,"GPM/Ind",IF($E20=T$8,"GPM/Père",IF($E20=T$6,"GPM/GPP",IF($E20=T$4,"GPM/GPM",IF($D20=T$10,"GMM/Ind",IF($D20=T$7,"GMM/Mère",IF($D20=T$5,"GMM/GMP",IF($D20=T$3,"GMM/GMM",""))))))))))))
A21: =VLOOKUP(C21,élOvOur!$A$1:$D$199,3,FALSE) -> #N/A | B21: =Fim!A12 -> RLSORT | C21: =Fim!B12 -> 49012501 | D21: =Fim!C12 -> 4908288029 | E21: =Fim!D12 -> 8221882020 | F21: =Fim!E12 -> 49O0190012 | G21: =Fim!F12 -> 49O0191012 | H21: =Fim!G12 -> 4995191012 | I21: =Fim!H12 -> 49O0195024 | ... K21: =Fim!J12 -> 4995198001 | L21: =IF(K21=L$10,"Ind/Ind",IF(K21=L$8,"Ind/Père",IF(K21=L$6,"Ind/GPP",IF(K21=L$4,"Ind/GPM",IF(K21=L$7,"Ind/Mère",IF(K21=L$5,"Ind/GMP",IF(K21=L$3,"Ind/GMM",IF(I21=L$10,"Père/Ind",IF(I21=L$8,"Père/Père",IF(I21=L$6,"Père/GPP",IF(I21=L$4,"Père/GPM",IF(H21=L$10,"Mère/Ind",IF(H21=L$7,"Mère/Mère",IF(H21=L$5,"Mère/GMP",IF(H21=L$3,"Mère/GMM",IF(G21=L$10,"GPP/Ind",IF(G21=L$8,"GPP/Père",IF(G21=L$6,"GPP/GPP",IF(G21=L$4,"GPP/GPM","")))))))))))))))))))&IF(F21=L$10,"GMP/Ind",IF(F21=L$7,"GMP/Mère",IF(F21=L$5,"GMP/GMP",IF(F21=L$3,"GMP/GMM",IF(E21=L$10,"GPM/Ind",IF(E21=L$8,"GPM/Père",IF(E21=L$6,"GPM/GPP",IF(E21=L$4,"GPM/GPM",IF(D21=L$10,"GMM/Ind",IF(D21=L$7,"GMM/Mère",IF(D21=L$5,"GMM/GMP",IF(D21=L$3,"GMM/GMM","")))))))))))) | M21: =IF($K21=M$10,"Ind/Ind",IF($K21=M$8,"Ind/Père",IF($K21=M$6,"Ind/GPP",IF($K21=M$4,"Ind/GPM",IF($K21=M$7,"Ind/Mère",IF($K21=M$5,"Ind/GMP",IF($K21=M$3,"Ind/GMM",IF($I21=M$10,"Père/Ind",IF($I21=M$8,"Père/Père",IF($I21=M$6,"Père/GPP",IF($I21=M$4,"Père/GPM",IF($H21=M$10,"Mère/Ind",IF($H21=M$7,"Mère/Mère",IF($H21=M$5,"Mère/GMP",IF($H21=M$3,"Mère/GMM",IF($G21=M$10,"GPP/Ind",IF($G21=M$8,"GPP/Père",IF($G21=M$6,"GPP/GPP",IF($G21=M$4,"GPP/GPM","")))))))))))))))))))&IF($F21=M$10,"GMP/Ind",IF($F21=M$7,"GMP/Mère",IF($F21=M$5,"GMP/GMP",IF($F21=M$3,"GMP/GMM",IF($E21=M$10,"GPM/Ind",IF($E21=M$8,"GPM/Père",IF($E21=M$6,"GPM/GPP",IF($E21=M$4,"GPM/GPM",IF($D21=M$10,"GMM/Ind",IF($D21=M$7,"GMM/Mère",IF($D21=M$5,"GMM/GMP",IF($D21=M$3,"GMM/GMM","")))))))))))) | N21: =IF($K21=N$10,"Ind/Ind",IF($K21=N$8,"Ind/Père",IF($K21=N$6,"Ind/GPP",IF($K21=N$4,"Ind/GPM",IF($K21=N$7,"Ind/Mère",IF($K21=N$5,"Ind/GMP",IF($K21=N$3,"Ind/GMM",IF($I21=N$10,"Père/Ind",IF($I21=N$8,"Père/Père",IF($I21=N$6,"Père/GPP",IF($I21=N$4,"Père/GPM",IF($H21=N$10,"Mère/Ind",IF($H21=N$7,"Mère/Mère",IF($H21=N$5,"Mère/GMP",IF($H21=N$3,"Mère/GMM",IF($G21=N$10,"GPP/Ind",IF($G21=N$8,"GPP/Père",IF($G21=N$6,"GPP/GPP",IF($G21=N$4,"GPP/GPM","")))))))))))))))))))&IF($F21=N$10,"GMP/Ind",IF($F21=N$7,"GMP/Mère",IF($F21=N$5,"GMP/GMP",IF($F21=N$3,"GMP/GMM",IF($E21=N$10,"GPM/Ind",IF($E21=N$8,"GPM/Père",IF($E21=N$6,"GPM/GPP",IF($E21=N$4,"GPM/GPM",IF($D21=N$10,"GMM/Ind",IF($D21=N$7,"GMM/Mère",IF($D21=N$5,"GMM/GMP",IF($D21=N$3,"GMM/GMM","")))))))))))) | O21: =IF($K21=O$10,"Ind/Ind",IF($K21=O$8,"Ind/Père",IF($K21=O$6,"Ind/GPP",IF($K21=O$4,"Ind/GPM",IF($K21=O$7,"Ind/Mère",IF($K21=O$5,"Ind/GMP",IF($K21=O$3,"Ind/GMM",IF($I21=O$10,"Père/Ind",IF($I21=O$8,"Père/Père",IF($I21=O$6,"Père/GPP",IF($I21=O$4,"Père/GPM",IF($H21=O$10,"Mère/Ind",IF($H21=O$7,"Mère/Mère",IF($H21=O$5,"Mère/GMP",IF($H21=O$3,"Mère/GMM",IF($G21=O$10,"GPP/Ind",IF($G21=O$8,"GPP/Père",IF($G21=O$6,"GPP/GPP",IF($G21=O$4,"GPP/GPM","")))))))))))))))))))&IF($F21=O$10,"GMP/Ind",IF($F21=O$7,"GMP/Mère",IF($F21=O$5,"GMP/GMP",IF($F21=O$3,"GMP/GMM",IF($E21=O$10,"GPM/Ind",IF($E21=O$8,"GPM/Père",IF($E21=O$6,"GPM/GPP",IF($E21=O$4,"GPM/GPM",IF($D21=O$10,"GMM/Ind",IF($D21=O$7,"GMM/Mère",IF($D21=O$5,"GMM/GMP",IF($D21=O$3,"GMM/GMM","")))))))))))) | P21: =IF($K21=P$10,"Ind/Ind",IF($K21=P$8,"Ind/Père",IF($K21=P$6,"Ind/GPP",IF($K21=P$4,"Ind/GPM",IF($K21=P$7,"Ind/Mère",IF($K21=P$5,"Ind/GMP",IF($K21=P$3,"Ind/GMM",IF($I21=P$10,"Père/Ind",IF($I21=P$8,"Père/Père",IF($I21=P$6,"Père/GPP",IF($I21=P$4,"Père/GPM",IF($H21=P$10,"Mère/Ind",IF($H21=P$7,"Mère/Mère",IF($H21=P$5,"Mère/GMP",IF($H21=P$3,"Mère/GMM",IF($G21=P$10,"GPP/Ind",IF($G21=P$8,"GPP/Père",IF($G21=P$6,"GPP/GPP",IF($G21=P$4,"GPP/GPM","")))))))))))))))))))&IF($F21=P$10,"GMP/Ind",IF($F21=P$7,"GMP/Mère",IF($F21=P$5,"GMP/GMP",IF($F21=P$3,"GMP/GMM",IF($E21=P$10,"GPM/Ind",IF($E21=P$8,"GPM/Père",IF($E21=P$6,"GPM/GPP",IF($E21=P$4,"GPM/GPM",IF($D21=P$10,"GMM/Ind",IF($D21=P$7,"GMM/Mère",IF($D21=P$5,"GMM/GMP",IF($D21=P$3,"GMM/GMM","")))))))))))) | Q21: =IF($K21=Q$10,"Ind/Ind",IF($K21=Q$8,"Ind/Père",IF($K21=Q$6,"Ind/GPP",IF($K21=Q$4,"Ind/GPM",IF($K21=Q$7,"Ind/Mère",IF($K21=Q$5,"Ind/GMP",IF($K21=Q$3,"Ind/GMM",IF($I21=Q$10,"Père/Ind",IF($I21=Q$8,"Père/Père",IF($I21=Q$6,"Père/GPP",IF($I21=Q$4,"Père/GPM",IF($H21=Q$10,"Mère/Ind",IF($H21=Q$7,"Mère/Mère",IF($H21=Q$5,"Mère/GMP",IF($H21=Q$3,"Mère/GMM",IF($G21=Q$10,"GPP/Ind",IF($G21=Q$8,"GPP/Père",IF($G21=Q$6,"GPP/GPP",IF($G21=Q$4,"GPP/GPM","")))))))))))))))))))&IF($F21=Q$10,"GMP/Ind",IF($F21=Q$7,"GMP/Mère",IF($F21=Q$5,"GMP/GMP",IF($F21=Q$3,"GMP/GMM",IF($E21=Q$10,"GPM/Ind",IF($E21=Q$8,"GPM/Père",IF($E21=Q$6,"GPM/GPP",IF($E21=Q$4,"GPM/GPM",IF($D21=Q$10,"GMM/Ind",IF($D21=Q$7,"GMM/Mère",IF($D21=Q$5,"GMM/GMP",IF($D21=Q$3,"GMM/GMM","")))))))))))) | R21: =IF($K21=R$10,"Ind/Ind",IF($K21=R$8,"Ind/Père",IF($K21=R$6,"Ind/GPP",IF($K21=R$4,"Ind/GPM",IF($K21=R$7,"Ind/Mère",IF($K21=R$5,"Ind/GMP",IF($K21=R$3,"Ind/GMM",IF($I21=R$10,"Père/Ind",IF($I21=R$8,"Père/Père",IF($I21=R$6,"Père/GPP",IF($I21=R$4,"Père/GPM",IF($H21=R$10,"Mère/Ind",IF($H21=R$7,"Mère/Mère",IF($H21=R$5,"Mère/GMP",IF($H21=R$3,"Mère/GMM",IF($G21=R$10,"GPP/Ind",IF($G21=R$8,"GPP/Père",IF($G21=R$6,"GPP/GPP",IF($G21=R$4,"GPP/GPM","")))))))))))))))))))&IF($F21=R$10,"GMP/Ind",IF($F21=R$7,"GMP/Mère",IF($F21=R$5,"GMP/GMP",IF($F21=R$3,"GMP/GMM",IF($E21=R$10,"GPM/Ind",IF($E21=R$8,"GPM/Père",IF($E21=R$6,"GPM/GPP",IF($E21=R$4,"GPM/GPM",IF($D21=R$10,"GMM/Ind",IF($D21=R$7,"GMM/Mère",IF($D21=R$5,"GMM/GMP",IF($D21=R$3,"GMM/GMM","")))))))))))) | S21: =IF($K21=S$10,"Ind/Ind",IF($K21=S$8,"Ind/Père",IF($K21=S$6,"Ind/GPP",IF($K21=S$4,"Ind/GPM",IF($K21=S$7,"Ind/Mère",IF($K21=S$5,"Ind/GMP",IF($K21=S$3,"Ind/GMM",IF($I21=S$10,"Père/Ind",IF($I21=S$8,"Père/Père",IF($I21=S$6,"Père/GPP",IF($I21=S$4,"Père/GPM",IF($H21=S$10,"Mère/Ind",IF($H21=S$7,"Mère/Mère",IF($H21=S$5,"Mère/GMP",IF($H21=S$3,"Mère/GMM",IF($G21=S$10,"GPP/Ind",IF($G21=S$8,"GPP/Père",IF($G21=S$6,"GPP/GPP",IF($G21=S$4,"GPP/GPM","")))))))))))))))))))&IF($F21=S$10,"GMP/Ind",IF($F21=S$7,"GMP/Mère",IF($F21=S$5,"GMP/GMP",IF($F21=S$3,"GMP/GMM",IF($E21=S$10,"GPM/Ind",IF($E21=S$8,"GPM/Père",IF($E21=S$6,"GPM/GPP",IF($E21=S$4,"GPM/GPM",IF($D21=S$10,"GMM/Ind",IF($D21=S$7,"GMM/Mère",IF($D21=S$5,"GMM/GMP",IF($D21=S$3,"GMM/GMM","")))))))))))) | T21: =IF($K21=T$10,"Ind/Ind",IF($K21=T$8,"Ind/Père",IF($K21=T$6,"Ind/GPP",IF($K21=T$4,"Ind/GPM",IF($K21=T$7,"Ind/Mère",IF($K21=T$5,"Ind/GMP",IF($K21=T$3,"Ind/GMM",IF($I21=T$10,"Père/Ind",IF($I21=T$8,"Père/Père",IF($I21=T$6,"Père/GPP",IF($I21=T$4,"Père/GPM",IF($H21=T$10,"Mère/Ind",IF($H21=T$7,"Mère/Mère",IF($H21=T$5,"Mère/GMP",IF($H21=T$3,"Mère/GMM",IF($G21=T$10,"GPP/Ind",IF($G21=T$8,"GPP/Père",IF($G21=T$6,"GPP/GPP",IF($G21=T$4,"GPP/GPM","")))))))))))))))))))&IF($F21=T$10,"GMP/Ind",IF($F21=T$7,"GMP/Mère",IF($F21=T$5,"GMP/GMP",IF($F21=T$3,"GMP/GMM",IF($E21=T$10,"GPM/Ind",IF($E21=T$8,"GPM/Père",IF($E21=T$6,"GPM/GPP",IF($E21=T$4,"GPM/GPM",IF($D21=T$10,"GMM/Ind",IF($D21=T$7,"GMM/Mère",IF($D21=T$5,"GMM/GMP",IF($D21=T$3,"GMM/GMM",""))))))))))))
A22: =VLOOKUP(C22,élOvOur!$A$1:$D$199,3,FALSE) -> #N/A | B22: =Fim!A13 -> RLSORT | C22: =Fim!B13 -> 49012501 | D22: =Fim!C13 -> 00000CVOVR | E22: =Fim!D13 -> 00000CVOVM | F22: =Fim!E13 -> 49O0190012 | G22: =Fim!F13 -> 49O0191012 | H22: =Fim!G13 -> 4995194019 | I22: =Fim!H13 -> 49O0195024 | ... K22: =Fim!J13 -> 4995198028 | L22: =IF(K22=L$10,"Ind/Ind",IF(K22=L$8,"Ind/Père",IF(K22=L$6,"Ind/GPP",IF(K22=L$4,"Ind/GPM",IF(K22=L$7,"Ind/Mère",IF(K22=L$5,"Ind/GMP",IF(K22=L$3,"Ind/GMM",IF(I22=L$10,"Père/Ind",IF(I22=L$8,"Père/Père",IF(I22=L$6,"Père/GPP",IF(I22=L$4,"Père/GPM",IF(H22=L$10,"Mère/Ind",IF(H22=L$7,"Mère/Mère",IF(H22=L$5,"Mère/GMP",IF(H22=L$3,"Mère/GMM",IF(G22=L$10,"GPP/Ind",IF(G22=L$8,"GPP/Père",IF(G22=L$6,"GPP/GPP",IF(G22=L$4,"GPP/GPM","")))))))))))))))))))&IF(F22=L$10,"GMP/Ind",IF(F22=L$7,"GMP/Mère",IF(F22=L$5,"GMP/GMP",IF(F22=L$3,"GMP/GMM",IF(E22=L$10,"GPM/Ind",IF(E22=L$8,"GPM/Père",IF(E22=L$6,"GPM/GPP",IF(E22=L$4,"GPM/GPM",IF(D22=L$10,"GMM/Ind",IF(D22=L$7,"GMM/Mère",IF(D22=L$5,"GMM/GMP",IF(D22=L$3,"GMM/GMM","")))))))))))) | M22: =IF($K22=M$10,"Ind/Ind",IF($K22=M$8,"Ind/Père",IF($K22=M$6,"Ind/GPP",IF($K22=M$4,"Ind/GPM",IF($K22=M$7,"Ind/Mère",IF($K22=M$5,"Ind/GMP",IF($K22=M$3,"Ind/GMM",IF($I22=M$10,"Père/Ind",IF($I22=M$8,"Père/Père",IF($I22=M$6,"Père/GPP",IF($I22=M$4,"Père/GPM",IF($H22=M$10,"Mère/Ind",IF($H22=M$7,"Mère/Mère",IF($H22=M$5,"Mère/GMP",IF($H22=M$3,"Mère/GMM",IF($G22=M$10,"GPP/Ind",IF($G22=M$8,"GPP/Père",IF($G22=M$6,"GPP/GPP",IF($G22=M$4,"GPP/GPM","")))))))))))))))))))&IF($F22=M$10,"GMP/Ind",IF($F22=M$7,"GMP/Mère",IF($F22=M$5,"GMP/GMP",IF($F22=M$3,"GMP/GMM",IF($E22=M$10,"GPM/Ind",IF($E22=M$8,"GPM/Père",IF($E22=M$6,"GPM/GPP",IF($E22=M$4,"GPM/GPM",IF($D22=M$10,"GMM/Ind",IF($D22=M$7,"GMM/Mère",IF($D22=M$5,"GMM/GMP",IF($D22=M$3,"GMM/GMM","")))))))))))) | N22: =IF($K22=N$10,"Ind/Ind",IF($K22=N$8,"Ind/Père",IF($K22=N$6,"Ind/GPP",IF($K22=N$4,"Ind/GPM",IF($K22=N$7,"Ind/Mère",IF($K22=N$5,"Ind/GMP",IF($K22=N$3,"Ind/GMM",IF($I22=N$10,"Père/Ind",IF($I22=N$8,"Père/Père",IF($I22=N$6,"Père/GPP",IF($I22=N$4,"Père/GPM",IF($H22=N$10,"Mère/Ind",IF($H22=N$7,"Mère/Mère",IF($H22=N$5,"Mère/GMP",IF($H22=N$3,"Mère/GMM",IF($G22=N$10,"GPP/Ind",IF($G22=N$8,"GPP/Père",IF($G22=N$6,"GPP/GPP",IF($G22=N$4,"GPP/GPM","")))))))))))))))))))&IF($F22=N$10,"GMP/Ind",IF($F22=N$7,"GMP/Mère",IF($F22=N$5,"GMP/GMP",IF($F22=N$3,"GMP/GMM",IF($E22=N$10,"GPM/Ind",IF($E22=N$8,"GPM/Père",IF($E22=N$6,"GPM/GPP",IF($E22=N$4,"GPM/GPM",IF($D22=N$10,"GMM/Ind",IF($D22=N$7,"GMM/Mère",IF($D22=N$5,"GMM/GMP",IF($D22=N$3,"GMM/GMM","")))))))))))) | O22: =IF($K22=O$10,"Ind/Ind",IF($K22=O$8,"Ind/Père",IF($K22=O$6,"Ind/GPP",IF($K22=O$4,"Ind/GPM",IF($K22=O$7,"Ind/Mère",IF($K22=O$5,"Ind/GMP",IF($K22=O$3,"Ind/GMM",IF($I22=O$10,"Père/Ind",IF($I22=O$8,"Père/Père",IF($I22=O$6,"Père/GPP",IF($I22=O$4,"Père/GPM",IF($H22=O$10,"Mère/Ind",IF($H22=O$7,"Mère/Mère",IF($H22=O$5,"Mère/GMP",IF($H22=O$3,"Mère/GMM",IF($G22=O$10,"GPP/Ind",IF($G22=O$8,"GPP/Père",IF($G22=O$6,"GPP/GPP",IF($G22=O$4,"GPP/GPM","")))))))))))))))))))&IF($F22=O$10,"GMP/Ind",IF($F22=O$7,"GMP/Mère",IF($F22=O$5,"GMP/GMP",IF($F22=O$3,"GMP/GMM",IF($E22=O$10,"GPM/Ind",IF($E22=O$8,"GPM/Père",IF($E22=O$6,"GPM/GPP",IF($E22=O$4,"GPM/GPM",IF($D22=O$10,"GMM/Ind",IF($D22=O$7,"GMM/Mère",IF($D22=O$5,"GMM/GMP",IF($D22=O$3,"GMM/GMM","")))))))))))) | P22: =IF($K22=P$10,"Ind/Ind",IF($K22=P$8,"Ind/Père",IF($K22=P$6,"Ind/GPP",IF($K22=P$4,"Ind/GPM",IF($K22=P$7,"Ind/Mère",IF($K22=P$5,"Ind/GMP",IF($K22=P$3,"Ind/GMM",IF($I22=P$10,"Père/Ind",IF($I22=P$8,"Père/Père",IF($I22=P$6,"Père/GPP",IF($I22=P$4,"Père/GPM",IF($H22=P$10,"Mère/Ind",IF($H22=P$7,"Mère/Mère",IF($H22=P$5,"Mère/GMP",IF($H22=P$3,"Mère/GMM",IF($G22=P$10,"GPP/Ind",IF($G22=P$8,"GPP/Père",IF($G22=P$6,"GPP/GPP",IF($G22=P$4,"GPP/GPM","")))))))))))))))))))&IF($F22=P$10,"GMP/Ind",IF($F22=P$7,"GMP/Mère",IF($F22=P$5,"GMP/GMP",IF($F22=P$3,"GMP/GMM",IF($E22=P$10,"GPM/Ind",IF($E22=P$8,"GPM/Père",IF($E22=P$6,"GPM/GPP",IF($E22=P$4,"GPM/GPM",IF($D22=P$10,"GMM/Ind",IF($D22=P$7,"GMM/Mère",IF($D22=P$5,"GMM/GMP",IF($D22=P$3,"GMM/GMM","")))))))))))) | Q22: =IF($K22=Q$10,"Ind/Ind",IF($K22=Q$8,"Ind/Père",IF($K22=Q$6,"Ind/GPP",IF($K22=Q$4,"Ind/GPM",IF($K22=Q$7,"Ind/Mère",IF($K22=Q$5,"Ind/GMP",IF($K22=Q$3,"Ind/GMM",IF($I22=Q$10,"Père/Ind",IF($I22=Q$8,"Père/Père",IF($I22=Q$6,"Père/GPP",IF($I22=Q$4,"Père/GPM",IF($H22=Q$10,"Mère/Ind",IF($H22=Q$7,"Mère/Mère",IF($H22=Q$5,"Mère/GMP",IF($H22=Q$3,"Mère/GMM",IF($G22=Q$10,"GPP/Ind",IF($G22=Q$8,"GPP/Père",IF($G22=Q$6,"GPP/GPP",IF($G22=Q$4,"GPP/GPM","")))))))))))))))))))&IF($F22=Q$10,"GMP/Ind",IF($F22=Q$7,"GMP/Mère",IF($F22=Q$5,"GMP/GMP",IF($F22=Q$3,"GMP/GMM",IF($E22=Q$10,"GPM/Ind",IF($E22=Q$8,"GPM/Père",IF($E22=Q$6,"GPM/GPP",IF($E22=Q$4,"GPM/GPM",IF($D22=Q$10,"GMM/Ind",IF($D22=Q$7,"GMM/Mère",IF($D22=Q$5,"GMM/GMP",IF($D22=Q$3,"GMM/GMM","")))))))))))) | R22: =IF($K22=R$10,"Ind/Ind",IF($K22=R$8,"Ind/Père",IF($K22=R$6,"Ind/GPP",IF($K22=R$4,"Ind/GPM",IF($K22=R$7,"Ind/Mère",IF($K22=R$5,"Ind/GMP",IF($K22=R$3,"Ind/GMM",IF($I22=R$10,"Père/Ind",IF($I22=R$8,"Père/Père",IF($I22=R$6,"Père/GPP",IF($I22=R$4,"Père/GPM",IF($H22=R$10,"Mère/Ind",IF($H22=R$7,"Mère/Mère",IF($H22=R$5,"Mère/GMP",IF($H22=R$3,"Mère/GMM",IF($G22=R$10,"GPP/Ind",IF($G22=R$8,"GPP/Père",IF($G22=R$6,"GPP/GPP",IF($G22=R$4,"GPP/GPM","")))))))))))))))))))&IF($F22=R$10,"GMP/Ind",IF($F22=R$7,"GMP/Mère",IF($F22=R$5,"GMP/GMP",IF($F22=R$3,"GMP/GMM",IF($E22=R$10,"GPM/Ind",IF($E22=R$8,"GPM/Père",IF($E22=R$6,"GPM/GPP",IF($E22=R$4,"GPM/GPM",IF($D22=R$10,"GMM/Ind",IF($D22=R$7,"GMM/Mère",IF($D22=R$5,"GMM/GMP",IF($D22=R$3,"GMM/GMM","")))))))))))) | S22: =IF($K22=S$10,"Ind/Ind",IF($K22=S$8,"Ind/Père",IF($K22=S$6,"Ind/GPP",IF($K22=S$4,"Ind/GPM",IF($K22=S$7,"Ind/Mère",IF($K22=S$5,"Ind/GMP",IF($K22=S$3,"Ind/GMM",IF($I22=S$10,"Père/Ind",IF($I22=S$8,"Père/Père",IF($I22=S$6,"Père/GPP",IF($I22=S$4,"Père/GPM",IF($H22=S$10,"Mère/Ind",IF($H22=S$7,"Mère/Mère",IF($H22=S$5,"Mère/GMP",IF($H22=S$3,"Mère/GMM",IF($G22=S$10,"GPP/Ind",IF($G22=S$8,"GPP/Père",IF($G22=S$6,"GPP/GPP",IF($G22=S$4,"GPP/GPM","")))))))))))))))))))&IF($F22=S$10,"GMP/Ind",IF($F22=S$7,"GMP/Mère",IF($F22=S$5,"GMP/GMP",IF($F22=S$3,"GMP/GMM",IF($E22=S$10,"GPM/Ind",IF($E22=S$8,"GPM/Père",IF($E22=S$6,"GPM/GPP",IF($E22=S$4,"GPM/GPM",IF($D22=S$10,"GMM/Ind",IF($D22=S$7,"GMM/Mère",IF($D22=S$5,"GMM/GMP",IF($D22=S$3,"GMM/GMM","")))))))))))) | T22: =IF($K22=T$10,"Ind/Ind",IF($K22=T$8,"Ind/Père",IF($K22=T$6,"Ind/GPP",IF($K22=T$4,"Ind/GPM",IF($K22=T$7,"Ind/Mère",IF($K22=T$5,"Ind/GMP",IF($K22=T$3,"Ind/GMM",IF($I22=T$10,"Père/Ind",IF($I22=T$8,"Père/Père",IF($I22=T$6,"Père/GPP",IF($I22=T$4,"Père/GPM",IF($H22=T$10,"Mère/Ind",IF($H22=T$7,"Mère/Mère",IF($H22=T$5,"Mère/GMP",IF($H22=T$3,"Mère/GMM",IF($G22=T$10,"GPP/Ind",IF($G22=T$8,"GPP/Père",IF($G22=T$6,"GPP/GPP",IF($G22=T$4,"GPP/GPM","")))))))))))))))))))&IF($F22=T$10,"GMP/Ind",IF($F22=T$7,"GMP/Mère",IF($F22=T$5,"GMP/GMP",IF($F22=T$3,"GMP/GMM",IF($E22=T$10,"GPM/Ind",IF($E22=T$8,"GPM/Père",IF($E22=T$6,"GPM/GPP",IF($E22=T$4,"GPM/GPM",IF($D22=T$10,"GMM/Ind",IF($D22=T$7,"GMM/Mère",IF($D22=T$5,"GMM/GMP",IF($D22=T$3,"GMM/GMM",""))))))))))))
A23: =VLOOKUP(C23,élOvOur!$A$1:$D$199,3,FALSE) -> #N/A | B23: =Fim!A14 -> RNDRRL | C23: =Fim!B14 -> 55814019 | D23: =Fim!C14 -> 52525220001 | E23: =Fim!D14 -> 4401002008 | F23: =Fim!E14 -> 12044140028 | G23: =Fim!F14 -> 54420120020 | H23: =Fim!G14 -> 20110010010 | I23: =Fim!H14 -> 12044100088 | ... K23: =Fim!J14 -> 201100tOm80 | L23: =IF(K23=L$10,"Ind/Ind",IF(K23=L$8,"Ind/Père",IF(K23=L$6,"Ind/GPP",IF(K23=L$4,"Ind/GPM",IF(K23=L$7,"Ind/Mère",IF(K23=L$5,"Ind/GMP",IF(K23=L$3,"Ind/GMM",IF(I23=L$10,"Père/Ind",IF(I23=L$8,"Père/Père",IF(I23=L$6,"Père/GPP",IF(I23=L$4,"Père/GPM",IF(H23=L$10,"Mère/Ind",IF(H23=L$7,"Mère/Mère",IF(H23=L$5,"Mère/GMP",IF(H23=L$3,"Mère/GMM",IF(G23=L$10,"GPP/Ind",IF(G23=L$8,"GPP/Père",IF(G23=L$6,"GPP/GPP",IF(G23=L$4,"GPP/GPM","")))))))))))))))))))&IF(F23=L$10,"GMP/Ind",IF(F23=L$7,"GMP/Mère",IF(F23=L$5,"GMP/GMP",IF(F23=L$3,"GMP/GMM",IF(E23=L$10,"GPM/Ind",IF(E23=L$8,"GPM/Père",IF(E23=L$6,"GPM/GPP",IF(E23=L$4,"GPM/GPM",IF(D23=L$10,"GMM/Ind",IF(D23=L$7,"GMM/Mère",IF(D23=L$5,"GMM/GMP",IF(D23=L$3,"GMM/GMM","")))))))))))) -> Père/PèreGMP/GMP | M23: =IF($K23=M$10,"Ind/Ind",IF($K23=M$8,"Ind/Père",IF($K23=M$6,"Ind/GPP",IF($K23=M$4,"Ind/GPM",IF($K23=M$7,"Ind/Mère",IF($K23=M$5,"Ind/GMP",IF($K23=M$3,"Ind/GMM",IF($I23=M$10,"Père/Ind",IF($I23=M$8,"Père/Père",IF($I23=M$6,"Père/GPP",IF($I23=M$4,"Père/GPM",IF($H23=M$10,"Mère/Ind",IF($H23=M$7,"Mère/Mère",IF($H23=M$5,"Mère/GMP",IF($H23=M$3,"Mère/GMM",IF($G23=M$10,"GPP/Ind",IF($G23=M$8,"GPP/Père",IF($G23=M$6,"GPP/GPP",IF($G23=M$4,"GPP/GPM","")))))))))))))))))))&IF($F23=M$10,"GMP/Ind",IF($F23=M$7,"GMP/Mère",IF($F23=M$5,"GMP/GMP",IF($F23=M$3,"GMP/GMM",IF($E23=M$10,"GPM/Ind",IF($E23=M$8,"GPM/Père",IF($E23=M$6,"GPM/GPP",IF($E23=M$4,"GPM/GPM",IF($D23=M$10,"GMM/Ind",IF($D23=M$7,"GMM/Mère",IF($D23=M$5,"GMM/GMP",IF($D23=M$3,"GMM/GMM","")))))))))))) | N23: =IF($K23=N$10,"Ind/Ind",IF($K23=N$8,"Ind/Père",IF($K23=N$6,"Ind/GPP",IF($K23=N$4,"Ind/GPM",IF($K23=N$7,"Ind/Mère",IF($K23=N$5,"Ind/GMP",IF($K23=N$3,"Ind/GMM",IF($I23=N$10,"Père/Ind",IF($I23=N$8,"Père/Père",IF($I23=N$6,"Père/GPP",IF($I23=N$4,"Père/GPM",IF($H23=N$10,"Mère/Ind",IF($H23=N$7,"Mère/Mère",IF($H23=N$5,"Mère/GMP",IF($H23=N$3,"Mère/GMM",IF($G23=N$10,"GPP/Ind",IF($G23=N$8,"GPP/Père",IF($G23=N$6,"GPP/GPP",IF($G23=N$4,"GPP/GPM","")))))))))))))))))))&IF($F23=N$10,"GMP/Ind",IF($F23=N$7,"GMP/Mère",IF($F23=N$5,"GMP/GMP",IF($F23=N$3,"GMP/GMM",IF($E23=N$10,"GPM/Ind",IF($E23=N$8,"GPM/Père",IF($E23=N$6,"GPM/GPP",IF($E23=N$4,"GPM/GPM",IF($D23=N$10,"GMM/Ind",IF($D23=N$7,"GMM/Mère",IF($D23=N$5,"GMM/GMP",IF($D23=N$3,"GMM/GMM","")))))))))))) | O23: =IF($K23=O$10,"Ind/Ind",IF($K23=O$8,"Ind/Père",IF($K23=O$6,"Ind/GPP",IF($K23=O$4,"Ind/GPM",IF($K23=O$7,"Ind/Mère",IF($K23=O$5,"Ind/GMP",IF($K23=O$3,"Ind/GMM",IF($I23=O$10,"Père/Ind",IF($I23=O$8,"Père/Père",IF($I23=O$6,"Père/GPP",IF($I23=O$4,"Père/GPM",IF($H23=O$10,"Mère/Ind",IF($H23=O$7,"Mère/Mère",IF($H23=O$5,"Mère/GMP",IF($H23=O$3,"Mère/GMM",IF($G23=O$10,"GPP/Ind",IF($G23=O$8,"GPP/Père",IF($G23=O$6,"GPP/GPP",IF($G23=O$4,"GPP/GPM","")))))))))))))))))))&IF($F23=O$10,"GMP/Ind",IF($F23=O$7,"GMP/Mère",IF($F23=O$5,"GMP/GMP",IF($F23=O$3,"GMP/GMM",IF($E23=O$10,"GPM/Ind",IF($E23=O$8,"GPM/Père",IF($E23=O$6,"GPM/GPP",IF($E23=O$4,"GPM/GPM",IF($D23=O$10,"GMM/Ind",IF($D23=O$7,"GMM/Mère",IF($D23=O$5,"GMM/GMP",IF($D23=O$3,"GMM/GMM","")))))))))))) | P23: =IF($K23=P$10,"Ind/Ind",IF($K23=P$8,"Ind/Père",IF($K23=P$6,"Ind/GPP",IF($K23=P$4,"Ind/GPM",IF($K23=P$7,"Ind/Mère",IF($K23=P$5,"Ind/GMP",IF($K23=P$3,"Ind/GMM",IF($I23=P$10,"Père/Ind",IF($I23=P$8,"Père/Père",IF($I23=P$6,"Père/GPP",IF($I23=P$4,"Père/GPM",IF($H23=P$10,"Mère/Ind",IF($H23=P$7,"Mère/Mère",IF($H23=P$5,"Mère/GMP",IF($H23=P$3,"Mère/GMM",IF($G23=P$10,"GPP/Ind",IF($G23=P$8,"GPP/Père",IF($G23=P$6,"GPP/GPP",IF($G23=P$4,"GPP/GPM","")))))))))))))))))))&IF($F23=P$10,"GMP/Ind",IF($F23=P$7,"GMP/Mère",IF($F23=P$5,"GMP/GMP",IF($F23=P$3,"GMP/GMM",IF($E23=P$10,"GPM/Ind",IF($E23=P$8,"GPM/Père",IF($E23=P$6,"GPM/GPP",IF($E23=P$4,"GPM/GPM",IF($D23=P$10,"GMM/Ind",IF($D23=P$7,"GMM/Mère",IF($D23=P$5,"GMM/GMP",IF($D23=P$3,"GMM/GMM","")))))))))))) | Q23: =IF($K23=Q$10,"Ind/Ind",IF($K23=Q$8,"Ind/Père",IF($K23=Q$6,"Ind/GPP",IF($K23=Q$4,"Ind/GPM",IF($K23=Q$7,"Ind/Mère",IF($K23=Q$5,"Ind/GMP",IF($K23=Q$3,"Ind/GMM",IF($I23=Q$10,"Père/Ind",IF($I23=Q$8,"Père/Père",IF($I23=Q$6,"Père/GPP",IF($I23=Q$4,"Père/GPM",IF($H23=Q$10,"Mère/Ind",IF($H23=Q$7,"Mère/Mère",IF($H23=Q$5,"Mère/GMP",IF($H23=Q$3,"Mère/GMM",IF($G23=Q$10,"GPP/Ind",IF($G23=Q$8,"GPP/Père",IF($G23=Q$6,"GPP/GPP",IF($G23=Q$4,"GPP/GPM","")))))))))))))))))))&IF($F23=Q$10,"GMP/Ind",IF($F23=Q$7,"GMP/Mère",IF($F23=Q$5,"GMP/GMP",IF($F23=Q$3,"GMP/GMM",IF($E23=Q$10,"GPM/Ind",IF($E23=Q$8,"GPM/Père",IF($E23=Q$6,"GPM/GPP",IF($E23=Q$4,"GPM/GPM",IF($D23=Q$10,"GMM/Ind",IF($D23=Q$7,"GMM/Mère",IF($D23=Q$5,"GMM/GMP",IF($D23=Q$3,"GMM/GMM","")))))))))))) | R23: =IF($K23=R$10,"Ind/Ind",IF($K23=R$8,"Ind/Père",IF($K23=R$6,"Ind/GPP",IF($K23=R$4,"Ind/GPM",IF($K23=R$7,"Ind/Mère",IF($K23=R$5,"Ind/GMP",IF($K23=R$3,"Ind/GMM",IF($I23=R$10,"Père/Ind",IF($I23=R$8,"Père/Père",IF($I23=R$6,"Père/GPP",IF($I23=R$4,"Père/GPM",IF($H23=R$10,"Mère/Ind",IF($H23=R$7,"Mère/Mère",IF($H23=R$5,"Mère/GMP",IF($H23=R$3,"Mère/GMM",IF($G23=R$10,"GPP/Ind",IF($G23=R$8,"GPP/Père",IF($G23=R$6,"GPP/GPP",IF($G23=R$4,"GPP/GPM","")))))))))))))))))))&IF($F23=R$10,"GMP/Ind",IF($F23=R$7,"GMP/Mère",IF($F23=R$5,"GMP/GMP",IF($F23=R$3,"GMP/GMM",IF($E23=R$10,"GPM/Ind",IF($E23=R$8,"GPM/Père",IF($E23=R$6,"GPM/GPP",IF($E23=R$4,"GPM/GPM",IF($D23=R$10,"GMM/Ind",IF($D23=R$7,"GMM/Mère",IF($D23=R$5,"GMM/GMP",IF($D23=R$3,"GMM/GMM","")))))))))))) | S23: =IF($K23=S$10,"Ind/Ind",IF($K23=S$8,"Ind/Père",IF($K23=S$6,"Ind/GPP",IF($K23=S$4,"Ind/GPM",IF($K23=S$7,"Ind/Mère",IF($K23=S$5,"Ind/GMP",IF($K23=S$3,"Ind/GMM",IF($I23=S$10,"Père/Ind",IF($I23=S$8,"Père/Père",IF($I23=S$6,"Père/GPP",IF($I23=S$4,"Père/GPM",IF($H23=S$10,"Mère/Ind",IF($H23=S$7,"Mère/Mère",IF($H23=S$5,"Mère/GMP",IF($H23=S$3,"Mère/GMM",IF($G23=S$10,"GPP/Ind",IF($G23=S$8,"GPP/Père",IF($G23=S$6,"GPP/GPP",IF($G23=S$4,"GPP/GPM","")))))))))))))))))))&IF($F23=S$10,"GMP/Ind",IF($F23=S$7,"GMP/Mère",IF($F23=S$5,"GMP/GMP",IF($F23=S$3,"GMP/GMM",IF($E23=S$10,"GPM/Ind",IF($E23=S$8,"GPM/Père",IF($E23=S$6,"GPM/GPP",IF($E23=S$4,"GPM/GPM",IF($D23=S$10,"GMM/Ind",IF($D23=S$7,"GMM/Mère",IF($D23=S$5,"GMM/GMP",IF($D23=S$3,"GMM/GMM","")))))))))))) | T23: =IF($K23=T$10,"Ind/Ind",IF($K23=T$8,"Ind/Père",IF($K23=T$6,"Ind/GPP",IF($K23=T$4,"Ind/GPM",IF($K23=T$7,"Ind/Mère",IF($K23=T$5,"Ind/GMP",IF($K23=T$3,"Ind/GMM",IF($I23=T$10,"Père/Ind",IF($I23=T$8,"Père/Père",IF($I23=T$6,"Père/GPP",IF($I23=T$4,"Père/GPM",IF($H23=T$10,"Mère/Ind",IF($H23=T$7,"Mère/Mère",IF($H23=T$5,"Mère/GMP",IF($H23=T$3,"Mère/GMM",IF($G23=T$10,"GPP/Ind",IF($G23=T$8,"GPP/Père",IF($G23=T$6,"GPP/GPP",IF($G23=T$4,"GPP/GPM","")))))))))))))))))))&IF($F23=T$10,"GMP/Ind",IF($F23=T$7,"GMP/Mère",IF($F23=T$5,"GMP/GMP",IF($F23=T$3,"GMP/GMM",IF($E23=T$10,"GPM/Ind",IF($E23=T$8,"GPM/Père",IF($E23=T$6,"GPM/GPP",IF($E23=T$4,"GPM/GPM",IF($D23=T$10,"GMM/Ind",IF($D23=T$7,"GMM/Mère",IF($D23=T$5,"GMM/GMP",IF($D23=T$3,"GMM/GMM",""))))))))))))
... A167: =VLOOKUP(C167,élOvOur!$A$1:$D$199,3,FALSE) -> SISSONNOT | B167: =Fim!A158 -> SISSONNOT | C167: =Fim!B158 -> 14152049 | D167: =Fim!C158 -> 1415202015 | E167: =Fim!D158 -> 4912209018 | F167: =Fim!E158 -> 1429240010 | G167: =Fim!F158 -> 1429208020 | H167: =Fim!G158 -> 19412500028 | I167: =Fim!H158 -> 19598201010 | ... K167: =Fim!J158 -> 19412500014 | L167: =IF(K167=L$10,"Ind/Ind",IF(K167=L$8,"Ind/Père",IF(K167=L$6,"Ind/GPP",IF(K167=L$4,"Ind/GPM",IF(K167=L$7,"Ind/Mère",IF(K167=L$5,"Ind/GMP",IF(K167=L$3,"Ind/GMM",IF(I167=L$10,"Père/Ind",IF(I167=L$8,"Père/Père",IF(I167=L$6,"Père/GPP",IF(I167=L$4,"Père/GPM",IF(H167=L$10,"Mère/Ind",IF(H167=L$7,"Mère/Mère",IF(H167=L$5,"Mère/GMP",IF(H167=L$3,"Mère/GMM",IF(G167=L$10,"GPP/Ind",IF(G167=L$8,"GPP/Père",IF(G167=L$6,"GPP/GPP",IF(G167=L$4,"GPP/GPM","")))))))))))))))))))&IF(F167=L$10,"GMP/Ind",IF(F167=L$7,"GMP/Mère",IF(F167=L$5,"GMP/GMP",IF(F167=L$3,"GMP/GMM",IF(E167=L$10,"GPM/Ind",IF(E167=L$8,"GPM/Père",IF(E167=L$6,"GPM/GPP",IF(E167=L$4,"GPM/GPM",IF(D167=L$10,"GMM/Ind",IF(D167=L$7,"GMM/Mère",IF(D167=L$5,"GMM/GMP",IF(D167=L$3,"GMM/GMM","")))))))))))) | M167: =IF($K167=M$10,"Ind/Ind",IF($K167=M$8,"Ind/Père",IF($K167=M$6,"Ind/GPP",IF($K167=M$4,"Ind/GPM",IF($K167=M$7,"Ind/Mère",IF($K167=M$5,"Ind/GMP",IF($K167=M$3,"Ind/GMM",IF($I167=M$10,"Père/Ind",IF($I167=M$8,"Père/Père",IF($I167=M$6,"Père/GPP",IF($I167=M$4,"Père/GPM",IF($H167=M$10,"Mère/Ind",IF($H167=M$7,"Mère/Mère",IF($H167=M$5,"Mère/GMP",IF($H167=M$3,"Mère/GMM",IF($G167=M$10,"GPP/Ind",IF($G167=M$8,"GPP/Père",IF($G167=M$6,"GPP/GPP",IF($G167=M$4,"GPP/GPM","")))))))))))))))))))&IF($F167=M$10,"GMP/Ind",IF($F167=M$7,"GMP/Mère",IF($F167=M$5,"GMP/GMP",IF($F167=M$3,"GMP/GMM",IF($E167=M$10,"GPM/Ind",IF($E167=M$8,"GPM/Père",IF($E167=M$6,"GPM/GPP",IF($E167=M$4,"GPM/GPM",IF($D167=M$10,"GMM/Ind",IF($D167=M$7,"GMM/Mère",IF($D167=M$5,"GMM/GMP",IF($D167=M$3,"GMM/GMM","")))))))))))) | N167: =IF($K167=N$10,"Ind/Ind",IF($K167=N$8,"Ind/Père",IF($K167=N$6,"Ind/GPP",IF($K167=N$4,"Ind/GPM",IF($K167=N$7,"Ind/Mère",IF($K167=N$5,"Ind/GMP",IF($K167=N$3,"Ind/GMM",IF($I167=N$10,"Père/Ind",IF($I167=N$8,"Père/Père",IF($I167=N$6,"Père/GPP",IF($I167=N$4,"Père/GPM",IF($H167=N$10,"Mère/Ind",IF($H167=N$7,"Mère/Mère",IF($H167=N$5,"Mère/GMP",IF($H167=N$3,"Mère/GMM",IF($G167=N$10,"GPP/Ind",IF($G167=N$8,"GPP/Père",IF($G167=N$6,"GPP/GPP",IF($G167=N$4,"GPP/GPM","")))))))))))))))))))&IF($F167=N$10,"GMP/Ind",IF($F167=N$7,"GMP/Mère",IF($F167=N$5,"GMP/GMP",IF($F167=N$3,"GMP/GMM",IF($E167=N$10,"GPM/Ind",IF($E167=N$8,"GPM/Père",IF($E167=N$6,"GPM/GPP",IF($E167=N$4,"GPM/GPM",IF($D167=N$10,"GMM/Ind",IF($D167=N$7,"GMM/Mère",IF($D167=N$5,"GMM/GMP",IF($D167=N$3,"GMM/GMM","")))))))))))) | O167: =IF($K167=O$10,"Ind/Ind",IF($K167=O$8,"Ind/Père",IF($K167=O$6,"Ind/GPP",IF($K167=O$4,"Ind/GPM",IF($K167=O$7,"Ind/Mère",IF($K167=O$5,"Ind/GMP",IF($K167=O$3,"Ind/GMM",IF($I167=O$10,"Père/Ind",IF($I167=O$8,"Père/Père",IF($I167=O$6,"Père/GPP",IF($I167=O$4,"Père/GPM",IF($H167=O$10,"Mère/Ind",IF($H167=O$7,"Mère/Mère",IF($H167=O$5,"Mère/GMP",IF($H167=O$3,"Mère/GMM",IF($G167=O$10,"GPP/Ind",IF($G167=O$8,"GPP/Père",IF($G167=O$6,"GPP/GPP",IF($G167=O$4,"GPP/GPM","")))))))))))))))))))&IF($F167=O$10,"GMP/Ind",IF($F167=O$7,"GMP/Mère",IF($F167=O$5,"GMP/GMP",IF($F167=O$3,"GMP/GMM",IF($E167=O$10,"GPM/Ind",IF($E167=O$8,"GPM/Père",IF($E167=O$6,"GPM/GPP",IF($E167=O$4,"GPM/GPM",IF($D167=O$10,"GMM/Ind",IF($D167=O$7,"GMM/Mère",IF($D167=O$5,"GMM/GMP",IF($D167=O$3,"GMM/GMM","")))))))))))) | P167: =IF($K167=P$10,"Ind/Ind",IF($K167=P$8,"Ind/Père",IF($K167=P$6,"Ind/GPP",IF($K167=P$4,"Ind/GPM",IF($K167=P$7,"Ind/Mère",IF($K167=P$5,"Ind/GMP",IF($K167=P$3,"Ind/GMM",IF($I167=P$10,"Père/Ind",IF($I167=P$8,"Père/Père",IF($I167=P$6,"Père/GPP",IF($I167=P$4,"Père/GPM",IF($H167=P$10,"Mère/Ind",IF($H167=P$7,"Mère/Mère",IF($H167=P$5,"Mère/GMP",IF($H167=P$3,"Mère/GMM",IF($G167=P$10,"GPP/Ind",IF($G167=P$8,"GPP/Père",IF($G167=P$6,"GPP/GPP",IF($G167=P$4,"GPP/GPM","")))))))))))))))))))&IF($F167=P$10,"GMP/Ind",IF($F167=P$7,"GMP/Mère",IF($F167=P$5,"GMP/GMP",IF($F167=P$3,"GMP/GMM",IF($E167=P$10,"GPM/Ind",IF($E167=P$8,"GPM/Père",IF($E167=P$6,"GPM/GPP",IF($E167=P$4,"GPM/GPM",IF($D167=P$10,"GMM/Ind",IF($D167=P$7,"GMM/Mère",IF($D167=P$5,"GMM/GMP",IF($D167=P$3,"GMM/GMM","")))))))))))) | Q167: =IF($K167=Q$10,"Ind/Ind",IF($K167=Q$8,"Ind/Père",IF($K167=Q$6,"Ind/GPP",IF($K167=Q$4,"Ind/GPM",IF($K167=Q$7,"Ind/Mère",IF($K167=Q$5,"Ind/GMP",IF($K167=Q$3,"Ind/GMM",IF($I167=Q$10,"Père/Ind",IF($I167=Q$8,"Père/Père",IF($I167=Q$6,"Père/GPP",IF($I167=Q$4,"Père/GPM",IF($H167=Q$10,"Mère/Ind",IF($H167=Q$7,"Mère/Mère",IF($H167=Q$5,"Mère/GMP",IF($H167=Q$3,"Mère/GMM",IF($G167=Q$10,"GPP/Ind",IF($G167=Q$8,"GPP/Père",IF($G167=Q$6,"GPP/GPP",IF($G167=Q$4,"GPP/GPM","")))))))))))))))))))&IF($F167=Q$10,"GMP/Ind",IF($F167=Q$7,"GMP/Mère",IF($F167=Q$5,"GMP/GMP",IF($F167=Q$3,"GMP/GMM",IF($E167=Q$10,"GPM/Ind",IF($E167=Q$8,"GPM/Père",IF($E167=Q$6,"GPM/GPP",IF($E167=Q$4,"GPM/GPM",IF($D167=Q$10,"GMM/Ind",IF($D167=Q$7,"GMM/Mère",IF($D167=Q$5,"GMM/GMP",IF($D167=Q$3,"GMM/GMM","")))))))))))) | R167: =IF($K167=R$10,"Ind/Ind",IF($K167=R$8,"Ind/Père",IF($K167=R$6,"Ind/GPP",IF($K167=R$4,"Ind/GPM",IF($K167=R$7,"Ind/Mère",IF($K167=R$5,"Ind/GMP",IF($K167=R$3,"Ind/GMM",IF($I167=R$10,"Père/Ind",IF($I167=R$8,"Père/Père",IF($I167=R$6,"Père/GPP",IF($I167=R$4,"Père/GPM",IF($H167=R$10,"Mère/Ind",IF($H167=R$7,"Mère/Mère",IF($H167=R$5,"Mère/GMP",IF($H167=R$3,"Mère/GMM",IF($G167=R$10,"GPP/Ind",IF($G167=R$8,"GPP/Père",IF($G167=R$6,"GPP/GPP",IF($G167=R$4,"GPP/GPM","")))))))))))))))))))&IF($F167=R$10,"GMP/Ind",IF($F167=R$7,"GMP/Mère",IF($F167=R$5,"GMP/GMP",IF($F167=R$3,"GMP/GMM",IF($E167=R$10,"GPM/Ind",IF($E167=R$8,"GPM/Père",IF($E167=R$6,"GPM/GPP",IF($E167=R$4,"GPM/GPM",IF($D167=R$10,"GMM/Ind",IF($D167=R$7,"GMM/Mère",IF($D167=R$5,"GMM/GMP",IF($D167=R$3,"GMM/GMM","")))))))))))) | S167: =IF($K167=S$10,"Ind/Ind",IF($K167=S$8,"Ind/Père",IF($K167=S$6,"Ind/GPP",IF($K167=S$4,"Ind/GPM",IF($K167=S$7,"Ind/Mère",IF($K167=S$5,"Ind/GMP",IF($K167=S$3,"Ind/GMM",IF($I167=S$10,"Père/Ind",IF($I167=S$8,"Père/Père",IF($I167=S$6,"Père/GPP",IF($I167=S$4,"Père/GPM",IF($H167=S$10,"Mère/Ind",IF($H167=S$7,"Mère/Mère",IF($H167=S$5,"Mère/GMP",IF($H167=S$3,"Mère/GMM",IF($G167=S$10,"GPP/Ind",IF($G167=S$8,"GPP/Père",IF($G167=S$6,"GPP/GPP",IF($G167=S$4,"GPP/GPM","")))))))))))))))))))&IF($F167=S$10,"GMP/Ind",IF($F167=S$7,"GMP/Mère",IF($F167=S$5,"GMP/GMP",IF($F167=S$3,"GMP/GMM",IF($E167=S$10,"GPM/Ind",IF($E167=S$8,"GPM/Père",IF($E167=S$6,"GPM/GPP",IF($E167=S$4,"GPM/GPM",IF($D167=S$10,"GMM/Ind",IF($D167=S$7,"GMM/Mère",IF($D167=S$5,"GMM/GMP",IF($D167=S$3,"GMM/GMM","")))))))))))) | T167: =IF($K167=T$10,"Ind/Ind",IF($K167=T$8,"Ind/Père",IF($K167=T$6,"Ind/GPP",IF($K167=T$4,"Ind/GPM",IF($K167=T$7,"Ind/Mère",IF($K167=T$5,"Ind/GMP",IF($K167=T$3,"Ind/GMM",IF($I167=T$10,"Père/Ind",IF($I167=T$8,"Père/Père",IF($I167=T$6,"Père/GPP",IF($I167=T$4,"Père/GPM",IF($H167=T$10,"Mère/Ind",IF($H167=T$7,"Mère/Mère",IF($H167=T$5,"Mère/GMP",IF($H167=T$3,"Mère/GMM",IF($G167=T$10,"GPP/Ind",IF($G167=T$8,"GPP/Père",IF($G167=T$6,"GPP/GPP",IF($G167=T$4,"GPP/GPM","")))))))))))))))))))&IF($F167=T$10,"GMP/Ind",IF($F167=T$7,"GMP/Mère",IF($F167=T$5,"GMP/GMP",IF($F167=T$3,"GMP/GMM",IF($E167=T$10,"GPM/Ind",IF($E167=T$8,"GPM/Père",IF($E167=T$6,"GPM/GPP",IF($E167=T$4,"GPM/GPM",IF($D167=T$10,"GMM/Ind",IF($D167=T$7,"GMM/Mère",IF($D167=T$5,"GMM/GMP",IF($D167=T$3,"GMM/GMM",""))))))))))))
K170: Nb de lignes | L170: =SUBTOTAL(3,L11:L168) -> 157 | M170: =SUBTOTAL(3,M11:M168) -> 157 | N170: =SUBTOTAL(3,N11:N168) -> 157 | O170: =SUBTOTAL(3,O11:O168) -> 157 | P170: =SUBTOTAL(3,P11:P168) -> 157 | Q170: =SUBTOTAL(3,Q11:Q168) -> 157 | R170: =SUBTOTAL(3,R11:R168) -> 157 | S170: =SUBTOTAL(3,S11:S168) -> 157 | T170: =SUBTOTAL(3,T11:T168) -> 157
K171: Nv de lignes "vides" | L171: =SUMPRODUCT(SUBTOTAL(3,OFFSET($A$10,ROW($A$10:$A$167),))*(L$11:L$168="")) -> 134 | M171: =SUMPRODUCT(SUBTOTAL(3,OFFSET($A$10,ROW($A$10:$A$167),))*(M$11:M$168="")) -> 147 | N171: =SUMPRODUCT(SUBTOTAL(3,OFFSET($A$10,ROW($A$10:$A$167),))*(N$11:N$168="")) -> 148 | O171: =SUMPRODUCT(SUBTOTAL(3,OFFSET($A$10,ROW($A$10:$A$167),))*(O$11:O$168="")) -> 128 | P171: =SUMPRODUCT(SUBTOTAL(3,OFFSET($A$10,ROW($A$10:$A$167),))*(P$11:P$168="")) -> 127 | Q171: =SUMPRODUCT(SUBTOTAL(3,OFFSET($A$10,ROW($A$10:$A$167),))*(Q$11:Q$168="")) -> 148 | R171: =SUMPRODUCT(SUBTOTAL(3,OFFSET($A$10,ROW($A$10:$A$167),))*(R$11:R$168="")) -> 148 | S171: =SUMPRODUCT(SUBTOTAL(3,OFFSET($A$10,ROW($A$10:$A$167),))*(S$11:S$168="")) -> 144 | T171: =SUMPRODUCT(SUBTOTAL(3,OFFSET($A$10,ROW($A$10:$A$167),))*(T$11:T$168="")) -> 141
K172: % de lignes "vides" | L172: =L171/L170 -> 0.85350318 | M172: =M171/M170 -> 0.93630573 | N172: =N171/N170 -> 0.94267516 | O172: =O171/O170 -> 0.81528662 | P172: =P171/P170 -> 0.8089172 | Q172: =Q171/Q170 -> 0.94267516 | R172: =R171/R170 -> 0.94267516 | S172: =S171/S170 -> 0.91719745 | T172: =T171/T170 -> 0.89808917
K173: Nb de lignes "non vides" | L173: =L170-L171 -> 23 | M173: =M170-M171 -> 10 | N173: =N170-N171 -> 9 | O173: =O170-O171 -> 29 | P173: =P170-P171 -> 30 | Q173: =Q170-Q171 -> 9 | R173: =R170-R171 -> 9 | S173: =S170-S171 -> 13 | T173: =T170-T171 -> 16

Sheet Fim
A1: NRissOur | B1: N° élOvOur | C1: Lmm.N° RnimRl | D1: Lpm.N° RnimRl | E1: Lmp.N° RnimRl | F1: Lpp.N° RnimRl | G1: mOrO.N° RnimRl | H1: pOrO.N° RnimRl | I1: SOxO | J1: RnimRl.N° RnimRl
A2: RIMO | B2: 28284001 | C2: 8248008082 | D2: 4112808202 | E2: 1410402008 | F2: 1410408015 | G2: 8248002081 | H2: 1410409021 | I2: 2 | J2: 22485811022
A3: RIMO | B3: 28284001 | C3: 121800500- | D3: 1410402024 | E3: 1410402008 | F3: 1410408015 | G3: 1118000001 | H3: 1410409021 | I3: 2 | J3: 22485811021
A4: RIMO | B4: 28284001 | C4: 8248005010 | D4: 8248005011 | E4: 4112801004 | F4: 49S9598121 | G4: 8248002012 | H4: 8202104058 | I4: 2 | J4: 22485800002
A5: RIMO | B5: 28284001 | C5: 8248001020 | D5: 4112808202 | E5: 4112801004 | F5: 49S9598121 | G5: 8248002001 | H5: 8202104058 | I5: 2 | J5: 22485800008
A6: RIMO | B6: 28284001 | C6: 1218002002 | D6: 49S9598121 | E6: 1821599015 | F6: 8244108829 | G6: 121800500- | H6: 1410402024 | I6: 2 | J6: 1118000001
A7: RIMO | B7: 28284001 | C7: 8244108415 | D7: 1410408015 | E7: 1410402008 | F7: 1410408015 | G7: 1410409012 | H7: 1410409021 | I7: 2 | J7: 22485811028
A8: RIMO | B8: 28284001 | C8: 1218094019 | D8: 4992490108 | E8: 1410402008 | F8: 1410408015 | G8: 1218001004 | H8: 1410409021 | I8: 2 | J8: 22485811024
A9: RIMO | B9: 28284001 | C9: 00000CVOVR | D9: 00000CVOVM | E9: 1410402008 | F9: 1410408015 | G9: 00000CVOVR | H9: 1410409021 | I9: 2 | J9: 22485811021
A10: RIMO | B10: 28284001 | C10: 8248001020 | D10: 4112808202 | E10: 4112801004 | F10: 49S9598121 | G10: 8248002001 | H10: 8202104058 | I10: 2 | J10: 22485800005
A11: RLSORT | B11: 49012501 | C11: 00000CVOVR | D11: 00000CVOVM | E11: 49O0190012 | F11: 49O0191012 | G11: 4995194002 | H11: 49O0195024 | I11: 2 | J11: 4995101008
A12: RLSORT | B12: 49012501 | C12: 4908288029 | D12: 8221882020 | E12: 49O0190012 | F12: 49O0191012 | G12: 4995191012 | H12: 49O0195024 | I12: 2 | J12: 4995198001
A13: RLSORT | B13: 49012501 | C13: 00000CVOVR | D13: 00000CVOVM | E13: 49O0190012 | F13: 49O0191012 | G13: 4995194019 | H13: 49O0195024 | I13: 2 | J13: 4995198028
A14: RNDRRL | B14: 55814019 | C14: 52525220001 | D14: 4401002008 | E14: 12044140028 | F14: 54420120020 | G14: 20110010010 | H14: 12044100088 | I14: 2 | J14: 201100tOm80
A15: RNDRRL | B15: 55814019 | C15: 4401002012 | D15: 4401002008 | E15: 12044140028 | F15: 54420120020 | G15: 20110010004 | H15: 12044100088 | I15: 2 | J15: 201100tOm51
A16: RNDRRL | B16: 55814019 | C16: 8248008018 | D16: 4401002008 | E16: 12044140028 | F16: 54420120020 | G16: 20110010008 | H16: 12044100088 | I16: 2 | J16: 201100tOm81
A17: RNDRRL | B17: 55814019 | C17: 52525220001 | D17: 4401002008 | E17: 12044140028 | F17: 54420120020 | G17: 20110010010 | H17: 12044100088 | I17: 2 | J17: 201100tOm81
A18: RNDRRL | B18: 55814019 | C18: 4401002012 | D18: 4401002008 | E18: 12044140028 | F18: 54420120020 | G18: 20110010004 | H18: 12044100088 | I18: 2 | J18: 201100tOm58
A19: RNDRRL | B19: 55814019 | C19: 52525209021 | D19: 4401002008 | E19: 12044140028 | F19: 54420120020 | G19: 20110010012 | H19: 12044100088 | I19: 2 | J19: 201100tOm12
A20: RNDRRL | B20: 55814019 | C20: 8248008018 | D20: 4401002008 | E20: 12044140028 | F20: 54420120020 | G20: 20110010008 | H20: 12044100088 | I20: 2 | J20: 201100tOm82
A21: RNDRRL | B21: 55814019 | C21: 52525220010 | D21: 4401002008 | E21: 12044140028 | F21: 54420120020 | G21: 20110010008 | H21: 12044100088 | I21: 2 | J21: 201100tOm52
A22: RNDRRL | B22: 55814019 | C22: 52525204014 | D22: 4401002008 | E22: 12044140028 | F22: 54420120020 | G22: 20110010015 | H22: 12044100088 | I22: 2 | J22: 201100tOm59
A23: RNDRRL | B23: 55814019 | C23: 52525204014 | D23: 4401002008 | E23: 12044140028 | F23: 54420120020 | G23: 20110010015 | H23: 12044100088 | I23: 2 | J23: 201100tOm20
A24: RNDRRL | B24: 89128521 | C24: 4401004015 | D24: 4401002008 | E24: 12044140028 | F24: 54420120020 | G24: 20110010001 | H24: 12044100088 | I24: 2 | J24: 201100tOmp1
A25: RNDRRL | B25: 89128521 | C25: 52525204028 | D25: 4401002008 | E25: 12044140028 | F25: 54420120020 | G25: 20110010011 | H25: 12044100088 | I25: 2 | J25: 201100tOmp5
A26: RNDRRL | B26: 89128521 | C26: 00000POITR | D26: 4401002008 | E26: 12044140028 | F26: 54420120020 | G26: 20110010022 | H26: 12044100088 | I26: 2 | J26: 201100tOmp8
A27: RNDRRL | B27: 89128521 | C27: 00000POITR | D27: 4401002008 | E27: 12044140028 | F27: 54420120020 | G27: 20110010021 | H27: 12044100088 | I27: 2 | J27: 201100tOmp1
A28: RTZONVORROR | B28: 88128088 | C28: 8822801001 | D28: 8420201808 | E28: 00000CVOVR | F28: 00000CVOVM | G28: 8812800001 | H28: 8810900011 | I28: 2 | J28: 8812805002
A29: RTZONVORROR | B29: 88128088 | C29: 8812800001 | D29: 8810900011 | E29: 00000POITR | F29: 00000POITM | G29: 8812805002 | H29: 00000POITM | I29: 2 | J29: 8812805015
A30: RUNORU | B30: 85021292 | C30: 00000CVOVR | D30: 1419000881 | E30: 00000CVOVR | F30: 00000CVOVM | G30: 8408901002 | H30: 1419000881 | I30: 2 | J30: 8502002028
A31: SRNDOT | B31: 84028159 | C31: 00000POITR | D31: 00000POITM | E31: 00000POITR | F31: 00000POITM | G31: 15228120111 | H31: 15228110028 | I31: 2 | J31: 15228180158
A32: SRNDOT | B32: 84028159 | C32: 00000POITR | D32: 00000POITM | E32: 00000POITR | F32: 00000POITM | G32: 00000POITR | H32: 00000POITM | I32: 2 | J32: 15228110059
A33: SRNDOT | B33: 84028159 | C33: 00000POITR | D33: 00000POITM | E33: 00000POITR | F33: 00000POITM | G33: 00000POITR | H33: 00000POITM | I33: 2 | J33: 15228120118
A34: SRNDOT | B34: 84028159 | C34: 00000POITR | D34: 00000POITM | E34: 00000POITR | F34: 00000POITM | G34: 00000POITR | H34: 00000POITM | I34: 2 | J34: 15228110082
A35: SRNDOT | B35: 84028159 | C35: 00000POITR | D35: 00000POITM | E35: 00000POITR | F35: 00000POITM | G35: 00000POITR | H35: 00000POITM | I35: 2 | J35: 15228110028
A36: SRNDOT | B36: 84028159 | C36: 00000POITR | D36: 00000POITM | E36: 00000POITR | F36: 00000POITM | G36: 00000POITR | H36: 00000POITM | I36: 2 | J36: 15228110055
A37: SRNDOT | B37: 84028159 | C37: 00000POITR | D37: 00000POITM | E37: 00000POITR | F37: 00000POITM | G37: 00000POITR | H37: 00000POITM | I37: 2 | J37: 15228110050
A38: SRNDOT | B38: 84028159 | C38: 00000POITR | D38: 00000POITM | E38: 00000POITR | F38: 00000POITM | G38: 00000POITR | H38: 00000POITM | I38: 2 | J38: 15228110099
A39: SRNDOT | B39: 84028159 | C39: 00000POITR | D39: 00000POITM | E39: 00000POITR | F39: 00000POITM | G39: 00000POITR | H39: 00000POITM | I39: 2 | J39: 15228110089
A40: SRNDOT | B40: 84028159 | C40: 00000POITR | D40: 00000POITM | E40: 00000POITR | F40: 00000POITM | G40: 15228110099 | H40: 15228110028 | I40: 2 | J40: 15228180128
A41: SRNDOT | B41: 84028159 | C41: 00000POITR | D41: 00000POITM | E41: 00000POITR | F41: 00000POITM | G41: 15228110099 | H41: 15228110028 | I41: 2 | J41: 15228180121
A42: SRNDOT | B42: 84028159 | C42: 00000POITR | D42: 00000POITM | E42: 00000POITR | F42: 00000POITM | G42: 15228110041 | H42: 15228110028 | I42: 2 | J42: 15228180182
A43: SRNDOT | B43: 84028159 | C43: 00000POITR | D43: 00000POITM | E43: 00000POITR | F43: 00000POITM | G43: 15228110089 | H43: 15228110028 | I43: 2 | J43: 15228180121
A44: SRNDOT | B44: 84028159 | C44: 00000POITR | D44: 00000POITM | E44: 00000POITR | F44: 00000POITM | G44: 00000POITR | H44: 00000POITM | I44: 2 | J44: 15228120182
A45: SRNDOT | B45: 84028159 | C45: 00000POITR | D45: 00000POITM | E45: 00000POITR | F45: 00000POITM | G45: 15228110028 | H45: 15228110028 | I45: 2 | J45: 15228180154
A46: SRNDOT | B46: 84028159 | C46: 00000POITR | D46: 00000POITM | E46: 00000POITR | F46: 00000POITM | G46: 15228110059 | H46: 15228110028 | I46: 2 | J46: 15228180152
A47: SRNDOT | B47: 84028159 | C47: 00000POITR | D47: 00000POITM | E47: 00000POITR | F47: 00000POITM | G47: 15228120118 | H47: 15228110028 | I47: 2 | J47: 15228180155
A48: SRNDOT | B48: 84028159 | C48: 00000POITR | D48: 00000POITM | E48: 00000POITR | F48: 00000POITM | G48: 15228120118 | H48: 15228110028 | I48: 2 | J48: 15228180158
A49: SRNDOT | B49: 84028159 | C49: 00000POITR | D49: 00000POITM | E49: 00000POITR | F49: 00000POITM | G49: 15228110091 | H49: 15228110028 | I49: 2 | J49: 15228180151
A50: SRNDOT | B50: 84028159 | C50: 00000POITR | D50: 00000POITM | E50: 00000POITR | F50: 00000POITM | G50: 15228110091 | H50: 15228110028 | I50: 2 | J50: 15228180152
A51: SRNDOT | B51: 84028159 | C51: 00000POITR | D51: 00000POITM | E51: 00000POITR | F51: 00000POITM | G51: 15228110082 | H51: 15228110028 | I51: 2 | J51: 15228180181
A52: SRNDOT | B52: 84028159 | C52: 00000POITR | D52: 00000POITM | E52: 00000POITR | F52: 00000POITM | G52: 15228110082 | H52: 15228110028 | I52: 2 | J52: 15228180180
A53: SRNDOT | B53: 84028159 | C53: 00000POITR | D53: 00000POITM | E53: 00000POITR | F53: 00000POITM | G53: 15228110081 | H53: 15228110028 | I53: 2 | J53: 15228180119
A54: SRNDOT | B54: 84028159 | C54: 00000POITR | D54: 00000POITM | E54: 00000POITR | F54: 00000POITM | G54: 15228110022 | H54: 15228110028 | I54: 2 | J54: 15228180118
A55: SRNDOT | B55: 84028159 | C55: 00000POITR | D55: 00000POITM | E55: 00000POITR | F55: 00000POITM | G55: 15228110100 | H55: 15228110028 | I55: 2 | J55: 15228180151
A56: SRNDOT | B56: 84028159 | C56: 00000POITR | D56: 00000POITM | E56: 00000POITR | F56: 00000POITM | G56: 15228110089 | H56: 15228110028 | I56: 2 | J56: 15228180122
A57: SRNDOT | B57: 84028159 | C57: 00000POITR | D57: 00000POITM | E57: 00000POITR | F57: 00000POITM | G57: 00000POITR | H57: 00000POITM | I57: 2 | J57: 15228110025
A58: SRNDOT | B58: 84028159 | C58: 00000POITR | D58: 00000POITM | E58: 00000POITR | F58: 00000POITM | G58: 00000POITR | H58: 00000POITM | I58: 2 | J58: 15228120128
A59: SRNDOT | B59: 84028159 | C59: 00000POITR | D59: 00000POITM | E59: 00000POITR | F59: 00000POITM | G59: 00000POITR | H59: 00000POITM | I59: 2 | J59: 15228120089
A60: SRNDOT | B60: 84028159 | C60: 00000POITR | D60: 00000POITM | E60: 00000POITR | F60: 00000POITM | G60: 00000POITR | H60: 00000POITM | I60: 2 | J60: 15228120125
A61: SRNDOT | B61: 84028159 | C61: 00000POITR | D61: 00000POITM | E61: 00000POITR | F61: 00000POITM | G61: 00000POITR | H61: 00000POITM | I61: 2 | J61: 15228120082
A62: SRNDOT | B62: 84028159 | C62: 00000POITR | D62: 00000POITM | E62: 00000POITR | F62: 00000POITM | G62: 00000POITR | H62: 00000POITM | I62: 2 | J62: 15228120088
A63: SRNDOT | B63: 84028159 | C63: 00000POITR | D63: 00000POITM | E63: 00000POITR | F63: 00000POITM | G63: 00000POITR | H63: 00000POITM | I63: 2 | J63: 15228110081
A64: SRNDOT | B64: 84028159 | C64: 00000POITR | D64: 00000POITM | E64: 00000POITR | F64: 00000POITM | G64: 00000POITR | H64: 00000POITM | I64: 2 | J64: 15228120114
A65: SRNDOT | B65: 84028159 | C65: 00000POITR | D65: 00000POITM | E65: 00000POITR | F65: 00000POITM | G65: 00000POITR | H65: 00000POITM | I65: 2 | J65: 15228120111
A66: SRNDOT | B66: 84028159 | C66: 00000POITR | D66: 00000POITM | E66: 00000POITR | F66: 00000POITM | G66: 00000POITR | H66: 00000POITM | I66: 2 | J66: 15228110091
A67: SRNDOT | B67: 84028159 | C67: 00000POITR | D67: 00000POITM | E67: 00000POITR | F67: 00000POITM | G67: 00000POITR | H67: 00000POITM | I67: 2 | J67: 15228110041
A68: SRNDOT | B68: 84028159 | C68: 00000POITR | D68: 00000POITM | E68: 00000POITR | F68: 00000POITM | G68: 00000POITR | H68: 00000POITM | I68: 2 | J68: 15228110095
... A83: SRNDOT | B83: 84028159 | C83: 00000POITR | D83: 00000POITM | E83: 00000POITR | F83: 00000POITM | G83: 00000POITR | H83: 00000POITM | I83: 2 | J83: 15228110100
A84: SRNDOT | B84: 84028159 | C84: 00000POITR | D84: 00000POITM | E84: 00000POITR | F84: 00000POITM | G84: 15228110010 | H84: 15228110028 | I84: 2 | J84: 15228180182
A85: SRNDOT | B85: 84148145 | C85: 00000POITR | D85: 00000POITM | E85: 8028202008 | F85: 00000CVOVM | G85: 00000POITR | H85: 8402809002 | I85: 2 | J85: 2815920105
A86: SRNDOT | B86: 84148145 | C86: 00000POITR | D86: 00000POITM | E86: 8028202008 | F86: 00000CVOVM | G86: 00000POITR | H86: 8402809002 | I86: 2 | J86: 2815920115
A87: SRNDOT | B87: 84148145 | C87: 00000POITR | D87: 00000POITM | E87: 8028202008 | F87: 00000CVOVM | G87: 00000POITR | H87: 8402809002 | I87: 2 | J87: 2815920118
A88: SRNDOT | B88: 84115129 | C88: 00000POITR | D88: 00000POITM | E88: 00000CVOVR | F88: 00000CVOVM | G88: 00000POITR | H88: 00000CVOVM | I88: 2 | J88: 15228110108
A89: SRNDOT | B89: 84115129 | C89: 00000POITR | D89: 00000POITM | E89: 00000CVOVR | F89: 00000CVOVM | G89: 00000POITR | H89: 00000CVOVM | I89: 2 | J89: 15228110102
A90: SRNDOT | B90: 84115129 | C90: 00000CVOVR | D90: 00000CVOVM | E90: 00000POITR | F90: 00000POITM | G90: 8402809015 | H90: 00000POITM | I90: 2 | J90: 15228110120
A91: SRNDOT | B91: 84115129 | C91: 00000POITR | D91: 00000POITM | E91: 00000CVOVR | F91: 00000CVOVM | G91: 00000POITR | H91: 00000CVOVM | I91: 2 | J91: 15228110112
A92: SRNDOT | B92: 84115129 | C92: 00000POITR | D92: 00000POITM | E92: 00000CVOVR | F92: 00000CVOVM | G92: 00000POITR | H92: 00000CVOVM | I92: 2 | J92: 15228110109
A93: SRNDOT | B93: 84115129 | C93: 00000POITR | D93: 00000POITM | E93: 00000CVOVR | F93: 00000CVOVM | G93: 00000POITR | H93: 00000CVOVM | I93: 2 | J93: 15228110111
A94: SRNDOT | B94: 84115129 | C94: 00000POITR | D94: 00000POITM | E94: 00000CVOVR | F94: 00000CVOVM | G94: 00000POITR | H94: 00000CVOVM | I94: 2 | J94: 15228110108
A95: SRNDOT | B95: 84115129 | C95: 00000POITR | D95: 00000POITM | E95: 00000CVOVR | F95: 00000CVOVM | G95: 00000POITR | H95: 00000CVOVM | I95: 2 | J95: 15228110105
A96: SRNDOT | B96: 84115129 | C96: 00000POITR | D96: 00000POITM | E96: 00000CVOVR | F96: 00000CVOVM | G96: 00000POITR | H96: 00000CVOVM | I96: 2 | J96: 15228110115
A97: SRNDOT | B97: 84115129 | C97: 00000POITR | D97: 00000POITM | E97: 00000CVOVR | F97: 00000CVOVM | G97: 00000POITR | H97: 00000CVOVM | I97: 2 | J97: 15228110114
A98: SRNDOT | B98: 84115129 | C98: 00000POITR | D98: 00000POITM | E98: 00000CVOVR | F98: 00000CVOVM | G98: 00000POITR | H98: 00000CVOVM | I98: 2 | J98: 15228110119
A99: SRNDOT | B99: 84115129 | C99: 00000POITR | D99: 00000POITM | E99: 00000CVOVR | F99: 00000CVOVM | G99: 00000POITR | H99: 00000CVOVM | I99: 2 | J99: 15228110104
A100: SRRSRRRY | B100: 24242011 | C100: 51588220002 | D100: 51588210001 | E100: 1410402012 | F100: 1410408015 | G100: 51588210018 | H100: 1410409201 | I100: 2 | J100: 28489118001
A101: SRRSRRRY | B101: 24242011 | C101: 4910409005 | D101: 51588210001 | E101: 1410402012 | F101: 1410408015 | G101: 51588210012 | H101: 1410409201 | I101: 2 | J101: 28489118008
A102: SRRSRRRY | B102: 24242011 | C102: 4910405005 | D102: 51588210001 | E102: 1410402012 | F102: 1410408015 | G102: 51588210022 | H102: 1410409201 | I102: 2 | J102: 28489118001
A103: SRRSRRRY | B103: 24242011 | C103: 4910405005 | D103: 51588210001 | E103: 1410402012 | F103: 1410408015 | G103: 51588210022 | H103: 1410409201 | I103: 2 | J103: 28489118002
A104: SRTIOT | B104: 85211022 | C104: 4910404002 | D104: 52008800022 | E104: 4112804015 | F104: 00000POITM | G104: 54225810009 | H104: 54248120001 | I104: 2 | J104: 54248180002
A105: SRTIOT | B105: 85211022 | C105: 19521800014 | D105: 54420100288 | E105: 4112804015 | F105: 00000POITM | G105: 29221412008 | H105: 54248120001 | I105: 2 | J105: 54248180001
A106: SRTIOT | B106: 85211022 | C106: 19521800014 | D106: 54420100288 | E106: 4112804015 | F106: 00000POITM | G106: 29221412008 | H106: 54248120001 | I106: 2 | J106: 54248180002
A107: SRTIOT | B107: 85211022 | C107: 19521800018 | D107: 54420100288 | E107: 4112804015 | F107: 00000POITM | G107: 29221412002 | H107: 54248120001 | I107: 2 | J107: 54248180001
A108: SORUJORULT | B108: 49018008 | C108: 4912004004 | D108: 1415200008 | E108: 4912205001 | F108: 54420110029 | G108: 51852520120 | H108: 51481820015 | I108: 2 | J108: 51852510001
A109: SOLLIOT | B109: 11141012 | C109: 19521810005 | D109: 21282110005 | E109: 19521810005 | F109: 21282110005 | G109: 21818110001 | H109: 21818110002 | I109: 2 | J109: 24821280002
A110: SORSOSSON | B110: 12210029 | C110: 1428200005 | D110: 1428204014 | E110: 00000POITR | F110: 00000POITM | G110: 1428204019 | H110: 00000POITM | I110: 2 | J110: 19102411001
A111: SORNOUIS - MRZORON | B111: 18820021 | C111: 00000CVOVR | D111: 00000CVOVM | E111: 00000POITR | F111: 00000POITM | G111: 18011010008 | H111: 4210902011 | I111: 2 | J111: 18011020021
A112: SORNOUIS - MRZORON | B112: 18820021 | C112: 00000CVOVR | D112: 00000CVOVM | E112: 00000POITR | F112: 00000POITM | G112: 1882000082 | H112: 4210902011 | I112: 2 | J112: 18011020009
A113: SORNOUIS - MRZORON | B113: 18820021 | C113: 00000CVOVR | D113: 00000CVOVM | E113: 00000POITR | F113: 00000POITM | G113: 18011000008 | H113: 4210902011 | I113: 2 | J113: 18011020002
A114: SORNOUIS - MRZORON | B114: 18820021 | C114: 00000CVOVR | D114: 00000CVOVM | E114: 00000POITR | F114: 00000POITM | G114: 81298810059 | H114: 4210902011 | I114: 2 | J114: 18011020005
...

Sheet msc
A1: NRissOur | B1: N° élOvOur | C1: LMM | D1: LPM | E1: LMP | F1: LPP | G1: MOrO | H1: pOrO | I1: SOxO | J1: N° RnimRl
A2: RNDRRL | B2: 89128521 | C2: 52525220005 | D2: 4401002008 | E2: 12044140028 | F2: 54420120020 | G2: 20110010018 | H2: 12044100088 | I2: 1 | J2: 201100tOst1
A3: RUNORU | B3: 85020018 | C3: 8502001022 | D3: 8502001001 | E3: 00000CVOVR1 | F3: 00000CVOVM1 | G3: 8502001012 | H3: 1419000881 | I3: 1 | J3: 8502002025
A4: SRNDOT | B4: 84028159 | C4: 00000CVOVR1 | D4: 00000CVOVM1 | E4: 00000CVOVR1 | F4: 00000CVOVM1 | G4: 00000CVOVR1 | H4: 00000CVOVM1 | I4: 1 | J4: 8402809010
A5: SRNDOT | B5: 84028159 | C5: 00000POITR1 | D5: 00000POITM1 | E5: 00000POITR1 | F5: 00000POITM1 | G5: 00000POITR1 | H5: 00000POITM1 | I5: 1 | J5: 15228110028
A6: SRNDOT | B6: 84028159 | C6: 00000POITR1 | D6: 00000POITM1 | E6: 00000POITR1 | F6: 00000POITM1 | G6: 15228110050 | H6: 15228110028 | I6: 1 | J6: 15228180125
A7: SRNDOT | B7: 84028159 | C7: 00000CVOVR1 | D7: 00000CVOVM1 | E7: 00000CVOVR1 | F7: 00000CVOVM1 | G7: 8028208021 | H7: 8402809010 | I7: 1 | J7: 15228110021
A8: SRNDOT | B8: 84148145 | C8: 00000POITR1 | D8: 00000POITM1 | E8: 49S9598001 | F8: 4992498091 | G8: 00000POITR1 | H8: 49S9592184 | I8: 1 | J8: 2815920012
A9: SRTIOT | B9: 80298085 | C9: 1428240018 | D9: 54420100288 | E9: 4112804015 | F9: 00000POITM1 | G9: 29221412001 | H9: 54248120001 | I9: 1 | J9: 54248180008
A10: SRTIOT | B10: 85211022 | C10: 4112805002 | D10: 4112808202 | E10: 00000POITR1 | F10: 00000POITM1 | G10: 4112804015 | H10: 00000POITM1 | I10: 1 | J10: 54248120001

Sheet msc transposer
A1: {=TRANSPOSE(msc!A1:L350)} -> NRissOur | B1: RNDRRL | C1: RUNORU | D1: SRNDOT | E1: SRNDOT | F1: SRNDOT | G1: SRNDOT | H1: SRNDOT | I1: SRTIOT | J1: SRTIOT | K1: 0 | L1: 0 | M1: 0 | N1: 0 | O1: 0 | P1: 0 | Q1: 0 | R1: 0 | S1: 0 | T1: 0 | U1: 0 | V1: 0 | W1: 0 | X1: 0 | Y1: 0 | Z1: 0 | AA1: 0 | AB1: 0 | AC1: 0 | AD1: 0 | AE1: 0 | AF1: 0 | AG1: 0 | AH1: 0 | AI1: 0 | AJ1: 0 | AK1: 0 | AL1: 0 | AM1: 0 | AN1: 0 | AO1: 0 | AP1: 0 | AQ1: 0 | AR1: 0 | AS1: 0 | AT1: 0 | AU1: 0 | AV1: 0 | AW1: 0 | AX1: 0 | AY1: 0 | AZ1: 0 | BA1: 0 | BB1: 0 | BC1: 0 | BD1: 0 | BE1: 0 | BF1: 0 | BG1: 0 | BH1: 0 | BI1: 0 | BJ1: 0 | BK1: 0 | BL1: 0 | BM1: 0 | BN1: 0 | BO1: 0 | BP1: 0 | BQ1: 0 | BR1: 0 | BS1: 0 | BT1: 0 | BU1: 0 | BV1: 0 | BW1: 0 | BX1: 0 | BY1: 0 | BZ1: 0 | CA1: 0 | CB1: 0 | CC1: 0 | CD1: 0 | CE1: 0 | CF1: 0 | CG1: 0 | CH1: 0 | CI1: 0 | CJ1: 0 | CK1: 0 | CL1: 0 | CM1: 0 | CN1: 0 | CO1: 0 | CP1: 0 | CQ1: 0 | CR1: 0 | CS1: 0 | CT1: 0 | CU1: 0 | CV1: 0 | CW1: 0 | CX1: 0 | CY1: 0 | CZ1: 0 | DA1: 0 | DB1: 0 | DC1: 0 | DD1: 0 | DE1: 0 | DF1: 0 | DG1: 0 | DH1: 0 | DI1: 0 | DJ1: 0 | DK1: 0 | DL1: 0 | DM1: 0 | DN1: 0 | DO1: 0 | DP1: 0 | DQ1: 0 | DR1: 0 | DS1: 0 | DT1: 0 | DU1: 0 | DV1: 0 | DW1: 0 | DX1: 0 | DY1: 0 | DZ1: 0 | EA1: 0 | EB1: 0 | EC1: 0 | ED1: 0 | EE1: 0 | EF1: 0 | EG1: 0 | EH1: 0 | EI1: 0 | EJ1: 0 | EK1: 0 | EL1: 0 | EM1: 0 | EN1: 0 | EO1: 0 | EP1: 0 | EQ1: 0 | ER1: 0 | ES1: 0 | ET1: 0 | EU1: 0 | EV1: 0 | EW1: 0 | EX1: 0 | EY1: 0 | EZ1: 0 | FA1: 0 | FB1: 0 | FC1: 0 | FD1: 0 | FE1: 0 | FF1: 0 | FG1: 0 | FH1: 0 | FI1: 0 | FJ1: 0 | FK1: 0 | FL1: 0 | FM1: 0 | FN1: 0 | FO1: 0 | FP1: 0 | FQ1: 0 | FR1: 0 | FS1: 0 | FT1: 0 | FU1: 0 | FV1: 0 | FW1: 0 | FX1: 0 | FY1: 0 | FZ1: 0 | GA1: 0 | GB1: 0 | GC1: 0 | GD1: 0 | GE1: 0 | GF1: 0 | GG1: 0 | GH1: 0 | GI1: 0 | GJ1: 0 | GK1: 0 | GL1: 0 | GM1: 0 | GN1: 0 | GO1: 0 | GP1: 0 | GQ1: 0 | GR1: 0 | GS1: 0 | GT1: 0 | GU1: 0 | GV1: 0 | GW1: 0 | GX1: 0 | GY1: 0 | GZ1: 0 | HA1: 0 | HB1: 0 | HC1: 0 | HD1: 0 | HE1: 0 | HF1: 0 | HG1: 0 | HH1: 0 | HI1: 0 | HJ1: 0 | HK1: 0 | HL1: 0 | HM1: 0 | HN1: 0 | HO1: 0 | HP1: 0 | HQ1: 0 | HR1: 0 | HS1: 0 | HT1: 0 | HU1: 0 | HV1: 0 | HW1: 0 | HX1: 0 | HY1: 0 | HZ1: 0 | IA1: 0 | IB1: 0 | IC1: 0 | ID1: 0 | IE1: 0 | IF1: 0 | IG1: 0 | IH1: 0 | II1: 0 | IJ1: 0 | IK1: 0 | IL1: 0 | IM1: 0 | IN1: 0 | IO1: 0 | IP1: 0 | IQ1: 0 | IR1: 0 | IS1: 0 | IT1: 0 | IU1: 0 | IV1: 0 | IW1: 0 | IX1: 0 | IY1: 0 | IZ1: 0 | JA1: 0 | JB1: 0 | JC1: 0 | JD1: 0 | JE1: 0 | JF1: 0 | JG1: 0 | JH1: 0 | JI1: 0 | JJ1: 0 | JK1: 0 | JL1: 0 | JM1: 0 | JN1: 0 | JO1: 0 | JP1: 0 | JQ1: 0 | JR1: 0 | JS1: 0 | JT1: 0 | JU1: 0 | JV1: 0 | JW1: 0 | JX1: 0 | JY1: 0 | JZ1: 0 | KA1: 0 | KB1: 0 | KC1: 0 | KD1: 0 | KE1: 0 | KF1: 0 | KG1: 0 | KH1: 0 | KI1: 0 | KJ1: 0 | KK1: 0 | KL1: 0 | KM1: 0 | KN1: 0 | KO1: 0 | KP1: 0 | KQ1: 0 | KR1: 0 | KS1: 0 | KT1: 0 | KU1: 0 | KV1: 0 | KW1: 0 | KX1: 0 | KY1: 0 | KZ1: 0 | LA1: 0 | LB1: 0 | LC1: 0 | LD1: 0 | LE1: 0 | LF1: 0 | LG1: 0 | LH1: 0 | LI1: 0 | LJ1: 0 | LK1: 0 | LL1: 0 | LM1: 0 | LN1: 0 | LO1: 0 | LP1: 0 | LQ1: 0 | LR1: 0 | LS1: 0 | LT1: 0 | LU1: 0 | LV1: 0 | LW1: 0 | LX1: 0 | LY1: 0 | LZ1: 0 | MA1: 0 | MB1: 0 | MC1: 0 | MD1: 0 | ME1: 0 | MF1: 0 | MG1: 0 | MH1: 0 | MI1: 0 | MJ1: 0 | MK1: 0 | ML1: 0
A2: N° élOvOur | B2: 89128521 | C2: 85020018 | D2: 84028159 | E2: 84028159 | F2: 84028159 | G2: 84028159 | H2: 84148145 | I2: 80298085 | J2: 85211022 | K2: 0 | L2: 0 | M2: 0 | N2: 0 | O2: 0 | P2: 0 | Q2: 0 | R2: 0 | S2: 0 | T2: 0 | U2: 0 | V2: 0 | W2: 0 | X2: 0 | Y2: 0 | Z2: 0 | AA2: 0 | AB2: 0 | AC2: 0 | AD2: 0 | AE2: 0 | AF2: 0 | AG2: 0 | AH2: 0 | AI2: 0 | AJ2: 0 | AK2: 0 | AL2: 0 | AM2: 0 | AN2: 0 | AO2: 0 | AP2: 0 | AQ2: 0 | AR2: 0 | AS2: 0 | AT2: 0 | AU2: 0 | AV2: 0 | AW2: 0 | AX2: 0 | AY2: 0 | AZ2: 0 | BA2: 0 | BB2: 0 | BC2: 0 | BD2: 0 | BE2: 0 | BF2: 0 | BG2: 0 | BH2: 0 | BI2: 0 | BJ2: 0 | BK2: 0 | BL2: 0 | BM2: 0 | BN2: 0 | BO2: 0 | BP2: 0 | BQ2: 0 | BR2: 0 | BS2: 0 | BT2: 0 | BU2: 0 | BV2: 0 | BW2: 0 | BX2: 0 | BY2: 0 | BZ2: 0 | CA2: 0 | CB2: 0 | CC2: 0 | CD2: 0 | CE2: 0 | CF2: 0 | CG2: 0 | CH2: 0 | CI2: 0 | CJ2: 0 | CK2: 0 | CL2: 0 | CM2: 0 | CN2: 0 | CO2: 0 | CP2: 0 | CQ2: 0 | CR2: 0 | CS2: 0 | CT2: 0 | CU2: 0 | CV2: 0 | CW2: 0 | CX2: 0 | CY2: 0 | CZ2: 0 | DA2: 0 | DB2: 0 | DC2: 0 | DD2: 0 | DE2: 0 | DF2: 0 | DG2: 0 | DH2: 0 | DI2: 0 | DJ2: 0 | DK2: 0 | DL2: 0 | DM2: 0 | DN2: 0 | DO2: 0 | DP2: 0 | DQ2: 0 | DR2: 0 | DS2: 0 | DT2: 0 | DU2: 0 | DV2: 0 | DW2: 0 | DX2: 0 | DY2: 0 | DZ2: 0 | EA2: 0 | EB2: 0 | EC2: 0 | ED2: 0 | EE2: 0 | EF2: 0 | EG2: 0 | EH2: 0 | EI2: 0 | EJ2: 0 | EK2: 0 | EL2: 0 | EM2: 0 | EN2: 0 | EO2: 0 | EP2: 0 | EQ2: 0 | ER2: 0 | ES2: 0 | ET2: 0 | EU2: 0 | EV2: 0 | EW2: 0 | EX2: 0 | EY2: 0 | EZ2: 0 | FA2: 0 | FB2: 0 | FC2: 0 | FD2: 0 | FE2: 0 | FF2: 0 | FG2: 0 | FH2: 0 | FI2: 0 | FJ2: 0 | FK2: 0 | FL2: 0 | FM2: 0 | FN2: 0 | FO2: 0 | FP2: 0 | FQ2: 0 | FR2: 0 | FS2: 0 | FT2: 0 | FU2: 0 | FV2: 0 | FW2: 0 | FX2: 0 | FY2: 0 | FZ2: 0 | GA2: 0 | GB2: 0 | GC2: 0 | GD2: 0 | GE2: 0 | GF2: 0 | GG2: 0 | GH2: 0 | GI2: 0 | GJ2: 0 | GK2: 0 | GL2: 0 | GM2: 0 | GN2: 0 | GO2: 0 | GP2: 0 | GQ2: 0 | GR2: 0 | GS2: 0 | GT2: 0 | GU2: 0 | GV2: 0 | GW2: 0 | GX2: 0 | GY2: 0 | GZ2: 0 | HA2: 0 | HB2: 0 | HC2: 0 | HD2: 0 | HE2: 0 | HF2: 0 | HG2: 0 | HH2: 0 | HI2: 0 | HJ2: 0 | HK2: 0 | HL2: 0 | HM2: 0 | HN2: 0 | HO2: 0 | HP2: 0 | HQ2: 0 | HR2: 0 | HS2: 0 | HT2: 0 | HU2: 0 | HV2: 0 | HW2: 0 | HX2: 0 | HY2: 0 | HZ2: 0 | IA2: 0 | IB2: 0 | IC2: 0 | ID2: 0 | IE2: 0 | IF2: 0 | IG2: 0 | IH2: 0 | II2: 0 | IJ2: 0 | IK2: 0 | IL2: 0 | IM2: 0 | IN2: 0 | IO2: 0 | IP2: 0 | IQ2: 0 | IR2: 0 | IS2: 0 | IT2: 0 | IU2: 0 | IV2: 0 | IW2: 0 | IX2: 0 | IY2: 0 | IZ2: 0 | JA2: 0 | JB2: 0 | JC2: 0 | JD2: 0 | JE2: 0 | JF2: 0 | JG2: 0 | JH2: 0 | JI2: 0 | JJ2: 0 | JK2: 0 | JL2: 0 | JM2: 0 | JN2: 0 | JO2: 0 | JP2: 0 | JQ2: 0 | JR2: 0 | JS2: 0 | JT2: 0 | JU2: 0 | JV2: 0 | JW2: 0 | JX2: 0 | JY2: 0 | JZ2: 0 | KA2: 0 | KB2: 0 | KC2: 0 | KD2: 0 | KE2: 0 | KF2: 0 | KG2: 0 | KH2: 0 | KI2: 0 | KJ2: 0 | KK2: 0 | KL2: 0 | KM2: 0 | KN2: 0 | KO2: 0 | KP2: 0 | KQ2: 0 | KR2: 0 | KS2: 0 | KT2: 0 | KU2: 0 | KV2: 0 | KW2: 0 | KX2: 0 | KY2: 0 | KZ2: 0 | LA2: 0 | LB2: 0 | LC2: 0 | LD2: 0 | LE2: 0 | LF2: 0 | LG2: 0 | LH2: 0 | LI2: 0 | LJ2: 0 | LK2: 0 | LL2: 0 | LM2: 0 | LN2: 0 | LO2: 0 | LP2: 0 | LQ2: 0 | LR2: 0 | LS2: 0 | LT2: 0 | LU2: 0 | LV2: 0 | LW2: 0 | LX2: 0 | LY2: 0 | LZ2: 0 | MA2: 0 | MB2: 0 | MC2: 0 | MD2: 0 | ME2: 0 | MF2: 0 | MG2: 0 | MH2: 0 | MI2: 0 | MJ2: 0 | MK2: 0 | ML2: 0
A3: LMM | B3: 52525220005 | C3: 8502001022 | D3: 00000CVOVR1 | E3: 00000POITR1 | F3: 00000POITR1 | G3: 00000CVOVR1 | H3: 00000POITR1 | I3: 1428240018 | J3: 4112805002 | K3: 0 | L3: 0 | M3: 0 | N3: 0 | O3: 0 | P3: 0 | Q3: 0 | R3: 0 | S3: 0 | T3: 0 | U3: 0 | V3: 0 | W3: 0 | X3: 0 | Y3: 0 | Z3: 0 | AA3: 0 | AB3: 0 | AC3: 0 | AD3: 0 | AE3: 0 | AF3: 0 | AG3: 0 | AH3: 0 | AI3: 0 | AJ3: 0 | AK3: 0 | AL3: 0 | AM3: 0 | AN3: 0 | AO3: 0 | AP3: 0 | AQ3: 0 | AR3: 0 | AS3: 0 | AT3: 0 | AU3: 0 | AV3: 0 | AW3: 0 | AX3: 0 | AY3: 0 | AZ3: 0 | BA3: 0 | BB3: 0 | BC3: 0 | BD3: 0 | BE3: 0 | BF3: 0 | BG3: 0 | BH3: 0 | BI3: 0 | BJ3: 0 | BK3: 0 | BL3: 0 | BM3: 0 | BN3: 0 | BO3: 0 | BP3: 0 | BQ3: 0 | BR3: 0 | BS3: 0 | BT3: 0 | BU3: 0 | BV3: 0 | BW3: 0 | BX3: 0 | BY3: 0 | BZ3: 0 | CA3: 0 | CB3: 0 | CC3: 0 | CD3: 0 | CE3: 0 | CF3: 0 | CG3: 0 | CH3: 0 | CI3: 0 | CJ3: 0 | CK3: 0 | CL3: 0 | CM3: 0 | CN3: 0 | CO3: 0 | CP3: 0 | CQ3: 0 | CR3: 0 | CS3: 0 | CT3: 0 | CU3: 0 | CV3: 0 | CW3: 0 | CX3: 0 | CY3: 0 | CZ3: 0 | DA3: 0 | DB3: 0 | DC3: 0 | DD3: 0 | DE3: 0 | DF3: 0 | DG3: 0 | DH3: 0 | DI3: 0 | DJ3: 0 | DK3: 0 | DL3: 0 | DM3: 0 | DN3: 0 | DO3: 0 | DP3: 0 | DQ3: 0 | DR3: 0 | DS3: 0 | DT3: 0 | DU3: 0 | DV3: 0 | DW3: 0 | DX3: 0 | DY3: 0 | DZ3: 0 | EA3: 0 | EB3: 0 | EC3: 0 | ED3: 0 | EE3: 0 | EF3: 0 | EG3: 0 | EH3: 0 | EI3: 0 | EJ3: 0 | EK3: 0 | EL3: 0 | EM3: 0 | EN3: 0 | EO3: 0 | EP3: 0 | EQ3: 0 | ER3: 0 | ES3: 0 | ET3: 0 | EU3: 0 | EV3: 0 | EW3: 0 | EX3: 0 | EY3: 0 | EZ3: 0 | FA3: 0 | FB3: 0 | FC3: 0 | FD3: 0 | FE3: 0 | FF3: 0 | FG3: 0 | FH3: 0 | FI3: 0 | FJ3: 0 | FK3: 0 | FL3: 0 | FM3: 0 | FN3: 0 | FO3: 0 | FP3: 0 | FQ3: 0 | FR3: 0 | FS3: 0 | FT3: 0 | FU3: 0 | FV3: 0 | FW3: 0 | FX3: 0 | FY3: 0 | FZ3: 0 | GA3: 0 | GB3: 0 | GC3: 0 | GD3: 0 | GE3: 0 | GF3: 0 | GG3: 0 | GH3: 0 | GI3: 0 | GJ3: 0 | GK3: 0 | GL3: 0 | GM3: 0 | GN3: 0 | GO3: 0 | GP3: 0 | GQ3: 0 | GR3: 0 | GS3: 0 | GT3: 0 | GU3: 0 | GV3: 0 | GW3: 0 | GX3: 0 | GY3: 0 | GZ3: 0 | HA3: 0 | HB3: 0 | HC3: 0 | HD3: 0 | HE3: 0 | HF3: 0 | HG3: 0 | HH3: 0 | HI3: 0 | HJ3: 0 | HK3: 0 | HL3: 0 | HM3: 0 | HN3: 0 | HO3: 0 | HP3: 0 | HQ3: 0 | HR3: 0 | HS3: 0 | HT3: 0 | HU3: 0 | HV3: 0 | HW3: 0 | HX3: 0 | HY3: 0 | HZ3: 0 | IA3: 0 | IB3: 0 | IC3: 0 | ID3: 0 | IE3: 0 | IF3: 0 | IG3: 0 | IH3: 0 | II3: 0 | IJ3: 0 | IK3: 0 | IL3: 0 | IM3: 0 | IN3: 0 | IO3: 0 | IP3: 0 | IQ3: 0 | IR3: 0 | IS3: 0 | IT3: 0 | IU3: 0 | IV3: 0 | IW3: 0 | IX3: 0 | IY3: 0 | IZ3: 0 | JA3: 0 | JB3: 0 | JC3: 0 | JD3: 0 | JE3: 0 | JF3: 0 | JG3: 0 | JH3: 0 | JI3: 0 | JJ3: 0 | JK3: 0 | JL3: 0 | JM3: 0 | JN3: 0 | JO3: 0 | JP3: 0 | JQ3: 0 | JR3: 0 | JS3: 0 | JT3: 0 | JU3: 0 | JV3: 0 | JW3: 0 | JX3: 0 | JY3: 0 | JZ3: 0 | KA3: 0 | KB3: 0 | KC3: 0 | KD3: 0 | KE3: 0 | KF3: 0 | KG3: 0 | KH3: 0 | KI3: 0 | KJ3: 0 | KK3: 0 | KL3: 0 | KM3: 0 | KN3: 0 | KO3: 0 | KP3: 0 | KQ3: 0 | KR3: 0 | KS3: 0 | KT3: 0 | KU3: 0 | KV3: 0 | KW3: 0 | KX3: 0 | KY3: 0 | KZ3: 0 | LA3: 0 | LB3: 0 | LC3: 0 | LD3: 0 | LE3: 0 | LF3: 0 | LG3: 0 | LH3: 0 | LI3: 0 | LJ3: 0 | LK3: 0 | LL3: 0 | LM3: 0 | LN3: 0 | LO3: 0 | LP3: 0 | LQ3: 0 | LR3: 0 | LS3: 0 | LT3: 0 | LU3: 0 | LV3: 0 | LW3: 0 | LX3: 0 | LY3: 0 | LZ3: 0 | MA3: 0 | MB3: 0 | MC3: 0 | MD3: 0 | ME3: 0 | MF3: 0 | MG3: 0 | MH3: 0 | MI3: 0 | MJ3: 0 | MK3: 0 | ML3: 0
A4: LPM | B4: 4401002008 | C4: 8502001001 | D4: 00000CVOVM1 | E4: 00000POITM1 | F4: 00000POITM1 | G4: 00000CVOVM1 | H4: 00000POITM1 | I4: 54420100288 | J4: 4112808202 | K4: 0 | L4: 0 | M4: 0 | N4: 0 | O4: 0 | P4: 0 | Q4: 0 | R4: 0 | S4: 0 | T4: 0 | U4: 0 | V4: 0 | W4: 0 | X4: 0 | Y4: 0 | Z4: 0 | AA4: 0 | AB4: 0 | AC4: 0 | AD4: 0 | AE4: 0 | AF4: 0 | AG4: 0 | AH4: 0 | AI4: 0 | AJ4: 0 | AK4: 0 | AL4: 0 | AM4: 0 | AN4: 0 | AO4: 0 | AP4: 0 | AQ4: 0 | AR4: 0 | AS4: 0 | AT4: 0 | AU4: 0 | AV4: 0 | AW4: 0 | AX4: 0 | AY4: 0 | AZ4: 0 | BA4: 0 | BB4: 0 | BC4: 0 | BD4: 0 | BE4: 0 | BF4: 0 | BG4: 0 | BH4: 0 | BI4: 0 | BJ4: 0 | BK4: 0 | BL4: 0 | BM4: 0 | BN4: 0 | BO4: 0 | BP4: 0 | BQ4: 0 | BR4: 0 | BS4: 0 | BT4: 0 | BU4: 0 | BV4: 0 | BW4: 0 | BX4: 0 | BY4: 0 | BZ4: 0 | CA4: 0 | CB4: 0 | CC4: 0 | CD4: 0 | CE4: 0 | CF4: 0 | CG4: 0 | CH4: 0 | CI4: 0 | CJ4: 0 | CK4: 0 | CL4: 0 | CM4: 0 | CN4: 0 | CO4: 0 | CP4: 0 | CQ4: 0 | CR4: 0 | CS4: 0 | CT4: 0 | CU4: 0 | CV4: 0 | CW4: 0 | CX4: 0 | CY4: 0 | CZ4: 0 | DA4: 0 | DB4: 0 | DC4: 0 | DD4: 0 | DE4: 0 | DF4: 0 | DG4: 0 | DH4: 0 | DI4: 0 | DJ4: 0 | DK4: 0 | DL4: 0 | DM4: 0 | DN4: 0 | DO4: 0 | DP4: 0 | DQ4: 0 | DR4: 0 | DS4: 0 | DT4: 0 | DU4: 0 | DV4: 0 | DW4: 0 | DX4: 0 | DY4: 0 | DZ4: 0 | EA4: 0 | EB4: 0 | EC4: 0 | ED4: 0 | EE4: 0 | EF4: 0 | EG4: 0 | EH4: 0 | EI4: 0 | EJ4: 0 | EK4: 0 | EL4: 0 | EM4: 0 | EN4: 0 | EO4: 0 | EP4: 0 | EQ4: 0 | ER4: 0 | ES4: 0 | ET4: 0 | EU4: 0 | EV4: 0 | EW4: 0 | EX4: 0 | EY4: 0 | EZ4: 0 | FA4: 0 | FB4: 0 | FC4: 0 | FD4: 0 | FE4: 0 | FF4: 0 | FG4: 0 | FH4: 0 | FI4: 0 | FJ4: 0 | FK4: 0 | FL4: 0 | FM4: 0 | FN4: 0 | FO4: 0 | FP4: 0 | FQ4: 0 | FR4: 0 | FS4: 0 | FT4: 0 | FU4: 0 | FV4: 0 | FW4: 0 | FX4: 0 | FY4: 0 | FZ4: 0 | GA4: 0 | GB4: 0 | GC4: 0 | GD4: 0 | GE4: 0 | GF4: 0 | GG4: 0 | GH4: 0 | GI4: 0 | GJ4: 0 | GK4: 0 | GL4: 0 | GM4: 0 | GN4: 0 | GO4: 0 | GP4: 0 | GQ4: 0 | GR4: 0 | GS4: 0 | GT4: 0 | GU4: 0 | GV4: 0 | GW4: 0 | GX4: 0 | GY4: 0 | GZ4: 0 | HA4: 0 | HB4: 0 | HC4: 0 | HD4: 0 | HE4: 0 | HF4: 0 | HG4: 0 | HH4: 0 | HI4: 0 | HJ4: 0 | HK4: 0 | HL4: 0 | HM4: 0 | HN4: 0 | HO4: 0 | HP4: 0 | HQ4: 0 | HR4: 0 | HS4: 0 | HT4: 0 | HU4: 0 | HV4: 0 | HW4: 0 | HX4: 0 | HY4: 0 | HZ4: 0 | IA4: 0 | IB4: 0 | IC4: 0 | ID4: 0 | IE4: 0 | IF4: 0 | IG4: 0 | IH4: 0 | II4: 0 | IJ4: 0 | IK4: 0 | IL4: 0 | IM4: 0 | IN4: 0 | IO4: 0 | IP4: 0 | IQ4: 0 | IR4: 0 | IS4: 0 | IT4: 0 | IU4: 0 | IV4: 0 | IW4: 0 | IX4: 0 | IY4: 0 | IZ4: 0 | JA4: 0 | JB4: 0 | JC4: 0 | JD4: 0 | JE4: 0 | JF4: 0 | JG4: 0 | JH4: 0 | JI4: 0 | JJ4: 0 | JK4: 0 | JL4: 0 | JM4: 0 | JN4: 0 | JO4: 0 | JP4: 0 | JQ4: 0 | JR4: 0 | JS4: 0 | JT4: 0 | JU4: 0 | JV4: 0 | JW4: 0 | JX4: 0 | JY4: 0 | JZ4: 0 | KA4: 0 | KB4: 0 | KC4: 0 | KD4: 0 | KE4: 0 | KF4: 0 | KG4: 0 | KH4: 0 | KI4: 0 | KJ4: 0 | KK4: 0 | KL4: 0 | KM4: 0 | KN4: 0 | KO4: 0 | KP4: 0 | KQ4: 0 | KR4: 0 | KS4: 0 | KT4: 0 | KU4: 0 | KV4: 0 | KW4: 0 | KX4: 0 | KY4: 0 | KZ4: 0 | LA4: 0 | LB4: 0 | LC4: 0 | LD4: 0 | LE4: 0 | LF4: 0 | LG4: 0 | LH4: 0 | LI4: 0 | LJ4: 0 | LK4: 0 | LL4: 0 | LM4: 0 | LN4: 0 | LO4: 0 | LP4: 0 | LQ4: 0 | LR4: 0 | LS4: 0 | LT4: 0 | LU4: 0 | LV4: 0 | LW4: 0 | LX4: 0 | LY4: 0 | LZ4: 0 | MA4: 0 | MB4: 0 | MC4: 0 | MD4: 0 | ME4: 0 | MF4: 0 | MG4: 0 | MH4: 0 | MI4: 0 | MJ4: 0 | MK4: 0 | ML4: 0
A5: LMP | B5: 12044140028 | C5: 00000CVOVR1 | D5: 00000CVOVR1 | E5: 00000POITR1 | F5: 00000POITR1 | G5: 00000CVOVR1 | H5: 49S9598001 | I5: 4112804015 | J5: 00000POITR1 | K5: 0 | L5: 0 | M5: 0 | N5: 0 | O5: 0 | P5: 0 | Q5: 0 | R5: 0 | S5: 0 | T5: 0 | U5: 0 | V5: 0 | W5: 0 | X5: 0 | Y5: 0 | Z5: 0 | AA5: 0 | AB5: 0 | AC5: 0 | AD5: 0 | AE5: 0 | AF5: 0 | AG5: 0 | AH5: 0 | AI5: 0 | AJ5: 0 | AK5: 0 | AL5: 0 | AM5: 0 | AN5: 0 | AO5: 0 | AP5: 0 | AQ5: 0 | AR5: 0 | AS5: 0 | AT5: 0 | AU5: 0 | AV5: 0 | AW5: 0 | AX5: 0 | AY5: 0 | AZ5: 0 | BA5: 0 | BB5: 0 | BC5: 0 | BD5: 0 | BE5: 0 | BF5: 0 | BG5: 0 | BH5: 0 | BI5: 0 | BJ5: 0 | BK5: 0 | BL5: 0 | BM5: 0 | BN5: 0 | BO5: 0 | BP5: 0 | BQ5: 0 | BR5: 0 | BS5: 0 | BT5: 0 | BU5: 0 | BV5: 0 | BW5: 0 | BX5: 0 | BY5: 0 | BZ5: 0 | CA5: 0 | CB5: 0 | CC5: 0 | CD5: 0 | CE5: 0 | CF5: 0 | CG5: 0 | CH5: 0 | CI5: 0 | CJ5: 0 | CK5: 0 | CL5: 0 | CM5: 0 | CN5: 0 | CO5: 0 | CP5: 0 | CQ5: 0 | CR5: 0 | CS5: 0 | CT5: 0 | CU5: 0 | CV5: 0 | CW5: 0 | CX5: 0 | CY5: 0 | CZ5: 0 | DA5: 0 | DB5: 0 | DC5: 0 | DD5: 0 | DE5: 0 | DF5: 0 | DG5: 0 | DH5: 0 | DI5: 0 | DJ5: 0 | DK5: 0 | DL5: 0 | DM5: 0 | DN5: 0 | DO5: 0 | DP5: 0 | DQ5: 0 | DR5: 0 | DS5: 0 | DT5: 0 | DU5: 0 | DV5: 0 | DW5: 0 | DX5: 0 | DY5: 0 | DZ5: 0 | EA5: 0 | EB5: 0 | EC5: 0 | ED5: 0 | EE5: 0 | EF5: 0 | EG5: 0 | EH5: 0 | EI5: 0 | EJ5: 0 | EK5: 0 | EL5: 0 | EM5: 0 | EN5: 0 | EO5: 0 | EP5: 0 | EQ5: 0 | ER5: 0 | ES5: 0 | ET5: 0 | EU5: 0 | EV5: 0 | EW5: 0 | EX5: 0 | EY5: 0 | EZ5: 0 | FA5: 0 | FB5: 0 | FC5: 0 | FD5: 0 | FE5: 0 | FF5: 0 | FG5: 0 | FH5: 0 | FI5: 0 | FJ5: 0 | FK5: 0 | FL5: 0 | FM5: 0 | FN5: 0 | FO5: 0 | FP5: 0 | FQ5: 0 | FR5: 0 | FS5: 0 | FT5: 0 | FU5: 0 | FV5: 0 | FW5: 0 | FX5: 0 | FY5: 0 | FZ5: 0 | GA5: 0 | GB5: 0 | GC5: 0 | GD5: 0 | GE5: 0 | GF5: 0 | GG5: 0 | GH5: 0 | GI5: 0 | GJ5: 0 | GK5: 0 | GL5: 0 | GM5: 0 | GN5: 0 | GO5: 0 | GP5: 0 | GQ5: 0 | GR5: 0 | GS5: 0 | GT5: 0 | GU5: 0 | GV5: 0 | GW5: 0 | GX5: 0 | GY5: 0 | GZ5: 0 | HA5: 0 | HB5: 0 | HC5: 0 | HD5: 0 | HE5: 0 | HF5: 0 | HG5: 0 | HH5: 0 | HI5: 0 | HJ5: 0 | HK5: 0 | HL5: 0 | HM5: 0 | HN5: 0 | HO5: 0 | HP5: 0 | HQ5: 0 | HR5: 0 | HS5: 0 | HT5: 0 | HU5: 0 | HV5: 0 | HW5: 0 | HX5: 0 | HY5: 0 | HZ5: 0 | IA5: 0 | IB5: 0 | IC5: 0 | ID5: 0 | IE5: 0 | IF5: 0 | IG5: 0 | IH5: 0 | II5: 0 | IJ5: 0 | IK5: 0 | IL5: 0 | IM5: 0 | IN5: 0 | IO5: 0 | IP5: 0 | IQ5: 0 | IR5: 0 | IS5: 0 | IT5: 0 | IU5: 0 | IV5: 0 | IW5: 0 | IX5: 0 | IY5: 0 | IZ5: 0 | JA5: 0 | JB5: 0 | JC5: 0 | JD5: 0 | JE5: 0 | JF5: 0 | JG5: 0 | JH5: 0 | JI5: 0 | JJ5: 0 | JK5: 0 | JL5: 0 | JM5: 0 | JN5: 0 | JO5: 0 | JP5: 0 | JQ5: 0 | JR5: 0 | JS5: 0 | JT5: 0 | JU5: 0 | JV5: 0 | JW5: 0 | JX5: 0 | JY5: 0 | JZ5: 0 | KA5: 0 | KB5: 0 | KC5: 0 | KD5: 0 | KE5: 0 | KF5: 0 | KG5: 0 | KH5: 0 | KI5: 0 | KJ5: 0 | KK5: 0 | KL5: 0 | KM5: 0 | KN5: 0 | KO5: 0 | KP5: 0 | KQ5: 0 | KR5: 0 | KS5: 0 | KT5: 0 | KU5: 0 | KV5: 0 | KW5: 0 | KX5: 0 | KY5: 0 | KZ5: 0 | LA5: 0 | LB5: 0 | LC5: 0 | LD5: 0 | LE5: 0 | LF5: 0 | LG5: 0 | LH5: 0 | LI5: 0 | LJ5: 0 | LK5: 0 | LL5: 0 | LM5: 0 | LN5: 0 | LO5: 0 | LP5: 0 | LQ5: 0 | LR5: 0 | LS5: 0 | LT5: 0 | LU5: 0 | LV5: 0 | LW5: 0 | LX5: 0 | LY5: 0 | LZ5: 0 | MA5: 0 | MB5: 0 | MC5: 0 | MD5: 0 | ME5: 0 | MF5: 0 | MG5: 0 | MH5: 0 | MI5: 0 | MJ5: 0 | MK5: 0 | ML5: 0
A6: LPP | B6: 54420120020 | C6: 00000CVOVM1 | D6: 00000CVOVM1 | E6: 00000POITM1 | F6: 00000POITM1 | G6: 00000CVOVM1 | H6: 4992498091 | I6: 00000POITM1 | J6: 00000POITM1 | K6: 0 | L6: 0 | M6: 0 | N6: 0 | O6: 0 | P6: 0 | Q6: 0 | R6: 0 | S6: 0 | T6: 0 | U6: 0 | V6: 0 | W6: 0 | X6: 0 | Y6: 0 | Z6: 0 | AA6: 0 | AB6: 0 | AC6: 0 | AD6: 0 | AE6: 0 | AF6: 0 | AG6: 0 | AH6: 0 | AI6: 0 | AJ6: 0 | AK6: 0 | AL6: 0 | AM6: 0 | AN6: 0 | AO6: 0 | AP6: 0 | AQ6: 0 | AR6: 0 | AS6: 0 | AT6: 0 | AU6: 0 | AV6: 0 | AW6: 0 | AX6: 0 | AY6: 0 | AZ6: 0 | BA6: 0 | BB6: 0 | BC6: 0 | BD6: 0 | BE6: 0 | BF6: 0 | BG6: 0 | BH6: 0 | BI6: 0 | BJ6: 0 | BK6: 0 | BL6: 0 | BM6: 0 | BN6: 0 | BO6: 0 | BP6: 0 | BQ6: 0 | BR6: 0 | BS6: 0 | BT6: 0 | BU6: 0 | BV6: 0 | BW6: 0 | BX6: 0 | BY6: 0 | BZ6: 0 | CA6: 0 | CB6: 0 | CC6: 0 | CD6: 0 | CE6: 0 | CF6: 0 | CG6: 0 | CH6: 0 | CI6: 0 | CJ6: 0 | CK6: 0 | CL6: 0 | CM6: 0 | CN6: 0 | CO6: 0 | CP6: 0 | CQ6: 0 | CR6: 0 | CS6: 0 | CT6: 0 | CU6: 0 | CV6: 0 | CW6: 0 | CX6: 0 | CY6: 0 | CZ6: 0 | DA6: 0 | DB6: 0 | DC6: 0 | DD6: 0 | DE6: 0 | DF6: 0 | DG6: 0 | DH6: 0 | DI6: 0 | DJ6: 0 | DK6: 0 | DL6: 0 | DM6: 0 | DN6: 0 | DO6: 0 | DP6: 0 | DQ6: 0 | DR6: 0 | DS6: 0 | DT6: 0 | DU6: 0 | DV6: 0 | DW6: 0 | DX6: 0 | DY6: 0 | DZ6: 0 | EA6: 0 | EB6: 0 | EC6: 0 | ED6: 0 | EE6: 0 | EF6: 0 | EG6: 0 | EH6: 0 | EI6: 0 | EJ6: 0 | EK6: 0 | EL6: 0 | EM6: 0 | EN6: 0 | EO6: 0 | EP6: 0 | EQ6: 0 | ER6: 0 | ES6: 0 | ET6: 0 | EU6: 0 | EV6: 0 | EW6: 0 | EX6: 0 | EY6: 0 | EZ6: 0 | FA6: 0 | FB6: 0 | FC6: 0 | FD6: 0 | FE6: 0 | FF6: 0 | FG6: 0 | FH6: 0 | FI6: 0 | FJ6: 0 | FK6: 0 | FL6: 0 | FM6: 0 | FN6: 0 | FO6: 0 | FP6: 0 | FQ6: 0 | FR6: 0 | FS6: 0 | FT6: 0 | FU6: 0 | FV6: 0 | FW6: 0 | FX6: 0 | FY6: 0 | FZ6: 0 | GA6: 0 | GB6: 0 | GC6: 0 | GD6: 0 | GE6: 0 | GF6: 0 | GG6: 0 | GH6: 0 | GI6: 0 | GJ6: 0 | GK6: 0 | GL6: 0 | GM6: 0 | GN6: 0 | GO6: 0 | GP6: 0 | GQ6: 0 | GR6: 0 | GS6: 0 | GT6: 0 | GU6: 0 | GV6: 0 | GW6: 0 | GX6: 0 | GY6: 0 | GZ6: 0 | HA6: 0 | HB6: 0 | HC6: 0 | HD6: 0 | HE6: 0 | HF6: 0 | HG6: 0 | HH6: 0 | HI6: 0 | HJ6: 0 | HK6: 0 | HL6: 0 | HM6: 0 | HN6: 0 | HO6: 0 | HP6: 0 | HQ6: 0 | HR6: 0 | HS6: 0 | HT6: 0 | HU6: 0 | HV6: 0 | HW6: 0 | HX6: 0 | HY6: 0 | HZ6: 0 | IA6: 0 | IB6: 0 | IC6: 0 | ID6: 0 | IE6: 0 | IF6: 0 | IG6: 0 | IH6: 0 | II6: 0 | IJ6: 0 | IK6: 0 | IL6: 0 | IM6: 0 | IN6: 0 | IO6: 0 | IP6: 0 | IQ6: 0 | IR6: 0 | IS6: 0 | IT6: 0 | IU6: 0 | IV6: 0 | IW6: 0 | IX6: 0 | IY6: 0 | IZ6: 0 | JA6: 0 | JB6: 0 | JC6: 0 | JD6: 0 | JE6: 0 | JF6: 0 | JG6: 0 | JH6: 0 | JI6: 0 | JJ6: 0 | JK6: 0 | JL6: 0 | JM6: 0 | JN6: 0 | JO6: 0 | JP6: 0 | JQ6: 0 | JR6: 0 | JS6: 0 | JT6: 0 | JU6: 0 | JV6: 0 | JW6: 0 | JX6: 0 | JY6: 0 | JZ6: 0 | KA6: 0 | KB6: 0 | KC6: 0 | KD6: 0 | KE6: 0 | KF6: 0 | KG6: 0 | KH6: 0 | KI6: 0 | KJ6: 0 | KK6: 0 | KL6: 0 | KM6: 0 | KN6: 0 | KO6: 0 | KP6: 0 | KQ6: 0 | KR6: 0 | KS6: 0 | KT6: 0 | KU6: 0 | KV6: 0 | KW6: 0 | KX6: 0 | KY6: 0 | KZ6: 0 | LA6: 0 | LB6: 0 | LC6: 0 | LD6: 0 | LE6: 0 | LF6: 0 | LG6: 0 | LH6: 0 | LI6: 0 | LJ6: 0 | LK6: 0 | LL6: 0 | LM6: 0 | LN6: 0 | LO6: 0 | LP6: 0 | LQ6: 0 | LR6: 0 | LS6: 0 | LT6: 0 | LU6: 0 | LV6: 0 | LW6: 0 | LX6: 0 | LY6: 0 | LZ6: 0 | MA6: 0 | MB6: 0 | MC6: 0 | MD6: 0 | ME6: 0 | MF6: 0 | MG6: 0 | MH6: 0 | MI6: 0 | MJ6: 0 | MK6: 0 | ML6: 0
A7: MOrO | B7: 20110010018 | C7: 8502001012 | D7: 00000CVOVR1 | E7: 00000POITR1 | F7: 15228110050 | G7: 8028208021 | H7: 00000POITR1 | I7: 29221412001 | J7: 4112804015 | K7: 0 | L7: 0 | M7: 0 | N7: 0 | O7: 0 | P7: 0 | Q7: 0 | R7: 0 | S7: 0 | T7: 0 | U7: 0 | V7: 0 | W7: 0 | X7: 0 | Y7: 0 | Z7: 0 | AA7: 0 | AB7: 0 | AC7: 0 | AD7: 0 | AE7: 0 | AF7: 0 | AG7: 0 | AH7: 0 | AI7: 0 | AJ7: 0 | AK7: 0 | AL7: 0 | AM7: 0 | AN7: 0 | AO7: 0 | AP7: 0 | AQ7: 0 | AR7: 0 | AS7: 0 | AT7: 0 | AU7: 0 | AV7: 0 | AW7: 0 | AX7: 0 | AY7: 0 | AZ7: 0 | BA7: 0 | BB7: 0 | BC7: 0 | BD7: 0 | BE7: 0 | BF7: 0 | BG7: 0 | BH7: 0 | BI7: 0 | BJ7: 0 | BK7: 0 | BL7: 0 | BM7: 0 | BN7: 0 | BO7: 0 | BP7: 0 | BQ7: 0 | BR7: 0 | BS7: 0 | BT7: 0 | BU7: 0 | BV7: 0 | BW7: 0 | BX7: 0 | BY7: 0 | BZ7: 0 | CA7: 0 | CB7: 0 | CC7: 0 | CD7: 0 | CE7: 0 | CF7: 0 | CG7: 0 | CH7: 0 | CI7: 0 | CJ7: 0 | CK7: 0 | CL7: 0 | CM7: 0 | CN7: 0 | CO7: 0 | CP7: 0 | CQ7: 0 | CR7: 0 | CS7: 0 | CT7: 0 | CU7: 0 | CV7: 0 | CW7: 0 | CX7: 0 | CY7: 0 | CZ7: 0 | DA7: 0 | DB7: 0 | DC7: 0 | DD7: 0 | DE7: 0 | DF7: 0 | DG7: 0 | DH7: 0 | DI7: 0 | DJ7: 0 | DK7: 0 | DL7: 0 | DM7: 0 | DN7: 0 | DO7: 0 | DP7: 0 | DQ7: 0 | DR7: 0 | DS7: 0 | DT7: 0 | DU7: 0 | DV7: 0 | DW7: 0 | DX7: 0 | DY7: 0 | DZ7: 0 | EA7: 0 | EB7: 0 | EC7: 0 | ED7: 0 | EE7: 0 | EF7: 0 | EG7: 0 | EH7: 0 | EI7: 0 | EJ7: 0 | EK7: 0 | EL7: 0 | EM7: 0 | EN7: 0 | EO7: 0 | EP7: 0 | EQ7: 0 | ER7: 0 | ES7: 0 | ET7: 0 | EU7: 0 | EV7: 0 | EW7: 0 | EX7: 0 | EY7: 0 | EZ7: 0 | FA7: 0 | FB7: 0 | FC7: 0 | FD7: 0 | FE7: 0 | FF7: 0 | FG7: 0 | FH7: 0 | FI7: 0 | FJ7: 0 | FK7: 0 | FL7: 0 | FM7: 0 | FN7: 0 | FO7: 0 | FP7: 0 | FQ7: 0 | FR7: 0 | FS7: 0 | FT7: 0 | FU7: 0 | FV7: 0 | FW7: 0 | FX7: 0 | FY7: 0 | FZ7: 0 | GA7: 0 | GB7: 0 | GC7: 0 | GD7: 0 | GE7: 0 | GF7: 0 | GG7: 0 | GH7: 0 | GI7: 0 | GJ7: 0 | GK7: 0 | GL7: 0 | GM7: 0 | GN7: 0 | GO7: 0 | GP7: 0 | GQ7: 0 | GR7: 0 | GS7: 0 | GT7: 0 | GU7: 0 | GV7: 0 | GW7: 0 | GX7: 0 | GY7: 0 | GZ7: 0 | HA7: 0 | HB7: 0 | HC7: 0 | HD7: 0 | HE7: 0 | HF7: 0 | HG7: 0 | HH7: 0 | HI7: 0 | HJ7: 0 | HK7: 0 | HL7: 0 | HM7: 0 | HN7: 0 | HO7: 0 | HP7: 0 | HQ7: 0 | HR7: 0 | HS7: 0 | HT7: 0 | HU7: 0 | HV7: 0 | HW7: 0 | HX7: 0 | HY7: 0 | HZ7: 0 | IA7: 0 | IB7: 0 | IC7: 0 | ID7: 0 | IE7: 0 | IF7: 0 | IG7: 0 | IH7: 0 | II7: 0 | IJ7: 0 | IK7: 0 | IL7: 0 | IM7: 0 | IN7: 0 | IO7: 0 | IP7: 0 | IQ7: 0 | IR7: 0 | IS7: 0 | IT7: 0 | IU7: 0 | IV7: 0 | IW7: 0 | IX7: 0 | IY7: 0 | IZ7: 0 | JA7: 0 | JB7: 0 | JC7: 0 | JD7: 0 | JE7: 0 | JF7: 0 | JG7: 0 | JH7: 0 | JI7: 0 | JJ7: 0 | JK7: 0 | JL7: 0 | JM7: 0 | JN7: 0 | JO7: 0 | JP7: 0 | JQ7: 0 | JR7: 0 | JS7: 0 | JT7: 0 | JU7: 0 | JV7: 0 | JW7: 0 | JX7: 0 | JY7: 0 | JZ7: 0 | KA7: 0 | KB7: 0 | KC7: 0 | KD7: 0 | KE7: 0 | KF7: 0 | KG7: 0 | KH7: 0 | KI7: 0 | KJ7: 0 | KK7: 0 | KL7: 0 | KM7: 0 | KN7: 0 | KO7: 0 | KP7: 0 | KQ7: 0 | KR7: 0 | KS7: 0 | KT7: 0 | KU7: 0 | KV7: 0 | KW7: 0 | KX7: 0 | KY7: 0 | KZ7: 0 | LA7: 0 | LB7: 0 | LC7: 0 | LD7: 0 | LE7: 0 | LF7: 0 | LG7: 0 | LH7: 0 | LI7: 0 | LJ7: 0 | LK7: 0 | LL7: 0 | LM7: 0 | LN7: 0 | LO7: 0 | LP7: 0 | LQ7: 0 | LR7: 0 | LS7: 0 | LT7: 0 | LU7: 0 | LV7: 0 | LW7: 0 | LX7: 0 | LY7: 0 | LZ7: 0 | MA7: 0 | MB7: 0 | MC7: 0 | MD7: 0 | ME7: 0 | MF7: 0 | MG7: 0 | MH7: 0 | MI7: 0 | MJ7: 0 | MK7: 0 | ML7: 0
A8: pOrO | B8: 12044100088 | C8: 1419000881 | D8: 00000CVOVM1 | E8: 00000POITM1 | F8: 15228110028 | G8: 8402809010 | H8: 49S9592184 | I8: 54248120001 | J8: 00000POITM1 | K8: 0 | L8: 0 | M8: 0 | N8: 0 | O8: 0 | P8: 0 | Q8: 0 | R8: 0 | S8: 0 | T8: 0 | U8: 0 | V8: 0 | W8: 0 | X8: 0 | Y8: 0 | Z8: 0 | AA8: 0 | AB8: 0 | AC8: 0 | AD8: 0 | AE8: 0 | AF8: 0 | AG8: 0 | AH8: 0 | AI8: 0 | AJ8: 0 | AK8: 0 | AL8: 0 | AM8: 0 | AN8: 0 | AO8: 0 | AP8: 0 | AQ8: 0 | AR8: 0 | AS8: 0 | AT8: 0 | AU8: 0 | AV8: 0 | AW8: 0 | AX8: 0 | AY8: 0 | AZ8: 0 | BA8: 0 | BB8: 0 | BC8: 0 | BD8: 0 | BE8: 0 | BF8: 0 | BG8: 0 | BH8: 0 | BI8: 0 | BJ8: 0 | BK8: 0 | BL8: 0 | BM8: 0 | BN8: 0 | BO8: 0 | BP8: 0 | BQ8: 0 | BR8: 0 | BS8: 0 | BT8: 0 | BU8: 0 | BV8: 0 | BW8: 0 | BX8: 0 | BY8: 0 | BZ8: 0 | CA8: 0 | CB8: 0 | CC8: 0 | CD8: 0 | CE8: 0 | CF8: 0 | CG8: 0 | CH8: 0 | CI8: 0 | CJ8: 0 | CK8: 0 | CL8: 0 | CM8: 0 | CN8: 0 | CO8: 0 | CP8: 0 | CQ8: 0 | CR8: 0 | CS8: 0 | CT8: 0 | CU8: 0 | CV8: 0 | CW8: 0 | CX8: 0 | CY8: 0 | CZ8: 0 | DA8: 0 | DB8: 0 | DC8: 0 | DD8: 0 | DE8: 0 | DF8: 0 | DG8: 0 | DH8: 0 | DI8: 0 | DJ8: 0 | DK8: 0 | DL8: 0 | DM8: 0 | DN8: 0 | DO8: 0 | DP8: 0 | DQ8: 0 | DR8: 0 | DS8: 0 | DT8: 0 | DU8: 0 | DV8: 0 | DW8: 0 | DX8: 0 | DY8: 0 | DZ8: 0 | EA8: 0 | EB8: 0 | EC8: 0 | ED8: 0 | EE8: 0 | EF8: 0 | EG8: 0 | EH8: 0 | EI8: 0 | EJ8: 0 | EK8: 0 | EL8: 0 | EM8: 0 | EN8: 0 | EO8: 0 | EP8: 0 | EQ8: 0 | ER8: 0 | ES8: 0 | ET8: 0 | EU8: 0 | EV8: 0 | EW8: 0 | EX8: 0 | EY8: 0 | EZ8: 0 | FA8: 0 | FB8: 0 | FC8: 0 | FD8: 0 | FE8: 0 | FF8: 0 | FG8: 0 | FH8: 0 | FI8: 0 | FJ8: 0 | FK8: 0 | FL8: 0 | FM8: 0 | FN8: 0 | FO8: 0 | FP8: 0 | FQ8: 0 | FR8: 0 | FS8: 0 | FT8: 0 | FU8: 0 | FV8: 0 | FW8: 0 | FX8: 0 | FY8: 0 | FZ8: 0 | GA8: 0 | GB8: 0 | GC8: 0 | GD8: 0 | GE8: 0 | GF8: 0 | GG8: 0 | GH8: 0 | GI8: 0 | GJ8: 0 | GK8: 0 | GL8: 0 | GM8: 0 | GN8: 0 | GO8: 0 | GP8: 0 | GQ8: 0 | GR8: 0 | GS8: 0 | GT8: 0 | GU8: 0 | GV8: 0 | GW8: 0 | GX8: 0 | GY8: 0 | GZ8: 0 | HA8: 0 | HB8: 0 | HC8: 0 | HD8: 0 | HE8: 0 | HF8: 0 | HG8: 0 | HH8: 0 | HI8: 0 | HJ8: 0 | HK8: 0 | HL8: 0 | HM8: 0 | HN8: 0 | HO8: 0 | HP8: 0 | HQ8: 0 | HR8: 0 | HS8: 0 | HT8: 0 | HU8: 0 | HV8: 0 | HW8: 0 | HX8: 0 | HY8: 0 | HZ8: 0 | IA8: 0 | IB8: 0 | IC8: 0 | ID8: 0 | IE8: 0 | IF8: 0 | IG8: 0 | IH8: 0 | II8: 0 | IJ8: 0 | IK8: 0 | IL8: 0 | IM8: 0 | IN8: 0 | IO8: 0 | IP8: 0 | IQ8: 0 | IR8: 0 | IS8: 0 | IT8: 0 | IU8: 0 | IV8: 0 | IW8: 0 | IX8: 0 | IY8: 0 | IZ8: 0 | JA8: 0 | JB8: 0 | JC8: 0 | JD8: 0 | JE8: 0 | JF8: 0 | JG8: 0 | JH8: 0 | JI8: 0 | JJ8: 0 | JK8: 0 | JL8: 0 | JM8: 0 | JN8: 0 | JO8: 0 | JP8: 0 | JQ8: 0 | JR8: 0 | JS8: 0 | JT8: 0 | JU8: 0 | JV8: 0 | JW8: 0 | JX8: 0 | JY8: 0 | JZ8: 0 | KA8: 0 | KB8: 0 | KC8: 0 | KD8: 0 | KE8: 0 | KF8: 0 | KG8: 0 | KH8: 0 | KI8: 0 | KJ8: 0 | KK8: 0 | KL8: 0 | KM8: 0 | KN8: 0 | KO8: 0 | KP8: 0 | KQ8: 0 | KR8: 0 | KS8: 0 | KT8: 0 | KU8: 0 | KV8: 0 | KW8: 0 | KX8: 0 | KY8: 0 | KZ8: 0 | LA8: 0 | LB8: 0 | LC8: 0 | LD8: 0 | LE8: 0 | LF8: 0 | LG8: 0 | LH8: 0 | LI8: 0 | LJ8: 0 | LK8: 0 | LL8: 0 | LM8: 0 | LN8: 0 | LO8: 0 | LP8: 0 | LQ8: 0 | LR8: 0 | LS8: 0 | LT8: 0 | LU8: 0 | LV8: 0 | LW8: 0 | LX8: 0 | LY8: 0 | LZ8: 0 | MA8: 0 | MB8: 0 | MC8: 0 | MD8: 0 | ME8: 0 | MF8: 0 | MG8: 0 | MH8: 0 | MI8: 0 | MJ8: 0 | MK8: 0 | ML8: 0
A9: SOxO | B9: 1 | C9: 1 | D9: 1 | E9: 1 | F9: 1 | G9: 1 | H9: 1 | I9: 1 | J9: 1 | K9: 0 | L9: 0 | M9: 0 | N9: 0 | O9: 0 | P9: 0 | Q9: 0 | R9: 0 | S9: 0 | T9: 0 | U9: 0 | V9: 0 | W9: 0 | X9: 0 | Y9: 0 | Z9: 0 | AA9: 0 | AB9: 0 | AC9: 0 | AD9: 0 | AE9: 0 | AF9: 0 | AG9: 0 | AH9: 0 | AI9: 0 | AJ9: 0 | AK9: 0 | AL9: 0 | AM9: 0 | AN9: 0 | AO9: 0 | AP9: 0 | AQ9: 0 | AR9: 0 | AS9: 0 | AT9: 0 | AU9: 0 | AV9: 0 | AW9: 0 | AX9: 0 | AY9: 0 | AZ9: 0 | BA9: 0 | BB9: 0 | BC9: 0 | BD9: 0 | BE9: 0 | BF9: 0 | BG9: 0 | BH9: 0 | BI9: 0 | BJ9: 0 | BK9: 0 | BL9: 0 | BM9: 0 | BN9: 0 | BO9: 0 | BP9: 0 | BQ9: 0 | BR9: 0 | BS9: 0 | BT9: 0 | BU9: 0 | BV9: 0 | BW9: 0 | BX9: 0 | BY9: 0 | BZ9: 0 | CA9: 0 | CB9: 0 | CC9: 0 | CD9: 0 | CE9: 0 | CF9: 0 | CG9: 0 | CH9: 0 | CI9: 0 | CJ9: 0 | CK9: 0 | CL9: 0 | CM9: 0 | CN9: 0 | CO9: 0 | CP9: 0 | CQ9: 0 | CR9: 0 | CS9: 0 | CT9: 0 | CU9: 0 | CV9: 0 | CW9: 0 | CX9: 0 | CY9: 0 | CZ9: 0 | DA9: 0 | DB9: 0 | DC9: 0 | DD9: 0 | DE9: 0 | DF9: 0 | DG9: 0 | DH9: 0 | DI9: 0 | DJ9: 0 | DK9: 0 | DL9: 0 | DM9: 0 | DN9: 0 | DO9: 0 | DP9: 0 | DQ9: 0 | DR9: 0 | DS9: 0 | DT9: 0 | DU9: 0 | DV9: 0 | DW9: 0 | DX9: 0 | DY9: 0 | DZ9: 0 | EA9: 0 | EB9: 0 | EC9: 0 | ED9: 0 | EE9: 0 | EF9: 0 | EG9: 0 | EH9: 0 | EI9: 0 | EJ9: 0 | EK9: 0 | EL9: 0 | EM9: 0 | EN9: 0 | EO9: 0 | EP9: 0 | EQ9: 0 | ER9: 0 | ES9: 0 | ET9: 0 | EU9: 0 | EV9: 0 | EW9: 0 | EX9: 0 | EY9: 0 | EZ9: 0 | FA9: 0 | FB9: 0 | FC9: 0 | FD9: 0 | FE9: 0 | FF9: 0 | FG9: 0 | FH9: 0 | FI9: 0 | FJ9: 0 | FK9: 0 | FL9: 0 | FM9: 0 | FN9: 0 | FO9: 0 | FP9: 0 | FQ9: 0 | FR9: 0 | FS9: 0 | FT9: 0 | FU9: 0 | FV9: 0 | FW9: 0 | FX9: 0 | FY9: 0 | FZ9: 0 | GA9: 0 | GB9: 0 | GC9: 0 | GD9: 0 | GE9: 0 | GF9: 0 | GG9: 0 | GH9: 0 | GI9: 0 | GJ9: 0 | GK9: 0 | GL9: 0 | GM9: 0 | GN9: 0 | GO9: 0 | GP9: 0 | GQ9: 0 | GR9: 0 | GS9: 0 | GT9: 0 | GU9: 0 | GV9: 0 | GW9: 0 | GX9: 0 | GY9: 0 | GZ9: 0 | HA9: 0 | HB9: 0 | HC9: 0 | HD9: 0 | HE9: 0 | HF9: 0 | HG9: 0 | HH9: 0 | HI9: 0 | HJ9: 0 | HK9: 0 | HL9: 0 | HM9: 0 | HN9: 0 | HO9: 0 | HP9: 0 | HQ9: 0 | HR9: 0 | HS9: 0 | HT9: 0 | HU9: 0 | HV9: 0 | HW9: 0 | HX9: 0 | HY9: 0 | HZ9: 0 | IA9: 0 | IB9: 0 | IC9: 0 | ID9: 0 | IE9: 0 | IF9: 0 | IG9: 0 | IH9: 0 | II9: 0 | IJ9: 0 | IK9: 0 | IL9: 0 | IM9: 0 | IN9: 0 | IO9: 0 | IP9: 0 | IQ9: 0 | IR9: 0 | IS9: 0 | IT9: 0 | IU9: 0 | IV9: 0 | IW9: 0 | IX9: 0 | IY9: 0 | IZ9: 0 | JA9: 0 | JB9: 0 | JC9: 0 | JD9: 0 | JE9: 0 | JF9: 0 | JG9: 0 | JH9: 0 | JI9: 0 | JJ9: 0 | JK9: 0 | JL9: 0 | JM9: 0 | JN9: 0 | JO9: 0 | JP9: 0 | JQ9: 0 | JR9: 0 | JS9: 0 | JT9: 0 | JU9: 0 | JV9: 0 | JW9: 0 | JX9: 0 | JY9: 0 | JZ9: 0 | KA9: 0 | KB9: 0 | KC9: 0 | KD9: 0 | KE9: 0 | KF9: 0 | KG9: 0 | KH9: 0 | KI9: 0 | KJ9: 0 | KK9: 0 | KL9: 0 | KM9: 0 | KN9: 0 | KO9: 0 | KP9: 0 | KQ9: 0 | KR9: 0 | KS9: 0 | KT9: 0 | KU9: 0 | KV9: 0 | KW9: 0 | KX9: 0 | KY9: 0 | KZ9: 0 | LA9: 0 | LB9: 0 | LC9: 0 | LD9: 0 | LE9: 0 | LF9: 0 | LG9: 0 | LH9: 0 | LI9: 0 | LJ9: 0 | LK9: 0 | LL9: 0 | LM9: 0 | LN9: 0 | LO9: 0 | LP9: 0 | LQ9: 0 | LR9: 0 | LS9: 0 | LT9: 0 | LU9: 0 | LV9: 0 | LW9: 0 | LX9: 0 | LY9: 0 | LZ9: 0 | MA9: 0 | MB9: 0 | MC9: 0 | MD9: 0 | ME9: 0 | MF9: 0 | MG9: 0 | MH9: 0 | MI9: 0 | MJ9: 0 | MK9: 0 | ML9: 0
A10: N° RnimRl | B10: 201100tOst1 | C10: 8502002025 | D10: 8402809010 | E10: 15228110028 | F10: 15228180125 | G10: 15228110021 | H10: 2815920012 | I10: 54248180008 | J10: 54248120001 | K10: 0 | L10: 0 | M10: 0 | N10: 0 | O10: 0 | P10: 0 | Q10: 0 | R10: 0 | S10: 0 | T10: 0 | U10: 0 | V10: 0 | W10: 0 | X10: 0 | Y10: 0 | Z10: 0 | AA10: 0 | AB10: 0 | AC10: 0 | AD10: 0 | AE10: 0 | AF10: 0 | AG10: 0 | AH10: 0 | AI10: 0 | AJ10: 0 | AK10: 0 | AL10: 0 | AM10: 0 | AN10: 0 | AO10: 0 | AP10: 0 | AQ10: 0 | AR10: 0 | AS10: 0 | AT10: 0 | AU10: 0 | AV10: 0 | AW10: 0 | AX10: 0 | AY10: 0 | AZ10: 0 | BA10: 0 | BB10: 0 | BC10: 0 | BD10: 0 | BE10: 0 | BF10: 0 | BG10: 0 | BH10: 0 | BI10: 0 | BJ10: 0 | BK10: 0 | BL10: 0 | BM10: 0 | BN10: 0 | BO10: 0 | BP10: 0 | BQ10: 0 | BR10: 0 | BS10: 0 | BT10: 0 | BU10: 0 | BV10: 0 | BW10: 0 | BX10: 0 | BY10: 0 | BZ10: 0 | CA10: 0 | CB10: 0 | CC10: 0 | CD10: 0 | CE10: 0 | CF10: 0 | CG10: 0 | CH10: 0 | CI10: 0 | CJ10: 0 | CK10: 0 | CL10: 0 | CM10: 0 | CN10: 0 | CO10: 0 | CP10: 0 | CQ10: 0 | CR10: 0 | CS10: 0 | CT10: 0 | CU10: 0 | CV10: 0 | CW10: 0 | CX10: 0 | CY10: 0 | CZ10: 0 | DA10: 0 | DB10: 0 | DC10: 0 | DD10: 0 | DE10: 0 | DF10: 0 | DG10: 0 | DH10: 0 | DI10: 0 | DJ10: 0 | DK10: 0 | DL10: 0 | DM10: 0 | DN10: 0 | DO10: 0 | DP10: 0 | DQ10: 0 | DR10: 0 | DS10: 0 | DT10: 0 | DU10: 0 | DV10: 0 | DW10: 0 | DX10: 0 | DY10: 0 | DZ10: 0 | EA10: 0 | EB10: 0 | EC10: 0 | ED10: 0 | EE10: 0 | EF10: 0 | EG10: 0 | EH10: 0 | EI10: 0 | EJ10: 0 | EK10: 0 | EL10: 0 | EM10: 0 | EN10: 0 | EO10: 0 | EP10: 0 | EQ10: 0 | ER10: 0 | ES10: 0 | ET10: 0 | EU10: 0 | EV10: 0 | EW10: 0 | EX10: 0 | EY10: 0 | EZ10: 0 | FA10: 0 | FB10: 0 | FC10: 0 | FD10: 0 | FE10: 0 | FF10: 0 | FG10: 0 | FH10: 0 | FI10: 0 | FJ10: 0 | FK10: 0 | FL10: 0 | FM10: 0 | FN10: 0 | FO10: 0 | FP10: 0 | FQ10: 0 | FR10: 0 | FS10: 0 | FT10: 0 | FU10: 0 | FV10: 0 | FW10: 0 | FX10: 0 | FY10: 0 | FZ10: 0 | GA10: 0 | GB10: 0 | GC10: 0 | GD10: 0 | GE10: 0 | GF10: 0 | GG10: 0 | GH10: 0 | GI10: 0 | GJ10: 0 | GK10: 0 | GL10: 0 | GM10: 0 | GN10: 0 | GO10: 0 | GP10: 0 | GQ10: 0 | GR10: 0 | GS10: 0 | GT10: 0 | GU10: 0 | GV10: 0 | GW10: 0 | GX10: 0 | GY10: 0 | GZ10: 0 | HA10: 0 | HB10: 0 | HC10: 0 | HD10: 0 | HE10: 0 | HF10: 0 | HG10: 0 | HH10: 0 | HI10: 0 | HJ10: 0 | HK10: 0 | HL10: 0 | HM10: 0 | HN10: 0 | HO10: 0 | HP10: 0 | HQ10: 0 | HR10: 0 | HS10: 0 | HT10: 0 | HU10: 0 | HV10: 0 | HW10: 0 | HX10: 0 | HY10: 0 | HZ10: 0 | IA10: 0 | IB10: 0 | IC10: 0 | ID10: 0 | IE10: 0 | IF10: 0 | IG10: 0 | IH10: 0 | II10: 0 | IJ10: 0 | IK10: 0 | IL10: 0 | IM10: 0 | IN10: 0 | IO10: 0 | IP10: 0 | IQ10: 0 | IR10: 0 | IS10: 0 | IT10: 0 | IU10: 0 | IV10: 0 | IW10: 0 | IX10: 0 | IY10: 0 | IZ10: 0 | JA10: 0 | JB10: 0 | JC10: 0 | JD10: 0 | JE10: 0 | JF10: 0 | JG10: 0 | JH10: 0 | JI10: 0 | JJ10: 0 | JK10: 0 | JL10: 0 | JM10: 0 | JN10: 0 | JO10: 0 | JP10: 0 | JQ10: 0 | JR10: 0 | JS10: 0 | JT10: 0 | JU10: 0 | JV10: 0 | JW10: 0 | JX10: 0 | JY10: 0 | JZ10: 0 | KA10: 0 | KB10: 0 | KC10: 0 | KD10: 0 | KE10: 0 | KF10: 0 | KG10: 0 | KH10: 0 | KI10: 0 | KJ10: 0 | KK10: 0 | KL10: 0 | KM10: 0 | KN10: 0 | KO10: 0 | KP10: 0 | KQ10: 0 | KR10: 0 | KS10: 0 | KT10: 0 | KU10: 0 | KV10: 0 | KW10: 0 | KX10: 0 | KY10: 0 | KZ10: 0 | LA10: 0 | LB10: 0 | LC10: 0 | LD10: 0 | LE10: 0 | LF10: 0 | LG10: 0 | LH10: 0 | LI10: 0 | LJ10: 0 | LK10: 0 | LL10: 0 | LM10: 0 | LN10: 0 | LO10: 0 | LP10: 0 | LQ10: 0 | LR10: 0 | LS10: 0 | LT10: 0 | LU10: 0 | LV10: 0 | LW10: 0 | LX10: 0 | LY10: 0 | LZ10: 0 | MA10: 0 | MB10: 0 | MC10: 0 | MD10: 0 | ME10: 0 | MF10: 0 | MG10: 0 | MH10: 0 | MI10: 0 | MJ10: 0 | MK10: 0 | ML10: 0
A11: 0 | B11: 0 | C11: 0 | D11: 0 | E11: 0 | F11: 0 | G11: 0 | H11: 0 | I11: 0 | J11: 0 | K11: 0 | L11: 0 | M11: 0 | N11: 0 | O11: 0 | P11: 0 | Q11: 0 | R11: 0 | S11: 0 | T11: 0 | U11: 0 | V11: 0 | W11: 0 | X11: 0 | Y11: 0 | Z11: 0 | AA11: 0 | AB11: 0 | AC11: 0 | AD11: 0 | AE11: 0 | AF11: 0 | AG11: 0 | AH11: 0 | AI11: 0 | AJ11: 0 | AK11: 0 | AL11: 0 | AM11: 0 | AN11: 0 | AO11: 0 | AP11: 0 | AQ11: 0 | AR11: 0 | AS11: 0 | AT11: 0 | AU11: 0 | AV11: 0 | AW11: 0 | AX11: 0 | AY11: 0 | AZ11: 0 | BA11: 0 | BB11: 0 | BC11: 0 | BD11: 0 | BE11: 0 | BF11: 0 | BG11: 0 | BH11: 0 | BI11: 0 | BJ11: 0 | BK11: 0 | BL11: 0 | BM11: 0 | BN11: 0 | BO11: 0 | BP11: 0 | BQ11: 0 | BR11: 0 | BS11: 0 | BT11: 0 | BU11: 0 | BV11: 0 | BW11: 0 | BX11: 0 | BY11: 0 | BZ11: 0 | CA11: 0 | CB11: 0 | CC11: 0 | CD11: 0 | CE11: 0 | CF11: 0 | CG11: 0 | CH11: 0 | CI11: 0 | CJ11: 0 | CK11: 0 | CL11: 0 | CM11: 0 | CN11: 0 | CO11: 0 | CP11: 0 | CQ11: 0 | CR11: 0 | CS11: 0 | CT11: 0 | CU11: 0 | CV11: 0 | CW11: 0 | CX11: 0 | CY11: 0 | CZ11: 0 | DA11: 0 | DB11: 0 | DC11: 0 | DD11: 0 | DE11: 0 | DF11: 0 | DG11: 0 | DH11: 0 | DI11: 0 | DJ11: 0 | DK11: 0 | DL11: 0 | DM11: 0 | DN11: 0 | DO11: 0 | DP11: 0 | DQ11: 0 | DR11: 0 | DS11: 0 | DT11: 0 | DU11: 0 | DV11: 0 | DW11: 0 | DX11: 0 | DY11: 0 | DZ11: 0 | EA11: 0 | EB11: 0 | EC11: 0 | ED11: 0 | EE11: 0 | EF11: 0 | EG11: 0 | EH11: 0 | EI11: 0 | EJ11: 0 | EK11: 0 | EL11: 0 | EM11: 0 | EN11: 0 | EO11: 0 | EP11: 0 | EQ11: 0 | ER11: 0 | ES11: 0 | ET11: 0 | EU11: 0 | EV11: 0 | EW11: 0 | EX11: 0 | EY11: 0 | EZ11: 0 | FA11: 0 | FB11: 0 | FC11: 0 | FD11: 0 | FE11: 0 | FF11: 0 | FG11: 0 | FH11: 0 | FI11: 0 | FJ11: 0 | FK11: 0 | FL11: 0 | FM11: 0 | FN11: 0 | FO11: 0 | FP11: 0 | FQ11: 0 | FR11: 0 | FS11: 0 | FT11: 0 | FU11: 0 | FV11: 0 | FW11: 0 | FX11: 0 | FY11: 0 | FZ11: 0 | GA11: 0 | GB11: 0 | GC11: 0 | GD11: 0 | GE11: 0 | GF11: 0 | GG11: 0 | GH11: 0 | GI11: 0 | GJ11: 0 | GK11: 0 | GL11: 0 | GM11: 0 | GN11: 0 | GO11: 0 | GP11: 0 | GQ11: 0 | GR11: 0 | GS11: 0 | GT11: 0 | GU11: 0 | GV11: 0 | GW11: 0 | GX11: 0 | GY11: 0 | GZ11: 0 | HA11: 0 | HB11: 0 | HC11: 0 | HD11: 0 | HE11: 0 | HF11: 0 | HG11: 0 | HH11: 0 | HI11: 0 | HJ11: 0 | HK11: 0 | HL11: 0 | HM11: 0 | HN11: 0 | HO11: 0 | HP11: 0 | HQ11: 0 | HR11: 0 | HS11: 0 | HT11: 0 | HU11: 0 | HV11: 0 | HW11: 0 | HX11: 0 | HY11: 0 | HZ11: 0 | IA11: 0 | IB11: 0 | IC11: 0 | ID11: 0 | IE11: 0 | IF11: 0 | IG11: 0 | IH11: 0 | II11: 0 | IJ11: 0 | IK11: 0 | IL11: 0 | IM11: 0 | IN11: 0 | IO11: 0 | IP11: 0 | IQ11: 0 | IR11: 0 | IS11: 0 | IT11: 0 | IU11: 0 | IV11: 0 | IW11: 0 | IX11: 0 | IY11: 0 | IZ11: 0 | JA11: 0 | JB11: 0 | JC11: 0 | JD11: 0 | JE11: 0 | JF11: 0 | JG11: 0 | JH11: 0 | JI11: 0 | JJ11: 0 | JK11: 0 | JL11: 0 | JM11: 0 | JN11: 0 | JO11: 0 | JP11: 0 | JQ11: 0 | JR11: 0 | JS11: 0 | JT11: 0 | JU11: 0 | JV11: 0 | JW11: 0 | JX11: 0 | JY11: 0 | JZ11: 0 | KA11: 0 | KB11: 0 | KC11: 0 | KD11: 0 | KE11: 0 | KF11: 0 | KG11: 0 | KH11: 0 | KI11: 0 | KJ11: 0 | KK11: 0 | KL11: 0 | KM11: 0 | KN11: 0 | KO11: 0 | KP11: 0 | KQ11: 0 | KR11: 0 | KS11: 0 | KT11: 0 | KU11: 0 | KV11: 0 | KW11: 0 | KX11: 0 | KY11: 0 | KZ11: 0 | LA11: 0 | LB11: 0 | LC11: 0 | LD11: 0 | LE11: 0 | LF11: 0 | LG11: 0 | LH11: 0 | LI11: 0 | LJ11: 0 | LK11: 0 | LL11: 0 | LM11: 0 | LN11: 0 | LO11: 0 | LP11: 0 | LQ11: 0 | LR11: 0 | LS11: 0 | LT11: 0 | LU11: 0 | LV11: 0 | LW11: 0 | LX11: 0 | LY11: 0 | LZ11: 0 | MA11: 0 | MB11: 0 | MC11: 0 | MD11: 0 | ME11: 0 | MF11: 0 | MG11: 0 | MH11: 0 | MI11: 0 | MJ11: 0 | MK11: 0 | ML11: 0
A12: 0 | B12: 0 | C12: 0 | D12: 0 | E12: 0 | F12: 0 | G12: 0 | H12: 0 | I12: 0 | J12: 0 | K12: 0 | L12: 0 | M12: 0 | N12: 0 | O12: 0 | P12: 0 | Q12: 0 | R12: 0 | S12: 0 | T12: 0 | U12: 0 | V12: 0 | W12: 0 | X12: 0 | Y12: 0 | Z12: 0 | AA12: 0 | AB12: 0 | AC12: 0 | AD12: 0 | AE12: 0 | AF12: 0 | AG12: 0 | AH12: 0 | AI12: 0 | AJ12: 0 | AK12: 0 | AL12: 0 | AM12: 0 | AN12: 0 | AO12: 0 | AP12: 0 | AQ12: 0 | AR12: 0 | AS12: 0 | AT12: 0 | AU12: 0 | AV12: 0 | AW12: 0 | AX12: 0 | AY12: 0 | AZ12: 0 | BA12: 0 | BB12: 0 | BC12: 0 | BD12: 0 | BE12: 0 | BF12: 0 | BG12: 0 | BH12: 0 | BI12: 0 | BJ12: 0 | BK12: 0 | BL12: 0 | BM12: 0 | BN12: 0 | BO12: 0 | BP12: 0 | BQ12: 0 | BR12: 0 | BS12: 0 | BT12: 0 | BU12: 0 | BV12: 0 | BW12: 0 | BX12: 0 | BY12: 0 | BZ12: 0 | CA12: 0 | CB12: 0 | CC12: 0 | CD12: 0 | CE12: 0 | CF12: 0 | CG12: 0 | CH12: 0 | CI12: 0 | CJ12: 0 | CK12: 0 | CL12: 0 | CM12: 0 | CN12: 0 | CO12: 0 | CP12: 0 | CQ12: 0 | CR12: 0 | CS12: 0 | CT12: 0 | CU12: 0 | CV12: 0 | CW12: 0 | CX12: 0 | CY12: 0 | CZ12: 0 | DA12: 0 | DB12: 0 | DC12: 0 | DD12: 0 | DE12: 0 | DF12: 0 | DG12: 0 | DH12: 0 | DI12: 0 | DJ12: 0 | DK12: 0 | DL12: 0 | DM12: 0 | DN12: 0 | DO12: 0 | DP12: 0 | DQ12: 0 | DR12: 0 | DS12: 0 | DT12: 0 | DU12: 0 | DV12: 0 | DW12: 0 | DX12: 0 | DY12: 0 | DZ12: 0 | EA12: 0 | EB12: 0 | EC12: 0 | ED12: 0 | EE12: 0 | EF12: 0 | EG12: 0 | EH12: 0 | EI12: 0 | EJ12: 0 | EK12: 0 | EL12: 0 | EM12: 0 | EN12: 0 | EO12: 0 | EP12: 0 | EQ12: 0 | ER12: 0 | ES12: 0 | ET12: 0 | EU12: 0 | EV12: 0 | EW12: 0 | EX12: 0 | EY12: 0 | EZ12: 0 | FA12: 0 | FB12: 0 | FC12: 0 | FD12: 0 | FE12: 0 | FF12: 0 | FG12: 0 | FH12: 0 | FI12: 0 | FJ12: 0 | FK12: 0 | FL12: 0 | FM12: 0 | FN12: 0 | FO12: 0 | FP12: 0 | FQ12: 0 | FR12: 0 | FS12: 0 | FT12: 0 | FU12: 0 | FV12: 0 | FW12: 0 | FX12: 0 | FY12: 0 | FZ12: 0 | GA12: 0 | GB12: 0 | GC12: 0 | GD12: 0 | GE12: 0 | GF12: 0 | GG12: 0 | GH12: 0 | GI12: 0 | GJ12: 0 | GK12: 0 | GL12: 0 | GM12: 0 | GN12: 0 | GO12: 0 | GP12: 0 | GQ12: 0 | GR12: 0 | GS12: 0 | GT12: 0 | GU12: 0 | GV12: 0 | GW12: 0 | GX12: 0 | GY12: 0 | GZ12: 0 | HA12: 0 | HB12: 0 | HC12: 0 | HD12: 0 | HE12: 0 | HF12: 0 | HG12: 0 | HH12: 0 | HI12: 0 | HJ12: 0 | HK12: 0 | HL12: 0 | HM12: 0 | HN12: 0 | HO12: 0 | HP12: 0 | HQ12: 0 | HR12: 0 | HS12: 0 | HT12: 0 | HU12: 0 | HV12: 0 | HW12: 0 | HX12: 0 | HY12: 0 | HZ12: 0 | IA12: 0 | IB12: 0 | IC12: 0 | ID12: 0 | IE12: 0 | IF12: 0 | IG12: 0 | IH12: 0 | II12: 0 | IJ12: 0 | IK12: 0 | IL12: 0 | IM12: 0 | IN12: 0 | IO12: 0 | IP12: 0 | IQ12: 0 | IR12: 0 | IS12: 0 | IT12: 0 | IU12: 0 | IV12: 0 | IW12: 0 | IX12: 0 | IY12: 0 | IZ12: 0 | JA12: 0 | JB12: 0 | JC12: 0 | JD12: 0 | JE12: 0 | JF12: 0 | JG12: 0 | JH12: 0 | JI12: 0 | JJ12: 0 | JK12: 0 | JL12: 0 | JM12: 0 | JN12: 0 | JO12: 0 | JP12: 0 | JQ12: 0 | JR12: 0 | JS12: 0 | JT12: 0 | JU12: 0 | JV12: 0 | JW12: 0 | JX12: 0 | JY12: 0 | JZ12: 0 | KA12: 0 | KB12: 0 | KC12: 0 | KD12: 0 | KE12: 0 | KF12: 0 | KG12: 0 | KH12: 0 | KI12: 0 | KJ12: 0 | KK12: 0 | KL12: 0 | KM12: 0 | KN12: 0 | KO12: 0 | KP12: 0 | KQ12: 0 | KR12: 0 | KS12: 0 | KT12: 0 | KU12: 0 | KV12: 0 | KW12: 0 | KX12: 0 | KY12: 0 | KZ12: 0 | LA12: 0 | LB12: 0 | LC12: 0 | LD12: 0 | LE12: 0 | LF12: 0 | LG12: 0 | LH12: 0 | LI12: 0 | LJ12: 0 | LK12: 0 | LL12: 0 | LM12: 0 | LN12: 0 | LO12: 0 | LP12: 0 | LQ12: 0 | LR12: 0 | LS12: 0 | LT12: 0 | LU12: 0 | LV12: 0 | LW12: 0 | LX12: 0 | LY12: 0 | LZ12: 0 | MA12: 0 | MB12: 0 | MC12: 0 | MD12: 0 | ME12: 0 | MF12: 0 | MG12: 0 | MH12: 0 | MI12: 0 | MJ12: 0 | MK12: 0 | ML12: 0

Sheet élOvOur
A1: N° dO cVOptOl | B1: SOCIOTO | C1: Nom | D1: ColonnO1 | E1: ColonnO2 | F1: ColonnO14 | G1: ColonnO8 | H1: ColonnO5 | I1: ColonnO22 | J1: ColonnO4 | K1: ColonnO82 | L1: ColonnO9 | M1: ColonnO10 | N1: ColonnO11 | O1: ColonnO12 | P1: ColonnO112 | Q1: ColonnO18 | R1: ColonnO15
A2: 21148405 | C2: RIMO
A3: 89128521 | C3: RNDRRL
A4: 81214198 | C4: RRNRL
A5: 88128088 | C5: RTZONVORROR
A6: 14182052 | C6: RULO
A7: 85020018 | C7: RUNORU
A8: TOMP0008 | C8: SRLL
A9: 84028159 | C9: SRNDOT
A10: 24242011 | C10: SRRSRRRY
A11: 85211022 | C11: SRTIOT
A12: 49018008 | C12: SORUJORULT
A13: 11141012 | C13: SOLLIOT
A14: 12210029 | C14: SORSOSSON
A15: 18820021 | C15: SORNOUIS - MRZORON
A16: 28181002 | C16: SILLIOUX
A17: 14152049 | C17: SISSONNOT
