Workbook

Sheet Prévisionnel
A2: Prélèvement LA | B2: 330 | D2: Loyer | E2: 400
A3: Bourse | B3: 250.7 | D3: Courses | E3: 112
A4: CAF | B4: 136.33 | D4: Assurance | E4: 47.73
D5: Téléphone | E5: 35.99
B6: =SUM(B2:B4) -> 717.03 | E6: =SUM(E2:E5) -> 595.72
E7: =B6-E6 -> 121.31
D8: Transports | E8: 48
E9: =E7-E8 -> 73.31
D10: Coiffeur etc. | E10: 31
E11: =E9-E10 -> 42.31
D12: Retrait | E12: 40
E13: =E11-E12 -> 2.31

Sheet Juin
A1: CCP | I1: Sorties | R1: Sorties
A2: Dates | B2: Libellés | C2: Débits | D2: Crédits | F2: Soldes | G2: Compléments | I2: Pérvisionnel | K2: Réel | N2: Différences | R2: Pérvisionnel | T2: Réel
B3: Solde début de mois | C3: 78.75 | E3: =C3-D3 -> 78.75 | F3: =E3 -> 78.75 | I3: Libellés | J3: Montants | K3: Libellés | L3: Montants | R3: Libellés | S3: Montants | T3: Montants
A4: 42156 | B4: *** | C4: 400 | E4: =C4-D4 -> 400 | F4: =F3+E4 -> 478.75 | G4: *** | I4: Loyer | J4: =Prévisionnel!E2 -> 400 | K4: Loyer | L4: =SUMIF($B$4:$B$53,K4,$E$4:$E$53) -> -400 | M4: =-L4 -> 400 | N4: =J4+L4 -> 0 | R4: Assurance | S4: =J5 -> 47.73 | T4: =M5 -> 47.73
A5: 42156 | B5: Transports | D5: 12.02 | E5: =C5-D5 -> -12.02 | F5: =F4+E5 -> 466.73 | G5: *** | I5: Assurance | J5: =Prévisionnel!E4 -> 47.73 | K5: Assurance | L5: =SUMIF($B$4:$B$53,K5,$E$4:$E$53) -> -47.73 | M5: =-L5 -> 47.73 | N5: =J5+L5 -> 0 | R5: Téléphone | S5: =J6 -> 35.99 | T5: =M6 -> 44.78
A6: 42156 | B6: Courses | D6: 9.42 | E6: =C6-D6 -> -9.42 | F6: =F5+E6 -> 457.31 | G6: *** | I6: Téléphone | J6: =Prévisionnel!E5 -> 35.99 | K6: Téléphone | L6: =SUMIF($B$4:$B$53,K6,$E$4:$E$53) -> -44.78 | M6: =-L6 -> 44.78 | N6: =J6+L6 -> -8.79 | R6: Courses | S6: =J7 -> 112 | T6: =M7 -> 112.75
A7: 42156 | B7: Courses | D7: 9.42 | E7: =C7-D7 -> -9.42 | F7: =F6+E7 -> 447.89 | G7: *** | I7: Courses | J7: =Prévisionnel!E3 -> 112 | K7: Courses | L7: =SUMIF($B$4:$B$53,K7,$E$4:$E$53) -> -112.75 | M7: =-L7 -> 112.75 | N7: =J7+L7 -> -0.75 | R7: Transports | S7: =J8 -> 48 | T7: =M8 -> 36.85
A8: 42156 | B8: Soins | C8: 23.62 | E8: =C8-D8 -> 23.62 | F8: =F7+E8 -> 471.51 | G8: *** | I8: Transports | J8: =Prévisionnel!E8 -> 48 | K8: Transports | L8: =SUMIF($B$4:$B$53,K8,$E$4:$E$53) -> -36.85 | M8: =-L8 -> 36.85 | N8: =J8+L8 -> 11.15 | R8: Retraits | S8: =J16 -> 20 | T8: =M16 -> 40
A9: 42156 | B9: Loyer | D9: 400 | E9: =C9-D9 -> -400 | F9: =F8+E9 -> 71.51 | G9: *** | I9: Divers | J9: =SUM(J16:J21) -> 71 | K9: Divers | L9: =SUM(L16:L21) -> -535.02 | M9: =-L9 -> 535.02 | N9: =J9+L9 -> -464.02 | R9: Soins | S9: =J18 -> 0 | T9: =M18 -> -23.62
A10: 42158 | B10: Retraits | D10: 20 | E10: =C10-D10 -> -20 | F10: =F9+E10 -> 51.51 | G10: *** | I10: Total | J10: =SUM(J4:J9) -> 714.72 | K10: Total | L10: =SUM(L4:L9) -> -1177.13 | N10: =SUM(N4:N9) -> -462.41 | R10: Coiffeur etc. | S10: =J19 -> 31 | T10: =M19 -> 31
A11: 42159 | B11: Sorties | D11: 7.95 | E11: =C11-D11 -> -7.95 | F11: =F10+E11 -> 43.56 | G11: *** | R11: Vêtements | S11: =J20 -> 0 | T11: =M20 -> 0
A12: 42160 | B12: Assurance | D12: 47.73 | E12: =C12-D12 -> -47.73 | F12: =F11+E12 -> -4.17 | G12: *** | R12: Autre | S12: =J21 -> 0 | T12: =M21 -> 391.89
A13: 42160 | B13: *** | C13: 100 | E13: =C13-D13 -> 100 | F13: =F12+E13 -> 95.83 | G13: *** | I13: Sorties - Divers
A14: 42160 | B14: *** | C14: 136.33 | E14: =C14-D14 -> 136.33 | F14: =F13+E14 -> 232.16 | G14: *** | I14: Pérvisionnel | K14: Réel | N14: Différences | R14: Autre | T14: 6 | U14: 3
A15: 42161 | B15: Courses | D15: 9.21 | E15: =C15-D15 -> -9.21 | F15: =F14+E15 -> 222.95 | G15: *** | I15: Libellés | J15: Montants | K15: Libellés | L15: Montants | R15: Pérvisionnel
A16: 42163 | B16: *** | C16: 250.7 | E16: =C16-D16 -> 250.7 | F16: =F15+E16 -> 473.65 | G16: *** | I16: Retraits | J16: 20 | K16: Retraits | L16: =SUMIF($B$4:$B$53,K16,$E$4:$E$53) -> -40 | M16: =-L16 -> 40 | N16: =J16+L16 -> -20 | R16: Libellés | S16: Montants
A17: 42164 | B17: Téléphone | D17: 44.78 | E17: =C17-D17 -> -44.78 | F17: =F16+E17 -> 428.87 | G17: *** | I17: Sorties | J17: 20 | K17: Sorties | L17: =SUMIF($B$4:$B$53,K17,$E$4:$E$53) -> -95.75 | N17: =J17+L17 -> -75.75 | R17: =INDEX(Juin!B4:G53,MATCH(Juin!$I$21,Juin!B4:B53,0),Juin!$T$14) -> Cables TV | S17: =INDEX(Juin!B4:G53,MATCH(Juin!$I$21,Juin!B4:B53,0),Juin!$U$14) -> 26.09
A18: 42164 | B18: Courses | D18: 22.74 | E18: =C18-D18 -> -22.74 | F18: =F17+E18 -> 406.13 | G18: *** | I18: Soins | J18: 0 | K18: Soins | L18: =SUMIF($B$4:$B$53,K18,$E$4:$E$53) -> 23.62 | M18: =-L18 -> -23.62 | N18: =J18+L18 -> 23.62 | R18: =IF(INDEX(Juin!B5:G54,MATCH(Juin!$I$21,Juin!B5:B54,0),Juin!$T$14)=R17,"",INDEX(Juin!B5:G54,MATCH(Juin!$I$21,Juin!B5:B54,0),Juin!$T$14)) | S18: =IF(INDEX(Juin!B5:G54,MATCH(Juin!$I$21,Juin!B5:B54,0),Juin!$T$14)=R17,"",INDEX(Juin!B5:G54,MATCH(Juin!$I$21,Juin!B5:B54,0),Juin!$U$14))
A19: 42164 | B19: Transports | D19: 3 | E19: =C19-D19 -> -3 | F19: =F18+E19 -> 403.13 | G19: *** | I19: Coiffeur etc. | J19: =Prévisionnel!E10 -> 31 | K19: Coiffeur etc. | L19: =SUMIF($B$4:$B$53,K19,$E$4:$E$53) -> -31 | M19: =-L19 -> 31 | N19: =J19+L19 -> 0 | R19: =IF(INDEX(Juin!B6:G55,MATCH(Juin!$I$21,Juin!B6:B55,0),Juin!$T$14)=R18,"",INDEX(Juin!B6:G55,MATCH(Juin!$I$21,Juin!B6:B55,0),Juin!$T$14)) -> Cables TV | S19: =IF(INDEX(Juin!B6:G55,MATCH(Juin!$I$21,Juin!B6:B55,0),Juin!$T$14)=R18,"",INDEX(Juin!B6:G55,MATCH(Juin!$I$21,Juin!B6:B55,0),Juin!$U$14)) -> 26.09
A20: 42165 | B20: Sorties | D20: 4.95 | E20: =C20-D20 -> -4.95 | F20: =F19+E20 -> 398.18 | G20: *** | I20: Vêtements | J20: 0 | K20: Vêtements | L20: =SUMIF($B$4:$B$53,K20,$E$4:$E$53) -> 0 | M20: =-L20 -> 0 | N20: =J20+L20 -> 0 | R20: =IF(INDEX(Juin!B7:G56,MATCH(Juin!$I$21,Juin!B7:B56,0),Juin!$T$14)=R19,"",INDEX(Juin!B7:G56,MATCH(Juin!$I$21,Juin!B7:B56,0),Juin!$T$14)) | S20: =IF(INDEX(Juin!B7:G56,MATCH(Juin!$I$21,Juin!B7:B56,0),Juin!$T$14)=R19,"",INDEX(Juin!B7:G56,MATCH(Juin!$I$21,Juin!B7:B56,0),Juin!$U$14))
A21: 42166 | B21: Coiffeur etc. | D21: 22 | E21: =C21-D21 -> -22 | F21: =F20+E21 -> 376.18 | G21: *** | I21: Autre | J21: 0 | K21: Autre | L21: =SUMIF($B$4:$B$53,K21,$E$4:$E$53) -> -391.89 | M21: =-L21 -> 391.89 | N21: =J21+L21 -> -391.89 | R21: =IF(INDEX(Juin!B8:G57,MATCH(Juin!$I$21,Juin!B8:B57,0),Juin!$T$14)=R20,"",INDEX(Juin!B8:G57,MATCH(Juin!$I$21,Juin!B8:B57,0),Juin!$T$14)) -> Cables TV | S21: =IF(INDEX(Juin!B8:G57,MATCH(Juin!$I$21,Juin!B8:B57,0),Juin!$T$14)=R20,"",INDEX(Juin!B8:G57,MATCH(Juin!$I$21,Juin!B8:B57,0),Juin!$U$14)) -> 26.09
A22: 42167 | B22: Sorties | D22: 4.95 | E22: =C22-D22 -> -4.95 | F22: =F21+E22 -> 371.23 | G22: *** | R22: =IF(INDEX(Juin!B9:G58,MATCH(Juin!$I$21,Juin!B9:B58,0),Juin!$T$14)=R21,"",INDEX(Juin!B9:G58,MATCH(Juin!$I$21,Juin!B9:B58,0),Juin!$T$14)) | S22: =IF(INDEX(Juin!B9:G58,MATCH(Juin!$I$21,Juin!B9:B58,0),Juin!$T$14)=R21,"",INDEX(Juin!B9:G58,MATCH(Juin!$I$21,Juin!B9:B58,0),Juin!$U$14))
A23: 42167 | B23: Coiffeur etc. | D23: 9 | E23: =C23-D23 -> -9 | F23: =F22+E23 -> 362.23 | G23: *** | R23: =IF(INDEX(Juin!B10:G59,MATCH(Juin!$I$21,Juin!B10:B59,0),Juin!$T$14)=R22,"",INDEX(Juin!B10:G59,MATCH(Juin!$I$21,Juin!B10:B59,0),Juin!$T$14)) -> Cables TV | S23: =IF(INDEX(Juin!B10:G59,MATCH(Juin!$I$21,Juin!B10:B59,0),Juin!$T$14)=R22,"",INDEX(Juin!B10:G59,MATCH(Juin!$I$21,Juin!B10:B59,0),Juin!$U$14)) -> 26.09
A24: 42167 | B24: Sorties | D24: 6.4 | E24: =C24-D24 -> -6.4 | F24: =F23+E24 -> 355.83 | G24: *** | R24: =IF(INDEX(Juin!B11:G60,MATCH(Juin!$I$21,Juin!B11:B60,0),Juin!$T$14)=R23,"",INDEX(Juin!B11:G60,MATCH(Juin!$I$21,Juin!B11:B60,0),Juin!$T$14)) | S24: =IF(INDEX(Juin!B11:G60,MATCH(Juin!$I$21,Juin!B11:B60,0),Juin!$T$14)=R23,"",INDEX(Juin!B11:G60,MATCH(Juin!$I$21,Juin!B11:B60,0),Juin!$U$14))
A25: 42167 | B25: Sorties | D25: 6.6 | E25: =C25-D25 -> -6.6 | F25: =F24+E25 -> 349.23 | G25: *** | R25: =IF(INDEX(Juin!B12:G61,MATCH(Juin!$I$21,Juin!B12:B61,0),Juin!$T$14)=R24,"",INDEX(Juin!B12:G61,MATCH(Juin!$I$21,Juin!B12:B61,0),Juin!$T$14)) -> Cables TV | S25: =IF(INDEX(Juin!B12:G61,MATCH(Juin!$I$21,Juin!B12:B61,0),Juin!$T$14)=R24,"",INDEX(Juin!B12:G61,MATCH(Juin!$I$21,Juin!B12:B61,0),Juin!$U$14)) -> 26.09
A26: 42168 | B26: Courses | D26: =6.71-1.99 -> 4.72 | E26: =C26-D26 -> -4.72 | F26: =F25+E26 -> 344.51 | G26: *** | R26: =IF(INDEX(Juin!B13:G62,MATCH(Juin!$I$21,Juin!B13:B62,0),Juin!$T$14)=R25,"",INDEX(Juin!B13:G62,MATCH(Juin!$I$21,Juin!B13:B62,0),Juin!$T$14)) | S26: =IF(INDEX(Juin!B13:G62,MATCH(Juin!$I$21,Juin!B13:B62,0),Juin!$T$14)=R25,"",INDEX(Juin!B13:G62,MATCH(Juin!$I$21,Juin!B13:B62,0),Juin!$U$14))
A27: 42168 | B27: Courses | D27: 1.99 | E27: =C27-D27 -> -1.99 | F27: =F26+E27 -> 342.52 | G27: *** | R27: =IF(INDEX(Juin!B14:G63,MATCH(Juin!$I$21,Juin!B14:B63,0),Juin!$T$14)=R26,"",INDEX(Juin!B14:G63,MATCH(Juin!$I$21,Juin!B14:B63,0),Juin!$T$14)) -> Cables TV | S27: =IF(INDEX(Juin!B14:G63,MATCH(Juin!$I$21,Juin!B14:B63,0),Juin!$T$14)=R26,"",INDEX(Juin!B14:G63,MATCH(Juin!$I$21,Juin!B14:B63,0),Juin!$U$14)) -> 26.09
A28: 42168 | B28: Retraits | D28: 20 | E28: =C28-D28 -> -20 | F28: =F27+E28 -> 322.52 | G28: *** | R28: =IF(INDEX(Juin!B15:G64,MATCH(Juin!$I$21,Juin!B15:B64,0),Juin!$T$14)=R27,"",INDEX(Juin!B15:G64,MATCH(Juin!$I$21,Juin!B15:B64,0),Juin!$T$14)) | S28: =IF(INDEX(Juin!B15:G64,MATCH(Juin!$I$21,Juin!B15:B64,0),Juin!$T$14)=R27,"",INDEX(Juin!B15:G64,MATCH(Juin!$I$21,Juin!B15:B64,0),Juin!$U$14))
A29: 42170 | B29: Autre | D29: 26.09 | E29: =C29-D29 -> -26.09 | F29: =F28+E29 -> 296.43 | G29: Cables TV | R29: =IF(INDEX(Juin!B16:G65,MATCH(Juin!$I$21,Juin!B16:B65,0),Juin!$T$14)=R28,"",INDEX(Juin!B16:G65,MATCH(Juin!$I$21,Juin!B16:B65,0),Juin!$T$14)) -> Cables TV | S29: =IF(INDEX(Juin!B16:G65,MATCH(Juin!$I$21,Juin!B16:B65,0),Juin!$T$14)=R28,"",INDEX(Juin!B16:G65,MATCH(Juin!$I$21,Juin!B16:B65,0),Juin!$U$14)) -> 26.09
A30: 42170 | B30: Autre | D30: 299 | E30: =C30-D30 -> -299 | F30: =F29+E30 -> -2.57 | G30: TV | R30: =IF(INDEX(Juin!B17:G66,MATCH(Juin!$I$21,Juin!B17:B66,0),Juin!$T$14)=R29,"",INDEX(Juin!B17:G66,MATCH(Juin!$I$21,Juin!B17:B66,0),Juin!$T$14)) | S30: =IF(INDEX(Juin!B17:G66,MATCH(Juin!$I$21,Juin!B17:B66,0),Juin!$T$14)=R29,"",INDEX(Juin!B17:G66,MATCH(Juin!$I$21,Juin!B17:B66,0),Juin!$U$14))
A31: 42171 | B31: *** | C31: 200 | E31: =C31-D31 -> 200 | F31: =F30+E31 -> 197.43 | G31: *** | R31: =IF(INDEX(Juin!B18:G67,MATCH(Juin!$I$21,Juin!B18:B67,0),Juin!$T$14)=R30,"",INDEX(Juin!B18:G67,MATCH(Juin!$I$21,Juin!B18:B67,0),Juin!$T$14)) -> Cables TV | S31: =IF(INDEX(Juin!B18:G67,MATCH(Juin!$I$21,Juin!B18:B67,0),Juin!$T$14)=R30,"",INDEX(Juin!B18:G67,MATCH(Juin!$I$21,Juin!B18:B67,0),Juin!$U$14)) -> 26.09
A32: 42173 | B32: Courses | D32: 19.59 | E32: =C32-D32 -> -19.59 | F32: =F31+E32 -> 177.84 | G32: *** | R32: =IF(INDEX(Juin!B19:G68,MATCH(Juin!$I$21,Juin!B19:B68,0),Juin!$T$14)=R31,"",INDEX(Juin!B19:G68,MATCH(Juin!$I$21,Juin!B19:B68,0),Juin!$T$14)) | S32: =IF(INDEX(Juin!B19:G68,MATCH(Juin!$I$21,Juin!B19:B68,0),Juin!$T$14)=R31,"",INDEX(Juin!B19:G68,MATCH(Juin!$I$21,Juin!B19:B68,0),Juin!$U$14))
A33: 42174 | B33: Sorties | D33: 32.8 | E33: =C33-D33 -> -32.8 | F33: =F32+E33 -> 145.04 | G33: *** | R33: =IF(INDEX(Juin!B20:G69,MATCH(Juin!$I$21,Juin!B20:B69,0),Juin!$T$14)=R32,"",INDEX(Juin!B20:G69,MATCH(Juin!$I$21,Juin!B20:B69,0),Juin!$T$14)) -> Cables TV | S33: =IF(INDEX(Juin!B20:G69,MATCH(Juin!$I$21,Juin!B20:B69,0),Juin!$T$14)=R32,"",INDEX(Juin!B20:G69,MATCH(Juin!$I$21,Juin!B20:B69,0),Juin!$U$14)) -> 26.09
A34: 42174 | B34: Sorties | D34: 6.95 | E34: =C34-D34 -> -6.95 | F34: =F33+E34 -> 138.09 | G34: *** | R34: =IF(INDEX(Juin!B21:G70,MATCH(Juin!$I$21,Juin!B21:B70,0),Juin!$T$14)=R33,"",INDEX(Juin!B21:G70,MATCH(Juin!$I$21,Juin!B21:B70,0),Juin!$T$14)) | S34: =IF(INDEX(Juin!B21:G70,MATCH(Juin!$I$21,Juin!B21:B70,0),Juin!$T$14)=R33,"",INDEX(Juin!B21:G70,MATCH(Juin!$I$21,Juin!B21:B70,0),Juin!$U$14))
A35: 42175 | B35: Sorties | D35: 5 | E35: =C35-D35 -> -5 | F35: =F34+E35 -> 133.09 | G35: *** | R35: =IF(INDEX(Juin!B22:G71,MATCH(Juin!$I$21,Juin!B22:B71,0),Juin!$T$14)=R34,"",INDEX(Juin!B22:G71,MATCH(Juin!$I$21,Juin!B22:B71,0),Juin!$T$14)) -> Cables TV | S35: =IF(INDEX(Juin!B22:G71,MATCH(Juin!$I$21,Juin!B22:B71,0),Juin!$T$14)=R34,"",INDEX(Juin!B22:G71,MATCH(Juin!$I$21,Juin!B22:B71,0),Juin!$U$14)) -> 26.09
A36: 42176 | B36: Transports | D36: 11.33 | E36: =C36-D36 -> -11.33 | F36: =F35+E36 -> 121.76 | G36: *** | R36: =IF(INDEX(Juin!B23:G72,MATCH(Juin!$I$21,Juin!B23:B72,0),Juin!$T$14)=R35,"",INDEX(Juin!B23:G72,MATCH(Juin!$I$21,Juin!B23:B72,0),Juin!$T$14)) | S36: =IF(INDEX(Juin!B23:G72,MATCH(Juin!$I$21,Juin!B23:B72,0),Juin!$T$14)=R35,"",INDEX(Juin!B23:G72,MATCH(Juin!$I$21,Juin!B23:B72,0),Juin!$U$14))
A37: 42176 | B37: Transports | D37: 8.9 | E37: =C37-D37 -> -8.9 | F37: =F36+E37 -> 112.86 | G37: *** | R37: =IF(INDEX(Juin!B24:G73,MATCH(Juin!$I$21,Juin!B24:B73,0),Juin!$T$14)=R36,"",INDEX(Juin!B24:G73,MATCH(Juin!$I$21,Juin!B24:B73,0),Juin!$T$14)) -> Cables TV | S37: =IF(INDEX(Juin!B24:G73,MATCH(Juin!$I$21,Juin!B24:B73,0),Juin!$T$14)=R36,"",INDEX(Juin!B24:G73,MATCH(Juin!$I$21,Juin!B24:B73,0),Juin!$U$14)) -> 26.09
A38: 42176 | B38: Transports | D38: 1.6 | E38: =C38-D38 -> -1.6 | F38: =F37+E38 -> 111.26 | G38: *** | R38: =IF(INDEX(Juin!B25:G74,MATCH(Juin!$I$21,Juin!B25:B74,0),Juin!$T$14)=R37,"",INDEX(Juin!B25:G74,MATCH(Juin!$I$21,Juin!B25:B74,0),Juin!$T$14)) | S38: =IF(INDEX(Juin!B25:G74,MATCH(Juin!$I$21,Juin!B25:B74,0),Juin!$T$14)=R37,"",INDEX(Juin!B25:G74,MATCH(Juin!$I$21,Juin!B25:B74,0),Juin!$U$14))
A39: 42176 | B39: Autre | D39: 5.3 | E39: =C39-D39 -> -5.3 | F39: =F38+E39 -> 105.96 | G39: Piles | R39: =IF(INDEX(Juin!B26:G75,MATCH(Juin!$I$21,Juin!B26:B75,0),Juin!$T$14)=R38,"",INDEX(Juin!B26:G75,MATCH(Juin!$I$21,Juin!B26:B75,0),Juin!$T$14)) -> Cables TV | S39: =IF(INDEX(Juin!B26:G75,MATCH(Juin!$I$21,Juin!B26:B75,0),Juin!$T$14)=R38,"",INDEX(Juin!B26:G75,MATCH(Juin!$I$21,Juin!B26:B75,0),Juin!$U$14)) -> 26.09
A40: 42176 | B40: Sorties | D40: 12.5 | E40: =C40-D40 -> -12.5 | F40: =F39+E40 -> 93.46 | G40: *** | R40: =IF(INDEX(Juin!B27:G76,MATCH(Juin!$I$21,Juin!B27:B76,0),Juin!$T$14)=R39,"",INDEX(Juin!B27:G76,MATCH(Juin!$I$21,Juin!B27:B76,0),Juin!$T$14)) | S40: =IF(INDEX(Juin!B27:G76,MATCH(Juin!$I$21,Juin!B27:B76,0),Juin!$T$14)=R39,"",INDEX(Juin!B27:G76,MATCH(Juin!$I$21,Juin!B27:B76,0),Juin!$U$14))
...
