Workbook

Sheet Planning
A1: IF | B1: =B30 -> 15/148/L2 | C1: =C30 -> 0 | D1: =D30 -> 0 | E1: =E30 -> 0 | F1: =F30 -> 0 | G1: =G30 -> 0 | H1: =H30 -> 0 | I1: =I30 -> 15/172/L2-1 | ... O1: =O30 -> 0
B2: 42171 | C2: 42172 | D2: 42173 | E2: 42174 | F2: 42175 | G2: 42176 | H2: 42177 | I2: 42178 | J2: 42179 | K2: 42180 | L2: 42181 | M2: 42182 | N2: 42183 | O2: 42184
B3: mardi | C3: mercredi | D3: jeudi | E3: vendredi | F3: samedi | G3: dimanche | H3: lundi | I3: mardi | J3: mercredi | K3: jeudi | L3: vendredi | M3: samedi | N3: dimanche | O3: lundi
A4: 1 | B4: 2 | C4: 3 | D4: 4 | E4: 1 | F4: 3 | G4: 1 | H4: 1 | I4: 3 | J4: 3 | K4: 1 | L4: 1 | M4: 3 | N4: 3 | O4: 1
A5: 2 | B5: 2 | C5: 3 | D5: 4 | E5: 1 | F5: 3 | G5: 1 | H5: 1 | I5: 3 | J5: 3 | K5: 1 | L5: 1 | M5: 3 | N5: 3 | O5: 1
A6: 3 | B6: 2 | C6: 3 | D6: 4 | E6: 1 | F6: 3 | G6: 1 | H6: 1 | I6: 3 | J6: 1 | K6: 1 | L6: 3 | M6: 1 | N6: 3 | O6: 1
A7: 4 | B7: 2 | C7: 1 | D7: 4 | E7: 3 | F7: 3 | G7: 1 | H7: 1 | I7: 3 | J7: 1 | K7: 1 | L7: 3 | M7: 1 | N7: 1 | O7: 1
A8: 5 | B8: 2 | C8: 1 | D8: 4 | E8: 3 | F8: 3 | G8: 1 | H8: 1 | I8: 3 | J8: 1 | K8: 1 | L8: 3 | M8: 1 | N8: 1 | O8: 1
A9: 6 | B9: 2 | C9: 1 | D9: 1 | E9: 1 | F9: 3 | G9: 1 | H9: 1 | I9: 3 | J9: 1 | K9: 1 | L9: 1 | M9: 1 | N9: 1 | O9: 1
A10: 7 | B10: 3 | C10: 1 | D10: 1 | E10: 1 | F10: 3 | G10: 1 | H10: 1 | I10: 1 | J10: 1 | K10: 1 | L10: 1 | M10: 1 | N10: 1 | O10: 1
A11: 8 | B11: 3 | C11: 1 | D11: 1 | E11: 1 | F11: 3 | G11: 1 | H11: 1 | I11: 1 | J11: 1 | K11: 1 | L11: 1 | M11: 1 | N11: 1 | O11: 1
A12: 9 | B12: 3 | C12: 1 | D12: 1 | E12: 1 | F12: 3 | G12: 1 | H12: 1 | I12: 1 | J12: 1 | K12: 1 | L12: 1 | M12: 1 | N12: 1 | O12: 3
A13: 10 | B13: 3 | C13: 1 | D13: 1 | E13: 1 | F13: 1 | G13: 1 | H13: 1 | I13: 1 | J13: 3 | K13: 1 | L13: 1 | M13: 1 | N13: 1 | O13: 3
A14: 11 | B14: 3 | C14: 1 | D14: 1 | E14: 1 | F14: 1 | G14: 1 | H14: 1 | I14: 1 | J14: 3 | K14: 1 | L14: 1 | M14: 3 | N14: 3 | O14: 1
A15: 12 | B15: 3 | C15: 3 | D15: 1 | E15: 1 | F15: 1 | G15: 3 | H15: 1 | I15: 1 | J15: 1 | K15: 1 | L15: 1 | M15: 3 | N15: 3 | O15: 1
... A27: 24 | B27: 3 | C27: 4 | D27: 1 | E27: 1 | F27: 3 | G27: 1 | H27: 3 | I27: 3 | J27: 1 | K27: 1 | L27: 3 | M27: 3 | N27: 1 | O27: 1
A29: Produit | B29: NTFX1/10207 | I29: NTFX1/10207 | N29: NTFX1/10207
A30: IF | B30: 15/148/L2 | I30: 15/172/L2-1 | N30: 15/172/L2-2
A31: Date début | B31: =B2 -> 42171 | C31: =C2 -> 42172 | D31: =D2 -> 42173 | E31: =E2 -> 42174 | F31: =F2 -> 42175 | G31: =G2 -> 42176 | H31: =H2 -> 42177 | I31: =I2 -> 42178 | ... O31: =O2 -> 42184
A32: heure début | B32: 0.58333333 | I32: 0.29166667
A33: Date fin | B33: 42177 | I33: 42183
A34: heure fin | B34: 0.625 | I34: 0.41666667
A36: prod | E36: =COUNTIF($E$4:$E$27,1) -> 21
A37: nettoyage | E37: =COUNTIF($E$4:$E$27,2) -> 0
A38: prépa | E38: =COUNTIF($E$4:$E$27,3) -> 3
A39: arrêt prod | E39: =COUNTIF($E$4:$E$27,4) -> 0

Sheet Tableau
A1: Produit | B1: IF | C1: date début | D1: heure début | E1: date fin | F1: heure fin
A2: =IF($B2<>"",HLOOKUP($B2,Planning!$A$1:$O$34,29,FALSE),"") -> NTFX1/10207 | B2: 15/148/L2 | C2: =IF($B2<>"",HLOOKUP($B2,Planning!$A$1:$O$34,31,FALSE),"") -> 42171 | D2: =IF($B2<>"",HLOOKUP($B2,Planning!$A$1:$O$34,32,FALSE),"") -> 0.58333333 | E2: =IF($B2<>"",HLOOKUP($B2,Planning!$A$1:$O$34,33,FALSE),"") -> 42177 | F2: =IF($B2<>"",HLOOKUP($B2,Planning!$A$1:$O$34,34,FALSE),"") -> 0.625 | G2: =IF($B2<>"",DATEDIF(C2,E2,"d"),"") -> 6 | H2: =C2 -> 42171 | I2: =IF($B2<>"",IF((G2-1)<0,0,G2-1),"") -> 5 | J2: =IF($B2<>"",C2-I2+G2,"") -> 42172 | K2: =IF($B2<>"",IF((I2-1)<0,0,I2-1),"") -> 4 | L2: =IF($B2<>"",IF(J2="NA","NA",IF(OR(J2=H2,J2=$E$2),"NA",J2-K2+I2)),"") -> 42173 | M2: =IF($B2<>"",IF((K2-1)<0,0,K2-1),"") -> 3 | N2: =IF($B2<>"",IF(L2="NA","NA",IF(OR(L2=J2,L2=$E$2),"NA",L2-M2+K2)),"") -> 42174 | O2: =IF($B2<>"",IF((M2-1)<0,0,M2-1),"") -> 2 | P2: =IF($B2<>"",IF(N2="NA","NA",IF(OR(N2=L2,N2=$E$2),"NA",N2-O2+M2)),"") -> 42175 | Q2: =IF($B2<>"",IF((O2-1)<0,0,O2-1),"") -> 1 | R2: =IF($B2<>"",IF(P2="NA","NA",IF(OR(P2=N2,P2=$E$2),"NA",P2-Q2+O2)),"") -> 42176 | S2: =IF($B2<>"",IF((Q2-1)<0,0,Q2-1),"") -> 0 | T2: =IF($B2<>"",IF(R2="NA","NA",IF(OR(R2=P2,R2=$E$2),"NA",R2-S2+Q2)),"") -> 42177 | U2: =IF($B2<>"",IF((S2-1)<0,0,S2-1),"") -> 0 | V2: =IF($B2<>"",IF(T2="NA","NA",IF(OR(T2=R2,T2=$E$2),"NA",T2-U2+S2)),"") -> NA | W2: =IF($B2<>"",IF((U2-1)<0,0,U2-1),"") -> 0 | X2: =IF($B2<>"",IF(V2="NA","NA",IF(OR(V2=T2,V2=$E$2),"NA",V2-W2+U2)),"") -> NA | Y2: =IF($B2<>"",IF((W2-1)<0,0,W2-1),"") -> 0 | Z2: =IF($B2<>"",IF(X2="NA","NA",IF(OR(X2=V2,X2=$E$2),"NA",X2-Y2+W2)),"") -> NA | AA2: =IF($B2<>"",IF((Y2-1)<0,0,Y2-1),"") -> 0 | AB2: =IF($B2<>"",IF(Z2="NA","NA",IF(OR(Z2=X2,Z2=$E$2),"NA",Z2-AA2+Y2)),"") -> NA | AC2: =IF($B2<>"",IF((AA2-1)<0,0,AA2-1),"") -> 0 | AD2: =IF($B2<>"",IF(AB2="NA","NA",IF(OR(AB2=Z2,AB2=$E$2),"NA",AB2-AC2+AA2)),"") -> NA | AE2: =IF($B2<>"",IF((AC2-1)<0,0,AC2-1),"") -> 0 | AF2: =IF($B2<>"",IF(AD2="NA","NA",IF(OR(AD2=AB2,AD2=$E$2),"NA",AD2-AE2+AC2)),"") -> NA | AG2: =IF($B2<>"",IF((AE2-1)<0,0,AE2-1),"") -> 0 | AH2: =IF($B2<>"",IF(AF2="NA","NA",IF(OR(AF2=AD2,AF2=$E$2),"NA",AF2-AG2+AE2)),"") -> NA | AI2: =IF($B2<>"",IF((AG2-1)<0,0,AG2-1),"") -> 0 | AJ2: =IF($B2<>"",IF(AH2="NA","NA",IF(OR(AH2=AF2,AH2=$E$2),"NA",AH2-AI2+AG2)),"") -> NA | AK2: =IF($B2<>"",IF((AI2-1)<0,0,AI2-1),"") -> 0 | AL2: =IF($B2<>"",IF(AJ2="NA","NA",IF(OR(AJ2=AH2,AJ2=$E$2),"NA",AJ2-AK2+AI2)),"") -> NA | AM2: =IF($B2<>"",IF((AK2-1)<0,0,AK2-1),"") -> 0 | AN2: =IF($B2<>"",IF(AL2="NA","NA",IF(OR(AL2=AJ2,AL2=$E$2),"NA",AL2-AM2+AK2)),"") -> NA | AO2: =IF($B2<>"",IF((AM2-1)<0,0,AM2-1),"") -> 0 | AP2: =IF($B2<>"",IF(AN2="NA","NA",IF(OR(AN2=AL2,AN2=$E$2),"NA",AN2-AO2+AM2)),"") -> NA | AQ2: =IF($B2<>"",IF((AO2-1)<0,0,AO2-1),"") -> 0 | AR2: =IF($B2<>"",IF(AP2="NA","NA",IF(OR(AP2=AN2,AP2=$E$2),"NA",AP2-AQ2+AO2)),"") -> NA | AS2: =IF($B2<>"",IF((AQ2-1)<0,0,AQ2-1),"") -> 0 | AT2: =IF($B2<>"",IF(AR2="NA","NA",IF(OR(AR2=AP2,AR2=$E$2),"NA",AR2-AS2+AQ2)),"") -> NA | AU2: =IF($B2<>"",IF((AS2-1)<0,0,AS2-1),"") -> 0 | AV2: =IF($B2<>"",IF(AT2="NA","NA",IF(OR(AT2=AR2,AT2=$E$2),"NA",AT2-AU2+AS2)),"") -> NA | AW2: =IF($B2<>"",IF((AU2-1)<0,0,AU2-1),"") -> 0 | AX2: =IF($B2<>"",IF(AV2="NA","NA",IF(OR(AV2=AT2,AV2=$E$2),"NA",AV2-AW2+AU2)),"") -> NA | AY2: =IF($B2<>"",IF((AW2-1)<0,0,AW2-1),"") -> 0 | AZ2: =IF($B2<>"",IF(AX2="NA","NA",IF(OR(AX2=AV2,AX2=$E$2),"NA",AX2-AY2+AW2)),"") -> NA | BA2: =IF($B2<>"",IF((AY2-1)<0,0,AY2-1),"") -> 0 | BB2: =IF($B2<>"",IF(AZ2="NA","NA",IF(OR(AZ2=AX2,AZ2=$E$2),"NA",AZ2-BA2+AY2)),"") -> NA | BC2: =IF($B2<>"",IF((BA2-1)<0,0,BA2-1),"") -> 0 | BD2: =IF($B2<>"",IF(BB2="NA","NA",IF(OR(BB2=AZ2,BB2=$E$2),"NA",BB2-BC2+BA2)),"") -> NA | BE2: =IF($B2<>"",IF((BC2-1)<0,0,BC2-1),"") -> 0 | BF2: =IF($B2<>"",IF(BD2="NA","NA",IF(OR(BD2=BB2,BD2=$E$2),"NA",BD2-BE2+BC2)),"") -> NA | BG2: =IF($B2<>"",IF((BE2-1)<0,0,BE2-1),"") -> 0 | BH2: =IF($B2<>"",IF(BF2="NA","NA",IF(OR(BF2=BD2,BF2=$E$2),"NA",BF2-BG2+BE2)),"") -> NA | BI2: =IF($B2<>"",IF((BG2-1)<0,0,BG2-1),"") -> 0 | BJ2: =IF($B2<>"",IF(BH2="NA","NA",IF(OR(BH2=BF2,BH2=$E$2),"NA",BH2-BI2+BG2)),"") -> NA | BK2: =IF($B2<>"",IF((BI2-1)<0,0,BI2-1),"") -> 0 | BL2: =IF($B2<>"",IF(BJ2="NA","NA",IF(OR(BJ2=BH2,BJ2=$E$2),"NA",BJ2-BK2+BI2)),"") -> NA | BM2: =IF($B2<>"",IF((BK2-1)<0,0,BK2-1),"") -> 0 | BN2: =IF($B2<>"",IF(BL2="NA","NA",IF(OR(BL2=BJ2,BL2=$E$2),"NA",BL2-BM2+BK2)),"") -> NA | BO2: =IF($B2<>"",IF((BM2-1)<0,0,BM2-1),"") -> 0 | BP2: =IF($B2<>"",IF(BN2="NA","NA",IF(OR(BN2=BL2,BN2=$E$2),"NA",BN2-BO2+BM2)),"") -> NA
A3: =IF($B3<>"",HLOOKUP($B3,Planning!$A$1:$O$34,29,FALSE),"") | C3: =IF($B3<>"",HLOOKUP($B3,Planning!$A$1:$O$34,31,FALSE),"") | D3: =IF($B3<>"",HLOOKUP($B3,Planning!$A$1:$O$34,32,FALSE),"") | E3: =IF($B3<>"",HLOOKUP($B3,Planning!$A$1:$O$34,33,FALSE),"") | F3: =IF($B3<>"",HLOOKUP($B3,Planning!$A$1:$O$34,34,FALSE),"")
A4: =IF($B4<>"",HLOOKUP($B4,Planning!$A$1:$O$34,29,FALSE),"") | C4: =IF($B4<>"",HLOOKUP($B4,Planning!$A$1:$O$34,31,FALSE),"") | D4: =IF($B4<>"",HLOOKUP($B4,Planning!$A$1:$O$34,32,FALSE),"") | E4: =IF($B4<>"",HLOOKUP($B4,Planning!$A$1:$O$34,33,FALSE),"") | F4: =IF($B4<>"",HLOOKUP($B4,Planning!$A$1:$O$34,34,FALSE),"")
A5: =IF($B5<>"",HLOOKUP($B5,Planning!$A$1:$O$34,29,FALSE),"") | C5: =IF($B5<>"",HLOOKUP($B5,Planning!$A$1:$O$34,31,FALSE),"") | D5: =IF($B5<>"",HLOOKUP($B5,Planning!$A$1:$O$34,32,FALSE),"") | E5: =IF($B5<>"",HLOOKUP($B5,Planning!$A$1:$O$34,33,FALSE),"") | F5: =IF($B5<>"",HLOOKUP($B5,Planning!$A$1:$O$34,34,FALSE),"")
A6: =IF($B6<>"",HLOOKUP($B6,Planning!$A$1:$O$34,29,FALSE),"") | C6: =IF($B6<>"",HLOOKUP($B6,Planning!$A$1:$O$34,31,FALSE),"") | D6: =IF($B6<>"",HLOOKUP($B6,Planning!$A$1:$O$34,32,FALSE),"") | E6: =IF($B6<>"",HLOOKUP($B6,Planning!$A$1:$O$34,33,FALSE),"") | F6: =IF($B6<>"",HLOOKUP($B6,Planning!$A$1:$O$34,34,FALSE),"")
A7: =IF($B7<>"",HLOOKUP($B7,Planning!$A$1:$O$34,29,FALSE),"") | C7: =IF($B7<>"",HLOOKUP($B7,Planning!$A$1:$O$34,31,FALSE),"") | D7: =IF($B7<>"",HLOOKUP($B7,Planning!$A$1:$O$34,32,FALSE),"") | E7: =IF($B7<>"",HLOOKUP($B7,Planning!$A$1:$O$34,33,FALSE),"") | F7: =IF($B7<>"",HLOOKUP($B7,Planning!$A$1:$O$34,34,FALSE),"")
A8: =IF($B8<>"",HLOOKUP($B8,Planning!$A$1:$O$34,29,FALSE),"") | C8: =IF($B8<>"",HLOOKUP($B8,Planning!$A$1:$O$34,31,FALSE),"") | D8: =IF($B8<>"",HLOOKUP($B8,Planning!$A$1:$O$34,32,FALSE),"") | E8: =IF($B8<>"",HLOOKUP($B8,Planning!$A$1:$O$34,33,FALSE),"") | F8: =IF($B8<>"",HLOOKUP($B8,Planning!$A$1:$O$34,34,FALSE),"")
A9: =IF($B9<>"",HLOOKUP($B9,Planning!$A$1:$O$34,29,FALSE),"") | C9: =IF($B9<>"",HLOOKUP($B9,Planning!$A$1:$O$34,31,FALSE),"") | D9: =IF($B9<>"",HLOOKUP($B9,Planning!$A$1:$O$34,32,FALSE),"") | E9: =IF($B9<>"",HLOOKUP($B9,Planning!$A$1:$O$34,33,FALSE),"") | F9: =IF($B9<>"",HLOOKUP($B9,Planning!$A$1:$O$34,34,FALSE),"")
A10: =IF($B10<>"",HLOOKUP($B10,Planning!$A$1:$O$34,29,FALSE),"") | C10: =IF($B10<>"",HLOOKUP($B10,Planning!$A$1:$O$34,31,FALSE),"") | D10: =IF($B10<>"",HLOOKUP($B10,Planning!$A$1:$O$34,32,FALSE),"") | E10: =IF($B10<>"",HLOOKUP($B10,Planning!$A$1:$O$34,33,FALSE),"") | F10: =IF($B10<>"",HLOOKUP($B10,Planning!$A$1:$O$34,34,FALSE),"")
A11: =IF($B11<>"",HLOOKUP($B11,Planning!$A$1:$O$34,29,FALSE),"") | C11: =IF($B11<>"",HLOOKUP($B11,Planning!$A$1:$O$34,31,FALSE),"") | D11: =IF($B11<>"",HLOOKUP($B11,Planning!$A$1:$O$34,32,FALSE),"") | E11: =IF($B11<>"",HLOOKUP($B11,Planning!$A$1:$O$34,33,FALSE),"") | F11: =IF($B11<>"",HLOOKUP($B11,Planning!$A$1:$O$34,34,FALSE),"")
A12: =IF($B12<>"",HLOOKUP($B12,Planning!$A$1:$O$34,29,FALSE),"") | C12: =IF($B12<>"",HLOOKUP($B12,Planning!$A$1:$O$34,31,FALSE),"") | D12: =IF($B12<>"",HLOOKUP($B12,Planning!$A$1:$O$34,32,FALSE),"") | E12: =IF($B12<>"",HLOOKUP($B12,Planning!$A$1:$O$34,33,FALSE),"") | F12: =IF($B12<>"",HLOOKUP($B12,Planning!$A$1:$O$34,34,FALSE),"")
A13: =IF($B13<>"",HLOOKUP($B13,Planning!$A$1:$O$34,29,FALSE),"") | C13: =IF($B13<>"",HLOOKUP($B13,Planning!$A$1:$O$34,31,FALSE),"") | D13: =IF($B13<>"",HLOOKUP($B13,Planning!$A$1:$O$34,32,FALSE),"") | E13: =IF($B13<>"",HLOOKUP($B13,Planning!$A$1:$O$34,33,FALSE),"") | F13: =IF($B13<>"",HLOOKUP($B13,Planning!$A$1:$O$34,34,FALSE),"")
A14: =IF($B14<>"",HLOOKUP($B14,Planning!$A$1:$O$34,29,FALSE),"") | C14: =IF($B14<>"",HLOOKUP($B14,Planning!$A$1:$O$34,31,FALSE),"") | D14: =IF($B14<>"",HLOOKUP($B14,Planning!$A$1:$O$34,32,FALSE),"") | E14: =IF($B14<>"",HLOOKUP($B14,Planning!$A$1:$O$34,33,FALSE),"") | F14: =IF($B14<>"",HLOOKUP($B14,Planning!$A$1:$O$34,34,FALSE),"")
... A19: =IF($B19<>"",HLOOKUP($B19,Planning!$A$1:$O$34,29,FALSE),"") | C19: =IF($B19<>"",HLOOKUP($B19,Planning!$A$1:$O$34,31,FALSE),"") | D19: =IF($B19<>"",HLOOKUP($B19,Planning!$A$1:$O$34,32,FALSE),"") | E19: =IF($B19<>"",HLOOKUP($B19,Planning!$A$1:$O$34,33,FALSE),"") | F19: =IF($B19<>"",HLOOKUP($B19,Planning!$A$1:$O$34,34,FALSE),"")
