Workbook

Sheet Indicateurs S en cours
C1: Semaine | D1: 24
C2: Du | D2: 42160 | E2: Au | F2: =D2+7 -> 42167
B4: Organisation | C4: Ligne | D4: Nb heures perdues | E4: Chgt Ordo | F4: Nb OF annulé /reporté | G4: Adhérence Dates | H4: Ahérence Quantité | I4: Nb OF Sup réalisé/plan | J4: Quantité gal sup réalisé/plan | K4: Ahérence Quantité (revue) | L4: Impact social | M4: Catégorie | N4: Commentaires
B5: MONO | C5: ATELIER COND. LUBENTYL
C6: UNIVERSAL PACK
C7: LIGNE CONDITIONNEMENT MITOSYL
B8: UAP 2 | C8: LIGNE IMA C90 N°2
C9: LIGNE MARCHESINI
C10: LIGNE IMA C90 N°6
B11: UAP 1 | C11: LIGNE IMA C90 N°3
C12: LIGNE IMA C90 N°4
C13: LIGNE IMA C90 N°5
B14: Lignes Hors UAP | C14: LIGNE UHLMANN HOPITAL COMPRIMES
C15: LIGNE IMA C62
H16: =SUMIF('[1]Extraction Planifiée S'!Y:Y,"CDT_MONO",'[1]Extraction Planifiée S'!W:W)/SUMIF('[1]Extraction Planifiée S'!Y:Y,"CDT_MONO",'[1]Extraction Planifiée S'!X:X) -> #VALUE! | K16: =((SUMIF('[1]Extraction Planifiée S'!Y:Y,"CDT_MONO",'[1]Extraction Planifiée S'!W:W)+SUMIF('[1]Extraction Réalisée'!S:S,"CDT_MONO",'[1]Extraction Réalisée'!R:R)))/SUMIF('[1]Extraction Planifiée S'!Y:Y,"CDT_MONO",'[1]Extraction Planifiée S'!X:X) -> #VALUE!
B17: Organisation | C17: Ligne | D17: Nb heures perdues | E17: Chgt Ordo | F17: Nb OF annulé /reporté | G17: Adhérence Dates | H17: Ahérence OF | I17: Nb OF Sup réalisé/plan | J17: Quantité gal sup réalisé/plan | K17: Ahérence Quantité (revue) | L17: Impact social | M17: Catégorie | N17: Commentaires
B18: Granulation | C18: DIOSNA/LAF N°1 | D18: =0 -> 0 | E18: =SUMIF(ZAC!M:T,'Indicateurs S en cours'!C18,ZAC!T$4:T958) -> 0 | F18: =SUMIF(ZAC!M:U,'Indicateurs S en cours'!C18,ZAC!U$4:U958) -> 2 | G18: =IF(SUMIF('[2]Extraction Planifiée S'!N:U,'[2]Indicateurs en cours'!C50,'[2]Extraction Planifiée S'!U:U)<-1,"Avance",IF(SUMIF('[2]Extraction Planifiée S'!N:U,'[2]Indicateurs en cours'!C50,'[2]Extraction Planifiée S'!U:U)>1,"Retard","OK")) -> #VALUE! | H18: =IF(SUMIF(ZAC!$L:X,'Indicateurs S en cours'!C18,ZAC!$S:$S)=0,"",(SUMIF(ZAC!$L:X,'Indicateurs S en cours'!C18,ZAC!$S:$S))/SUMIF(ZAC!$L:X,'Indicateurs S en cours'!C18,ZAC!R:R)) -> #DIV/0! | I18: =SUMIF(ZAC!L:X,'Indicateurs S en cours'!C18,ZAC!V:V) -> 900 | J18: =SUMIF([1]ZAC!$O:$X,'Indicateurs S en cours'!C18,[1]ZAC!$W:$W) -> #VALUE! | K18: SI(SOMME.SI(ZAC!$O:$X;'Indicateurs S en cours'!C18;ZAC!$S:$S)=0;"";SI(SOMME.SI(ZAC!$O:$X;'Indicateurs S en cours'!C18;ZAC!$R:$R)=0;SOMME.SI(ZAC!$O:$X;'Indicateurs S en cours'!C18;"ZAC!($V4:$V1000)/1)");(((SOMME.SI(ZAC!$O:$X;'Indicateurs S en cours'!C18;ZAC!$S:$S))+(SOMME.SI(ZAC!$O:$X;'Indicateurs S en cours'!C18;ZAC!$V:$V)))/(SOMME.SI(ZAC!$O:$X;'Indicateurs S en cours'!C18;ZAC!$R:$R))));"") | L18: 0
C19: DIOSNA/LAF N°2 | D19: =0 -> 0 | E19: =SUMIF(ZAC!M:T,'Indicateurs S en cours'!C19,ZAC!T$4:T959) -> 0 | F19: =SUMIF(ZAC!M:U,'Indicateurs S en cours'!C19,ZAC!U$4:U959) -> 0 | G19: =IF(SUMIF('[2]Extraction Planifiée S'!N:U,'[2]Indicateurs en cours'!C51,'[2]Extraction Planifiée S'!U:U)<-1,"Avance",IF(SUMIF('[2]Extraction Planifiée S'!N:U,'[2]Indicateurs en cours'!C51,'[2]Extraction Planifiée S'!U:U)>1,"Retard","OK")) -> #VALUE! | H19: =IF(SUMIF(ZAC!$L:X,'Indicateurs S en cours'!C19,ZAC!$S:$S)=0,"",(SUMIF(ZAC!$L:X,'Indicateurs S en cours'!C19,ZAC!$S:$S))/SUMIF(ZAC!$L:X,'Indicateurs S en cours'!C19,ZAC!R:R)) | I19: =SUMIF(ZAC!L:X,'Indicateurs S en cours'!C19,ZAC!V:V) -> 0 | J19: =SUMIF([1]ZAC!$O:$X,'Indicateurs S en cours'!C19,[1]ZAC!$W:$W) -> #VALUE! | L19: 0
C20: M.G.S. | D20: =0 -> 0 | E20: =SUMIF(ZAC!M:T,'Indicateurs S en cours'!C20,ZAC!T$4:T960) -> 0 | F20: =SUMIF(ZAC!M:U,'Indicateurs S en cours'!C20,ZAC!U$4:U960) -> 0 | G20: =IF(SUMIF('[2]Extraction Planifiée S'!N:U,'[2]Indicateurs en cours'!C52,'[2]Extraction Planifiée S'!U:U)<-1,"Avance",IF(SUMIF('[2]Extraction Planifiée S'!N:U,'[2]Indicateurs en cours'!C52,'[2]Extraction Planifiée S'!U:U)>1,"Retard","OK")) -> #VALUE! | H20: =IF(SUMIF(ZAC!$L:X,'Indicateurs S en cours'!C20,ZAC!$S:$S)=0,"",(SUMIF(ZAC!$L:X,'Indicateurs S en cours'!C20,ZAC!$S:$S))/SUMIF(ZAC!$L:X,'Indicateurs S en cours'!C20,ZAC!R:R)) | I20: =SUMIF(ZAC!L:X,'Indicateurs S en cours'!C20,ZAC!V:V) -> 0 | J20: =SUMIF([1]ZAC!$O:$X,'Indicateurs S en cours'!C20,[1]ZAC!$W:$W) -> #VALUE! | K20: =IF(SUMIF([1]ZAC!I:AA,'Indicateurs S en cours'!C20,[1]ZAC!#REF!)=0,"",((SUMIF([1]ZAC!I:AA,'Indicateurs S en cours'!C20,[1]ZAC!#REF!))/SUMIF([1]ZAC!I:AA,'Indicateurs S en cours'!C20,[1]ZAC!#REF!))+(SUMIF([1]ZAC!I:AA,'Indicateurs S en cours'!C20,[1]ZAC!Z:Z))/SUMIF([1]ZAC!I:AA,'Indicateurs S en cours'!C20,[1]ZAC!#REF!)) -> #REF! | L20: 0
C21: COMPACTEUR | D21: =0 -> 0 | E21: =SUMIF(ZAC!M:T,'Indicateurs S en cours'!C21,ZAC!T$4:T961) -> 0 | F21: =SUMIF(ZAC!M:U,'Indicateurs S en cours'!C21,ZAC!U$4:U961) -> 0 | G21: =IF(SUMIF('[2]Extraction Planifiée S'!N:U,'[2]Indicateurs en cours'!C53,'[2]Extraction Planifiée S'!U:U)<-1,"Avance",IF(SUMIF('[2]Extraction Planifiée S'!N:U,'[2]Indicateurs en cours'!C53,'[2]Extraction Planifiée S'!U:U)>1,"Retard","OK")) -> #VALUE! | H21: =IF(SUMIF(ZAC!$L:X,'Indicateurs S en cours'!C21,ZAC!$S:$S)=0,"",(SUMIF(ZAC!$L:X,'Indicateurs S en cours'!C21,ZAC!$S:$S))/SUMIF(ZAC!$L:X,'Indicateurs S en cours'!C21,ZAC!R:R)) | I21: =SUMIF(ZAC!L:X,'Indicateurs S en cours'!C21,ZAC!V:V) -> 0 | J21: =SUMIF([1]ZAC!$O:$X,'Indicateurs S en cours'!C21,[1]ZAC!$W:$W) -> #VALUE! | K21: =IF(SUMIF([1]ZAC!I:AA,'Indicateurs S en cours'!C21,[1]ZAC!#REF!)=0,"",((SUMIF([1]ZAC!I:AA,'Indicateurs S en cours'!C21,[1]ZAC!#REF!))/SUMIF([1]ZAC!I:AA,'Indicateurs S en cours'!C21,[1]ZAC!#REF!))+(SUMIF([1]ZAC!I:AA,'Indicateurs S en cours'!C21,[1]ZAC!Z:Z))/SUMIF([1]ZAC!I:AA,'Indicateurs S en cours'!C21,[1]ZAC!#REF!)) -> #REF! | L21: 0
C22: TUMBLER | D22: =0 -> 0 | E22: =SUMIF(ZAC!M:T,'Indicateurs S en cours'!C22,ZAC!T$4:T962) -> 0 | F22: =SUMIF(ZAC!M:U,'Indicateurs S en cours'!C22,ZAC!U$4:U962) -> 0 | G22: =IF(SUMIF('[2]Extraction Planifiée S'!N:U,'[2]Indicateurs en cours'!C54,'[2]Extraction Planifiée S'!U:U)<-1,"Avance",IF(SUMIF('[2]Extraction Planifiée S'!N:U,'[2]Indicateurs en cours'!C54,'[2]Extraction Planifiée S'!U:U)>1,"Retard","OK")) -> #VALUE! | H22: =IF(SUMIF(ZAC!$L:X,'Indicateurs S en cours'!C22,ZAC!$S:$S)=0,"",(SUMIF(ZAC!$L:X,'Indicateurs S en cours'!C22,ZAC!$S:$S))/SUMIF(ZAC!$L:X,'Indicateurs S en cours'!C22,ZAC!R:R)) | I22: =SUMIF(ZAC!L:X,'Indicateurs S en cours'!C22,ZAC!V:V) -> 0 | J22: =SUMIF([1]ZAC!$O:$X,'Indicateurs S en cours'!C22,[1]ZAC!$W:$W) -> #VALUE! | K22: =IF(SUMIF([1]ZAC!I:AA,'Indicateurs S en cours'!C22,[1]ZAC!#REF!)=0,"",((SUMIF([1]ZAC!I:AA,'Indicateurs S en cours'!C22,[1]ZAC!#REF!))/SUMIF([1]ZAC!I:AA,'Indicateurs S en cours'!C22,[1]ZAC!#REF!))+(SUMIF([1]ZAC!I:AA,'Indicateurs S en cours'!C22,[1]ZAC!Z:Z))/SUMIF([1]ZAC!I:AA,'Indicateurs S en cours'!C22,[1]ZAC!#REF!)) -> #REF! | L22: 0
C23: ATELIER MELANGE A SEC | D23: =0 -> 0 | E23: =SUMIF(ZAC!M:T,'Indicateurs S en cours'!C23,ZAC!T$4:T963) -> 0 | F23: =SUMIF(ZAC!M:U,'Indicateurs S en cours'!C23,ZAC!U$4:U963) -> 0 | G23: =IF(SUMIF('[2]Extraction Planifiée S'!N:U,'[2]Indicateurs en cours'!C55,'[2]Extraction Planifiée S'!U:U)<-1,"Avance",IF(SUMIF('[2]Extraction Planifiée S'!N:U,'[2]Indicateurs en cours'!C55,'[2]Extraction Planifiée S'!U:U)>1,"Retard","OK")) -> #VALUE! | H23: =IF(SUMIF(ZAC!$L:X,'Indicateurs S en cours'!C23,ZAC!$S:$S)=0,"",(SUMIF(ZAC!$L:X,'Indicateurs S en cours'!C23,ZAC!$S:$S))/SUMIF(ZAC!$L:X,'Indicateurs S en cours'!C23,ZAC!R:R)) | I23: =SUMIF(ZAC!L:X,'Indicateurs S en cours'!C23,ZAC!V:V) -> 0 | J23: =SUMIF([1]ZAC!$O:$X,'Indicateurs S en cours'!C23,[1]ZAC!$W:$W) -> #VALUE! | K23: =IF(SUMIF([1]ZAC!I:AA,'Indicateurs S en cours'!C23,[1]ZAC!#REF!)=0,"",((SUMIF([1]ZAC!I:AA,'Indicateurs S en cours'!C23,[1]ZAC!#REF!))/SUMIF([1]ZAC!I:AA,'Indicateurs S en cours'!C23,[1]ZAC!#REF!))+(SUMIF([1]ZAC!I:AA,'Indicateurs S en cours'!C23,[1]ZAC!Z:Z))/SUMIF([1]ZAC!I:AA,'Indicateurs S en cours'!C23,[1]ZAC!#REF!)) -> #REF! | L23: 0
B24: Mise en forme | C24: KILLIAN TX 25 N°1 | D24: =0 -> 0 | E24: =SUMIF(ZAC!M:T,'Indicateurs S en cours'!C24,ZAC!T$4:T964) -> 0 | F24: =SUMIF(ZAC!M:U,'Indicateurs S en cours'!C24,ZAC!U$4:U964) -> 0 | G24: =IF(SUMIF('[2]Extraction Planifiée S'!N:U,'[2]Indicateurs en cours'!C56,'[2]Extraction Planifiée S'!U:U)<-1,"Avance",IF(SUMIF('[2]Extraction Planifiée S'!N:U,'[2]Indicateurs en cours'!C56,'[2]Extraction Planifiée S'!U:U)>1,"Retard","OK")) -> #VALUE! | H24: =IF(SUMIF(ZAC!$L:X,'Indicateurs S en cours'!C24,ZAC!$S:$S)=0,"",(SUMIF(ZAC!$L:X,'Indicateurs S en cours'!C24,ZAC!$S:$S))/SUMIF(ZAC!$L:X,'Indicateurs S en cours'!C24,ZAC!R:R)) | I24: =SUMIF(ZAC!L:X,'Indicateurs S en cours'!C24,ZAC!V:V) -> 0 | J24: =SUMIF([1]ZAC!$O:$X,'Indicateurs S en cours'!C24,[1]ZAC!$W:$W) -> #VALUE! | K24: =IF(SUMIF([1]ZAC!I:AA,'Indicateurs S en cours'!C24,[1]ZAC!#REF!)=0,"",((SUMIF([1]ZAC!I:AA,'Indicateurs S en cours'!C24,[1]ZAC!#REF!))/SUMIF([1]ZAC!I:AA,'Indicateurs S en cours'!C24,[1]ZAC!#REF!))+(SUMIF([1]ZAC!I:AA,'Indicateurs S en cours'!C24,[1]ZAC!Z:Z))/SUMIF([1]ZAC!I:AA,'Indicateurs S en cours'!C24,[1]ZAC!#REF!)) -> #REF! | L24: 0
C25: R 190 N°1 | D25: =0 -> 0 | E25: =SUMIF(ZAC!M:T,'Indicateurs S en cours'!C25,ZAC!T$4:T965) -> 0 | F25: =SUMIF(ZAC!M:U,'Indicateurs S en cours'!C25,ZAC!U$4:U965) -> 0 | H25: =IF(SUMIF(ZAC!$L:X,'Indicateurs S en cours'!C25,ZAC!$S:$S)=0,"",(SUMIF(ZAC!$L:X,'Indicateurs S en cours'!C25,ZAC!$S:$S))/SUMIF(ZAC!$L:X,'Indicateurs S en cours'!C25,ZAC!R:R)) | I25: =SUMIF(ZAC!L:X,'Indicateurs S en cours'!C25,ZAC!V:V) -> 0 | J25: =SUMIF([1]ZAC!$O:$X,'Indicateurs S en cours'!C25,[1]ZAC!$W:$W) -> #VALUE! | K25: =IF(SUMIF([1]ZAC!I:AA,'Indicateurs S en cours'!C25,[1]ZAC!#REF!)=0,"",((SUMIF([1]ZAC!I:AA,'Indicateurs S en cours'!C25,[1]ZAC!#REF!))/SUMIF([1]ZAC!I:AA,'Indicateurs S en cours'!C25,[1]ZAC!#REF!))+(SUMIF([1]ZAC!I:AA,'Indicateurs S en cours'!C25,[1]ZAC!Z:Z))/SUMIF([1]ZAC!I:AA,'Indicateurs S en cours'!C25,[1]ZAC!#REF!)) -> #REF! | L25: 0
C26: R 190 N°2 | D26: =0 -> 0 | E26: =SUMIF(ZAC!M:T,'Indicateurs S en cours'!C26,ZAC!T$4:T966) -> 0 | F26: =SUMIF(ZAC!M:U,'Indicateurs S en cours'!C26,ZAC!U$4:U966) -> 0 | H26: =IF(SUMIF(ZAC!$L:X,'Indicateurs S en cours'!C26,ZAC!$S:$S)=0,"",(SUMIF(ZAC!$L:X,'Indicateurs S en cours'!C26,ZAC!$S:$S))/SUMIF(ZAC!$L:X,'Indicateurs S en cours'!C26,ZAC!R:R)) | I26: =SUMIF(ZAC!L:X,'Indicateurs S en cours'!C26,ZAC!V:V) -> 0 | J26: =SUMIF([1]ZAC!$O:$X,'Indicateurs S en cours'!C26,[1]ZAC!$W:$W) -> #VALUE! | K26: =IF(SUMIF([1]ZAC!I:AA,'Indicateurs S en cours'!C26,[1]ZAC!#REF!)=0,"",((SUMIF([1]ZAC!I:AA,'Indicateurs S en cours'!C26,[1]ZAC!#REF!))/SUMIF([1]ZAC!I:AA,'Indicateurs S en cours'!C26,[1]ZAC!#REF!))+(SUMIF([1]ZAC!I:AA,'Indicateurs S en cours'!C26,[1]ZAC!Z:Z))/SUMIF([1]ZAC!I:AA,'Indicateurs S en cours'!C26,[1]ZAC!#REF!)) -> #REF! | L26: 0
C27: R 290 | D27: =0 -> 0 | E27: =SUMIF(ZAC!M:T,'Indicateurs S en cours'!C27,ZAC!T$4:T967) -> 0 | F27: =SUMIF(ZAC!M:U,'Indicateurs S en cours'!C27,ZAC!U$4:U967) -> 0 | H27: =IF(SUMIF(ZAC!$L:X,'Indicateurs S en cours'!C27,ZAC!$S:$S)=0,"",(SUMIF(ZAC!$L:X,'Indicateurs S en cours'!C27,ZAC!$S:$S))/SUMIF(ZAC!$L:X,'Indicateurs S en cours'!C27,ZAC!R:R)) | I27: =SUMIF(ZAC!L:X,'Indicateurs S en cours'!C27,ZAC!V:V) -> 0 | J27: =SUMIF([1]ZAC!$O:$X,'Indicateurs S en cours'!C27,[1]ZAC!$W:$W) -> #VALUE! | K27: =IF(SUMIF([1]ZAC!I:AA,'Indicateurs S en cours'!C27,[1]ZAC!#REF!)=0,"",((SUMIF([1]ZAC!I:AA,'Indicateurs S en cours'!C27,[1]ZAC!#REF!))/SUMIF([1]ZAC!I:AA,'Indicateurs S en cours'!C27,[1]ZAC!#REF!))+(SUMIF([1]ZAC!I:AA,'Indicateurs S en cours'!C27,[1]ZAC!Z:Z))/SUMIF([1]ZAC!I:AA,'Indicateurs S en cours'!C27,[1]ZAC!#REF!)) -> #REF! | L27: 0
C28: R 290-2 | D28: =0 -> 0 | E28: =SUMIF(ZAC!M:T,'Indicateurs S en cours'!C28,ZAC!T$4:T968) -> 0 | F28: =SUMIF(ZAC!M:U,'Indicateurs S en cours'!C28,ZAC!U$4:U968) -> 0 | H28: =IF(SUMIF(ZAC!$L:X,'Indicateurs S en cours'!C28,ZAC!$S:$S)=0,"",(SUMIF(ZAC!$L:X,'Indicateurs S en cours'!C28,ZAC!$S:$S))/SUMIF(ZAC!$L:X,'Indicateurs S en cours'!C28,ZAC!R:R)) | I28: =SUMIF(ZAC!L:X,'Indicateurs S en cours'!C28,ZAC!V:V) -> 0 | J28: =SUMIF([1]ZAC!$O:$X,'Indicateurs S en cours'!C28,[1]ZAC!$W:$W) -> #VALUE! | K28: =IF(SUMIF([1]ZAC!I:AA,'Indicateurs S en cours'!C28,[1]ZAC!#REF!)=0,"",((SUMIF([1]ZAC!I:AA,'Indicateurs S en cours'!C28,[1]ZAC!#REF!))/SUMIF([1]ZAC!I:AA,'Indicateurs S en cours'!C28,[1]ZAC!#REF!))+(SUMIF([1]ZAC!I:AA,'Indicateurs S en cours'!C28,[1]ZAC!Z:Z))/SUMIF([1]ZAC!I:AA,'Indicateurs S en cours'!C28,[1]ZAC!#REF!)) -> #REF! | L28: 0
C29: R 292 | D29: =0 -> 0 | E29: =SUMIF(ZAC!M:T,'Indicateurs S en cours'!C29,ZAC!T$4:T969) -> 0 | F29: =SUMIF(ZAC!M:U,'Indicateurs S en cours'!C29,ZAC!U$4:U969) -> 0 | H29: =IF(SUMIF(ZAC!$L:X,'Indicateurs S en cours'!C29,ZAC!$S:$S)=0,"",(SUMIF(ZAC!$L:X,'Indicateurs S en cours'!C29,ZAC!$S:$S))/SUMIF(ZAC!$L:X,'Indicateurs S en cours'!C29,ZAC!R:R)) | I29: =SUMIF(ZAC!L:X,'Indicateurs S en cours'!C29,ZAC!V:V) -> 0 | J29: =SUMIF([1]ZAC!$O:$X,'Indicateurs S en cours'!C29,[1]ZAC!$W:$W) -> #VALUE! | K29: =IF(SUMIF([1]ZAC!I:AA,'Indicateurs S en cours'!C29,[1]ZAC!#REF!)=0,"",((SUMIF([1]ZAC!I:AA,'Indicateurs S en cours'!C29,[1]ZAC!#REF!))/SUMIF([1]ZAC!I:AA,'Indicateurs S en cours'!C29,[1]ZAC!#REF!))+(SUMIF([1]ZAC!I:AA,'Indicateurs S en cours'!C29,[1]ZAC!Z:Z))/SUMIF([1]ZAC!I:AA,'Indicateurs S en cours'!C29,[1]ZAC!#REF!)) -> #REF! | L29: 0
C30: FARMATIC 2122-N°2 | D30: =0 -> 0 | E30: =SUMIF(ZAC!M:T,'Indicateurs S en cours'!C30,ZAC!T$4:T970) -> 4 | F30: =SUMIF(ZAC!M:U,'Indicateurs S en cours'!C30,ZAC!U$4:U970) -> 0 | H30: =IF(SUMIF(ZAC!$L:X,'Indicateurs S en cours'!C30,ZAC!$S:$S)=0,"",(SUMIF(ZAC!$L:X,'Indicateurs S en cours'!C30,ZAC!$S:$S))/SUMIF(ZAC!$L:X,'Indicateurs S en cours'!C30,ZAC!R:R)) -> #DIV/0! | I30: =SUMIF(ZAC!L:X,'Indicateurs S en cours'!C30,ZAC!V:V) -> 0 | J30: =SUMIF([1]ZAC!$O:$X,'Indicateurs S en cours'!C30,[1]ZAC!$W:$W) -> #VALUE! | K30: =IF(SUMIF([1]ZAC!I:AA,'Indicateurs S en cours'!C30,[1]ZAC!#REF!)=0,"",((SUMIF([1]ZAC!I:AA,'Indicateurs S en cours'!C30,[1]ZAC!#REF!))/SUMIF([1]ZAC!I:AA,'Indicateurs S en cours'!C30,[1]ZAC!#REF!))+(SUMIF([1]ZAC!I:AA,'Indicateurs S en cours'!C30,[1]ZAC!Z:Z))/SUMIF([1]ZAC!I:AA,'Indicateurs S en cours'!C30,[1]ZAC!#REF!)) -> #REF! | L30: 0
C31: FARMATIC 2090-N°3 | D31: =0 -> 0 | E31: =SUMIF(ZAC!M:T,'Indicateurs S en cours'!C31,ZAC!T$4:T971) -> 1 | F31: =SUMIF(ZAC!M:U,'Indicateurs S en cours'!C31,ZAC!U$4:U971) -> 0 | H31: =IF(SUMIF(ZAC!$L:X,'Indicateurs S en cours'!C31,ZAC!$S:$S)=0,"",(SUMIF(ZAC!$L:X,'Indicateurs S en cours'!C31,ZAC!$S:$S))/SUMIF(ZAC!$L:X,'Indicateurs S en cours'!C31,ZAC!R:R)) -> #DIV/0! | I31: =SUMIF(ZAC!L:X,'Indicateurs S en cours'!C31,ZAC!V:V) -> 1073.824 | J31: =SUMIF([1]ZAC!$O:$X,'Indicateurs S en cours'!C31,[1]ZAC!$W:$W) -> #VALUE! | K31: =IF(SUMIF([1]ZAC!I:AA,'Indicateurs S en cours'!C31,[1]ZAC!#REF!)=0,"",((SUMIF([1]ZAC!I:AA,'Indicateurs S en cours'!C31,[1]ZAC!#REF!))/SUMIF([1]ZAC!I:AA,'Indicateurs S en cours'!C31,[1]ZAC!#REF!))+(SUMIF([1]ZAC!I:AA,'Indicateurs S en cours'!C31,[1]ZAC!Z:Z))/SUMIF([1]ZAC!I:AA,'Indicateurs S en cours'!C31,[1]ZAC!#REF!)) -> #REF! | L31: 0
C32: FARMATIC 2090-N°4 | D32: =0 -> 0 | E32: =SUMIF(ZAC!M:T,'Indicateurs S en cours'!C32,ZAC!T$4:T972) -> 0 | F32: =SUMIF(ZAC!M:U,'Indicateurs S en cours'!C32,ZAC!U$4:U972) -> 0 | H32: =IF(SUMIF(ZAC!$L:X,'Indicateurs S en cours'!C32,ZAC!$S:$S)=0,"",(SUMIF(ZAC!$L:X,'Indicateurs S en cours'!C32,ZAC!$S:$S))/SUMIF(ZAC!$L:X,'Indicateurs S en cours'!C32,ZAC!R:R)) -> #DIV/0! | I32: =SUMIF(ZAC!L:X,'Indicateurs S en cours'!C32,ZAC!V:V) -> 0 | J32: =SUMIF([1]ZAC!$O:$X,'Indicateurs S en cours'!C32,[1]ZAC!$W:$W) -> #VALUE! | K32: =IF(SUMIF([1]ZAC!I:AA,'Indicateurs S en cours'!C32,[1]ZAC!#REF!)=0,"",((SUMIF([1]ZAC!I:AA,'Indicateurs S en cours'!C32,[1]ZAC!#REF!))/SUMIF([1]ZAC!I:AA,'Indicateurs S en cours'!C32,[1]ZAC!#REF!))+(SUMIF([1]ZAC!I:AA,'Indicateurs S en cours'!C32,[1]ZAC!Z:Z))/SUMIF([1]ZAC!I:AA,'Indicateurs S en cours'!C32,[1]ZAC!#REF!)) -> #REF! | L32: 0
B33: Pelliculage | C33: GLATT (PELLICULAGE) | D33: =0 -> 0 | E33: =SUMIF(ZAC!M:T,'Indicateurs S en cours'!C33,ZAC!T$4:T973) -> 0 | F33: =SUMIF(ZAC!M:U,'Indicateurs S en cours'!C33,ZAC!U$4:U973) -> 0 | H33: =IF(SUMIF(ZAC!$L:X,'Indicateurs S en cours'!C33,ZAC!$S:$S)=0,"",(SUMIF(ZAC!$L:X,'Indicateurs S en cours'!C33,ZAC!$S:$S))/SUMIF(ZAC!$L:X,'Indicateurs S en cours'!C33,ZAC!R:R)) | I33: =SUMIF(ZAC!L:X,'Indicateurs S en cours'!C33,ZAC!V:V) -> 0 | J33: =SUMIF([1]ZAC!$O:$X,'Indicateurs S en cours'!C33,[1]ZAC!$W:$W) -> #VALUE! | K33: =IF(SUMIF([1]ZAC!I:AA,'Indicateurs S en cours'!C33,[1]ZAC!#REF!)=0,"",((SUMIF([1]ZAC!I:AA,'Indicateurs S en cours'!C33,[1]ZAC!#REF!))/SUMIF([1]ZAC!I:AA,'Indicateurs S en cours'!C33,[1]ZAC!#REF!))+(SUMIF([1]ZAC!I:AA,'Indicateurs S en cours'!C33,[1]ZAC!Z:Z))/SUMIF([1]ZAC!I:AA,'Indicateurs S en cours'!C33,[1]ZAC!#REF!)) -> #REF! | L33: 0
C34: GLATT N°2 (PELLICULAGE) | D34: =0 -> 0 | E34: =SUMIF(ZAC!M:T,'Indicateurs S en cours'!C34,ZAC!T$4:T974) -> 0 | F34: =SUMIF(ZAC!M:U,'Indicateurs S en cours'!C34,ZAC!U$4:U974) -> 0 | H34: =IF(SUMIF(ZAC!$L:X,'Indicateurs S en cours'!C34,ZAC!$S:$S)=0,"",(SUMIF(ZAC!$L:X,'Indicateurs S en cours'!C34,ZAC!$S:$S))/SUMIF(ZAC!$L:X,'Indicateurs S en cours'!C34,ZAC!R:R)) | I34: =SUMIF(ZAC!L:X,'Indicateurs S en cours'!C34,ZAC!V:V) -> 0 | J34: =SUMIF([1]ZAC!$O:$X,'Indicateurs S en cours'!C34,[1]ZAC!$W:$W) -> #VALUE! | K34: =IF(SUMIF([1]ZAC!I:AA,'Indicateurs S en cours'!C34,[1]ZAC!#REF!)=0,"",((SUMIF([1]ZAC!I:AA,'Indicateurs S en cours'!C34,[1]ZAC!#REF!))/SUMIF([1]ZAC!I:AA,'Indicateurs S en cours'!C34,[1]ZAC!#REF!))+(SUMIF([1]ZAC!I:AA,'Indicateurs S en cours'!C34,[1]ZAC!Z:Z))/SUMIF([1]ZAC!I:AA,'Indicateurs S en cours'!C34,[1]ZAC!#REF!)) -> #REF! | L34: 0
C35: ACCELA COTA | D35: =0 -> 0 | E35: =SUMIF(ZAC!M:T,'Indicateurs S en cours'!C35,ZAC!T$4:T975) -> 0 | F35: =SUMIF(ZAC!M:U,'Indicateurs S en cours'!C35,ZAC!U$4:U975) -> 0 | H35: =IF(SUMIF(ZAC!$L:X,'Indicateurs S en cours'!C35,ZAC!$S:$S)=0,"",(SUMIF(ZAC!$L:X,'Indicateurs S en cours'!C35,ZAC!$S:$S))/SUMIF(ZAC!$L:X,'Indicateurs S en cours'!C35,ZAC!R:R)) | I35: =SUMIF(ZAC!L:X,'Indicateurs S en cours'!C35,ZAC!V:V) -> 0 | J35: =SUMIF([1]ZAC!$O:$X,'Indicateurs S en cours'!C35,[1]ZAC!$W:$W) -> #VALUE! | K35: =IF(SUMIF([1]ZAC!I:AA,'Indicateurs S en cours'!C35,[1]ZAC!#REF!)=0,"",((SUMIF([1]ZAC!I:AA,'Indicateurs S en cours'!C35,[1]ZAC!#REF!))/SUMIF([1]ZAC!I:AA,'Indicateurs S en cours'!C35,[1]ZAC!#REF!))+(SUMIF([1]ZAC!I:AA,'Indicateurs S en cours'!C35,[1]ZAC!Z:Z))/SUMIF([1]ZAC!I:AA,'Indicateurs S en cours'!C35,[1]ZAC!#REF!)) -> #REF! | L35: 0
B36: Tildiem | C36: TUMBLER MELANGE TILDIEM | D36: =0 -> 0 | E36: =SUMIF(ZAC!M:T,'Indicateurs S en cours'!C36,ZAC!T$4:T976) -> 0 | F36: =SUMIF(ZAC!M:U,'Indicateurs S en cours'!C36,ZAC!U$4:U976) -> 0 | H36: =IF(SUMIF(ZAC!$L:X,'Indicateurs S en cours'!C36,ZAC!$S:$S)=0,"",(SUMIF(ZAC!$L:X,'Indicateurs S en cours'!C36,ZAC!$S:$S))/SUMIF(ZAC!$L:X,'Indicateurs S en cours'!C36,ZAC!R:R)) | I36: =SUMIF(ZAC!L:X,'Indicateurs S en cours'!C36,ZAC!V:V) -> 0 | J36: =SUMIF([1]ZAC!$O:$X,'Indicateurs S en cours'!C36,[1]ZAC!$W:$W) -> #VALUE! | K36: =IF(SUMIF([1]ZAC!I:AA,'Indicateurs S en cours'!C36,[1]ZAC!#REF!)=0,"",((SUMIF([1]ZAC!I:AA,'Indicateurs S en cours'!C36,[1]ZAC!#REF!))/SUMIF([1]ZAC!I:AA,'Indicateurs S en cours'!C36,[1]ZAC!#REF!))+(SUMIF([1]ZAC!I:AA,'Indicateurs S en cours'!C36,[1]ZAC!Z:Z))/SUMIF([1]ZAC!I:AA,'Indicateurs S en cours'!C36,[1]ZAC!#REF!)) -> #REF! | L36: 0
C37: ATELIER FABRICATION TILDIEM | D37: =0 -> 0 | E37: =SUMIF(ZAC!M:T,'Indicateurs S en cours'!C37,ZAC!T$4:T977) -> 0 | F37: =SUMIF(ZAC!M:U,'Indicateurs S en cours'!C37,ZAC!U$4:U977) -> 0 | H37: =IF(SUMIF(ZAC!$L:X,'Indicateurs S en cours'!C37,ZAC!$S:$S)=0,"",(SUMIF(ZAC!$L:X,'Indicateurs S en cours'!C37,ZAC!$S:$S))/SUMIF(ZAC!$L:X,'Indicateurs S en cours'!C37,ZAC!R:R)) | I37: =SUMIF(ZAC!L:X,'Indicateurs S en cours'!C37,ZAC!V:V) -> 0 | J37: =SUMIF([1]ZAC!$O:$X,'Indicateurs S en cours'!C37,[1]ZAC!$W:$W) -> #VALUE! | K37: =IF(SUMIF([1]ZAC!I:AA,'Indicateurs S en cours'!C37,[1]ZAC!#REF!)=0,"",((SUMIF([1]ZAC!I:AA,'Indicateurs S en cours'!C37,[1]ZAC!#REF!))/SUMIF([1]ZAC!I:AA,'Indicateurs S en cours'!C37,[1]ZAC!#REF!))+(SUMIF([1]ZAC!I:AA,'Indicateurs S en cours'!C37,[1]ZAC!Z:Z))/SUMIF([1]ZAC!I:AA,'Indicateurs S en cours'!C37,[1]ZAC!#REF!)) -> #REF! | L37: 0
C38: ATELIER ENROBAGE TILDIEM | D38: =0 -> 0 | E38: =SUMIF(ZAC!M:T,'Indicateurs S en cours'!C38,ZAC!T$4:T978) -> 0 | F38: =SUMIF(ZAC!M:U,'Indicateurs S en cours'!C38,ZAC!U$4:U978) -> 0 | H38: =IF(SUMIF(ZAC!$L:X,'Indicateurs S en cours'!C38,ZAC!$S:$S)=0,"",(SUMIF(ZAC!$L:X,'Indicateurs S en cours'!C38,ZAC!$S:$S))/SUMIF(ZAC!$L:X,'Indicateurs S en cours'!C38,ZAC!R:R)) | I38: =SUMIF(ZAC!L:X,'Indicateurs S en cours'!C38,ZAC!V:V) -> 0 | J38: =SUMIF([1]ZAC!$O:$X,'Indicateurs S en cours'!C38,[1]ZAC!$W:$W) -> #VALUE! | K38: =IF(SUMIF([1]ZAC!I:AA,'Indicateurs S en cours'!C38,[1]ZAC!#REF!)=0,"",((SUMIF([1]ZAC!I:AA,'Indicateurs S en cours'!C38,[1]ZAC!#REF!))/SUMIF([1]ZAC!I:AA,'Indicateurs S en cours'!C38,[1]ZAC!#REF!))+(SUMIF([1]ZAC!I:AA,'Indicateurs S en cours'!C38,[1]ZAC!Z:Z))/SUMIF([1]ZAC!I:AA,'Indicateurs S en cours'!C38,[1]ZAC!#REF!)) -> #REF! | L38: 0
B39: Ercéfuryl | C39: MELANGEUR LODIGE | D39: =0 -> 0 | E39: =SUMIF(ZAC!M:T,'Indicateurs S en cours'!C39,ZAC!T$4:T979) -> 0 | F39: =SUMIF(ZAC!M:U,'Indicateurs S en cours'!C39,ZAC!U$4:U979) -> 0 | H39: =IF(SUMIF(ZAC!$L:X,'Indicateurs S en cours'!C39,ZAC!$S:$S)=0,"",(SUMIF(ZAC!$L:X,'Indicateurs S en cours'!C39,ZAC!$S:$S))/SUMIF(ZAC!$L:X,'Indicateurs S en cours'!C39,ZAC!R:R)) | I39: =SUMIF(ZAC!L:X,'Indicateurs S en cours'!C39,ZAC!V:V) -> 0 | J39: =SUMIF([1]ZAC!$O:$X,'Indicateurs S en cours'!C39,[1]ZAC!$W:$W) -> #VALUE! | K39: =IF(SUMIF([1]ZAC!I:AA,'Indicateurs S en cours'!C39,[1]ZAC!#REF!)=0,"",((SUMIF([1]ZAC!I:AA,'Indicateurs S en cours'!C39,[1]ZAC!#REF!))/SUMIF([1]ZAC!I:AA,'Indicateurs S en cours'!C39,[1]ZAC!#REF!))+(SUMIF([1]ZAC!I:AA,'Indicateurs S en cours'!C39,[1]ZAC!Z:Z))/SUMIF([1]ZAC!I:AA,'Indicateurs S en cours'!C39,[1]ZAC!#REF!)) -> #REF! | L39: 0
C40: GELULEUSE GKF 2000 | D40: =0 -> 0 | E40: =SUMIF(ZAC!M:T,'Indicateurs S en cours'!C40,ZAC!T$4:T980) -> 0 | F40: =SUMIF(ZAC!M:U,'Indicateurs S en cours'!C40,ZAC!U$4:U980) -> 0 | H40: =IF(SUMIF(ZAC!$L:X,'Indicateurs S en cours'!C40,ZAC!$S:$S)=0,"",(SUMIF(ZAC!$L:X,'Indicateurs S en cours'!C40,ZAC!$S:$S))/SUMIF(ZAC!$L:X,'Indicateurs S en cours'!C40,ZAC!R:R)) | I40: =SUMIF(ZAC!L:X,'Indicateurs S en cours'!C40,ZAC!V:V) -> 0 | J40: =SUMIF([1]ZAC!$O:$X,'Indicateurs S en cours'!C40,[1]ZAC!$W:$W) -> #VALUE! | K40: =IF(SUMIF([1]ZAC!I:AA,'Indicateurs S en cours'!C40,[1]ZAC!#REF!)=0,"",((SUMIF([1]ZAC!I:AA,'Indicateurs S en cours'!C40,[1]ZAC!#REF!))/SUMIF([1]ZAC!I:AA,'Indicateurs S en cours'!C40,[1]ZAC!#REF!))+(SUMIF([1]ZAC!I:AA,'Indicateurs S en cours'!C40,[1]ZAC!Z:Z))/SUMIF([1]ZAC!I:AA,'Indicateurs S en cours'!C40,[1]ZAC!#REF!)) -> #REF! | L40: 0
H41: =SUM(ZAC!$S:$S)/SUM(ZAC!$R:$R) -> #DIV/0! | K41: =(SUM([1]ZAC!$S:$S)+SUM([1]ZAC!$V:$V))/SUM([1]ZAC!$R:$R) -> #DIV/0!
B161: gfd

Sheet ZAC
A3: Batch | B3: Recette | C3: NUM_ BATCH | D3: DATE_ DEBUT_ PREVUE | E3: STATUT_ BATCH | F3: CUF_ IDENTIFICATION_ AQ | G3: NUM_ RECETTE | H3: VERSION_ RECETTE | I3: QUANTITE_ PLANIFIEE | J3: QUANTITE_ REALISEE MAX | K3: DATE_ DEBUT_ REEL | L3: RESOURCE | M3: Description ligne | N3: Description Article | O3: Numero de lot | P3: Ordo | Q3: Ordo réalisé | R3: Ref_adhérence | S3: Réalisé {0,1} | T3: Ordo modifié | U3: OF annulé | V3: OF Réalisé mais pas planifié | W3: Quantité réalisée (unité galénique)
A4: 627064 | B4: 98066/00/110 | C4: 0627064 | D4: 42167.399 | E4: Batch terminé | F4: 1 | G4: 98066/00 | H4: 110 | I4: 1e-06 | K4: 42172.455 | L4: RFFSGEL01 | M4: FARMATIC 2122-N°2 | N4: =VLOOKUP(VALUE(LEFT(G4,LEN(G4)-3)),[1]Données!$A$1:$B$30000,2,FALSE) -> URBANYL 5MG GEL REPARTI | O4: 4Y006 | P4: =IF(L4<>L3,1,P3+1) -> 1 | Q4: =IF(ISERROR(VLOOKUP(C4,'[1]Extraction Réalisée'!C:O,13,FALSE)),"pas Réalisée",VLOOKUP(C4,'[1]Extraction Réalisée'!C:O,13,FALSE)) -> 1 | R4: =IF(P4="","1","") | S4: =IF(V4=1,"0","") -> 0 | T4: 2 | U4: =IF(ISERROR(VLOOKUP(A4,'[1]Extraction Réalisée'!A:E,5,FALSE)),"",IF(VLOOKUP(A4,'[1]Extraction Réalisée'!A:E,5,FALSE)="Lot annulé",1,"")) | V4: =IF(ISERROR(VLOOKUP(A4,'[1]Extraction Planifiée S'!A:A,1,FALSE)),1,"") -> 1 | W4: =IF(V4="","",IF(J4=0,"",J4*VLOOKUP(VALUE(LEFT(G4,LEN(G4)-3)),[1]Données!A:C,3,FALSE)))
A5: 622522 | B5: 482377/00/110 | C5: 0622522 | D5: 42177.345 | E5: Batch en cours de fabrication | F5: 1 | G5: 482377/00 | H5: 110 | I5: 719.033 | K5: 42173.489 | L5: RFFSGEL02 | M5: FARMATIC 2090-N°3 | N5: =VLOOKUP(VALUE(LEFT(G5,LEN(G5)-3)),[1]Données!$A$1:$B$30000,2,FALSE) -> MONO-TILDIEM 300MG GEL BLANC/ROSE N.IMP. REMP | O5: AY018 | P5: =IF(L5<>L4,1,P4+1) -> 1 | Q5: =IF(ISERROR(VLOOKUP(C5,'[1]Extraction Réalisée'!C:O,13,FALSE)),"pas Réalisée",VLOOKUP(C5,'[1]Extraction Réalisée'!C:O,13,FALSE)) -> 2 | R5: =IF(P5="","1","") | S5: =IF(V5=1,"0","") -> 0 | T5: 3 | U5: 1 | V5: =IF(ISERROR(VLOOKUP(A5,'[1]Extraction Planifiée S'!A:A,1,FALSE)),1,"") -> 1 | W5: =IF(V5="","",IF(J5=0,"",J5*VLOOKUP(VALUE(LEFT(G5,LEN(G5)-3)),[1]Données!A:C,3,FALSE)))
A6: 613260 | B6: 98189/00/110 | C6: 0613260 | D6: 42172.334 | E6: Batch en cours de fabrication | F6: 1 | G6: 98189/00 | H6: 110 | I6: 1070.379 | J6: 1073.824 | K6: 42172.235 | L6: RFFSGEL02 | M6: FARMATIC 2090-N°3 | N6: =VLOOKUP(VALUE(LEFT(G6,LEN(G6)-3)),[1]Données!$A$1:$B$30000,2,FALSE) -> TILDIEM LP 200MG GEL ROSE/GRIS .N.IMP. REMP | O6: AY017 | P6: =IF(L6<>L5,1,P5+1) -> 2 | Q6: =IF(ISERROR(VLOOKUP(C6,'[1]Extraction Réalisée'!C:O,13,FALSE)),"pas Réalisée",VLOOKUP(C6,'[1]Extraction Réalisée'!C:O,13,FALSE)) -> 1 | R6: =IF(P6="","1","") | S6: =IF(V6=1,"0","") -> 0 | U6: 1 | V6: =IF(ISERROR(VLOOKUP(A6,'[1]Extraction Planifiée S'!A:A,1,FALSE)),1,"") -> 1 | W6: =IF(V6="","",IF(J6=0,"",J6*VLOOKUP(VALUE(LEFT(G6,LEN(G6)-3)),[1]Données!A:C,3,FALSE))) -> 1073.824
A7: 615191 | B7: 236501/01/110 | C7: 0615191 | D7: 42171.459 | E7: Batch en cours de fabrication | F7: 1 | G7: 236501/01 | H7: 110 | I7: 5624.823 | K7: 42171.421 | L7: RFFSGEL03 | M7: FARMATIC 2090-N°4 | N7: =VLOOKUP(VALUE(LEFT(G7,LEN(G7)-3)),[1]Données!$A$1:$B$30000,2,FALSE) -> DOGMATIL 50MG GEL REMP (GEL ORIGINE BOVINE) | O7: AY007 | P7: =IF(L7<>L6,1,P6+1) -> 1 | Q7: =IF(ISERROR(VLOOKUP(C7,'[1]Extraction Réalisée'!C:O,13,FALSE)),"pas Réalisée",VLOOKUP(C7,'[1]Extraction Réalisée'!C:O,13,FALSE)) -> 1 | R7: =IF(P7="","1","") | S7: =IF(V7=1,"0","") -> 0 | T7: 4 | V7: =IF(ISERROR(VLOOKUP(A7,'[1]Extraction Planifiée S'!A:A,1,FALSE)),1,"") -> 1 | W7: =IF(V7="","",IF(J7=0,"",J7*VLOOKUP(VALUE(LEFT(G7,LEN(G7)-3)),[1]Données!A:C,3,FALSE)))
A8: 612441 | B8: 572885/00/110 | C8: 0612441 | D8: 42173.673 | E8: Batch terminé | F8: 1 | G8: 572885/00 | H8: 110 | I8: 298.2 | J8: 298 | K8: 42167.011 | L8: RFFSGRA01 | M8: DIOSNA/LAF N°1 | N8: =VLOOKUP(VALUE(LEFT(G8,LEN(G8)-3)),[1]Données!$A$1:$B$30000,2,FALSE) -> SOLIAN NF GRAN/LUB avec 506960 | O8: AY055 | P8: =IF(L8<>L7,1,P7+1) -> 1 | Q8: =IF(ISERROR(VLOOKUP(C8,'[1]Extraction Réalisée'!C:O,13,FALSE)),"pas Réalisée",VLOOKUP(C8,'[1]Extraction Réalisée'!C:O,13,FALSE)) -> 1 | R8: =IF(P8="","1","") | S8: =IF(V8=1,"0","") -> 0 | T8: 1 | V8: =IF(ISERROR(VLOOKUP(A8,'[1]Extraction Planifiée S'!A:A,1,FALSE)),1,"") -> 1 | W8: =IF(V8="","",IF(J8=0,"",J8*VLOOKUP(VALUE(LEFT(G8,LEN(G8)-3)),[1]Données!A:C,3,FALSE))) -> 298
A9: 612442 | B9: 572885/00/110 | C9: 0612442 | D9: 42174.36 | E9: Batch terminé | F9: 1 | G9: 572885/00 | H9: 110 | I9: 298.2 | J9: 301 | K9: 42167.083 | L9: RFFSGRA01 | M9: DIOSNA/LAF N°1 | N9: =VLOOKUP(VALUE(LEFT(G9,LEN(G9)-3)),[1]Données!$A$1:$B$30000,2,FALSE) -> SOLIAN NF GRAN/LUB avec 506960 | O9: AY056 | P9: =IF(L9<>L8,1,P8+1) -> 2 | Q9: =IF(ISERROR(VLOOKUP(C9,'[1]Extraction Réalisée'!C:O,13,FALSE)),"pas Réalisée",VLOOKUP(C9,'[1]Extraction Réalisée'!C:O,13,FALSE)) -> 2 | R9: =IF(P9="","1","") | S9: =IF(V9=1,"0","") -> 0 | V9: =IF(ISERROR(VLOOKUP(A9,'[1]Extraction Planifiée S'!A:A,1,FALSE)),1,"") -> 1 | W9: =IF(V9="","",IF(J9=0,"",J9*VLOOKUP(VALUE(LEFT(G9,LEN(G9)-3)),[1]Données!A:C,3,FALSE))) -> 301
A10: 612443 | B10: 572885/00/110 | C10: 0612443 | D10: 42174.673 | E10: Batch terminé | F10: 1 | G10: 572885/00 | H10: 110 | I10: 298.2 | J10: 301 | K10: 42167.087 | L10: RFFSGRA01 | M10: DIOSNA/LAF N°1 | N10: =VLOOKUP(VALUE(LEFT(G10,LEN(G10)-3)),[1]Données!$A$1:$B$30000,2,FALSE) -> SOLIAN NF GRAN/LUB avec 506960 | O10: AY057 | P10: =IF(L10<>L9,1,P9+1) -> 3 | Q10: =IF(ISERROR(VLOOKUP(C10,'[1]Extraction Réalisée'!C:O,13,FALSE)),"pas Réalisée",VLOOKUP(C10,'[1]Extraction Réalisée'!C:O,13,FALSE)) -> 3 | R10: =IF(P10="","1","") | S10: =IF(V10=1,"0","") -> 0 | V10: =IF(ISERROR(VLOOKUP(A10,'[1]Extraction Planifiée S'!A:A,1,FALSE)),1,"") -> 1 | W10: =IF(V10="","",IF(J10=0,"",J10*VLOOKUP(VALUE(LEFT(G10,LEN(G10)-3)),[1]Données!A:C,3,FALSE))) -> 301
A11: 612444 | B11: 572885/00/110 | C11: 0612444 | D11: 42177.485 | E11: Batch en cours de fabrication | F11: 1 | G11: 572885/00 | H11: 110 | I11: 298.2 | K11: 42167.091 | L11: RFFSGRA01 | M11: DIOSNA/LAF N°1 | N11: =VLOOKUP(VALUE(LEFT(G11,LEN(G11)-3)),[1]Données!$A$1:$B$30000,2,FALSE) -> SOLIAN NF GRAN/LUB avec 506960 | O11: AY058 | P11: =IF(L11<>L10,1,P10+1) -> 4 | Q11: =IF(ISERROR(VLOOKUP(C11,'[1]Extraction Réalisée'!C:O,13,FALSE)),"pas Réalisée",VLOOKUP(C11,'[1]Extraction Réalisée'!C:O,13,FALSE)) -> 4 | R11: =IF(P11="","1","") | S11: =IF(V11=1,"0","") -> 0 | V11: =IF(ISERROR(VLOOKUP(A11,'[1]Extraction Planifiée S'!A:A,1,FALSE)),1,"") -> 1 | W11: =IF(V11="","",IF(J11=0,"",J11*VLOOKUP(VALUE(LEFT(G11,LEN(G11)-3)),[1]Données!A:C,3,FALSE)))
A12: 612445 | B12: 572885/00/110 | C12: 0612445 | D12: 42178.485 | E12: Batch en cours de fabrication | F12: 1 | G12: 572885/00 | H12: 110 | I12: 298.2 | K12: 42167.098 | L12: RFFSGRA01 | M12: DIOSNA/LAF N°1 | N12: =VLOOKUP(VALUE(LEFT(G12,LEN(G12)-3)),[1]Données!$A$1:$B$30000,2,FALSE) -> SOLIAN NF GRAN/LUB avec 506960 | O12: AY059 | P12: =IF(L12<>L11,1,P11+1) -> 5 | Q12: =IF(ISERROR(VLOOKUP(C12,'[1]Extraction Réalisée'!C:O,13,FALSE)),"pas Réalisée",VLOOKUP(C12,'[1]Extraction Réalisée'!C:O,13,FALSE)) -> 5 | R12: =IF(P12="","1","") | S12: =IF(V12=1,"0","") -> 0 | V12: =IF(ISERROR(VLOOKUP(A12,'[1]Extraction Planifiée S'!A:A,1,FALSE)),1,"") -> 1 | W12: =IF(V12="","",IF(J12=0,"",J12*VLOOKUP(VALUE(LEFT(G12,LEN(G12)-3)),[1]Données!A:C,3,FALSE)))
A13: 612446 | B13: 572885/00/110 | C13: 0612446 | D13: 42179.485 | E13: Batch en cours de fabrication | G13: 572885/00 | H13: 110 | I13: 298.2 | K13: 42167.102 | L13: RFFSGRA01 | M13: DIOSNA/LAF N°1 | N13: =VLOOKUP(VALUE(LEFT(G13,LEN(G13)-3)),[1]Données!$A$1:$B$30000,2,FALSE) -> SOLIAN NF GRAN/LUB avec 506960 | O13: AY060 | P13: =IF(L13<>L12,1,P12+1) -> 6 | Q13: =IF(ISERROR(VLOOKUP(C13,'[1]Extraction Réalisée'!C:O,13,FALSE)),"pas Réalisée",VLOOKUP(C13,'[1]Extraction Réalisée'!C:O,13,FALSE)) -> 6 | R13: =IF(P13="","1","") | S13: =IF(V13=1,"0","") -> 0 | V13: =IF(ISERROR(VLOOKUP(A13,'[1]Extraction Planifiée S'!A:A,1,FALSE)),1,"") -> 1 | W13: =IF(V13="","",IF(J13=0,"",J13*VLOOKUP(VALUE(LEFT(G13,LEN(G13)-3)),[1]Données!A:C,3,FALSE)))
A14: 623782 | B14: 572885/00/110 | C14: 0623782 | D14: 42171.673 | E14: Batch en cours de fabrication | F14: 1 | G14: 572885/00 | H14: 110 | I14: 298.2 | K14: 42167.107 | L14: RFFSGRA01 | M14: DIOSNA/LAF N°1 | N14: =VLOOKUP(VALUE(LEFT(G14,LEN(G14)-3)),[1]Données!$A$1:$B$30000,2,FALSE) -> SOLIAN NF GRAN/LUB avec 506960 | O14: AY061 | P14: =IF(L14<>L13,1,P13+1) -> 7 | Q14: =IF(ISERROR(VLOOKUP(C14,'[1]Extraction Réalisée'!C:O,13,FALSE)),"pas Réalisée",VLOOKUP(C14,'[1]Extraction Réalisée'!C:O,13,FALSE)) -> 7 | R14: =IF(P14="","1","") | S14: =IF(V14=1,"0","") -> 0 | V14: =IF(ISERROR(VLOOKUP(A14,'[1]Extraction Planifiée S'!A:A,1,FALSE)),1,"") -> 1 | W14: =IF(V14="","",IF(J14=0,"",J14*VLOOKUP(VALUE(LEFT(G14,LEN(G14)-3)),[1]Données!A:C,3,FALSE)))
A15: 623783 | B15: 572885/00/110 | C15: 0623783 | D15: 42177.449 | E15: Batch en cours de fabrication | G15: 572885/00 | H15: 110 | I15: 298.2 | K15: 42170.315 | L15: RFFSGRA01 | M15: DIOSNA/LAF N°1 | N15: =VLOOKUP(VALUE(LEFT(G15,LEN(G15)-3)),[1]Données!$A$1:$B$30000,2,FALSE) -> SOLIAN NF GRAN/LUB avec 506960 | O15: AY062 | P15: =IF(L15<>L14,1,P14+1) -> 8 | Q15: =IF(ISERROR(VLOOKUP(C15,'[1]Extraction Réalisée'!C:O,13,FALSE)),"pas Réalisée",VLOOKUP(C15,'[1]Extraction Réalisée'!C:O,13,FALSE)) -> 8 | R15: =IF(P15="","1","") | S15: =IF(V15=1,"0","") -> 0 | V15: =IF(ISERROR(VLOOKUP(A15,'[1]Extraction Planifiée S'!A:A,1,FALSE)),1,"") -> 1 | W15: =IF(V15="","",IF(J15=0,"",J15*VLOOKUP(VALUE(LEFT(G15,LEN(G15)-3)),[1]Données!A:C,3,FALSE)))
A16: 623784 | B16: 572885/00/110 | C16: 0623784 | D16: 42178.449 | E16: Batch en cours de fabrication | G16: 572885/00 | H16: 110 | I16: 298.2 | K16: 42170.32 | L16: RFFSGRA01 | M16: DIOSNA/LAF N°1 | N16: =VLOOKUP(VALUE(LEFT(G16,LEN(G16)-3)),[1]Données!$A$1:$B$30000,2,FALSE) -> SOLIAN NF GRAN/LUB avec 506960 | O16: AY063 | P16: =IF(L16<>L15,1,P15+1) -> 9 | Q16: =IF(ISERROR(VLOOKUP(C16,'[1]Extraction Réalisée'!C:O,13,FALSE)),"pas Réalisée",VLOOKUP(C16,'[1]Extraction Réalisée'!C:O,13,FALSE)) -> 9 | R16: =IF(P16="","1","") | S16: =IF(V16=1,"0","") -> 0 | V16: =IF(ISERROR(VLOOKUP(A16,'[1]Extraction Planifiée S'!A:A,1,FALSE)),1,"") -> 1 | W16: =IF(V16="","",IF(J16=0,"",J16*VLOOKUP(VALUE(LEFT(G16,LEN(G16)-3)),[1]Données!A:C,3,FALSE)))
A17: 623785 | B17: 572885/00/110 | C17: 0623785 | D17: 42179.449 | E17: Batch en cours de fabrication | G17: 572885/00 | H17: 110 | I17: 298.2 | K17: 42170.324 | L17: RFFSGRA01 | M17: DIOSNA/LAF N°1 | N17: =VLOOKUP(VALUE(LEFT(G17,LEN(G17)-3)),[1]Données!$A$1:$B$30000,2,FALSE) -> SOLIAN NF GRAN/LUB avec 506960 | O17: AY064 | P17: =IF(L17<>L16,1,P16+1) -> 10 | Q17: =IF(ISERROR(VLOOKUP(C17,'[1]Extraction Réalisée'!C:O,13,FALSE)),"pas Réalisée",VLOOKUP(C17,'[1]Extraction Réalisée'!C:O,13,FALSE)) -> 10 | R17: =IF(P17="","1","") | S17: =IF(V17=1,"0","") -> 0 | V17: =IF(ISERROR(VLOOKUP(A17,'[1]Extraction Planifiée S'!A:A,1,FALSE)),1,"") -> 1 | W17: =IF(V17="","",IF(J17=0,"",J17*VLOOKUP(VALUE(LEFT(G17,LEN(G17)-3)),[1]Données!A:C,3,FALSE)))
A18: 617725 | B18: 98144/00/110 | C18: 0617725 | D18: 42178.208 | E18: Batch en cours de fabrication | G18: 98144/00 | H18: 110 | I18: 358.56 | K18: 42167 | L18: RFFSGRA03 | M18: M.G.S. | N18: =VLOOKUP(VALUE(LEFT(G18,LEN(G18)-3)),[1]Données!$A$1:$B$30000,2,FALSE) -> STILNOX 10MG GRA ZOLPID (SIS) | O18: AY048 | P18: =IF(L18<>L17,1,P17+1) -> 1 | Q18: =IF(ISERROR(VLOOKUP(C18,'[1]Extraction Réalisée'!C:O,13,FALSE)),"pas Réalisée",VLOOKUP(C18,'[1]Extraction Réalisée'!C:O,13,FALSE)) -> 1 | R18: =IF(P18="","1","") | S18: =IF(V18=1,"0","") -> 0 | U18: 1 | V18: =IF(ISERROR(VLOOKUP(A18,'[1]Extraction Planifiée S'!A:A,1,FALSE)),1,"") -> 1 | W18: =IF(V18="","",IF(J18=0,"",J18*VLOOKUP(VALUE(LEFT(G18,LEN(G18)-3)),[1]Données!A:C,3,FALSE)))
A19: 617726 | B19: 98144/00/110 | C19: 0617726 | D19: 42179.208 | E19: Batch en cours de fabrication | G19: 98144/00 | H19: 110 | I19: 358.56 | K19: 42167.007 | L19: RFFSGRA03 | M19: M.G.S. | N19: =VLOOKUP(VALUE(LEFT(G19,LEN(G19)-3)),[1]Données!$A$1:$B$30000,2,FALSE) -> STILNOX 10MG GRA ZOLPID (SIS) | O19: AY049 | P19: =IF(L19<>L18,1,P18+1) -> 2 | Q19: =IF(ISERROR(VLOOKUP(C19,'[1]Extraction Réalisée'!C:O,13,FALSE)),"pas Réalisée",VLOOKUP(C19,'[1]Extraction Réalisée'!C:O,13,FALSE)) -> 2 | R19: =IF(P19="","1","") | S19: =IF(V19=1,"0","") -> 0 | U19: 1 | V19: =IF(ISERROR(VLOOKUP(A19,'[1]Extraction Planifiée S'!A:A,1,FALSE)),1,"") -> 1 | W19: =IF(V19="","",IF(J19=0,"",J19*VLOOKUP(VALUE(LEFT(G19,LEN(G19)-3)),[1]Données!A:C,3,FALSE)))

Sheet Feuil2

Sheet Feuil3
