Workbook

Sheet Décompte
A1: INTERCOMMUNALE POUR LA GESTION ET LA REALISATION D'ETUDES TECHNIQUES ET ECONOMIQUES | I1: 2015
G2: Prix Unt. | H2: Prix Total | I2: Nombre | J2: Total
A3: 2.2 | B3: REMPLACEMENT DES APPAREILS
A4: 2.2.1 | B4: Installations de production de chaleur
A5: A | B5: Chaudières murale gaz à condensation étanche
A6: A | B6: Chaudière à usage domestique | C6: QP | D6: p | E6: 3 | F6: =E6-I6 -> 1 | G6: 2316.5 | H6: =E6*G6 -> 6949.5 | I6: =COUNTIF('Travaux 2015'!$E$5:$E$156,'SOURCE INFO'!A1) -> 2 | J6: =IF(I6=0,"",G6*I6) -> 4633
A7: B | B7: Chaudières murale gaz atmosphérique | J7: =IF(I7=0,"",G7*I7)
A8: B.1 | B8: Chaudière à usage domestique | C8: QP | D8: p | E8: 10 | F8: =E8-I8 -> 9 | G8: 3234.5 | H8: =E8*G8 -> 32345 | I8: =COUNTIF('Travaux 2015'!$E$5:$E$156,'SOURCE INFO'!A2) -> 1 | J8: =IF(I8=0,"",G8*I8) -> 3234.5
A9: B.2 | B9: Chaudière jusque +/- 50kW | C9: QP | D9: p | E9: 2 | F9: =E9-I9 -> 1 | G9: 4179.5 | H9: =E9*G9 -> 8359 | I9: =COUNTIF('Travaux 2015'!$E$5:$E$156,'SOURCE INFO'!A3) -> 1 | J9: =IF(I9=0,"",G9*I9) -> 4179.5
A10: C | B10: Chaudières sur socle gaz atmosphérique | J10: =IF(I10=0,"",G10*I10)
A11: C.1 | B11: Chaudière jusque +/- 36kW | C11: QP | D11: p | E11: 3 | F11: =E11-I11 -> 3 | G11: 4223.5 | H11: =E11*G11 -> 12670.5 | I11: =COUNTIF('Travaux 2015'!$E$5:$E$156,'SOURCE INFO'!A4) -> 0 | J11: =IF(I11=0,"",G11*I11)
A12: C.2 | B12: Chaudière jusque +/- 60kW | C12: QP | D12: p | E12: 3 | F12: =E12-I12 -> 3 | G12: 5649.1 | H12: =E12*G12 -> 16947.3 | I12: =COUNTIF('Travaux 2015'!$E$5:$E$156,'SOURCE INFO'!A5) -> 0 | J12: =IF(I12=0,"",G12*I12)
A13: D | B13: Chaudières sur socle à air pulsé avec brûleur gaz | C13: QP | D13: p | E13: 2 | F13: =E13-I13 -> 2 | G13: 4807.1 | H13: =E13*G13 -> 9614.2 | I13: =COUNTIF('Travaux 2015'!$E$5:$E$156,'SOURCE INFO'!A6) -> 0 | J13: =IF(I13=0,"",G13*I13)
A14: E | B14: Convecteurs gaz | C14: QP | D14: p | E14: 10 | F14: =E14-I14 -> 10 | G14: 889.4 | H14: =E14*G14 -> 8894 | I14: =COUNTIF('Travaux 2015'!$E$5:$E$156,'SOURCE INFO'!A7) -> 0 | J14: =IF(I14=0,"",G14*I14)
A15: F | B15: Chaudières sur socle à air pulsé avec brûleur mazout | J15: =IF(I15=0,"",G15*I15)
A16: F.1 | B16: Chaudière jusque +/- 36kW | C16: QP | D16: p | E16: 1 | F16: =E16-I16 -> 1 | G16: 4085.8 | H16: =E16*G16 -> 4085.8 | I16: =COUNTIF('Travaux 2015'!$E$5:$E$156,'SOURCE INFO'!A8) -> 0 | J16: =IF(I16=0,"",G16*I16)
A17: F.2 | B17: Chaudière jusque +/- 60kW | C17: QP | D17: p | E17: 1 | F17: =E17-I17 -> 1 | G17: 6594.1 | H17: =E17*G17 -> 6594.1 | I17: =COUNTIF('Travaux 2015'!$E$5:$E$156,'SOURCE INFO'!A9) -> 0 | J17: =IF(I17=0,"",G17*I17)
A18: G | B18: Bruleurs modulant à air pulsé et bas Nox | J18: =IF(I18=0,"",G18*I18)
A19: G.1 | B19: Gaz | J19: =IF(I19=0,"",G19*I19)
A20: G.1.1 | B20: Brûleur gaz chaudière murale | C20: QP | D20: p | E20: 9 | F20: =E20-I20 -> 9 | G20: 300.8 | H20: =E20*G20 -> 2707.2 | I20: =COUNTIF('Travaux 2015'!$E$5:$E$156,'SOURCE INFO'!A10) -> 0 | J20: =IF(I20=0,"",G20*I20)
A21: G.1.2 | B21: Brûleur gaz chaudière sol | C21: QP | D21: p | E21: 3 | F21: =E21-I21 -> 3 | G21: 2211.7 | H21: =E21*G21 -> 6635.1 | I21: =COUNTIF('Travaux 2015'!$E$5:$E$156,'SOURCE INFO'!A11) -> 0 | J21: =IF(I21=0,"",G21*I21)
A22: G.2 | B22: Mazout | J22: =IF(I22=0,"",G22*I22)
A23: G.2.1 | B23: Brûleur mazout | C23: QP | D23: p | E23: 1 | F23: =E23-I23 -> 1 | G23: 1255 | H23: =E23*G23 -> 1255 | I23: =COUNTIF('Travaux 2015'!$E$5:$E$156,'SOURCE INFO'!A12) -> 0 | J23: =IF(I23=0,"",G23*I23)
A24: H | B24: Ventilation de la chaufferie | J24: =IF(I24=0,"",G24*I24)
A25: H.1 | B25: Ventilation basse | D25: fft | E25: 10 | F25: =E25-I25 -> 10 | G25: 778 | H25: =E25*G25 -> 7780 | I25: =COUNTIF('Travaux 2015'!$E$5:$E$156,'SOURCE INFO'!A13) -> 0 | J25: =IF(I25=0,"",G25*I25)
A26: H.2 | B26: Ventilation haute | D26: fft | E26: 10 | F26: =E26-I26 -> 10 | G26: 715 | H26: =E26*G26 -> 7150 | I26: =COUNTIF('Travaux 2015'!$E$5:$E$156,'SOURCE INFO'!A14) -> 0 | J26: =IF(I26=0,"",G26*I26)
A27: I | B27: Vase d'expansion y compris tous accessoires et fixations. | C27: QP | D27: p | E27: 5 | F27: =E27-I27 -> 3 | G27: 416 | H27: =E27*G27 -> 2080 | I27: =COUNTIF('Travaux 2015'!$E$5:$E$156,'SOURCE INFO'!A15) -> 2 | J27: =IF(I27=0,"",G27*I27) -> 832
A28: J | B28: Vidange et remplissage des circuits de chauffage | D28: fft | E28: 15 | F28: =E28-I28 -> 15 | G28: 118 | H28: =E28*G28 -> 1770 | I28: =COUNTIF('Travaux 2015'!$E$5:$E$156,'SOURCE INFO'!A16) -> 0 | J28: =IF(I28=0,"",G28*I28)
H29: =SUM(H4:H28) -> 135836.7 | J29: =IF(I29=0,"",G29*I29)
J30: =IF(I30=0,"",G30*I30)
A31: 2.2.2 | B31: Installations de production d'eau chaude sanitaire | J31: =IF(I31=0,"",G31*I31)
A32: A | B32: Chauffe-eau à chauffage instantané au gaz type ouvert 8-20kW | C32: QP | D32: p | E32: 3 | F32: =E32-I32 -> 3 | G32: 1087.5 | H32: =E32*G32 -> 3262.5 | I32: =COUNTIF('Travaux 2015'!$E$5:$E$156,'SOURCE INFO'!A17) -> 0 | J32: =IF(I32=0,"",G32*I32)
A33: B | B33: Chauffe-eau à chauffage instantané au gaz type étanche 9-24kW | C33: QP | D33: p | E33: 3 | F33: =E33-I33 -> 1 | G33: 1087.5 | H33: =E33*G33 -> 3262.5 | I33: =COUNTIF('Travaux 2015'!$E$5:$E$156,'SOURCE INFO'!A18) -> 2 | J33: =IF(I33=0,"",G33*I33) -> 2175
A34: C | B34: Chauffe-eau électrique 2kW | C34: QP | D34: p | E34: 4 | F34: =E34-I34 -> 4 | G34: 279.1 | H34: =E34*G34 -> 1116.4 | I34: =COUNTIF('Travaux 2015'!$E$5:$E$156,'SOURCE INFO'!A19) -> 0 | J34: =IF(I34=0,"",G34*I34)
H35: =SUM(H31:H34) -> 7641.4 | J35: =IF(I35=0,"",G35*I35)
J36: =IF(I36=0,"",G36*I36)
A37: 2.2.3 | B37: Conduits d'évacuation des produits de la combustion | J37: =IF(I37=0,"",G37*I37)
A38: A | B38: Cheminées | J38: =IF(I38=0,"",G38*I38)
A39: A.1 | B39: Type traditionnelle | J39: =IF(I39=0,"",G39*I39)
A40: A.1.1 | B40: Ø 150 | C40: QP | D40: mct | E40: 30 | F40: =E40-I40 -> 30 | G40: 235.889 | H40: =E40*G40 -> 7076.67 | I40: =COUNTIF('Travaux 2015'!$E$5:$E$156,'SOURCE INFO'!A20) -> 0 | J40: =IF(I40=0,"",G40*I40)
...

Sheet SOURCE INFO
A1: 2.2.1.A | B1: 2316.5 | C1: A1
A2: 2.2.1.B.1 | B2: 3234.5 | C2: A2
A3: 2.2.1.B.2 | B3: 4179.5 | C3: A3
A4: 2.2.1.C.1 | B4: 4223.5 | C4: A4
A5: 2.2.1.C.2 | B5: 5649.1 | C5: A5
A6: 2.2.1.D | B6: 4807.1 | C6: A6
A7: 2.2.1.E | B7: 889.4 | C7: A7
A8: 2.2.1.F.1 | B8: 4085.8 | C8: A8
A9: 2.2.1.F.2 | B9: 6594.1 | C9: A9
A10: 2.2.1.G.1.1 | B10: 300.8 | C10: A10
A11: 2.2.1.G.1.2 | B11: 2211.7 | C11: A11
A12: 2.2.1.G.2.1 | B12: 1255 | C12: A12
... A175: 2.6.3.L | B175: 150 | C175: A175

Sheet Travaux 2015
F1: Total dépannage | G1: Total à justifier | I1: Total Postes | J1: Total forfait :
F2: =SUM(F11:F156) -> 459 | G2: =SUM(G11:G156) -> 5071.42 | I2: =SUM(I5:I37) -> 43248.208 | J2: =SUM(J11:J156) -> 0
A4: Adresse | B4: N° de devis | C4: Descrition du travail | D4: Nbre | E4: N° de poste | F4: Dépannage (2.4.A) | G4: Somme à justifier (2.7) | H4: Date de réalisation | I4: Somme | J4: Forfait | K4: Imputation | L4: Montant du devis
A5: Sporting de Charleroi | B5: mail du 30/12/2014 | C5: Rempl.batterie GP1A | E5: 2.7.A | G5: 4526 | K5: A-HCE380-17-0048
A6: Ed.GILLES 28/13 | B6: mail du 30/12/2014 | C6: Rempl.vased'exp,plaquette EN et bloc circulateur. | E6: 2.7.A | G6: 912 | K6: A-HCE380-17-0051
D7: 1 | E7: 2.2.1.I | I7: =IF(E7<>"",VLOOKUP(E7,'SOURCE INFO'!$A:$B,2,FALSE),"")*D7 -> 416
A8: Ed.GILLES 28/21 | B8: mail du 30/12/2014 | C8: Remplacement de la chaudière | D8: 1 | E8: 2.2.1.B.1 | H8: 42052 | I8: =IF(E8<>"",VLOOKUP(E8,'SOURCE INFO'!$A:$B,2,FALSE),"")*D8 -> 3234.5 | K8: A-HCE380-17-0052
D9: 7 | E9: 2.2.7.E | I9: =IF(E9<>"",VLOOKUP(E9,'SOURCE INFO'!$A:$B,2,FALSE),"")*D9 -> 514.367
A10: Rue des Gardes 2 | B10: mail du 30/12/2014 | C10: Dépannage chauffage | D10: 1 | E10: 2.2.1.A | I10: =IF(E10<>"",VLOOKUP(E10,'SOURCE INFO'!$A:$B,2,FALSE),"")*D10 -> 2316.5 | K10: A-HCE380-17-0053
A11: Rue des Gardes 2C1, Charleroi | C11: Remplacement vase expansion | G11: 500 | H11: 42104 | I11: =IF(E11=0,"",VLOOKUP(E11,'SOURCE INFO'!A$1:B$175,2)) | K11: A-CHAVIL-17-0001
A12: Place Edmond Gilles 30, Lodelinsart | B12: 21091-CS-0003 | C12: Remplacement de la chaudière | D12: 1 | E12: 2.2.1.A | H12: 42107 | I12: =IF(E12<>"",VLOOKUP(E12,'SOURCE INFO'!$A:$B,2,FALSE),"")*D12 -> 2316.5 | K12: A-CHAVIL-17-0002
A13: Rue de la Rivelaine 54 B7, Montignies s/s | B13: 21091-CS-0004 | C13: Remplacement échangeur ECS | D13: 1 | E13: 2.2.1.I | H13: 42130 | I13: =IF(E13<>"",VLOOKUP(E13,'SOURCE INFO'!$A:$B,2,FALSE),"")*D13 -> 416 | K13: A-CHAVIL-17-0003
D14: 1 | E14: 2.2.7.J | I14: =IF(E14<>"",VLOOKUP(E14,'SOURCE INFO'!$A:$B,2,FALSE),"")*D14 -> 56.642
A15: Rue Adolphe Max 3, Mont sur Marchienne | B15: 21091-CS-0006 | C15: Remplacement du chauffe-eau | D15: 1 | E15: 2.2.2.B | H15: 42158 | I15: =IF(E15<>"",VLOOKUP(E15,'SOURCE INFO'!$A:$B,2,FALSE),"")*D15 -> 1087.5 | K15: A-CHAVIL-17-0004
D16: 3 | E16: 2.2.3.A.2.1 | I16: =IF(E16<>"",VLOOKUP(E16,'SOURCE INFO'!$A:$B,2,FALSE),"")*D16 -> 889.752
A17: Cafétériat complexe sport. Mont sur Marchienne | B17: 21091-CS-0007 | C17: Remplacement chauffe-eau et vannnes | D17: 1 | E17: 2.2.2.B | H17: 42157 | I17: =IF(E17<>"",VLOOKUP(E17,'SOURCE INFO'!$A:$B,2,FALSE),"")*D17 -> 1087.5 | K17: A-CHAVIL-17-0005
D18: 2 | E18: 2.2.3.A.2.1 | I18: =IF(E18<>"",VLOOKUP(E18,'SOURCE INFO'!$A:$B,2,FALSE),"")*D18 -> 593.168
D19: 4 | E19: 2.2.7.L.2.1 | I19: =IF(E19<>"",VLOOKUP(E19,'SOURCE INFO'!$A:$B,2,FALSE),"")*D19 -> 440.86
D20: 1 | E20: 2.2.7.L.2.3 | I20: =IF(E20<>"",VLOOKUP(E20,'SOURCE INFO'!$A:$B,2,FALSE),"")*D20 -> 118.135
D21: 1 | E21: 2.2.7.L.2.5 | I21: =IF(E21<>"",VLOOKUP(E21,'SOURCE INFO'!$A:$B,2,FALSE),"")*D21 -> 142.39
E22: 2.7.A | G22: 61.17
A23: Rue Rivelaine 53/A7, Montignies s/s | B23: 21091-CS-0001 | C23: Remplacement échangeur ECS | E23: 2.7.A | G23: 214 | K23: A-CHAVIL-17-0006
A24: Cafétériat complexe sport. Mont sur Marchienne | B24: 21091-CS-0010 | C24: Remplacement vannes gaz compteur | D24: 2 | E24: 2.2.7.L.2.5 | I24: =IF(E24<>"",VLOOKUP(E24,'SOURCE INFO'!$A:$B,2,FALSE),"")*D24 -> 284.78 | K24: A-CHAVIL-17-0007
A25: Ed.GILLES 28/21 | B25: 21091-CS-0008 | C25: Nettoyage des tuyauteries chauffage | E25: 2.4.A | F25: 459 | K25: A-CHAVIL-17-0008
A26: Sporting de Charleroi | B26: 21091-CS-0005 | C26: Remplacement régulation | D26: 10 | E26: 2.2.5 | I26: =IF(E26<>"",VLOOKUP(E26,'SOURCE INFO'!$A:$B,2,FALSE),"")*D26 -> 2625 | K26: A-CHAVIL-17-0009
D27: 50 | E27: 2.2.7.E | I27: =IF(E27<>"",VLOOKUP(E27,'SOURCE INFO'!$A:$B,2,FALSE),"")*D27 -> 3674.05
D28: 5 | E28: 2.2.9.B | I28: =IF(E28<>"",VLOOKUP(E28,'SOURCE INFO'!$A:$B,2,FALSE),"")*D28 -> 740.5
D29: 3 | E29: 2.2.9.C | I29: =IF(E29<>"",VLOOKUP(E29,'SOURCE INFO'!$A:$B,2,FALSE),"")*D29 -> 240.396
D30: 2 | E30: 2.2.10.B | I30: =IF(E30<>"",VLOOKUP(E30,'SOURCE INFO'!$A:$B,2,FALSE),"")*D30 -> 7852
D31: 8 | E31: 2.2.10.C | I31: =IF(E31<>"",VLOOKUP(E31,'SOURCE INFO'!$A:$B,2,FALSE),"")*D31 -> 8144
E32: 2.7.A | G32: 4296.25
A33: Sporting de Charleroi | B33: 21091-CS-0009 | C33: Remplacement chaudière T4 | D33: 1 | E33: 2.2.1.B.2 | I33: =IF(E33<>"",VLOOKUP(E33,'SOURCE INFO'!$A:$B,2,FALSE),"")*D33 -> 4179.5 | K33: A-CHAVIL-17-0010
D34: 2 | E34: 2.2.3.A.2.1 | I34: =IF(E34<>"",VLOOKUP(E34,'SOURCE INFO'!$A:$B,2,FALSE),"")*D34 -> 593.168
D35: 1 | E35: 2.2.4.C | I35: =IF(E35<>"",VLOOKUP(E35,'SOURCE INFO'!$A:$B,2,FALSE),"")*D35 -> 905.5
D36: 1 | E36: 2.2.4.A | I36: =IF(E36<>"",VLOOKUP(E36,'SOURCE INFO'!$A:$B,2,FALSE),"")*D36 -> 99.5
D37: 1 | E37: 2.2.4.E | I37: =IF(E37<>"",VLOOKUP(E37,'SOURCE INFO'!$A:$B,2,FALSE),"")*D37 -> 280
I38: =IF(E38<>"",VLOOKUP(E38,'SOURCE INFO'!$A:$B,2,FALSE),"")*D38 -> #VALUE!
I39: =IF(E39<>"",VLOOKUP(E39,'SOURCE INFO'!$A:$B,2,FALSE),"")*D39 -> #VALUE!
I40: =IF(E40<>"",VLOOKUP(E40,'SOURCE INFO'!$A:$B,2,FALSE),"")*D40 -> #VALUE!
I41: =IF(E41<>"",VLOOKUP(E41,'SOURCE INFO'!$A:$B,2,FALSE),"")*D41 -> #VALUE!
...
