Workbook

Sheet Décompte
A1: INTERCOMMUNALE POUR LA GESTION ET LA REALISATION D'ETUDES TECHNIQUES ET ECONOMIQUES | I1: 2015
G2: Prix Unt. | H2: Prix Total | I2: Nombre | J2: Total
A3: 2.2 | B3: REMPLACEMENT DES APPAREILS
A4: 2.2.1 | B4: Installations de production de chaleur
A5: A | B5: Chaudières murale gaz à condensation étanche
A6: A | B6: Chaudière à usage domestique | C6: QP | D6: p | E6: 3 | F6: =E6-I6 -> 1 | G6: 2316.5 | H6: =E6*G6 -> 6949.5 | I6: =COUNTIF('Travaux 2015'!$E$5:$E$156,'SOURCE INFO'!A1) -> 2 | J6: =IF(I6=0,"",G6*I6) -> 4633
A7: B | B7: Chaudières murale gaz atmosphérique | J7: =IF(I7=0,"",G7*I7)
A8: B.1 | B8: Chaudière à usage domestique | C8: QP | D8: p | E8: 10 | F8: =E8-I8 -> 9 | G8: 3234.5 | H8: =E8*G8 -> 32345 | I8: =COUNTIF('Travaux 2015'!$E$5:$E$156,'SOURCE INFO'!A2) -> 1 | J8: =IF(I8=0,"",G8*I8) -> 3234.5
A9: B.2 | B9: Chaudière jusque +/- 50kW | C9: QP | D9: p | E9: 2 | F9: =E9-I9 -> 1 | G9: 4179.5 | H9: =E9*G9 -> 8359 | I9: =COUNTIF('Travaux 2015'!$E$5:$E$156,'SOURCE INFO'!A3) -> 1 | J9: =IF(I9=0,"",G9*I9) -> 4179.5
A10: C | B10: Chaudières sur socle gaz atmosphérique | J10: =IF(I10=0,"",G10*I10)
A11: C.1 | B11: Chaudière jusque +/- 36kW | C11: QP | D11: p | E11: 3 | F11: =E11-I11 -> 3 | G11: 4223.5 | H11: =E11*G11 -> 12670.5 | I11: =COUNTIF('Travaux 2015'!$E$5:$E$156,'SOURCE INFO'!A4) -> 0 | J11: =IF(I11=0,"",G11*I11)
A12: C.2 | B12: Chaudière jusque +/- 60kW | C12: QP | D12: p | E12: 3 | F12: =E12-I12 -> 3 | G12: 5649.1 | H12: =E12*G12 -> 16947.3 | I12: =COUNTIF('Travaux 2015'!$E$5:$E$156,'SOURCE INFO'!A5) -> 0 | J12: =IF(I12=0,"",G12*I12)
A13: D | B13: Chaudières sur socle à air pulsé avec brûleur gaz | C13: QP | D13: p | E13: 2 | F13: =E13-I13 -> 2 | G13: 4807.1 | H13: =E13*G13 -> 9614.2 | I13: =COUNTIF('Travaux 2015'!$E$5:$E$156,'SOURCE INFO'!A6) -> 0 | J13: =IF(I13=0,"",G13*I13)
A14: E | B14: Convecteurs gaz | C14: QP | D14: p | E14: 10 | F14: =E14-I14 -> 10 | G14: 889.4 | H14: =E14*G14 -> 8894 | I14: =COUNTIF('Travaux 2015'!$E$5:$E$156,'SOURCE INFO'!A7) -> 0 | J14: =IF(I14=0,"",G14*I14)
A15: F | B15: Chaudières sur socle à air pulsé avec brûleur mazout | J15: =IF(I15=0,"",G15*I15)
A16: F.1 | B16: Chaudière jusque +/- 36kW | C16: QP | D16: p | E16: 1 | F16: =E16-I16 -> 1 | G16: 4085.8 | H16: =E16*G16 -> 4085.8 | I16: =COUNTIF('Travaux 2015'!$E$5:$E$156,'SOURCE INFO'!A8) -> 0 | J16: =IF(I16=0,"",G16*I16)
A17: F.2 | B17: Chaudière jusque +/- 60kW | C17: QP | D17: p | E17: 1 | F17: =E17-I17 -> 1 | G17: 6594.1 | H17: =E17*G17 -> 6594.1 | I17: =COUNTIF('Travaux 2015'!$E$5:$E$156,'SOURCE INFO'!A9) -> 0 | J17: =IF(I17=0,"",G17*I17)
A18: G | B18: Bruleurs modulant à air pulsé et bas Nox | J18: =IF(I18=0,"",G18*I18)
A19: G.1 | B19: Gaz | J19: =IF(I19=0,"",G19*I19)
A20: G.1.1 | B20: Brûleur gaz chaudière murale | C20: QP | D20: p | E20: 9 | F20: =E20-I20 -> 9 | G20: 300.8 | H20: =E20*G20 -> 2707.2 | I20: =COUNTIF('Travaux 2015'!$E$5:$E$156,'SOURCE INFO'!A10) -> 0 | J20: =IF(I20=0,"",G20*I20)
A21: G.1.2 | B21: Brûleur gaz chaudière sol | C21: QP | D21: p | E21: 3 | F21: =E21-I21 -> 3 | G21: 2211.7 | H21: =E21*G21 -> 6635.1 | I21: =COUNTIF('Travaux 2015'!$E$5:$E$156,'SOURCE INFO'!A11) -> 0 | J21: =IF(I21=0,"",G21*I21)
A22: G.2 | B22: Mazout | J22: =IF(I22=0,"",G22*I22)
A23: G.2.1 | B23: Brûleur mazout | C23: QP | D23: p | E23: 1 | F23: =E23-I23 -> 1 | G23: 1255 | H23: =E23*G23 -> 1255 | I23: =COUNTIF('Travaux 2015'!$E$5:$E$156,'SOURCE INFO'!A12) -> 0 | J23: =IF(I23=0,"",G23*I23)
A24: H | B24: Ventilation de la chaufferie | J24: =IF(I24=0,"",G24*I24)
A25: H.1 | B25: Ventilation basse | D25: fft | E25: 10 | F25: =E25-I25 -> 10 | G25: 778 | H25: =E25*G25 -> 7780 | I25: =COUNTIF('Travaux 2015'!$E$5:$E$156,'SOURCE INFO'!A13) -> 0 | J25: =IF(I25=0,"",G25*I25)
A26: H.2 | B26: Ventilation haute | D26: fft | E26: 10 | F26: =E26-I26 -> 10 | G26: 715 | H26: =E26*G26 -> 7150 | I26: =COUNTIF('Travaux 2015'!$E$5:$E$156,'SOURCE INFO'!A14) -> 0 | J26: =IF(I26=0,"",G26*I26)
A27: I | B27: Vase d'expansion y compris tous accessoires et fixations. | C27: QP | D27: p | E27: 5 | F27: =E27-I27 -> 3 | G27: 416 | H27: =E27*G27 -> 2080 | I27: =COUNTIF('Travaux 2015'!$E$5:$E$156,'SOURCE INFO'!A15) -> 2 | J27: =IF(I27=0,"",G27*I27) -> 832
A28: J | B28: Vidange et remplissage des circuits de chauffage | D28: fft | E28: 15 | F28: =E28-I28 -> 15 | G28: 118 | H28: =E28*G28 -> 1770 | I28: =COUNTIF('Travaux 2015'!$E$5:$E$156,'SOURCE INFO'!A16) -> 0 | J28: =IF(I28=0,"",G28*I28)
H29: =SUM(H4:H28) -> 135836.7 | J29: =IF(I29=0,"",G29*I29)
J30: =IF(I30=0,"",G30*I30)
A31: 2.2.2 | B31: Installations de production d'eau chaude sanitaire | J31: =IF(I31=0,"",G31*I31)
A32: A | B32: Chauffe-eau à chauffage instantané au gaz type ouvert 8-20kW | C32: QP | D32: p | E32: 3 | F32: =E32-I32 -> 3 | G32: 1087.5 | H32: =E32*G32 -> 3262.5 | I32: =COUNTIF('Travaux 2015'!$E$5:$E$156,'SOURCE INFO'!A17) -> 0 | J32: =IF(I32=0,"",G32*I32)
A33: B | B33: Chauffe-eau à chauffage instantané au gaz type étanche 9-24kW | C33: QP | D33: p | E33: 3 | F33: =E33-I33 -> 1 | G33: 1087.5 | H33: =E33*G33 -> 3262.5 | I33: =COUNTIF('Travaux 2015'!$E$5:$E$156,'SOURCE INFO'!A18) -> 2 | J33: =IF(I33=0,"",G33*I33) -> 2175
A34: C | B34: Chauffe-eau électrique 2kW | C34: QP | D34: p | E34: 4 | F34: =E34-I34 -> 4 | G34: 279.1 | H34: =E34*G34 -> 1116.4 | I34: =COUNTIF('Travaux 2015'!$E$5:$E$156,'SOURCE INFO'!A19) -> 0 | J34: =IF(I34=0,"",G34*I34)
H35: =SUM(H31:H34) -> 7641.4 | J35: =IF(I35=0,"",G35*I35)
J36: =IF(I36=0,"",G36*I36)
A37: 2.2.3 | B37: Conduits d'évacuation des produits de la combustion | J37: =IF(I37=0,"",G37*I37)
A38: A | B38: Cheminées | J38: =IF(I38=0,"",G38*I38)
A39: A.1 | B39: Type traditionnelle | J39: =IF(I39=0,"",G39*I39)
A40: A.1.1 | B40: Ø 150 | C40: QP | D40: mct | E40: 30 | F40: =E40-I40 -> 30 | G40: 235.889 | H40: =E40*G40 -> 7076.67 | I40: =COUNTIF('Travaux 2015'!$E$5:$E$156,'SOURCE INFO'!A20) -> 0 | J40: =IF(I40=0,"",G40*I40)
A41: A.1.2 | B41: Ø 200 | C41: QP | D41: mct | E41: 30 | F41: =E41-I41 -> 30 | G41: 282.36125 | H41: =E41*G41 -> 8470.8375 | I41: =COUNTIF('Travaux 2015'!$E$5:$E$156,'SOURCE INFO'!A21) -> 0 | J41: =IF(I41=0,"",G41*I41)
A42: A.2 | B42: Type ventouse
A43: A.2.1 | B43: Ø150 | C43: QP | D43: mct | E43: 30 | F43: =E43-I43 -> 23 | G43: 296.584 | H43: =E43*G43 -> 8897.52 | I43: 7 | J43: =IF(I43=0,"",G43*I43) -> 2076.088
A44: A.2.2 | B44: Ø200 | C44: QP | D44: mct | E44: 30 | F44: =E44-I44 -> 30 | G44: 300.976 | H44: =E44*G44 -> 9029.28 | I44: =COUNTIF('Travaux 2015'!$E$5:$E$156,'SOURCE INFO'!A23) -> 0 | J44: =IF(I44=0,"",G44*I44)
H45: =SUM(H37:H44) -> 33474.308
A47: 2.2.4 | B47: Détection de fuites de gaz naturel
A48: A | B48: Détecteurs de gaz naturel | C48: QP | D48: p | E48: 3 | F48: =E48-I48 -> 2 | G48: 99.5 | H48: =E48*G48 -> 298.5 | I48: =COUNTIF('Travaux 2015'!$E$5:$E$156,'SOURCE INFO'!A24) -> 1 | J48: =IF(I48=0,"",G48*I48) -> 99.5
A49: B | B49: Avertisseur acoustique d'alerte et d'alarme | C49: QP | D49: p | E49: 1 | F49: =E49-I49 -> 1 | G49: 99.5 | H49: =E49*G49 -> 99.5 | I49: =COUNTIF('Travaux 2015'!$E$5:$E$156,'SOURCE INFO'!A25) -> 0 | J49: =IF(I49=0,"",G49*I49)
A50: C | B50: Centrale de détection gaz | D50: fft | E50: 1 | F50: =E50-I50 -> 0 | G50: 905.5 | H50: =E50*G50 -> 905.5 | I50: =COUNTIF('Travaux 2015'!$E$5:$E$156,'SOURCE INFO'!A26) -> 1 | J50: =IF(I50=0,"",G50*I50) -> 905.5
A51: D | B51: Canalisations électriques | D51: fft | E51: 1 | F51: =E51-I51 -> 1 | G51: 560 | H51: =E51*G51 -> 560 | I51: =COUNTIF('Travaux 2015'!$E$5:$E$156,'SOURCE INFO'!A27) -> 0 | J51: =IF(I51=0,"",G51*I51)
A52: E | B52: Essais et réception | D52: fft | E52: 1 | F52: =E52-I52 -> 0 | G52: 280 | H52: =E52*G52 -> 280 | I52: =COUNTIF('Travaux 2015'!$E$5:$E$156,'SOURCE INFO'!A28) -> 1 | J52: =IF(I52=0,"",G52*I52) -> 280
H53: =SUM(H47:H52) -> 2143.5
A55: 2.2.5 | B55: Circulateurs pour eau chaude à une température maximum de 110°C
C56: QP | D56: p | E56: 40 | F56: =E56-I56 -> 30 | G56: 262.5 | H56: =E56*G56 -> 10500 | I56: 10 | J56: =IF(I56=0,"",G56*I56) -> 2625
H57: =SUM(H56) -> 10500 | J57: =IF(I57=0,"",G57*I57)
J58: =IF(I58=0,"",G58*I58)
A59: 2.2.6 | B59: Tuyauteries | J59: =IF(I59=0,"",G59*I59)
A60: A | B60: Collecteurs d'eau chaude | C60: QP | D60: p | E60: 10 | F60: =E60-I60 -> 10 | G60: 1673 | H60: =E60*G60 -> 16730 | I60: =COUNTIF('Travaux 2015'!$E$5:$E$156,'SOURCE INFO'!A30) -> 0 | J60: =IF(I60=0,"",G60*I60)
A61: B | B61: Collecteurs pour distribution en chape | C61: QP | D61: p | E61: 10 | F61: =E61-I61 -> 10 | G61: 141.668 | H61: =E61*G61 -> 1416.68 | I61: =COUNTIF('Travaux 2015'!$E$5:$E$156,'SOURCE INFO'!A31) -> 0 | J61: =IF(I61=0,"",G61*I61)
A62: C | B62: Tuyauteries acier pour eau chaude à 110°C maximum | J62: =IF(I62=0,"",G62*I62)
A63: C.1 | B63: DN 15 | C63: QP | D63: m | E63: 400 | F63: =E63-I63 -> 400 | G63: 53.447 | H63: =E63*G63 -> 21378.8 | I63: =COUNTIF('Travaux 2015'!$E$5:$E$156,'SOURCE INFO'!A32) -> 0 | J63: =IF(I63=0,"",G63*I63)
A64: C.2 | B64: DN 20 | C64: QP | D64: m | E64: 400 | F64: =E64-I64 -> 400 | G64: 54.239 | H64: =E64*G64 -> 21695.6 | I64: =COUNTIF('Travaux 2015'!$E$5:$E$156,'SOURCE INFO'!A33) -> 0 | J64: =IF(I64=0,"",G64*I64)
A65: C.3 | B65: DN 25 | C65: QP | D65: m | E65: 300 | F65: =E65-I65 -> 300 | G65: 56.426 | H65: =E65*G65 -> 16927.8 | I65: =COUNTIF('Travaux 2015'!$E$5:$E$156,'SOURCE INFO'!A34) -> 0 | J65: =IF(I65=0,"",G65*I65)
A66: C.4 | B66: DN 32 | C66: QP | D66: m | E66: 300 | F66: =E66-I66 -> 300 | G66: 58.28 | H66: =E66*G66 -> 17484 | I66: =COUNTIF('Travaux 2015'!$E$5:$E$156,'SOURCE INFO'!A35) -> 0 | J66: =IF(I66=0,"",G66*I66)
A67: C.5 | B67: DN 40 | C67: QP | D67: m | E67: 50 | F67: =E67-I67 -> 50 | G67: 59.504 | H67: =E67*G67 -> 2975.2 | I67: =COUNTIF('Travaux 2015'!$E$5:$E$156,'SOURCE INFO'!A36) -> 0 | J67: =IF(I67=0,"",G67*I67)
A68: C.6 | B68: DN 50 | C68: QP | D68: m | E68: 30 | F68: =E68-I68 -> 30 | G68: 63.41 | H68: =E68*G68 -> 1902.3 | I68: =COUNTIF('Travaux 2015'!$E$5:$E$156,'SOURCE INFO'!A37) -> 0 | J68: =IF(I68=0,"",G68*I68)
A69: C.7 | B69: DN 65 | C69: QP | D69: m | E69: 30 | F69: =E69-I69 -> 30 | G69: 67.352 | H69: =E69*G69 -> 2020.56 | I69: =COUNTIF('Travaux 2015'!$E$5:$E$156,'SOURCE INFO'!A38) -> 0 | J69: =IF(I69=0,"",G69*I69)
A70: D | B70: Tuyauteries en cuivre pour eau de chauffage | J70: =IF(I70=0,"",G70*I70)
A71: D.1 | B71: DN 15 | C71: QP | D71: m | E71: 200 | F71: =E71-I71 -> 200 | G71: 55.436 | H71: =E71*G71 -> 11087.2 | I71: =COUNTIF('Travaux 2015'!$E$5:$E$156,'SOURCE INFO'!A39) -> 0 | J71: =IF(I71=0,"",G71*I71)
A72: D.2 | B72: DN 20 | C72: QP | D72: m | E72: 200 | F72: =E72-I72 -> 200 | G72: 56.831 | H72: =E72*G72 -> 11366.2 | I72: =COUNTIF('Travaux 2015'!$E$5:$E$156,'SOURCE INFO'!A40) -> 0 | J72: =IF(I72=0,"",G72*I72)
A73: E | B73: Tuyauteries en Pex-Alu-Pex pour eau de chauffage | J73: =IF(I73=0,"",G73*I73)
A74: E.1 | B74: DN 15 | C74: QP | D74: m | E74: 100 | F74: =E74-I74 -> 100 | G74: 51.449 | H74: =E74*G74 -> 5144.9 | I74: =COUNTIF('Travaux 2015'!$E$5:$E$156,'SOURCE INFO'!A41) -> 0 | J74: =IF(I74=0,"",G74*I74)
A75: E.2 | B75: DN 20 | C75: QP | D75: m | E75: 100 | F75: =E75-I75 -> 100 | G75: 52.25 | H75: =E75*G75 -> 5225 | I75: =COUNTIF('Travaux 2015'!$E$5:$E$156,'SOURCE INFO'!A42) -> 0 | J75: =IF(I75=0,"",G75*I75)
A76: E.3 | B76: DN 25 | C76: QP | D76: m | E76: 100 | F76: =E76-I76 -> 100 | G76: 54.536 | H76: =E76*G76 -> 5453.6 | I76: =COUNTIF('Travaux 2015'!$E$5:$E$156,'SOURCE INFO'!A43) -> 0 | J76: =IF(I76=0,"",G76*I76)
A77: F | B77: Tuyauteries en polyéthylène pour eau de chauffage pour distribution en chape | C77: QP | D77: m | E77: 400 | F77: =E77-I77 -> 400 | G77: 50.765 | H77: =E77*G77 -> 20306 | I77: =COUNTIF('Travaux 2015'!$E$5:$E$156,'SOURCE INFO'!A44) -> 0 | J77: =IF(I77=0,"",G77*I77)
A78: G | B78: Tuyauteries de gaz naturel | J78: =IF(I78=0,"",G78*I78)
A79: G.1 | B79: Canalisations prévues à l'intérieur des bâtiments | J79: =IF(I79=0,"",G79*I79)
A80: G.1.2 | B80: DN 20 | C80: QP | D80: m | E80: 50 | F80: =E80-I80 -> 50 | G80: 58.28 | H80: =E80*G80 -> 2914 | I80: =COUNTIF('Travaux 2015'!$E$5:$E$156,'SOURCE INFO'!A45) -> 0 | J80: =IF(I80=0,"",G80*I80)
A81: G.1.3 | B81: DN 25 | C81: QP | D81: m | E81: 50 | F81: =E81-I81 -> 50 | G81: 61.988 | H81: =E81*G81 -> 3099.4 | I81: =COUNTIF('Travaux 2015'!$E$5:$E$156,'SOURCE INFO'!A46) -> 0 | J81: =IF(I81=0,"",G81*I81)
A82: G.1.4 | B82: DN 32 | C82: QP | D82: m | E82: 50 | F82: =E82-I82 -> 50 | G82: 64.076 | H82: =E82*G82 -> 3203.8 | I82: =COUNTIF('Travaux 2015'!$E$5:$E$156,'SOURCE INFO'!A47) -> 0 | J82: =IF(I82=0,"",G82*I82)
A83: G.1.5 | B83: DN 40 | C83: QP | D83: m | E83: 50 | F83: =E83-I83 -> 50 | G83: 65.57 | H83: =E83*G83 -> 3278.5 | I83: =COUNTIF('Travaux 2015'!$E$5:$E$156,'SOURCE INFO'!A48) -> 0 | J83: =IF(I83=0,"",G83*I83)
A84: G.1.6 | B84: DN 50 | C84: QP | D84: m | E84: 50 | F84: =E84-I84 -> 50 | G84: 69.8 | H84: =E84*G84 -> 3490 | I84: =COUNTIF('Travaux 2015'!$E$5:$E$156,'SOURCE INFO'!A49) -> 0 | J84: =IF(I84=0,"",G84*I84)
A85: G.2 | B85: Canalisations prévues à l'extérieur des bâtiments | J85: =IF(I85=0,"",G85*I85)
A86: G.2.1 | B86: DN 20 | C86: QP | D86: m | E86: 10 | F86: =E86-I86 -> 10 | G86: 54.239 | H86: =E86*G86 -> 542.39 | I86: =COUNTIF('Travaux 2015'!$E$5:$E$156,'SOURCE INFO'!A50) -> 0 | J86: =IF(I86=0,"",G86*I86)
A87: G.2.2 | B87: DN 25 | C87: QP | D87: m | E87: 10 | F87: =E87-I87 -> 10 | G87: 56.426 | H87: =E87*G87 -> 564.26 | I87: =COUNTIF('Travaux 2015'!$E$5:$E$156,'SOURCE INFO'!A51) -> 0 | J87: =IF(I87=0,"",G87*I87)
A88: G.2.3 | B88: DN 32 | C88: QP | D88: m | E88: 10 | F88: =E88-I88 -> 10 | G88: 58.28 | H88: =E88*G88 -> 582.8 | I88: =COUNTIF('Travaux 2015'!$E$5:$E$156,'SOURCE INFO'!A52) -> 0 | J88: =IF(I88=0,"",G88*I88)
A89: G.2.4 | B89: DN 40 | C89: QP | D89: m | E89: 10 | F89: =E89-I89 -> 10 | G89: 59.504 | H89: =E89*G89 -> 595.04 | I89: =COUNTIF('Travaux 2015'!$E$5:$E$156,'SOURCE INFO'!A53) -> 0 | J89: =IF(I89=0,"",G89*I89)
A90: G.2.5 | B90: DN 50 | C90: QP | D90: m | E90: 10 | F90: =E90-I90 -> 10 | G90: 63.41 | H90: =E90*G90 -> 634.1 | I90: =COUNTIF('Travaux 2015'!$E$5:$E$156,'SOURCE INFO'!A54) -> 0 | J90: =IF(I90=0,"",G90*I90)
A91: H | B91: Flexible de raccordement | C91: QP | D91: m | E91: 20 | F91: =E91-I91 -> 20 | G91: 67.352 | H91: =E91*G91 -> 1347.04 | I91: =COUNTIF('Travaux 2015'!$E$5:$E$156,'SOURCE INFO'!A55) -> 0 | J91: =IF(I91=0,"",G91*I91)
A92: I | B92: Flexible de raccordement pour gaz | C92: QP | D92: m | E92: 15 | F92: =E92-I92 -> 15 | G92: 69.926 | H92: =E92*G92 -> 1048.89 | I92: =COUNTIF('Travaux 2015'!$E$5:$E$156,'SOURCE INFO'!A56) -> 0 | J92: =IF(I92=0,"",G92*I92)
A93: J | B93: Détendeur gaz | C93: QP | D93: p | E93: 15 | F93: =E93-I93 -> 15 | G93: 241.5 | H93: =E93*G93 -> 3622.5 | I93: =COUNTIF('Travaux 2015'!$E$5:$E$156,'SOURCE INFO'!A57) -> 0 | J93: =IF(I93=0,"",G93*I93)
H94: =SUM(H60:H93) -> 186036.56 | J94: =IF(I94=0,"",G94*I94)
J95: =IF(I95=0,"",G95*I95)
A96: 2.2.7 | B96: Robinetteries et accessoires | J96: =IF(I96=0,"",G96*I96)
A97: A | B97: Robinetterie pour circuit d'eau de chauffage à une température de 110°C | J97: =IF(I97=0,"",G97*I97)
A98: A.1 | B98: DN 15 | C98: QP | D98: p | E98: 10 | F98: =E98-I98 -> 10 | G98: 54.68 | H98: =E98*G98 -> 546.8 | I98: =COUNTIF('Travaux 2015'!$E$5:$E$156,'SOURCE INFO'!A58) -> 0 | J98: =IF(I98=0,"",G98*I98)
A99: A.2 | B99: DN 20 | C99: QP | D99: p | E99: 10 | F99: =E99-I99 -> 10 | G99: 56.471 | H99: =E99*G99 -> 564.71 | I99: =COUNTIF('Travaux 2015'!$E$5:$E$156,'SOURCE INFO'!A59) -> 0 | J99: =IF(I99=0,"",G99*I99)
A100: A.3 | B100: DN 25 | C100: QP | D100: p | E100: 10 | F100: =E100-I100 -> 10 | G100: 57.893 | H100: =E100*G100 -> 578.93 | I100: =COUNTIF('Travaux 2015'!$E$5:$E$156,'SOURCE INFO'!A60) -> 0 | J100: =IF(I100=0,"",G100*I100)
A101: A.4 | B101: DN 32 | C101: QP | D101: p | E101: 5 | F101: =E101-I101 -> 5 | G101: 62.087 | H101: =E101*G101 -> 310.435 | I101: =COUNTIF('Travaux 2015'!$E$5:$E$156,'SOURCE INFO'!A61) -> 0 | J101: =IF(I101=0,"",G101*I101)
A102: A.5 | B102: DN 40 | C102: QP | D102: p | E102: 5 | F102: =E102-I102 -> 5 | G102: 65.471 | H102: =E102*G102 -> 327.355 | I102: =COUNTIF('Travaux 2015'!$E$5:$E$156,'SOURCE INFO'!A62) -> 0 | J102: =IF(I102=0,"",G102*I102)
...

Sheet SOURCE INFO
A1: 2.2.1.A | B1: 2316.5 | C1: A1
A2: 2.2.1.B.1 | B2: 3234.5 | C2: A2
A3: 2.2.1.B.2 | B3: 4179.5 | C3: A3
A4: 2.2.1.C.1 | B4: 4223.5 | C4: A4
A5: 2.2.1.C.2 | B5: 5649.1 | C5: A5
A6: 2.2.1.D | B6: 4807.1 | C6: A6
A7: 2.2.1.E | B7: 889.4 | C7: A7
A8: 2.2.1.F.1 | B8: 4085.8 | C8: A8
A9: 2.2.1.F.2 | B9: 6594.1 | C9: A9
A10: 2.2.1.G.1.1 | B10: 300.8 | C10: A10
A11: 2.2.1.G.1.2 | B11: 2211.7 | C11: A11
A12: 2.2.1.G.2.1 | B12: 1255 | C12: A12
... A175: 2.6.3.L | B175: 150 | C175: A175

Sheet Travaux 2015
F1: Total dépannage | G1: Total à justifier | I1: Total Postes | J1: Total forfait :
F2: =SUM(F11:F156) -> 459 | G2: =SUM(G11:G156) -> 5071.42 | I2: =SUM(I5:I37) -> 43248.208 | J2: =SUM(J11:J156) -> 0
A4: Adresse | B4: N° de devis | C4: Descrition du travail | D4: Nbre | E4: N° de poste | F4: Dépannage (2.4.A) | G4: Somme à justifier (2.7) | H4: Date de réalisation | I4: Somme | J4: Forfait | K4: Imputation | L4: Montant du devis
A5: Sporting de Charleroi | B5: mail du 30/12/2014 | C5: Rempl.batterie GP1A | E5: 2.7.A | G5: 4526 | K5: A-HCE380-17-0048
A6: Ed.GILLES 28/13 | B6: mail du 30/12/2014 | C6: Rempl.vased'exp,plaquette EN et bloc circulateur. | E6: 2.7.A | G6: 912 | K6: A-HCE380-17-0051
D7: 1 | E7: 2.2.1.I | I7: =IF(E7<>"",VLOOKUP(E7,'SOURCE INFO'!$A:$B,2,FALSE),"")*D7 -> 416
A8: Ed.GILLES 28/21 | B8: mail du 30/12/2014 | C8: Remplacement de la chaudière | D8: 1 | E8: 2.2.1.B.1 | H8: 42052 | I8: =IF(E8<>"",VLOOKUP(E8,'SOURCE INFO'!$A:$B,2,FALSE),"")*D8 -> 3234.5 | K8: A-HCE380-17-0052
D9: 7 | E9: 2.2.7.E | I9: =IF(E9<>"",VLOOKUP(E9,'SOURCE INFO'!$A:$B,2,FALSE),"")*D9 -> 514.367
A10: Rue des Gardes 2 | B10: mail du 30/12/2014 | C10: Dépannage chauffage | D10: 1 | E10: 2.2.1.A | I10: =IF(E10<>"",VLOOKUP(E10,'SOURCE INFO'!$A:$B,2,FALSE),"")*D10 -> 2316.5 | K10: A-HCE380-17-0053
A11: Rue des Gardes 2C1, Charleroi | C11: Remplacement vase expansion | G11: 500 | H11: 42104 | I11: =IF(E11=0,"",VLOOKUP(E11,'SOURCE INFO'!A$1:B$175,2)) | K11: A-CHAVIL-17-0001
A12: Place Edmond Gilles 30, Lodelinsart | B12: 21091-CS-0003 | C12: Remplacement de la chaudière | D12: 1 | E12: 2.2.1.A | H12: 42107 | I12: =IF(E12<>"",VLOOKUP(E12,'SOURCE INFO'!$A:$B,2,FALSE),"")*D12 -> 2316.5 | K12: A-CHAVIL-17-0002
A13: Rue de la Rivelaine 54 B7, Montignies s/s | B13: 21091-CS-0004 | C13: Remplacement échangeur ECS | D13: 1 | E13: 2.2.1.I | H13: 42130 | I13: =IF(E13<>"",VLOOKUP(E13,'SOURCE INFO'!$A:$B,2,FALSE),"")*D13 -> 416 | K13: A-CHAVIL-17-0003
D14: 1 | E14: 2.2.7.J | I14: =IF(E14<>"",VLOOKUP(E14,'SOURCE INFO'!$A:$B,2,FALSE),"")*D14 -> 56.642
A15: Rue Adolphe Max 3, Mont sur Marchienne | B15: 21091-CS-0006 | C15: Remplacement du chauffe-eau | D15: 1 | E15: 2.2.2.B | H15: 42158 | I15: =IF(E15<>"",VLOOKUP(E15,'SOURCE INFO'!$A:$B,2,FALSE),"")*D15 -> 1087.5 | K15: A-CHAVIL-17-0004
D16: 3 | E16: 2.2.3.A.2.1 | I16: =IF(E16<>"",VLOOKUP(E16,'SOURCE INFO'!$A:$B,2,FALSE),"")*D16 -> 889.752
A17: Cafétériat complexe sport. Mont sur Marchienne | B17: 21091-CS-0007 | C17: Remplacement chauffe-eau et vannnes | D17: 1 | E17: 2.2.2.B | H17: 42157 | I17: =IF(E17<>"",VLOOKUP(E17,'SOURCE INFO'!$A:$B,2,FALSE),"")*D17 -> 1087.5 | K17: A-CHAVIL-17-0005
D18: 2 | E18: 2.2.3.A.2.1 | I18: =IF(E18<>"",VLOOKUP(E18,'SOURCE INFO'!$A:$B,2,FALSE),"")*D18 -> 593.168
D19: 4 | E19: 2.2.7.L.2.1 | I19: =IF(E19<>"",VLOOKUP(E19,'SOURCE INFO'!$A:$B,2,FALSE),"")*D19 -> 440.86
D20: 1 | E20: 2.2.7.L.2.3 | I20: =IF(E20<>"",VLOOKUP(E20,'SOURCE INFO'!$A:$B,2,FALSE),"")*D20 -> 118.135
D21: 1 | E21: 2.2.7.L.2.5 | I21: =IF(E21<>"",VLOOKUP(E21,'SOURCE INFO'!$A:$B,2,FALSE),"")*D21 -> 142.39
E22: 2.7.A | G22: 61.17
A23: Rue Rivelaine 53/A7, Montignies s/s | B23: 21091-CS-0001 | C23: Remplacement échangeur ECS | E23: 2.7.A | G23: 214 | K23: A-CHAVIL-17-0006
A24: Cafétériat complexe sport. Mont sur Marchienne | B24: 21091-CS-0010 | C24: Remplacement vannes gaz compteur | D24: 2 | E24: 2.2.7.L.2.5 | I24: =IF(E24<>"",VLOOKUP(E24,'SOURCE INFO'!$A:$B,2,FALSE),"")*D24 -> 284.78 | K24: A-CHAVIL-17-0007
A25: Ed.GILLES 28/21 | B25: 21091-CS-0008 | C25: Nettoyage des tuyauteries chauffage | E25: 2.4.A | F25: 459 | K25: A-CHAVIL-17-0008
A26: Sporting de Charleroi | B26: 21091-CS-0005 | C26: Remplacement régulation | D26: 10 | E26: 2.2.5 | I26: =IF(E26<>"",VLOOKUP(E26,'SOURCE INFO'!$A:$B,2,FALSE),"")*D26 -> 2625 | K26: A-CHAVIL-17-0009
D27: 50 | E27: 2.2.7.E | I27: =IF(E27<>"",VLOOKUP(E27,'SOURCE INFO'!$A:$B,2,FALSE),"")*D27 -> 3674.05
D28: 5 | E28: 2.2.9.B | I28: =IF(E28<>"",VLOOKUP(E28,'SOURCE INFO'!$A:$B,2,FALSE),"")*D28 -> 740.5
D29: 3 | E29: 2.2.9.C | I29: =IF(E29<>"",VLOOKUP(E29,'SOURCE INFO'!$A:$B,2,FALSE),"")*D29 -> 240.396
D30: 2 | E30: 2.2.10.B | I30: =IF(E30<>"",VLOOKUP(E30,'SOURCE INFO'!$A:$B,2,FALSE),"")*D30 -> 7852
D31: 8 | E31: 2.2.10.C | I31: =IF(E31<>"",VLOOKUP(E31,'SOURCE INFO'!$A:$B,2,FALSE),"")*D31 -> 8144
E32: 2.7.A | G32: 4296.25
A33: Sporting de Charleroi | B33: 21091-CS-0009 | C33: Remplacement chaudière T4 | D33: 1 | E33: 2.2.1.B.2 | I33: =IF(E33<>"",VLOOKUP(E33,'SOURCE INFO'!$A:$B,2,FALSE),"")*D33 -> 4179.5 | K33: A-CHAVIL-17-0010
D34: 2 | E34: 2.2.3.A.2.1 | I34: =IF(E34<>"",VLOOKUP(E34,'SOURCE INFO'!$A:$B,2,FALSE),"")*D34 -> 593.168
D35: 1 | E35: 2.2.4.C | I35: =IF(E35<>"",VLOOKUP(E35,'SOURCE INFO'!$A:$B,2,FALSE),"")*D35 -> 905.5
D36: 1 | E36: 2.2.4.A | I36: =IF(E36<>"",VLOOKUP(E36,'SOURCE INFO'!$A:$B,2,FALSE),"")*D36 -> 99.5
D37: 1 | E37: 2.2.4.E | I37: =IF(E37<>"",VLOOKUP(E37,'SOURCE INFO'!$A:$B,2,FALSE),"")*D37 -> 280
I38: =IF(E38<>"",VLOOKUP(E38,'SOURCE INFO'!$A:$B,2,FALSE),"")*D38 -> #VALUE!
I39: =IF(E39<>"",VLOOKUP(E39,'SOURCE INFO'!$A:$B,2,FALSE),"")*D39 -> #VALUE!
I40: =IF(E40<>"",VLOOKUP(E40,'SOURCE INFO'!$A:$B,2,FALSE),"")*D40 -> #VALUE!
I41: =IF(E41<>"",VLOOKUP(E41,'SOURCE INFO'!$A:$B,2,FALSE),"")*D41 -> #VALUE!
I42: =IF(E42<>"",VLOOKUP(E42,'SOURCE INFO'!$A:$B,2,FALSE),"")*D42 -> #VALUE!
I43: =IF(E43<>"",VLOOKUP(E43,'SOURCE INFO'!$A:$B,2,FALSE),"")*D43 -> #VALUE!
I44: =IF(E44<>"",VLOOKUP(E44,'SOURCE INFO'!$A:$B,2,FALSE),"")*D44 -> #VALUE!
I45: =IF(E45<>"",VLOOKUP(E45,'SOURCE INFO'!$A:$B,2,FALSE),"")*D45 -> #VALUE!
I46: =IF(E46<>"",VLOOKUP(E46,'SOURCE INFO'!$A:$B,2,FALSE),"")*D46 -> #VALUE!
I47: =IF(E47<>"",VLOOKUP(E47,'SOURCE INFO'!$A:$B,2,FALSE),"")*D47 -> #VALUE!
I48: =IF(E48<>"",VLOOKUP(E48,'SOURCE INFO'!$A:$B,2,FALSE),"")*D48 -> #VALUE!
I49: =IF(E49<>"",VLOOKUP(E49,'SOURCE INFO'!$A:$B,2,FALSE),"")*D49 -> #VALUE!
... I156: =IF(E156<>"",VLOOKUP(E156,'SOURCE INFO'!$A:$B,2,FALSE),"")*D156 -> #VALUE!
