Workbook

Sheet Synthèse CSP
B1: EFECTIFS TOTAL
C3: Hommes | K3: Femmes
C4: CDI | G4: CDD | K4: CDI | O4: CDD
C5: Ouvriers | D5: Employés | E5: Etam | F5: Cadres | G5: Ouvriers | H5: Employés | I5: Etam | J5: Cadres | K5: Ouvriers | L5: Employés | M5: Etam | N5: Cadres | O5: Ouvriers | P5: Employés | Q5: Etam | R5: Cadres
A6: MARSEILLE | B6: <26 ans | C6: =HYPERLINK("#Marseille!A6",Marseille!B6) -> 9 | D6: =Marseille!C6 -> 4 | E6: =Marseille!D6 -> 2 | F6: =Marseille!E6 -> 0 | G6: =Marseille!B16 -> 9 | H6: =Marseille!C16 -> 4 | I6: =Marseille!D16 -> 2 | J6: =Marseille!E16 -> 0 | K6: =Marseille!G6 -> 2 | L6: =Marseille!H6 -> 3 | M6: =Marseille!I6 -> 1 | N6: =Marseille!J6 -> 0 | O6: =Marseille!G16 -> 9 | P6: =Marseille!H16 -> 2 | Q6: =Marseille!I16 -> 0 | R6: =Marseille!J16 -> 0
B7: 26-35 ans | C7: =Marseille!B7 -> 15 | D7: =Marseille!C7 -> 15 | E7: =Marseille!D7 -> 3 | F7: =Marseille!E7 -> 2 | G7: =Marseille!B17 -> 15 | H7: =Marseille!C17 -> 15 | I7: =Marseille!D17 -> 3 | J7: =Marseille!E17 -> 2 | K7: =Marseille!G7 -> 4 | L7: =Marseille!H7 -> 4 | M7: =Marseille!I7 -> 2 | N7: =Marseille!J7 -> 0 | O7: =Marseille!G17 -> 14 | P7: =Marseille!H17 -> 11 | Q7: =Marseille!I17 -> 1 | R7: =Marseille!J17 -> 1
B8: 36-45 ans | C8: =Marseille!B8 -> 23 | D8: =Marseille!C8 -> 7 | E8: =Marseille!D8 -> 4 | F8: =Marseille!E8 -> 4 | G8: =Marseille!B18 -> 23 | H8: =Marseille!C18 -> 7 | I8: =Marseille!D18 -> 4 | J8: =Marseille!E18 -> 4 | K8: =Marseille!G8 -> 12 | L8: =Marseille!H8 -> 2 | M8: =Marseille!I8 -> 1 | N8: =Marseille!J8 -> 2 | O8: =Marseille!G18 -> 12 | P8: =Marseille!H18 -> 5 | Q8: =Marseille!I18 -> 2 | R8: =Marseille!J18 -> 2
B9: 46-55 ans | C9: =Marseille!B9 -> 17 | D9: =Marseille!C9 -> 12 | E9: =Marseille!D9 -> 4 | F9: =Marseille!E9 -> 5 | G9: =Marseille!B19 -> 17 | H9: =Marseille!C19 -> 12 | I9: =Marseille!D19 -> 4 | J9: =Marseille!E19 -> 5 | K9: =Marseille!G9 -> 7 | L9: =Marseille!H9 -> 6 | M9: =Marseille!I9 -> 1 | N9: =Marseille!J9 -> 2 | O9: =Marseille!G19 -> 11 | P9: =Marseille!H19 -> 6 | Q9: =Marseille!I19 -> 2 | R9: =Marseille!J19 -> 2
B10: >55 ans | C10: =Marseille!B10 -> 8 | D10: =Marseille!C10 -> 9 | E10: =Marseille!D10 -> 1 | F10: =Marseille!E10 -> 3 | G10: =Marseille!B20 -> 8 | H10: =Marseille!C20 -> 9 | I10: =Marseille!D20 -> 1 | J10: =Marseille!E20 -> 3 | K10: =Marseille!G10 -> 2 | L10: =Marseille!H10 -> 8 | M10: =Marseille!I10 -> 0 | N10: =Marseille!J10 -> 1 | O10: =Marseille!G20 -> 3 | P10: =Marseille!H20 -> 6 | Q10: =Marseille!I20 -> 0 | R10: =Marseille!J20 -> 1
A11: Toulouse | B11: <26 ans | C11: =Toulouse!B6 -> 9 | D11: =Toulouse!C6 -> 4 | E11: =Toulouse!D6 -> 2 | F11: =Toulouse!E6 -> 0 | G11: =Toulouse!B16 -> 9 | H11: =Toulouse!C16 -> 4 | I11: =Toulouse!D16 -> 2 | J11: =Toulouse!E16 -> 0 | K11: =Toulouse!G6 -> 9 | L11: =Toulouse!H6 -> 4 | M11: =Toulouse!I6 -> 2 | N11: =Toulouse!J6 -> 0 | O11: =Toulouse!G16 -> 9 | P11: =Toulouse!H16 -> 4 | Q11: =Toulouse!I16 -> 2 | R11: =Toulouse!J16 -> 0
B12: 26-35 ans | C12: =Toulouse!B7 -> 15 | D12: =Toulouse!C7 -> 15 | E12: =Toulouse!D7 -> 3 | F12: =Toulouse!E7 -> 2 | G12: =Toulouse!B17 -> 15 | H12: =Toulouse!C17 -> 15 | I12: =Toulouse!D17 -> 3 | J12: =Toulouse!E17 -> 2 | K12: =Toulouse!G7 -> 15 | L12: =Toulouse!H7 -> 15 | M12: =Toulouse!I7 -> 3 | N12: =Toulouse!J7 -> 2 | O12: =Toulouse!G17 -> 15 | P12: =Toulouse!H17 -> 15 | Q12: =Toulouse!I17 -> 3 | R12: =Toulouse!J17 -> 2
B13: 36-45 ans | C13: =Toulouse!B8 -> 23 | D13: =Toulouse!C8 -> 7 | E13: =Toulouse!D8 -> 4 | F13: =Toulouse!E8 -> 4 | G13: =Toulouse!B18 -> 23 | H13: =Toulouse!C18 -> 7 | I13: =Toulouse!D18 -> 4 | J13: =Toulouse!E18 -> 4 | K13: =Toulouse!G8 -> 23 | L13: =Toulouse!H8 -> 7 | M13: =Toulouse!I8 -> 4 | N13: =Toulouse!J8 -> 4 | O13: =Toulouse!G18 -> 23 | P13: =Toulouse!H18 -> 7 | Q13: =Toulouse!I18 -> 4 | R13: =Toulouse!J18 -> 4
B14: 46-55 ans | C14: =Toulouse!B9 -> 17 | D14: =Toulouse!C9 -> 12 | E14: =Toulouse!D9 -> 4 | F14: =Toulouse!E9 -> 5 | G14: =Toulouse!B19 -> 17 | H14: =Toulouse!C19 -> 12 | I14: =Toulouse!D19 -> 4 | J14: =Toulouse!E19 -> 5 | K14: =Toulouse!G9 -> 17 | L14: =Toulouse!H9 -> 12 | M14: =Toulouse!I9 -> 4 | N14: =Toulouse!J9 -> 5 | O14: =Toulouse!G19 -> 17 | P14: =Toulouse!H19 -> 12 | Q14: =Toulouse!I19 -> 4 | R14: =Toulouse!J19 -> 5
B15: >55 ans | C15: =Toulouse!B10 -> 8 | D15: =Toulouse!C10 -> 9 | E15: =Toulouse!D10 -> 1 | F15: =Toulouse!E10 -> 3 | G15: =Toulouse!B20 -> 8 | H15: =Toulouse!C20 -> 9 | I15: =Toulouse!D20 -> 1 | J15: =Toulouse!E20 -> 3 | K15: =Toulouse!G10 -> 8 | L15: =Toulouse!H10 -> 9 | M15: =Toulouse!I10 -> 1 | N15: =Toulouse!J10 -> 3 | O15: =Toulouse!G20 -> 8 | P15: =Toulouse!H20 -> 9 | Q15: =Toulouse!I20 -> 1 | R15: =Toulouse!J20 -> 3
A16: Bordeaux | B16: <26 ans | C16: =Bordeaux!B6 -> 9 | D16: =Bordeaux!C6 -> 4 | E16: =Bordeaux!D6 -> 2 | F16: =Bordeaux!E6 -> 0 | G16: =Bordeaux!B16 -> 9 | H16: =Bordeaux!C16 -> 4 | I16: =Bordeaux!D16 -> 2 | J16: =Bordeaux!E16 -> 0 | K16: =Bordeaux!G6 -> 9 | L16: =Bordeaux!H6 -> 4 | M16: =Bordeaux!I6 -> 2 | N16: =Bordeaux!J6 -> 0 | O16: =Bordeaux!G16 -> 9 | P16: =Bordeaux!H16 -> 4 | Q16: =Bordeaux!I16 -> 2 | R16: =Bordeaux!J16 -> 0
B17: 26-35 ans | C17: =Bordeaux!B7 -> 15 | D17: =Bordeaux!C7 -> 15 | E17: =Bordeaux!D7 -> 3 | F17: =Bordeaux!E7 -> 2 | G17: =Bordeaux!B17 -> 15 | H17: =Bordeaux!C17 -> 15 | I17: =Bordeaux!D17 -> 3 | J17: =Bordeaux!E17 -> 2 | K17: =Bordeaux!G7 -> 15 | L17: =Bordeaux!H7 -> 15 | M17: =Bordeaux!I7 -> 3 | N17: =Bordeaux!J7 -> 2 | O17: =Bordeaux!G17 -> 15 | P17: =Bordeaux!H17 -> 15 | Q17: =Bordeaux!I17 -> 3 | R17: =Bordeaux!J17 -> 2
B18: 36-45 ans | C18: =Bordeaux!B8 -> 23 | D18: =Bordeaux!C8 -> 7 | E18: =Bordeaux!D8 -> 4 | F18: =Bordeaux!E8 -> 4 | G18: =Bordeaux!B18 -> 23 | H18: =Bordeaux!C18 -> 7 | I18: =Bordeaux!D18 -> 4 | J18: =Bordeaux!E18 -> 4 | K18: =Bordeaux!G8 -> 23 | L18: =Bordeaux!H8 -> 7 | M18: =Bordeaux!I8 -> 4 | N18: =Bordeaux!J8 -> 4 | O18: =Bordeaux!G18 -> 23 | P18: =Bordeaux!H18 -> 7 | Q18: =Bordeaux!I18 -> 4 | R18: =Bordeaux!J18 -> 4
B19: 46-55 ans | C19: =Bordeaux!B9 -> 17 | D19: =Bordeaux!C9 -> 12 | E19: =Bordeaux!D9 -> 4 | F19: =Bordeaux!E9 -> 5 | G19: =Bordeaux!B19 -> 17 | H19: =Bordeaux!C19 -> 12 | I19: =Bordeaux!D19 -> 4 | J19: =Bordeaux!E19 -> 5 | K19: =Bordeaux!G9 -> 17 | L19: =Bordeaux!H9 -> 12 | M19: =Bordeaux!I9 -> 4 | N19: =Bordeaux!J9 -> 5 | O19: =Bordeaux!G19 -> 17 | P19: =Bordeaux!H19 -> 12 | Q19: =Bordeaux!I19 -> 4 | R19: =Bordeaux!J19 -> 5
B20: >55 ans | C20: =Bordeaux!B10 -> 8 | D20: =Bordeaux!C10 -> 9 | E20: =Bordeaux!D10 -> 1 | F20: =Bordeaux!E10 -> 3 | G20: =Bordeaux!B20 -> 8 | H20: =Bordeaux!C20 -> 9 | I20: =Bordeaux!D20 -> 1 | J20: =Bordeaux!E20 -> 3 | K20: =Bordeaux!G10 -> 8 | L20: =Bordeaux!H10 -> 9 | M20: =Bordeaux!I10 -> 1 | N20: =Bordeaux!J10 -> 3 | O20: =Bordeaux!G20 -> 8 | P20: =Bordeaux!H20 -> 9 | Q20: =Bordeaux!I20 -> 1 | R20: =Bordeaux!J20 -> 3
A21: TOTAUX | B21: =SUM(C21:R21) -> 1620 | C21: =SUM(C6:C20) -> 216 | D21: =SUM(D6:D20) -> 141 | E21: =SUM(E6:E20) -> 42 | F21: =SUM(F6:F20) -> 42 | G21: =SUM(G6:G20) -> 216 | H21: =SUM(H6:H20) -> 141 | I21: =SUM(I6:I20) -> 42 | J21: =SUM(J6:J20) -> 42 | ... R21: =SUM(R6:R20) -> 34

Sheet Marseille
A1: EFECTIFS MARSEILLE
B3: Hommes | G3: Femmes
B4: CDI | G4: CDI
B5: Ouvriers | C5: Employés | D5: Etam | E5: Cadres | G5: Ouvriers | H5: Employés | I5: Etam | J5: Cadres
A6: <26 ans | B6: 9 | C6: 4 | D6: 2 | E6: 0 | G6: 2 | H6: 3 | I6: 1 | J6: 0
A7: 26-35 ans | B7: 15 | C7: 15 | D7: 3 | E7: 2 | G7: 4 | H7: 4 | I7: 2 | J7: 0
A8: 36-45 ans | B8: 23 | C8: 7 | D8: 4 | E8: 4 | G8: 12 | H8: 2 | I8: 1 | J8: 2
A9: 46-55 ans | B9: 17 | C9: 12 | D9: 4 | E9: 5 | G9: 7 | H9: 6 | I9: 1 | J9: 2
A10: >55 ans | B10: 8 | C10: 9 | D10: 1 | E10: 3 | G10: 2 | H10: 8 | I10: 0 | J10: 1
A11: TOTAL | B11: =SUM(B6:B10) -> 72 | C11: =SUM(C6:C10) -> 47 | D11: =SUM(D6:D10) -> 14 | E11: =SUM(E6:E10) -> 14 | G11: =SUM(G6:G10) -> 27 | H11: =SUM(H6:H10) -> 23 | I11: =SUM(I6:I10) -> 5 | J11: =SUM(J6:J10) -> 5
B13: Hommes | G13: Femmes
B14: CDD | G14: CDD
B15: Ouvriers | C15: Employés | D15: Etam | E15: Cadres | G15: Ouvriers | H15: Employés | I15: Etam | J15: Cadres
A16: <26 ans | B16: 9 | C16: 4 | D16: 2 | E16: 0 | G16: 9 | H16: 2 | I16: 0 | J16: 0
A17: 26-35 ans | B17: 15 | C17: 15 | D17: 3 | E17: 2 | G17: 14 | H17: 11 | I17: 1 | J17: 1
A18: 36-45 ans | B18: 23 | C18: 7 | D18: 4 | E18: 4 | G18: 12 | H18: 5 | I18: 2 | J18: 2
A19: 46-55 ans | B19: 17 | C19: 12 | D19: 4 | E19: 5 | G19: 11 | H19: 6 | I19: 2 | J19: 2
A20: >55 ans | B20: 8 | C20: 9 | D20: 1 | E20: 3 | G20: 3 | H20: 6 | I20: 0 | J20: 1
A21: TOTAL | B21: =SUM(B16:B20) -> 72 | C21: =SUM(C16:C20) -> 47 | D21: =SUM(D16:D20) -> 14 | E21: =SUM(E16:E20) -> 14 | G21: =SUM(G16:G20) -> 49 | H21: =SUM(H16:H20) -> 30 | I21: =SUM(I16:I20) -> 5 | J21: =SUM(J16:J20) -> 6

Sheet Toulouse
A1: EFECTIFS TOULOUSE
B3: Hommes | G3: Femmes
B4: CDI | G4: CDI
B5: Ouvriers | C5: Employés | D5: Etam | E5: Cadres | G5: Ouvriers | H5: Employés | I5: Etam | J5: Cadres
A6: <26 ans | B6: 9 | C6: 4 | D6: 2 | E6: 0 | G6: 9 | H6: 4 | I6: 2 | J6: 0
A7: 26-35 ans | B7: 15 | C7: 15 | D7: 3 | E7: 2 | G7: 15 | H7: 15 | I7: 3 | J7: 2
A8: 36-45 ans | B8: 23 | C8: 7 | D8: 4 | E8: 4 | G8: 23 | H8: 7 | I8: 4 | J8: 4
A9: 46-55 ans | B9: 17 | C9: 12 | D9: 4 | E9: 5 | G9: 17 | H9: 12 | I9: 4 | J9: 5
A10: >55 ans | B10: 8 | C10: 9 | D10: 1 | E10: 3 | G10: 8 | H10: 9 | I10: 1 | J10: 3
A11: TOTAL | B11: =SUM(B6:B10) -> 72 | C11: =SUM(C6:C10) -> 47 | D11: =SUM(D6:D10) -> 14 | E11: =SUM(E6:E10) -> 14 | G11: =SUM(G6:G10) -> 72 | H11: =SUM(H6:H10) -> 47 | I11: =SUM(I6:I10) -> 14 | J11: =SUM(J6:J10) -> 14
B13: Hommes | G13: Femmes
B14: CDD | G14: CDD
B15: Ouvriers | C15: Employés | D15: Etam | E15: Cadres | G15: Ouvriers | H15: Employés | I15: Etam | J15: Cadres
A16: <26 ans | B16: 9 | C16: 4 | D16: 2 | E16: 0 | G16: 9 | H16: 4 | I16: 2 | J16: 0
A17: 26-35 ans | B17: 15 | C17: 15 | D17: 3 | E17: 2 | G17: 15 | H17: 15 | I17: 3 | J17: 2
A18: 36-45 ans | B18: 23 | C18: 7 | D18: 4 | E18: 4 | G18: 23 | H18: 7 | I18: 4 | J18: 4
A19: 46-55 ans | B19: 17 | C19: 12 | D19: 4 | E19: 5 | G19: 17 | H19: 12 | I19: 4 | J19: 5
A20: >55 ans | B20: 8 | C20: 9 | D20: 1 | E20: 3 | G20: 8 | H20: 9 | I20: 1 | J20: 3
A21: TOTAL | B21: =SUM(B16:B20) -> 72 | C21: =SUM(C16:C20) -> 47 | D21: =SUM(D16:D20) -> 14 | E21: =SUM(E16:E20) -> 14 | G21: =SUM(G16:G20) -> 72 | H21: =SUM(H16:H20) -> 47 | I21: =SUM(I16:I20) -> 14 | J21: =SUM(J16:J20) -> 14

Sheet Bordeaux
A1: EFECTIFS BORDEAUX
B3: Hommes | G3: Femmes
B4: CDI | G4: CDI
B5: Ouvriers | C5: Employés | D5: Etam | E5: Cadres | G5: Ouvriers | H5: Employés | I5: Etam | J5: Cadres
A6: <26 ans | B6: 9 | C6: 4 | D6: 2 | E6: 0 | G6: 9 | H6: 4 | I6: 2 | J6: 0
A7: 26-35 ans | B7: 15 | C7: 15 | D7: 3 | E7: 2 | G7: 15 | H7: 15 | I7: 3 | J7: 2
A8: 36-45 ans | B8: 23 | C8: 7 | D8: 4 | E8: 4 | G8: 23 | H8: 7 | I8: 4 | J8: 4
A9: 46-55 ans | B9: 17 | C9: 12 | D9: 4 | E9: 5 | G9: 17 | H9: 12 | I9: 4 | J9: 5
A10: >55 ans | B10: 8 | C10: 9 | D10: 1 | E10: 3 | G10: 8 | H10: 9 | I10: 1 | J10: 3
A11: TOTAL | B11: =SUM(B6:B10) -> 72 | C11: =SUM(C6:C10) -> 47 | D11: =SUM(D6:D10) -> 14 | E11: =SUM(E6:E10) -> 14 | G11: =SUM(G6:G10) -> 72 | H11: =SUM(H6:H10) -> 47 | I11: =SUM(I6:I10) -> 14 | J11: =SUM(J6:J10) -> 14
B13: Hommes | G13: Femmes
B14: CDD | G14: CDD
B15: Ouvriers | C15: Employés | D15: Etam | E15: Cadres | G15: Ouvriers | H15: Employés | I15: Etam | J15: Cadres
A16: <26 ans | B16: 9 | C16: 4 | D16: 2 | E16: 0 | G16: 9 | H16: 4 | I16: 2 | J16: 0
A17: 26-35 ans | B17: 15 | C17: 15 | D17: 3 | E17: 2 | G17: 15 | H17: 15 | I17: 3 | J17: 2
A18: 36-45 ans | B18: 23 | C18: 7 | D18: 4 | E18: 4 | G18: 23 | H18: 7 | I18: 4 | J18: 4
A19: 46-55 ans | B19: 17 | C19: 12 | D19: 4 | E19: 5 | G19: 17 | H19: 12 | I19: 4 | J19: 5
A20: >55 ans | B20: 8 | C20: 9 | D20: 1 | E20: 3 | G20: 8 | H20: 9 | I20: 1 | J20: 3
A21: TOTAL | B21: =SUM(B16:B20) -> 72 | C21: =SUM(C16:C20) -> 47 | D21: =SUM(D16:D20) -> 14 | E21: =SUM(E16:E20) -> 14 | G21: =SUM(G16:G20) -> 72 | H21: =SUM(H16:H20) -> 47 | I21: =SUM(I16:I20) -> 14 | J21: =SUM(J16:J20) -> 14
