Workbook

Sheet tableau
B1: 17 | C1: 17 | F1: 18 | G1: 18 | J1: 19 | K1: 19 | N1: 20 | O1: 20 | R1: 21 | S1: 21 | V1: 22 | W1: 22 | Z1: 23 | AA1: 23 | AD1: 24 | AE1: 24
B3: 17 | F3: 18 | J3: 19 | N3: 20 | R3: 21 | V3: 22 | Z3: 23 | AD3: 24
B4: 2014 | C4: 2015 | D4: écart | E4: évol | F4: 2014 | G4: 2015 | H4: écart | I4: évol | J4: 2014 | K4: 2015 | L4: écart | M4: évol | N4: 2014 | O4: 2015 | P4: écart | Q4: évol | R4: 2014 | S4: 2015 | T4: écart | U4: évol | V4: 2014 | W4: 2015 | X4: écart | Y4: évol | Z4: 2014 | AA4: 2015 | AB4: écart | AC4: évol | AD4: 2014 | AE4: 2015 | AF4: écart | AG4: évol
A5: PGC-FI | B5: 0 | C5: =C6+C14 -> 697013.25 | D5: 697013.25 | E5: #DIV/0! | F5: 0 | G5: =G6+G14 -> 697013.25 | H5: 2015 | I5: #DIV/0! | J5: 0 | K5: =K6+K14 -> 100397.06 | L5: 100397.06 | M5: #DIV/0! | N5: 0 | O5: =O6+O14 -> 100397.06 | P5: 100397.06 | Q5: #DIV/0! | R5: 0 | S5: =S6+S14 -> 100397.06 | T5: 100397.06 | U5: #DIV/0! | V5: 0 | W5: =W6+W14 -> 100397.06 | X5: 100397.06 | Y5: #DIV/0! | Z5: 0 | AA5: =AA6+AA14 -> 100397.06 | AB5: 100397.06 | AC5: #DIV/0! | AD5: 0 | AE5: =AE6+AE14 -> 367969.78 | AF5: 367969.78 | AG5: #DIV/0!
A6: PGC | B6: 0 | C6: =SUM(C7:C13) -> 475142.86 | D6: 475142.86 | E6: #DIV/0! | F6: 0 | G6: =SUM(G7:G13) -> 475142.86 | H6: 525368.85 | I6: #DIV/0! | J6: 0 | K6: =SUM(K7:K13) -> 69292.67 | L6: 69292.67 | M6: #DIV/0! | N6: 0 | O6: =SUM(O7:O13) -> 69292.67 | P6: 69292.67 | Q6: #DIV/0! | R6: 0 | S6: =SUM(S7:S13) -> 69292.67 | T6: 69292.67 | U6: #DIV/0! | V6: 0 | W6: =SUM(W7:W13) -> 69292.67 | X6: 69292.67 | Y6: #DIV/0! | Z6: 0 | AA6: =SUM(AA7:AA13) -> 69292.67 | AB6: 69292.67 | AC6: #DIV/0! | AD6: 0 | AE6: =SUM(AE7:AE13) -> 254487.73 | AF6: 254487.73 | AG6: #DIV/0!
A7: U01 | C7: =IFERROR(INDEX(données!$A$1:$D$56,MATCH($A7,données!$A$1:$A$56,0),MATCH(C$1,données!$A$1:$D$1)),0) -> 103080.36 | D7: 103080.36 | E7: #DIV/0! | G7: =IFERROR(INDEX(données!$A$1:$D$56,MATCH($A7,données!$A$1:$A$56,0),MATCH(G$1,données!$A$1:$D$1)),0) -> 103080.36 | H7: 372062.5 | I7: #DIV/0! | K7: =IFERROR(INDEX(données!$A$1:$D$56,MATCH($A7,données!$A$1:$A$56,0),MATCH(K$1,données!$A$1:$D$1)),0) -> 15391.54 | L7: 15391.54 | M7: #DIV/0! | O7: =IFERROR(INDEX(données!$A$1:$D$56,MATCH($A7,données!$A$1:$A$56,0),MATCH(O$1,données!$A$1:$D$1)),0) -> 15391.54 | P7: 15391.54 | Q7: #DIV/0! | S7: =IFERROR(INDEX(données!$A$1:$D$56,MATCH($A7,données!$A$1:$A$56,0),MATCH(S$1,données!$A$1:$D$1)),0) -> 15391.54 | T7: 15391.54 | U7: #DIV/0! | W7: =IFERROR(INDEX(données!$A$1:$D$56,MATCH($A7,données!$A$1:$A$56,0),MATCH(W$1,données!$A$1:$D$1)),0) -> 15391.54 | X7: 15391.54 | Y7: #DIV/0! | AA7: =IFERROR(INDEX(données!$A$1:$D$56,MATCH($A7,données!$A$1:$A$56,0),MATCH(AA$1,données!$A$1:$D$1)),0) -> 15391.54 | AB7: 15391.54 | AC7: #DIV/0! | AE7: =IFERROR(INDEX(données!$A$1:$D$56,MATCH($A7,données!$A$1:$A$56,0),MATCH(AE$1,données!$A$1:$D$1)),0) -> 55254.528 | AF7: 55254.528 | AG7: #DIV/0!
A8: U14 | C8: =IFERROR(INDEX(données!$A$1:$D$56,MATCH($A8,données!$A$1:$A$56,0),MATCH(C$1,données!$A$1:$D$1)),0) -> 103120.77 | D8: 103120.77 | E8: #DIV/0! | G8: =IFERROR(INDEX(données!$A$1:$D$56,MATCH($A8,données!$A$1:$A$56,0),MATCH(G$1,données!$A$1:$D$1)),0) -> 103120.77 | H8: 103120.77 | I8: #DIV/0! | K8: =IFERROR(INDEX(données!$A$1:$D$56,MATCH($A8,données!$A$1:$A$56,0),MATCH(K$1,données!$A$1:$D$1)),0) -> 14341.59 | L8: 14341.59 | M8: #DIV/0! | O8: =IFERROR(INDEX(données!$A$1:$D$56,MATCH($A8,données!$A$1:$A$56,0),MATCH(O$1,données!$A$1:$D$1)),0) -> 14341.59 | P8: 14341.59 | Q8: #DIV/0! | S8: =IFERROR(INDEX(données!$A$1:$D$56,MATCH($A8,données!$A$1:$A$56,0),MATCH(S$1,données!$A$1:$D$1)),0) -> 14341.59 | T8: 14341.59 | U8: #DIV/0! | W8: =IFERROR(INDEX(données!$A$1:$D$56,MATCH($A8,données!$A$1:$A$56,0),MATCH(W$1,données!$A$1:$D$1)),0) -> 14341.59 | X8: 14341.59 | Y8: #DIV/0! | AA8: =IFERROR(INDEX(données!$A$1:$D$56,MATCH($A8,données!$A$1:$A$56,0),MATCH(AA$1,données!$A$1:$D$1)),0) -> 14341.59 | AB8: 14341.59 | AC8: #DIV/0! | AE8: =IFERROR(INDEX(données!$A$1:$D$56,MATCH($A8,données!$A$1:$A$56,0),MATCH(AE$1,données!$A$1:$D$1)),0) -> 54103.822 | AF8: 54103.822 | AG8: #DIV/0!
A9: U20 | C9: =IFERROR(INDEX(données!$A$1:$D$56,MATCH($A9,données!$A$1:$A$56,0),MATCH(C$1,données!$A$1:$D$1)),0) -> 34556.73 | D9: 34556.73 | E9: #DIV/0! | G9: =IFERROR(INDEX(données!$A$1:$D$56,MATCH($A9,données!$A$1:$A$56,0),MATCH(G$1,données!$A$1:$D$1)),0) -> 34556.73 | H9: 34556.73 | I9: #DIV/0! | K9: =IFERROR(INDEX(données!$A$1:$D$56,MATCH($A9,données!$A$1:$A$56,0),MATCH(K$1,données!$A$1:$D$1)),0) -> 4838.26 | L9: 4838.26 | M9: #DIV/0! | O9: =IFERROR(INDEX(données!$A$1:$D$56,MATCH($A9,données!$A$1:$A$56,0),MATCH(O$1,données!$A$1:$D$1)),0) -> 4838.26 | P9: 4838.26 | Q9: #DIV/0! | S9: =IFERROR(INDEX(données!$A$1:$D$56,MATCH($A9,données!$A$1:$A$56,0),MATCH(S$1,données!$A$1:$D$1)),0) -> 4838.26 | T9: 4838.26 | U9: #DIV/0! | W9: =IFERROR(INDEX(données!$A$1:$D$56,MATCH($A9,données!$A$1:$A$56,0),MATCH(W$1,données!$A$1:$D$1)),0) -> 4838.26 | X9: 4838.26 | Y9: #DIV/0! | AA9: =IFERROR(INDEX(données!$A$1:$D$56,MATCH($A9,données!$A$1:$A$56,0),MATCH(AA$1,données!$A$1:$D$1)),0) -> 4838.26 | AB9: 4838.26 | AC9: #DIV/0! | AE9: =IFERROR(INDEX(données!$A$1:$D$56,MATCH($A9,données!$A$1:$A$56,0),MATCH(AE$1,données!$A$1:$D$1)),0) -> 16926.354 | AF9: 16926.354 | AG9: #DIV/0!
A10: U24 | C10: =IFERROR(INDEX(données!$A$1:$D$56,MATCH($A10,données!$A$1:$A$56,0),MATCH(C$1,données!$A$1:$D$1)),0) -> 10761.17 | D10: 10761.17 | E10: #DIV/0! | G10: =IFERROR(INDEX(données!$A$1:$D$56,MATCH($A10,données!$A$1:$A$56,0),MATCH(G$1,données!$A$1:$D$1)),0) -> 10761.17 | H10: 10761.17 | I10: #DIV/0! | K10: =IFERROR(INDEX(données!$A$1:$D$56,MATCH($A10,données!$A$1:$A$56,0),MATCH(K$1,données!$A$1:$D$1)),0) -> 1706.22 | L10: 1706.22 | M10: #DIV/0! | O10: =IFERROR(INDEX(données!$A$1:$D$56,MATCH($A10,données!$A$1:$A$56,0),MATCH(O$1,données!$A$1:$D$1)),0) -> 1706.22 | P10: 1706.22 | Q10: #DIV/0! | S10: =IFERROR(INDEX(données!$A$1:$D$56,MATCH($A10,données!$A$1:$A$56,0),MATCH(S$1,données!$A$1:$D$1)),0) -> 1706.22 | T10: 1706.22 | U10: #DIV/0! | W10: =IFERROR(INDEX(données!$A$1:$D$56,MATCH($A10,données!$A$1:$A$56,0),MATCH(W$1,données!$A$1:$D$1)),0) -> 1706.22 | X10: 1706.22 | Y10: #DIV/0! | AA10: =IFERROR(INDEX(données!$A$1:$D$56,MATCH($A10,données!$A$1:$A$56,0),MATCH(AA$1,données!$A$1:$D$1)),0) -> 1706.22 | AB10: 1706.22 | AC10: #DIV/0! | AE10: =IFERROR(INDEX(données!$A$1:$D$56,MATCH($A10,données!$A$1:$A$56,0),MATCH(AE$1,données!$A$1:$D$1)),0) -> 5279.8692 | AF10: 5279.8692 | AG10: #DIV/0!
A11: U25 | C11: =IFERROR(INDEX(données!$A$1:$D$56,MATCH($A11,données!$A$1:$A$56,0),MATCH(C$1,données!$A$1:$D$1)),0) -> 47997.35 | D11: 47997.35 | E11: #DIV/0! | G11: =IFERROR(INDEX(données!$A$1:$D$56,MATCH($A11,données!$A$1:$A$56,0),MATCH(G$1,données!$A$1:$D$1)),0) -> 47997.35 | H11: 47997.35 | I11: #DIV/0! | K11: =IFERROR(INDEX(données!$A$1:$D$56,MATCH($A11,données!$A$1:$A$56,0),MATCH(K$1,données!$A$1:$D$1)),0) -> 6941.67 | L11: 6941.67 | M11: #DIV/0! | O11: =IFERROR(INDEX(données!$A$1:$D$56,MATCH($A11,données!$A$1:$A$56,0),MATCH(O$1,données!$A$1:$D$1)),0) -> 6941.67 | P11: 6941.67 | Q11: #DIV/0! | S11: =IFERROR(INDEX(données!$A$1:$D$56,MATCH($A11,données!$A$1:$A$56,0),MATCH(S$1,données!$A$1:$D$1)),0) -> 6941.67 | T11: 6941.67 | U11: #DIV/0! | W11: =IFERROR(INDEX(données!$A$1:$D$56,MATCH($A11,données!$A$1:$A$56,0),MATCH(W$1,données!$A$1:$D$1)),0) -> 6941.67 | X11: 6941.67 | Y11: #DIV/0! | AA11: =IFERROR(INDEX(données!$A$1:$D$56,MATCH($A11,données!$A$1:$A$56,0),MATCH(AA$1,données!$A$1:$D$1)),0) -> 6941.67 | AB11: 6941.67 | AC11: #DIV/0! | AE11: =IFERROR(INDEX(données!$A$1:$D$56,MATCH($A11,données!$A$1:$A$56,0),MATCH(AE$1,données!$A$1:$D$1)),0) -> 24274.696 | AF11: 24274.696 | AG11: #DIV/0!
A12: U28 | C12: =IFERROR(INDEX(données!$A$1:$D$56,MATCH($A12,données!$A$1:$A$56,0),MATCH(C$1,données!$A$1:$D$1)),0) -> 62991.76 | D12: 62991.76 | E12: #DIV/0! | G12: =IFERROR(INDEX(données!$A$1:$D$56,MATCH($A12,données!$A$1:$A$56,0),MATCH(G$1,données!$A$1:$D$1)),0) -> 62991.76 | H12: 62991.76 | I12: #DIV/0! | K12: =IFERROR(INDEX(données!$A$1:$D$56,MATCH($A12,données!$A$1:$A$56,0),MATCH(K$1,données!$A$1:$D$1)),0) -> 9402.53 | L12: 9402.53 | M12: #DIV/0! | O12: =IFERROR(INDEX(données!$A$1:$D$56,MATCH($A12,données!$A$1:$A$56,0),MATCH(O$1,données!$A$1:$D$1)),0) -> 9402.53 | P12: 9402.53 | Q12: #DIV/0! | S12: =IFERROR(INDEX(données!$A$1:$D$56,MATCH($A12,données!$A$1:$A$56,0),MATCH(S$1,données!$A$1:$D$1)),0) -> 9402.53 | T12: 9402.53 | U12: #DIV/0! | W12: =IFERROR(INDEX(données!$A$1:$D$56,MATCH($A12,données!$A$1:$A$56,0),MATCH(W$1,données!$A$1:$D$1)),0) -> 9402.53 | X12: 9402.53 | Y12: #DIV/0! | AA12: =IFERROR(INDEX(données!$A$1:$D$56,MATCH($A12,données!$A$1:$A$56,0),MATCH(AA$1,données!$A$1:$D$1)),0) -> 9402.53 | AB12: 9402.53 | AC12: #DIV/0! | AE12: =IFERROR(INDEX(données!$A$1:$D$56,MATCH($A12,données!$A$1:$A$56,0),MATCH(AE$1,données!$A$1:$D$1)),0) -> 33818.301 | AF12: 33818.301 | AG12: #DIV/0!
A13: U74 | C13: =IFERROR(INDEX(données!$A$1:$D$56,MATCH($A13,données!$A$1:$A$56,0),MATCH(C$1,données!$A$1:$D$1)),0) -> 112634.72 | D13: 112634.72 | E13: #DIV/0! | G13: =IFERROR(INDEX(données!$A$1:$D$56,MATCH($A13,données!$A$1:$A$56,0),MATCH(G$1,données!$A$1:$D$1)),0) -> 112634.72 | H13: 112634.72 | I13: #DIV/0! | K13: =IFERROR(INDEX(données!$A$1:$D$56,MATCH($A13,données!$A$1:$A$56,0),MATCH(K$1,données!$A$1:$D$1)),0) -> 16670.86 | L13: 16670.86 | M13: #DIV/0! | O13: =IFERROR(INDEX(données!$A$1:$D$56,MATCH($A13,données!$A$1:$A$56,0),MATCH(O$1,données!$A$1:$D$1)),0) -> 16670.86 | P13: 16670.86 | Q13: #DIV/0! | S13: =IFERROR(INDEX(données!$A$1:$D$56,MATCH($A13,données!$A$1:$A$56,0),MATCH(S$1,données!$A$1:$D$1)),0) -> 16670.86 | T13: 16670.86 | U13: #DIV/0! | W13: =IFERROR(INDEX(données!$A$1:$D$56,MATCH($A13,données!$A$1:$A$56,0),MATCH(W$1,données!$A$1:$D$1)),0) -> 16670.86 | X13: 16670.86 | Y13: #DIV/0! | AA13: =IFERROR(INDEX(données!$A$1:$D$56,MATCH($A13,données!$A$1:$A$56,0),MATCH(AA$1,données!$A$1:$D$1)),0) -> 16670.86 | AB13: 16670.86 | AC13: #DIV/0! | AE13: =IFERROR(INDEX(données!$A$1:$D$56,MATCH($A13,données!$A$1:$A$56,0),MATCH(AE$1,données!$A$1:$D$1)),0) -> 64830.157 | AF13: 64830.157 | AG13: #DIV/0!
A14: FI | B14: 0 | C14: =SUM(C15:C17) -> 221870.39 | D14: 221870.39 | E14: #DIV/0! | F14: 0 | G14: =SUM(G15:G17) -> 221870.39 | H14: 0 | I14: #DIV/0! | J14: 0 | K14: =SUM(K15:K17) -> 31104.39 | L14: 31104.39 | M14: #DIV/0! | N14: 0 | O14: =SUM(O15:O17) -> 31104.39 | P14: 31104.39 | Q14: #DIV/0! | R14: 0 | S14: =SUM(S15:S17) -> 31104.39 | T14: 31104.39 | U14: #DIV/0! | V14: 0 | W14: =SUM(W15:W17) -> 31104.39 | X14: 31104.39 | Y14: #DIV/0! | Z14: 0 | AA14: =SUM(AA15:AA17) -> 31104.39 | AB14: 31104.39 | AC14: #DIV/0! | AD14: 0 | AE14: =SUM(AE15:AE17) -> 113482.05 | AF14: 113482.05 | AG14: #DIV/0!
A15: U02 | C15: =IFERROR(INDEX(données!$A$1:$D$56,MATCH($A15,données!$A$1:$A$56,0),MATCH(C$1,données!$A$1:$D$1)),0) -> 68564.04 | D15: 68564.04 | E15: #DIV/0! | G15: =IFERROR(INDEX(données!$A$1:$D$56,MATCH($A15,données!$A$1:$A$56,0),MATCH(G$1,données!$A$1:$D$1)),0) -> 68564.04 | H15: 153306.35 | I15: #DIV/0! | K15: =IFERROR(INDEX(données!$A$1:$D$56,MATCH($A15,données!$A$1:$A$56,0),MATCH(K$1,données!$A$1:$D$1)),0) -> 9324.12 | L15: 9324.12 | M15: #DIV/0! | O15: =IFERROR(INDEX(données!$A$1:$D$56,MATCH($A15,données!$A$1:$A$56,0),MATCH(O$1,données!$A$1:$D$1)),0) -> 9324.12 | P15: 9324.12 | Q15: #DIV/0! | S15: =IFERROR(INDEX(données!$A$1:$D$56,MATCH($A15,données!$A$1:$A$56,0),MATCH(S$1,données!$A$1:$D$1)),0) -> 9324.12 | T15: 9324.12 | U15: #DIV/0! | W15: =IFERROR(INDEX(données!$A$1:$D$56,MATCH($A15,données!$A$1:$A$56,0),MATCH(W$1,données!$A$1:$D$1)),0) -> 9324.12 | X15: 9324.12 | Y15: #DIV/0! | AA15: =IFERROR(INDEX(données!$A$1:$D$56,MATCH($A15,données!$A$1:$A$56,0),MATCH(AA$1,données!$A$1:$D$1)),0) -> 9324.12 | AB15: 9324.12 | AC15: #DIV/0! | AE15: =IFERROR(INDEX(données!$A$1:$D$56,MATCH($A15,données!$A$1:$A$56,0),MATCH(AE$1,données!$A$1:$D$1)),0) -> 34323.874 | AF15: 34323.874 | AG15: #DIV/0!
A16: U35 | C16: =IFERROR(INDEX(données!$A$1:$D$56,MATCH($A16,données!$A$1:$A$56,0),MATCH(C$1,données!$A$1:$D$1)),0) -> 31806.2 | D16: 31806.2 | E16: #DIV/0! | G16: =IFERROR(INDEX(données!$A$1:$D$56,MATCH($A16,données!$A$1:$A$56,0),MATCH(G$1,données!$A$1:$D$1)),0) -> 31806.2 | H16: 31806.2 | I16: #DIV/0! | K16: =IFERROR(INDEX(données!$A$1:$D$56,MATCH($A16,données!$A$1:$A$56,0),MATCH(K$1,données!$A$1:$D$1)),0) -> 5114.64 | L16: 5114.64 | M16: #DIV/0! | O16: =IFERROR(INDEX(données!$A$1:$D$56,MATCH($A16,données!$A$1:$A$56,0),MATCH(O$1,données!$A$1:$D$1)),0) -> 5114.64 | P16: 5114.64 | Q16: #DIV/0! | S16: =IFERROR(INDEX(données!$A$1:$D$56,MATCH($A16,données!$A$1:$A$56,0),MATCH(S$1,données!$A$1:$D$1)),0) -> 5114.64 | T16: 5114.64 | U16: #DIV/0! | W16: =IFERROR(INDEX(données!$A$1:$D$56,MATCH($A16,données!$A$1:$A$56,0),MATCH(W$1,données!$A$1:$D$1)),0) -> 5114.64 | X16: 5114.64 | Y16: #DIV/0! | AA16: =IFERROR(INDEX(données!$A$1:$D$56,MATCH($A16,données!$A$1:$A$56,0),MATCH(AA$1,données!$A$1:$D$1)),0) -> 5114.64 | AB16: 5114.64 | AC16: #DIV/0! | AE16: =IFERROR(INDEX(données!$A$1:$D$56,MATCH($A16,données!$A$1:$A$56,0),MATCH(AE$1,données!$A$1:$D$1)),0) -> 19735.016 | AF16: 19735.016 | AG16: #DIV/0!
A17: U36 | C17: =IFERROR(INDEX(données!$A$1:$D$56,MATCH($A17,données!$A$1:$A$56,0),MATCH(C$1,données!$A$1:$D$1)),0) -> 121500.15 | D17: 121500.15 | E17: #DIV/0! | G17: =IFERROR(INDEX(données!$A$1:$D$56,MATCH($A17,données!$A$1:$A$56,0),MATCH(G$1,données!$A$1:$D$1)),0) -> 121500.15 | H17: 121500.15 | I17: #DIV/0! | K17: =IFERROR(INDEX(données!$A$1:$D$56,MATCH($A17,données!$A$1:$A$56,0),MATCH(K$1,données!$A$1:$D$1)),0) -> 16665.63 | L17: 16665.63 | M17: #DIV/0! | O17: =IFERROR(INDEX(données!$A$1:$D$56,MATCH($A17,données!$A$1:$A$56,0),MATCH(O$1,données!$A$1:$D$1)),0) -> 16665.63 | P17: 16665.63 | Q17: #DIV/0! | S17: =IFERROR(INDEX(données!$A$1:$D$56,MATCH($A17,données!$A$1:$A$56,0),MATCH(S$1,données!$A$1:$D$1)),0) -> 16665.63 | T17: 16665.63 | U17: #DIV/0! | W17: =IFERROR(INDEX(données!$A$1:$D$56,MATCH($A17,données!$A$1:$A$56,0),MATCH(W$1,données!$A$1:$D$1)),0) -> 16665.63 | X17: 16665.63 | Y17: #DIV/0! | AA17: =IFERROR(INDEX(données!$A$1:$D$56,MATCH($A17,données!$A$1:$A$56,0),MATCH(AA$1,données!$A$1:$D$1)),0) -> 16665.63 | AB17: 16665.63 | AC17: #DIV/0! | AE17: =IFERROR(INDEX(données!$A$1:$D$56,MATCH($A17,données!$A$1:$A$56,0),MATCH(AE$1,données!$A$1:$D$1)),0) -> 59423.157 | AF17: 59423.157 | AG17: #DIV/0!
A18: MT | B18: 0 | C18: =SUM(C19:C27) -> 262464.03 | D18: 262464.03 | E18: #DIV/0! | F18: 0 | G18: =SUM(G19:G27) -> 262464.03 | H18: 0 | I18: #DIV/0! | J18: 0 | K18: =SUM(K19:K27) -> 37384.83 | L18: 37384.83 | M18: #DIV/0! | N18: 0 | O18: =SUM(O19:O27) -> 37384.83 | P18: 37384.83 | Q18: #DIV/0! | R18: 0 | S18: =SUM(S19:S27) -> 37384.83 | T18: 37384.83 | U18: #DIV/0! | V18: 0 | W18: =SUM(W19:W27) -> 37384.83 | X18: 37384.83 | Y18: #DIV/0! | Z18: 0 | AA18: =SUM(AA19:AA27) -> 37384.83 | AB18: 37384.83 | AC18: #DIV/0! | AD18: 0 | AE18: =SUM(AE19:AE27) -> 129128.22 | AF18: 129128.22 | AG18: #DIV/0!
A19: U03 | C19: =IFERROR(INDEX(données!$A$1:$D$56,MATCH($A19,données!$A$1:$A$56,0),MATCH(C$1,données!$A$1:$D$1)),0) -> 74578.7 | D19: 74578.7 | E19: #DIV/0! | G19: =IFERROR(INDEX(données!$A$1:$D$56,MATCH($A19,données!$A$1:$A$56,0),MATCH(G$1,données!$A$1:$D$1)),0) -> 74578.7 | H19: 187885.33 | I19: #DIV/0! | K19: =IFERROR(INDEX(données!$A$1:$D$56,MATCH($A19,données!$A$1:$A$56,0),MATCH(K$1,données!$A$1:$D$1)),0) -> 10781.46 | L19: 10781.46 | M19: #DIV/0! | O19: =IFERROR(INDEX(données!$A$1:$D$56,MATCH($A19,données!$A$1:$A$56,0),MATCH(O$1,données!$A$1:$D$1)),0) -> 10781.46 | P19: 10781.46 | Q19: #DIV/0! | S19: =IFERROR(INDEX(données!$A$1:$D$56,MATCH($A19,données!$A$1:$A$56,0),MATCH(S$1,données!$A$1:$D$1)),0) -> 10781.46 | T19: 10781.46 | U19: #DIV/0! | W19: =IFERROR(INDEX(données!$A$1:$D$56,MATCH($A19,données!$A$1:$A$56,0),MATCH(W$1,données!$A$1:$D$1)),0) -> 10781.46 | X19: 10781.46 | Y19: #DIV/0! | AA19: =IFERROR(INDEX(données!$A$1:$D$56,MATCH($A19,données!$A$1:$A$56,0),MATCH(AA$1,données!$A$1:$D$1)),0) -> 10781.46 | AB19: 10781.46 | AC19: #DIV/0! | AE19: =IFERROR(INDEX(données!$A$1:$D$56,MATCH($A19,données!$A$1:$A$56,0),MATCH(AE$1,données!$A$1:$D$1)),0) -> 38642.299 | AF19: 38642.299 | AG19: #DIV/0!
A20: U10 | C20: =IFERROR(INDEX(données!$A$1:$D$56,MATCH($A20,données!$A$1:$A$56,0),MATCH(C$1,données!$A$1:$D$1)),0) -> 3000.64 | D20: 3000.64 | E20: #DIV/0! | G20: =IFERROR(INDEX(données!$A$1:$D$56,MATCH($A20,données!$A$1:$A$56,0),MATCH(G$1,données!$A$1:$D$1)),0) -> 3000.64 | H20: 3000.64 | I20: #DIV/0! | K20: =IFERROR(INDEX(données!$A$1:$D$56,MATCH($A20,données!$A$1:$A$56,0),MATCH(K$1,données!$A$1:$D$1)),0) -> 331.71 | L20: 331.71 | M20: #DIV/0! | O20: =IFERROR(INDEX(données!$A$1:$D$56,MATCH($A20,données!$A$1:$A$56,0),MATCH(O$1,données!$A$1:$D$1)),0) -> 331.71 | P20: 331.71 | Q20: #DIV/0! | S20: =IFERROR(INDEX(données!$A$1:$D$56,MATCH($A20,données!$A$1:$A$56,0),MATCH(S$1,données!$A$1:$D$1)),0) -> 331.71 | T20: 331.71 | U20: #DIV/0! | W20: =IFERROR(INDEX(données!$A$1:$D$56,MATCH($A20,données!$A$1:$A$56,0),MATCH(W$1,données!$A$1:$D$1)),0) -> 331.71 | X20: 331.71 | Y20: #DIV/0! | AA20: =IFERROR(INDEX(données!$A$1:$D$56,MATCH($A20,données!$A$1:$A$56,0),MATCH(AA$1,données!$A$1:$D$1)),0) -> 331.71 | AB20: 331.71 | AC20: #DIV/0! | AE20: =IFERROR(INDEX(données!$A$1:$D$56,MATCH($A20,données!$A$1:$A$56,0),MATCH(AE$1,données!$A$1:$D$1)),0) -> 711.81906 | AF20: 711.81906 | AG20: #DIV/0!
A21: U05 | C21: =IFERROR(INDEX(données!$A$1:$D$56,MATCH($A21,données!$A$1:$A$56,0),MATCH(C$1,données!$A$1:$D$1)),0) -> 43408.62 | D21: 43408.62 | E21: #DIV/0! | G21: =IFERROR(INDEX(données!$A$1:$D$56,MATCH($A21,données!$A$1:$A$56,0),MATCH(G$1,données!$A$1:$D$1)),0) -> 43408.62 | H21: 43408.62 | I21: #DIV/0! | K21: =IFERROR(INDEX(données!$A$1:$D$56,MATCH($A21,données!$A$1:$A$56,0),MATCH(K$1,données!$A$1:$D$1)),0) -> 6095.85 | L21: 6095.85 | M21: #DIV/0! | O21: =IFERROR(INDEX(données!$A$1:$D$56,MATCH($A21,données!$A$1:$A$56,0),MATCH(O$1,données!$A$1:$D$1)),0) -> 6095.85 | P21: 6095.85 | Q21: #DIV/0! | S21: =IFERROR(INDEX(données!$A$1:$D$56,MATCH($A21,données!$A$1:$A$56,0),MATCH(S$1,données!$A$1:$D$1)),0) -> 6095.85 | T21: 6095.85 | U21: #DIV/0! | W21: =IFERROR(INDEX(données!$A$1:$D$56,MATCH($A21,données!$A$1:$A$56,0),MATCH(W$1,données!$A$1:$D$1)),0) -> 6095.85 | X21: 6095.85 | Y21: #DIV/0! | AA21: =IFERROR(INDEX(données!$A$1:$D$56,MATCH($A21,données!$A$1:$A$56,0),MATCH(AA$1,données!$A$1:$D$1)),0) -> 6095.85 | AB21: 6095.85 | AC21: #DIV/0! | AE21: =IFERROR(INDEX(données!$A$1:$D$56,MATCH($A21,données!$A$1:$A$56,0),MATCH(AE$1,données!$A$1:$D$1)),0) -> 20722.409 | AF21: 20722.409 | AG21: #DIV/0!
A22: U40 | C22: =IFERROR(INDEX(données!$A$1:$D$56,MATCH($A22,données!$A$1:$A$56,0),MATCH(C$1,données!$A$1:$D$1)),0) -> 50062.86 | D22: 50062.86 | E22: #DIV/0! | G22: =IFERROR(INDEX(données!$A$1:$D$56,MATCH($A22,données!$A$1:$A$56,0),MATCH(G$1,données!$A$1:$D$1)),0) -> 50062.86 | H22: 50062.86 | I22: #DIV/0! | K22: =IFERROR(INDEX(données!$A$1:$D$56,MATCH($A22,données!$A$1:$A$56,0),MATCH(K$1,données!$A$1:$D$1)),0) -> 6877.24 | L22: 6877.24 | M22: #DIV/0! | O22: =IFERROR(INDEX(données!$A$1:$D$56,MATCH($A22,données!$A$1:$A$56,0),MATCH(O$1,données!$A$1:$D$1)),0) -> 6877.24 | P22: 6877.24 | Q22: #DIV/0! | S22: =IFERROR(INDEX(données!$A$1:$D$56,MATCH($A22,données!$A$1:$A$56,0),MATCH(S$1,données!$A$1:$D$1)),0) -> 6877.24 | T22: 6877.24 | U22: #DIV/0! | W22: =IFERROR(INDEX(données!$A$1:$D$56,MATCH($A22,données!$A$1:$A$56,0),MATCH(W$1,données!$A$1:$D$1)),0) -> 6877.24 | X22: 6877.24 | Y22: #DIV/0! | AA22: =IFERROR(INDEX(données!$A$1:$D$56,MATCH($A22,données!$A$1:$A$56,0),MATCH(AA$1,données!$A$1:$D$1)),0) -> 6877.24 | AB22: 6877.24 | AC22: #DIV/0! | AE22: =IFERROR(INDEX(données!$A$1:$D$56,MATCH($A22,données!$A$1:$A$56,0),MATCH(AE$1,données!$A$1:$D$1)),0) -> 24048.589 | AF22: 24048.589 | AG22: #DIV/0!
A23: U33 | C23: =IFERROR(INDEX(données!$A$1:$D$56,MATCH($A23,données!$A$1:$A$56,0),MATCH(C$1,données!$A$1:$D$1)),0) -> 17783.1 | D23: 17783.1 | E23: #DIV/0! | G23: =IFERROR(INDEX(données!$A$1:$D$56,MATCH($A23,données!$A$1:$A$56,0),MATCH(G$1,données!$A$1:$D$1)),0) -> 17783.1 | H23: 17783.1 | I23: #DIV/0! | K23: =IFERROR(INDEX(données!$A$1:$D$56,MATCH($A23,données!$A$1:$A$56,0),MATCH(K$1,données!$A$1:$D$1)),0) -> 2426.93 | L23: 2426.93 | M23: #DIV/0! | O23: =IFERROR(INDEX(données!$A$1:$D$56,MATCH($A23,données!$A$1:$A$56,0),MATCH(O$1,données!$A$1:$D$1)),0) -> 2426.93 | P23: 2426.93 | Q23: #DIV/0! | S23: =IFERROR(INDEX(données!$A$1:$D$56,MATCH($A23,données!$A$1:$A$56,0),MATCH(S$1,données!$A$1:$D$1)),0) -> 2426.93 | T23: 2426.93 | U23: #DIV/0! | W23: =IFERROR(INDEX(données!$A$1:$D$56,MATCH($A23,données!$A$1:$A$56,0),MATCH(W$1,données!$A$1:$D$1)),0) -> 2426.93 | X23: 2426.93 | Y23: #DIV/0! | AA23: =IFERROR(INDEX(données!$A$1:$D$56,MATCH($A23,données!$A$1:$A$56,0),MATCH(AA$1,données!$A$1:$D$1)),0) -> 2426.93 | AB23: 2426.93 | AC23: #DIV/0! | AE23: =IFERROR(INDEX(données!$A$1:$D$56,MATCH($A23,données!$A$1:$A$56,0),MATCH(AE$1,données!$A$1:$D$1)),0) -> 8221.6534 | AF23: 8221.6534 | AG23: #DIV/0!
A24: U76 | C24: =IFERROR(INDEX(données!$A$1:$D$56,MATCH($A24,données!$A$1:$A$56,0),MATCH(C$1,données!$A$1:$D$1)),0) -> 21357.06 | D24: 21357.06 | E24: #DIV/0! | G24: =IFERROR(INDEX(données!$A$1:$D$56,MATCH($A24,données!$A$1:$A$56,0),MATCH(G$1,données!$A$1:$D$1)),0) -> 21357.06 | H24: 21357.06 | I24: #DIV/0! | K24: =IFERROR(INDEX(données!$A$1:$D$56,MATCH($A24,données!$A$1:$A$56,0),MATCH(K$1,données!$A$1:$D$1)),0) -> 3080.93 | L24: 3080.93 | M24: #DIV/0! | O24: =IFERROR(INDEX(données!$A$1:$D$56,MATCH($A24,données!$A$1:$A$56,0),MATCH(O$1,données!$A$1:$D$1)),0) -> 3080.93 | P24: 3080.93 | Q24: #DIV/0! | S24: =IFERROR(INDEX(données!$A$1:$D$56,MATCH($A24,données!$A$1:$A$56,0),MATCH(S$1,données!$A$1:$D$1)),0) -> 3080.93 | T24: 3080.93 | U24: #DIV/0! | W24: =IFERROR(INDEX(données!$A$1:$D$56,MATCH($A24,données!$A$1:$A$56,0),MATCH(W$1,données!$A$1:$D$1)),0) -> 3080.93 | X24: 3080.93 | Y24: #DIV/0! | AA24: =IFERROR(INDEX(données!$A$1:$D$56,MATCH($A24,données!$A$1:$A$56,0),MATCH(AA$1,données!$A$1:$D$1)),0) -> 3080.93 | AB24: 3080.93 | AC24: #DIV/0! | AE24: =IFERROR(INDEX(données!$A$1:$D$56,MATCH($A24,données!$A$1:$A$56,0),MATCH(AE$1,données!$A$1:$D$1)),0) -> 10758.657 | AF24: 10758.657 | AG24: #DIV/0!
A25: U77 | C25: =IFERROR(INDEX(données!$A$1:$D$56,MATCH($A25,données!$A$1:$A$56,0),MATCH(C$1,données!$A$1:$D$1)),0) -> 13060.14 | D25: 13060.14 | E25: #DIV/0! | G25: =IFERROR(INDEX(données!$A$1:$D$56,MATCH($A25,données!$A$1:$A$56,0),MATCH(G$1,données!$A$1:$D$1)),0) -> 13060.14 | H25: 13060.14 | I25: #DIV/0! | K25: =IFERROR(INDEX(données!$A$1:$D$56,MATCH($A25,données!$A$1:$A$56,0),MATCH(K$1,données!$A$1:$D$1)),0) -> 2097.11 | L25: 2097.11 | M25: #DIV/0! | O25: =IFERROR(INDEX(données!$A$1:$D$56,MATCH($A25,données!$A$1:$A$56,0),MATCH(O$1,données!$A$1:$D$1)),0) -> 2097.11 | P25: 2097.11 | Q25: #DIV/0! | S25: =IFERROR(INDEX(données!$A$1:$D$56,MATCH($A25,données!$A$1:$A$56,0),MATCH(S$1,données!$A$1:$D$1)),0) -> 2097.11 | T25: 2097.11 | U25: #DIV/0! | W25: =IFERROR(INDEX(données!$A$1:$D$56,MATCH($A25,données!$A$1:$A$56,0),MATCH(W$1,données!$A$1:$D$1)),0) -> 2097.11 | X25: 2097.11 | Y25: #DIV/0! | AA25: =IFERROR(INDEX(données!$A$1:$D$56,MATCH($A25,données!$A$1:$A$56,0),MATCH(AA$1,données!$A$1:$D$1)),0) -> 2097.11 | AB25: 2097.11 | AC25: #DIV/0! | AE25: =IFERROR(INDEX(données!$A$1:$D$56,MATCH($A25,données!$A$1:$A$56,0),MATCH(AE$1,données!$A$1:$D$1)),0) -> 6779.3492 | AF25: 6779.3492 | AG25: #DIV/0!
A26: U79 | C26: =IFERROR(INDEX(données!$A$1:$D$56,MATCH($A26,données!$A$1:$A$56,0),MATCH(C$1,données!$A$1:$D$1)),0) -> 11116.3 | D26: 11116.3 | E26: #DIV/0! | G26: =IFERROR(INDEX(données!$A$1:$D$56,MATCH($A26,données!$A$1:$A$56,0),MATCH(G$1,données!$A$1:$D$1)),0) -> 11116.3 | H26: 11116.3 | I26: #DIV/0! | K26: =IFERROR(INDEX(données!$A$1:$D$56,MATCH($A26,données!$A$1:$A$56,0),MATCH(K$1,données!$A$1:$D$1)),0) -> 1752.07 | L26: 1752.07 | M26: #DIV/0! | O26: =IFERROR(INDEX(données!$A$1:$D$56,MATCH($A26,données!$A$1:$A$56,0),MATCH(O$1,données!$A$1:$D$1)),0) -> 1752.07 | P26: 1752.07 | Q26: #DIV/0! | S26: =IFERROR(INDEX(données!$A$1:$D$56,MATCH($A26,données!$A$1:$A$56,0),MATCH(S$1,données!$A$1:$D$1)),0) -> 1752.07 | T26: 1752.07 | U26: #DIV/0! | W26: =IFERROR(INDEX(données!$A$1:$D$56,MATCH($A26,données!$A$1:$A$56,0),MATCH(W$1,données!$A$1:$D$1)),0) -> 1752.07 | X26: 1752.07 | Y26: #DIV/0! | AA26: =IFERROR(INDEX(données!$A$1:$D$56,MATCH($A26,données!$A$1:$A$56,0),MATCH(AA$1,données!$A$1:$D$1)),0) -> 1752.07 | AB26: 1752.07 | AC26: #DIV/0! | AE26: =IFERROR(INDEX(données!$A$1:$D$56,MATCH($A26,données!$A$1:$A$56,0),MATCH(AE$1,données!$A$1:$D$1)),0) -> 5382.4012 | AF26: 5382.4012 | AG26: #DIV/0!
A27: U81 | C27: =IFERROR(INDEX(données!$A$1:$D$56,MATCH($A27,données!$A$1:$A$56,0),MATCH(C$1,données!$A$1:$D$1)),0) -> 28096.61 | D27: 28096.61 | E27: #DIV/0! | G27: =IFERROR(INDEX(données!$A$1:$D$56,MATCH($A27,données!$A$1:$A$56,0),MATCH(G$1,données!$A$1:$D$1)),0) -> 28096.61 | H27: 28096.61 | I27: #DIV/0! | K27: =IFERROR(INDEX(données!$A$1:$D$56,MATCH($A27,données!$A$1:$A$56,0),MATCH(K$1,données!$A$1:$D$1)),0) -> 3941.53 | L27: 3941.53 | M27: #DIV/0! | O27: =IFERROR(INDEX(données!$A$1:$D$56,MATCH($A27,données!$A$1:$A$56,0),MATCH(O$1,données!$A$1:$D$1)),0) -> 3941.53 | P27: 3941.53 | Q27: #DIV/0! | S27: =IFERROR(INDEX(données!$A$1:$D$56,MATCH($A27,données!$A$1:$A$56,0),MATCH(S$1,données!$A$1:$D$1)),0) -> 3941.53 | T27: 3941.53 | U27: #DIV/0! | W27: =IFERROR(INDEX(données!$A$1:$D$56,MATCH($A27,données!$A$1:$A$56,0),MATCH(W$1,données!$A$1:$D$1)),0) -> 3941.53 | X27: 3941.53 | Y27: #DIV/0! | AA27: =IFERROR(INDEX(données!$A$1:$D$56,MATCH($A27,données!$A$1:$A$56,0),MATCH(AA$1,données!$A$1:$D$1)),0) -> 3941.53 | AB27: 3941.53 | AC27: #DIV/0! | AE27: =IFERROR(INDEX(données!$A$1:$D$56,MATCH($A27,données!$A$1:$A$56,0),MATCH(AE$1,données!$A$1:$D$1)),0) -> 13861.046 | AF27: 13861.046 | AG27: #DIV/0!
A28: MG | B28: 0 | C28: =C29+C50+C63 -> 166388.89 | D28: 143118.31 | E28: #DIV/0! | F28: 0 | G28: =G29+G50+G63 -> 166388.89 | H28: 0 | I28: #DIV/0! | J28: 0 | K28: =K29+K50+K63 -> 26182.61 | L28: 22221.1 | M28: #DIV/0! | N28: 0 | O28: =O29+O50+O63 -> 26182.61 | P28: 22221.1 | Q28: #DIV/0! | R28: 0 | S28: =S29+S50+S63 -> 26182.61 | T28: 22221.1 | U28: #DIV/0! | V28: 0 | W28: =W29+W50+W63 -> 26182.61 | X28: 22221.1 | Y28: #DIV/0! | Z28: 0 | AA28: =AA29+AA50+AA63 -> 26182.61 | AB28: 22221.1 | AC28: #DIV/0! | AD28: 0 | AE28: =AE29+AE50+AE63 -> 182067.83 | AF28: 167323.56 | AG28: #DIV/0!
A29: PERMANENT | B29: 0 | C29: =C30+C36+C40+C47 -> 98619.08 | D29: 75348.5 | E29: #DIV/0! | F29: 0 | G29: =G30+G36+G40+G47 -> 98619.08 | H29: 106046.86 | I29: #DIV/0! | J29: 0 | K29: =K30+K36+K40+K47 -> 15865.66 | L29: 11904.15 | M29: #DIV/0! | N29: 0 | O29: =O30+O36+O40+O47 -> 15865.66 | P29: 11904.15 | Q29: #DIV/0! | R29: 0 | S29: =S30+S36+S40+S47 -> 15865.66 | T29: 11904.15 | U29: #DIV/0! | V29: 0 | W29: =W30+W36+W40+W47 -> 15865.66 | X29: 11904.15 | Y29: #DIV/0! | Z29: 0 | AA29: =AA30+AA36+AA40+AA47 -> 15865.66 | AB29: 11904.15 | AC29: #DIV/0! | AD29: 0 | AE29: =AE30+AE36+AE40+AE47 -> 94196.889 | AF29: 79452.624 | AG29: #DIV/0!
A30: LOISIRS | B30: 0 | C30: =SUM(C31:C35) -> 23270.58 | D30: 0 | E30: #DIV/0! | F30: 0 | G30: =SUM(G31:G35) -> 23270.58 | H30: 51611.6 | I30: #DIV/0! | J30: 0 | K30: =SUM(K31:K35) -> 3961.51 | L30: 0 | M30: #DIV/0! | N30: 0 | O30: =SUM(O31:O35) -> 3961.51 | P30: 0 | Q30: #DIV/0! | R30: 0 | S30: =SUM(S31:S35) -> 3961.51 | T30: 0 | U30: #DIV/0! | V30: 0 | W30: =SUM(W31:W35) -> 3961.51 | X30: 0 | Y30: #DIV/0! | Z30: 0 | AA30: =SUM(AA31:AA35) -> 3961.51 | AB30: 0 | AC30: #DIV/0! | AD30: 0 | AE30: =SUM(AE31:AE35) -> 14744.265 | AF30: 0 | AG30: #DIV/0!
A31: U06 | C31: =IFERROR(INDEX(données!$A$1:$D$56,MATCH($A31,données!$A$1:$A$56,0),MATCH(C$1,données!$A$1:$D$1)),0) -> 7063.73 | D31: 7063.73 | E31: #DIV/0! | G31: =IFERROR(INDEX(données!$A$1:$D$56,MATCH($A31,données!$A$1:$A$56,0),MATCH(G$1,données!$A$1:$D$1)),0) -> 7063.73 | H31: 7063.73 | I31: #DIV/0! | K31: =IFERROR(INDEX(données!$A$1:$D$56,MATCH($A31,données!$A$1:$A$56,0),MATCH(K$1,données!$A$1:$D$1)),0) -> 1219.07 | L31: 1219.07 | M31: #DIV/0! | O31: =IFERROR(INDEX(données!$A$1:$D$56,MATCH($A31,données!$A$1:$A$56,0),MATCH(O$1,données!$A$1:$D$1)),0) -> 1219.07 | P31: 1219.07 | Q31: #DIV/0! | S31: =IFERROR(INDEX(données!$A$1:$D$56,MATCH($A31,données!$A$1:$A$56,0),MATCH(S$1,données!$A$1:$D$1)),0) -> 1219.07 | T31: 1219.07 | U31: #DIV/0! | W31: =IFERROR(INDEX(données!$A$1:$D$56,MATCH($A31,données!$A$1:$A$56,0),MATCH(W$1,données!$A$1:$D$1)),0) -> 1219.07 | X31: 1219.07 | Y31: #DIV/0! | AA31: =IFERROR(INDEX(données!$A$1:$D$56,MATCH($A31,données!$A$1:$A$56,0),MATCH(AA$1,données!$A$1:$D$1)),0) -> 1219.07 | AB31: 1219.07 | AC31: #DIV/0! | AE31: =IFERROR(INDEX(données!$A$1:$D$56,MATCH($A31,données!$A$1:$A$56,0),MATCH(AE$1,données!$A$1:$D$1)),0) -> 4777.1573 | AF31: 4777.1573 | AG31: #DIV/0!
A32: U39 | C32: =IFERROR(INDEX(données!$A$1:$D$56,MATCH($A32,données!$A$1:$A$56,0),MATCH(C$1,données!$A$1:$D$1)),0) -> 6946.65 | D32: 6946.65 | E32: #DIV/0! | G32: =IFERROR(INDEX(données!$A$1:$D$56,MATCH($A32,données!$A$1:$A$56,0),MATCH(G$1,données!$A$1:$D$1)),0) -> 6946.65 | H32: 6946.65 | I32: #DIV/0! | K32: =IFERROR(INDEX(données!$A$1:$D$56,MATCH($A32,données!$A$1:$A$56,0),MATCH(K$1,données!$A$1:$D$1)),0) -> 1065.06 | L32: 1065.06 | M32: #DIV/0! | O32: =IFERROR(INDEX(données!$A$1:$D$56,MATCH($A32,données!$A$1:$A$56,0),MATCH(O$1,données!$A$1:$D$1)),0) -> 1065.06 | P32: 1065.06 | Q32: #DIV/0! | S32: =IFERROR(INDEX(données!$A$1:$D$56,MATCH($A32,données!$A$1:$A$56,0),MATCH(S$1,données!$A$1:$D$1)),0) -> 1065.06 | T32: 1065.06 | U32: #DIV/0! | W32: =IFERROR(INDEX(données!$A$1:$D$56,MATCH($A32,données!$A$1:$A$56,0),MATCH(W$1,données!$A$1:$D$1)),0) -> 1065.06 | X32: 1065.06 | Y32: #DIV/0! | AA32: =IFERROR(INDEX(données!$A$1:$D$56,MATCH($A32,données!$A$1:$A$56,0),MATCH(AA$1,données!$A$1:$D$1)),0) -> 1065.06 | AB32: 1065.06 | AC32: #DIV/0! | AE32: =IFERROR(INDEX(données!$A$1:$D$56,MATCH($A32,données!$A$1:$A$56,0),MATCH(AE$1,données!$A$1:$D$1)),0) -> 4396.3353 | AF32: 4396.3353 | AG32: #DIV/0!
A33: U41 | C33: =IFERROR(INDEX(données!$A$1:$D$56,MATCH($A33,données!$A$1:$A$56,0),MATCH(C$1,données!$A$1:$D$1)),0) -> 3889.9 | D33: 3889.9 | E33: #DIV/0! | G33: =IFERROR(INDEX(données!$A$1:$D$56,MATCH($A33,données!$A$1:$A$56,0),MATCH(G$1,données!$A$1:$D$1)),0) -> 3889.9 | H33: 3889.9 | I33: #DIV/0! | K33: =IFERROR(INDEX(données!$A$1:$D$56,MATCH($A33,données!$A$1:$A$56,0),MATCH(K$1,données!$A$1:$D$1)),0) -> 604.47 | L33: 604.47 | M33: #DIV/0! | O33: =IFERROR(INDEX(données!$A$1:$D$56,MATCH($A33,données!$A$1:$A$56,0),MATCH(O$1,données!$A$1:$D$1)),0) -> 604.47 | P33: 604.47 | Q33: #DIV/0! | S33: =IFERROR(INDEX(données!$A$1:$D$56,MATCH($A33,données!$A$1:$A$56,0),MATCH(S$1,données!$A$1:$D$1)),0) -> 604.47 | T33: 604.47 | U33: #DIV/0! | W33: =IFERROR(INDEX(données!$A$1:$D$56,MATCH($A33,données!$A$1:$A$56,0),MATCH(W$1,données!$A$1:$D$1)),0) -> 604.47 | X33: 604.47 | Y33: #DIV/0! | AA33: =IFERROR(INDEX(données!$A$1:$D$56,MATCH($A33,données!$A$1:$A$56,0),MATCH(AA$1,données!$A$1:$D$1)),0) -> 604.47 | AB33: 604.47 | AC33: #DIV/0! | AE33: =IFERROR(INDEX(données!$A$1:$D$56,MATCH($A33,données!$A$1:$A$56,0),MATCH(AE$1,données!$A$1:$D$1)),0) -> 1902.094 | AF33: 1902.094 | AG33: #DIV/0!
A34: U44 | C34: =IFERROR(INDEX(données!$A$1:$D$56,MATCH($A34,données!$A$1:$A$56,0),MATCH(C$1,données!$A$1:$D$1)),0) -> 4135.5 | D34: 4135.5 | E34: #DIV/0! | G34: =IFERROR(INDEX(données!$A$1:$D$56,MATCH($A34,données!$A$1:$A$56,0),MATCH(G$1,données!$A$1:$D$1)),0) -> 4135.5 | H34: 4135.5 | I34: #DIV/0! | K34: =IFERROR(INDEX(données!$A$1:$D$56,MATCH($A34,données!$A$1:$A$56,0),MATCH(K$1,données!$A$1:$D$1)),0) -> 888.7 | L34: 888.7 | M34: #DIV/0! | O34: =IFERROR(INDEX(données!$A$1:$D$56,MATCH($A34,données!$A$1:$A$56,0),MATCH(O$1,données!$A$1:$D$1)),0) -> 888.7 | P34: 888.7 | Q34: #DIV/0! | S34: =IFERROR(INDEX(données!$A$1:$D$56,MATCH($A34,données!$A$1:$A$56,0),MATCH(S$1,données!$A$1:$D$1)),0) -> 888.7 | T34: 888.7 | U34: #DIV/0! | W34: =IFERROR(INDEX(données!$A$1:$D$56,MATCH($A34,données!$A$1:$A$56,0),MATCH(W$1,données!$A$1:$D$1)),0) -> 888.7 | X34: 888.7 | Y34: #DIV/0! | AA34: =IFERROR(INDEX(données!$A$1:$D$56,MATCH($A34,données!$A$1:$A$56,0),MATCH(AA$1,données!$A$1:$D$1)),0) -> 888.7 | AB34: 888.7 | AC34: #DIV/0! | AE34: =IFERROR(INDEX(données!$A$1:$D$56,MATCH($A34,données!$A$1:$A$56,0),MATCH(AE$1,données!$A$1:$D$1)),0) -> 3084.765 | AF34: 3084.765 | AG34: #DIV/0!
A35: U82 | C35: =IFERROR(INDEX(données!$A$1:$D$56,MATCH($A35,données!$A$1:$A$56,0),MATCH(C$1,données!$A$1:$D$1)),0) -> 1234.8 | D35: 1234.8 | E35: #DIV/0! | G35: =IFERROR(INDEX(données!$A$1:$D$56,MATCH($A35,données!$A$1:$A$56,0),MATCH(G$1,données!$A$1:$D$1)),0) -> 1234.8 | H35: 1234.8 | I35: #DIV/0! | K35: =IFERROR(INDEX(données!$A$1:$D$56,MATCH($A35,données!$A$1:$A$56,0),MATCH(K$1,données!$A$1:$D$1)),0) -> 184.21 | L35: 184.21 | M35: #DIV/0! | O35: =IFERROR(INDEX(données!$A$1:$D$56,MATCH($A35,données!$A$1:$A$56,0),MATCH(O$1,données!$A$1:$D$1)),0) -> 184.21 | P35: 184.21 | Q35: #DIV/0! | S35: =IFERROR(INDEX(données!$A$1:$D$56,MATCH($A35,données!$A$1:$A$56,0),MATCH(S$1,données!$A$1:$D$1)),0) -> 184.21 | T35: 184.21 | U35: #DIV/0! | W35: =IFERROR(INDEX(données!$A$1:$D$56,MATCH($A35,données!$A$1:$A$56,0),MATCH(W$1,données!$A$1:$D$1)),0) -> 184.21 | X35: 184.21 | Y35: #DIV/0! | AA35: =IFERROR(INDEX(données!$A$1:$D$56,MATCH($A35,données!$A$1:$A$56,0),MATCH(AA$1,données!$A$1:$D$1)),0) -> 184.21 | AB35: 184.21 | AC35: #DIV/0! | AE35: =IFERROR(INDEX(données!$A$1:$D$56,MATCH($A35,données!$A$1:$A$56,0),MATCH(AE$1,données!$A$1:$D$1)),0) -> 583.91339 | AF35: 583.91339 | AG35: #DIV/0!
A36: MAISON | B36: 0 | C36: =SUM(C37:C39) -> 41145.12 | D36: 41145.12 | E36: #DIV/0! | F36: 0 | G36: =SUM(G37:G39) -> 41145.12 | H36: 0 | I36: #DIV/0! | J36: 0 | K36: =SUM(K37:K39) -> 6544.55 | L36: 6544.55 | M36: #DIV/0! | N36: 0 | O36: =SUM(O37:O39) -> 6544.55 | P36: 6544.55 | Q36: #DIV/0! | R36: 0 | S36: =SUM(S37:S39) -> 6544.55 | T36: 6544.55 | U36: #DIV/0! | V36: 0 | W36: =SUM(W37:W39) -> 6544.55 | X36: 6544.55 | Y36: #DIV/0! | Z36: 0 | AA36: =SUM(AA37:AA39) -> 6544.55 | AB36: 6544.55 | AC36: #DIV/0! | AD36: 0 | AE36: =SUM(AE37:AE39) -> 50818.648 | AF36: 50818.648 | AG36: #DIV/0!
A37: U07 | C37: =IFERROR(INDEX(données!$A$1:$D$56,MATCH($A37,données!$A$1:$A$56,0),MATCH(C$1,données!$A$1:$D$1)),0) -> 15491.34 | D37: 15491.34 | E37: #DIV/0! | G37: =IFERROR(INDEX(données!$A$1:$D$56,MATCH($A37,données!$A$1:$A$56,0),MATCH(G$1,données!$A$1:$D$1)),0) -> 15491.34 | H37: 25653.78 | I37: #DIV/0! | K37: =IFERROR(INDEX(données!$A$1:$D$56,MATCH($A37,données!$A$1:$A$56,0),MATCH(K$1,données!$A$1:$D$1)),0) -> 2486.51 | L37: 2486.51 | M37: #DIV/0! | O37: =IFERROR(INDEX(données!$A$1:$D$56,MATCH($A37,données!$A$1:$A$56,0),MATCH(O$1,données!$A$1:$D$1)),0) -> 2486.51 | P37: 2486.51 | Q37: #DIV/0! | S37: =IFERROR(INDEX(données!$A$1:$D$56,MATCH($A37,données!$A$1:$A$56,0),MATCH(S$1,données!$A$1:$D$1)),0) -> 2486.51 | T37: 2486.51 | U37: #DIV/0! | W37: =IFERROR(INDEX(données!$A$1:$D$56,MATCH($A37,données!$A$1:$A$56,0),MATCH(W$1,données!$A$1:$D$1)),0) -> 2486.51 | X37: 2486.51 | Y37: #DIV/0! | AA37: =IFERROR(INDEX(données!$A$1:$D$56,MATCH($A37,données!$A$1:$A$56,0),MATCH(AA$1,données!$A$1:$D$1)),0) -> 2486.51 | AB37: 2486.51 | AC37: #DIV/0! | AE37: =IFERROR(INDEX(données!$A$1:$D$56,MATCH($A37,données!$A$1:$A$56,0),MATCH(AE$1,données!$A$1:$D$1)),0) -> 13566.963 | AF37: 13566.963 | AG37: #DIV/0!
A38: U26 | C38: =IFERROR(INDEX(données!$A$1:$D$56,MATCH($A38,données!$A$1:$A$56,0),MATCH(C$1,données!$A$1:$D$1)),0) -> 7137.92 | D38: 7137.92 | E38: #DIV/0! | G38: =IFERROR(INDEX(données!$A$1:$D$56,MATCH($A38,données!$A$1:$A$56,0),MATCH(G$1,données!$A$1:$D$1)),0) -> 7137.92 | H38: 7137.92 | I38: #DIV/0! | K38: =IFERROR(INDEX(données!$A$1:$D$56,MATCH($A38,données!$A$1:$A$56,0),MATCH(K$1,données!$A$1:$D$1)),0) -> 1260.12 | L38: 1260.12 | M38: #DIV/0! | O38: =IFERROR(INDEX(données!$A$1:$D$56,MATCH($A38,données!$A$1:$A$56,0),MATCH(O$1,données!$A$1:$D$1)),0) -> 1260.12 | P38: 1260.12 | Q38: #DIV/0! | S38: =IFERROR(INDEX(données!$A$1:$D$56,MATCH($A38,données!$A$1:$A$56,0),MATCH(S$1,données!$A$1:$D$1)),0) -> 1260.12 | T38: 1260.12 | U38: #DIV/0! | W38: =IFERROR(INDEX(données!$A$1:$D$56,MATCH($A38,données!$A$1:$A$56,0),MATCH(W$1,données!$A$1:$D$1)),0) -> 1260.12 | X38: 1260.12 | Y38: #DIV/0! | AA38: =IFERROR(INDEX(données!$A$1:$D$56,MATCH($A38,données!$A$1:$A$56,0),MATCH(AA$1,données!$A$1:$D$1)),0) -> 1260.12 | AB38: 1260.12 | AC38: #DIV/0! | AE38: =IFERROR(INDEX(données!$A$1:$D$56,MATCH($A38,données!$A$1:$A$56,0),MATCH(AE$1,données!$A$1:$D$1)),0) -> 12845.889 | AF38: 12845.889 | AG38: #DIV/0!
A39: U46 | C39: =IFERROR(INDEX(données!$A$1:$D$56,MATCH($A39,données!$A$1:$A$56,0),MATCH(C$1,données!$A$1:$D$1)),0) -> 18515.86 | D39: 18515.86 | E39: #DIV/0! | G39: =IFERROR(INDEX(données!$A$1:$D$56,MATCH($A39,données!$A$1:$A$56,0),MATCH(G$1,données!$A$1:$D$1)),0) -> 18515.86 | H39: 18515.86 | I39: #DIV/0! | K39: =IFERROR(INDEX(données!$A$1:$D$56,MATCH($A39,données!$A$1:$A$56,0),MATCH(K$1,données!$A$1:$D$1)),0) -> 2797.92 | L39: 2797.92 | M39: #DIV/0! | O39: =IFERROR(INDEX(données!$A$1:$D$56,MATCH($A39,données!$A$1:$A$56,0),MATCH(O$1,données!$A$1:$D$1)),0) -> 2797.92 | P39: 2797.92 | Q39: #DIV/0! | S39: =IFERROR(INDEX(données!$A$1:$D$56,MATCH($A39,données!$A$1:$A$56,0),MATCH(S$1,données!$A$1:$D$1)),0) -> 2797.92 | T39: 2797.92 | U39: #DIV/0! | W39: =IFERROR(INDEX(données!$A$1:$D$56,MATCH($A39,données!$A$1:$A$56,0),MATCH(W$1,données!$A$1:$D$1)),0) -> 2797.92 | X39: 2797.92 | Y39: #DIV/0! | AA39: =IFERROR(INDEX(données!$A$1:$D$56,MATCH($A39,données!$A$1:$A$56,0),MATCH(AA$1,données!$A$1:$D$1)),0) -> 2797.92 | AB39: 2797.92 | AC39: #DIV/0! | AE39: =IFERROR(INDEX(données!$A$1:$D$56,MATCH($A39,données!$A$1:$A$56,0),MATCH(AE$1,données!$A$1:$D$1)),0) -> 24405.796 | AF39: 24405.796 | AG39: #DIV/0!
A40: MULTIMEDIA | B40: 0 | C40: =SUM(C41:C46) -> 17276.42 | D40: 17276.42 | E40: #DIV/0! | F40: 0 | G40: =SUM(G41:G46) -> 17276.42 | H40: 0 | I40: #DIV/0! | J40: 0 | K40: =SUM(K41:K46) -> 2689.22 | L40: 2689.22 | M40: #DIV/0! | N40: 0 | O40: =SUM(O41:O46) -> 2689.22 | P40: 2689.22 | Q40: #DIV/0! | R40: 0 | S40: =SUM(S41:S46) -> 2689.22 | T40: 2689.22 | U40: #DIV/0! | V40: 0 | W40: =SUM(W41:W46) -> 2689.22 | X40: 2689.22 | Y40: #DIV/0! | Z40: 0 | AA40: =SUM(AA41:AA46) -> 2689.22 | AB40: 2689.22 | AC40: #DIV/0! | AD40: 0 | AE40: =SUM(AE41:AE46) -> 9573.4647 | AF40: 9573.4647 | AG40: #DIV/0!
A41: U12 | C41: =IFERROR(INDEX(données!$A$1:$D$56,MATCH($A41,données!$A$1:$A$56,0),MATCH(C$1,données!$A$1:$D$1)),0) -> 1144.21 | D41: 1144.21 | E41: #DIV/0! | G41: =IFERROR(INDEX(données!$A$1:$D$56,MATCH($A41,données!$A$1:$A$56,0),MATCH(G$1,données!$A$1:$D$1)),0) -> 1144.21 | H41: 16132.21 | I41: #DIV/0! | K41: =IFERROR(INDEX(données!$A$1:$D$56,MATCH($A41,données!$A$1:$A$56,0),MATCH(K$1,données!$A$1:$D$1)),0) -> 244.53 | L41: 244.53 | M41: #DIV/0! | O41: =IFERROR(INDEX(données!$A$1:$D$56,MATCH($A41,données!$A$1:$A$56,0),MATCH(O$1,données!$A$1:$D$1)),0) -> 244.53 | P41: 244.53 | Q41: #DIV/0! | S41: =IFERROR(INDEX(données!$A$1:$D$56,MATCH($A41,données!$A$1:$A$56,0),MATCH(S$1,données!$A$1:$D$1)),0) -> 244.53 | T41: 244.53 | U41: #DIV/0! | W41: =IFERROR(INDEX(données!$A$1:$D$56,MATCH($A41,données!$A$1:$A$56,0),MATCH(W$1,données!$A$1:$D$1)),0) -> 244.53 | X41: 244.53 | Y41: #DIV/0! | AA41: =IFERROR(INDEX(données!$A$1:$D$56,MATCH($A41,données!$A$1:$A$56,0),MATCH(AA$1,données!$A$1:$D$1)),0) -> 244.53 | AB41: 244.53 | AC41: #DIV/0! | AE41: =IFERROR(INDEX(données!$A$1:$D$56,MATCH($A41,données!$A$1:$A$56,0),MATCH(AE$1,données!$A$1:$D$1)),0) -> 635.75889 | AF41: 635.75889 | AG41: #DIV/0!
A42: U49 | C42: =IFERROR(INDEX(données!$A$1:$D$56,MATCH($A42,données!$A$1:$A$56,0),MATCH(C$1,données!$A$1:$D$1)),0) -> 1226.78 | D42: 1226.78 | E42: #DIV/0! | G42: =IFERROR(INDEX(données!$A$1:$D$56,MATCH($A42,données!$A$1:$A$56,0),MATCH(G$1,données!$A$1:$D$1)),0) -> 1226.78 | H42: 1226.78 | I42: #DIV/0! | K42: =IFERROR(INDEX(données!$A$1:$D$56,MATCH($A42,données!$A$1:$A$56,0),MATCH(K$1,données!$A$1:$D$1)),0) -> 217.58 | L42: 217.58 | M42: #DIV/0! | O42: =IFERROR(INDEX(données!$A$1:$D$56,MATCH($A42,données!$A$1:$A$56,0),MATCH(O$1,données!$A$1:$D$1)),0) -> 217.58 | P42: 217.58 | Q42: #DIV/0! | S42: =IFERROR(INDEX(données!$A$1:$D$56,MATCH($A42,données!$A$1:$A$56,0),MATCH(S$1,données!$A$1:$D$1)),0) -> 217.58 | T42: 217.58 | U42: #DIV/0! | W42: =IFERROR(INDEX(données!$A$1:$D$56,MATCH($A42,données!$A$1:$A$56,0),MATCH(W$1,données!$A$1:$D$1)),0) -> 217.58 | X42: 217.58 | Y42: #DIV/0! | AA42: =IFERROR(INDEX(données!$A$1:$D$56,MATCH($A42,données!$A$1:$A$56,0),MATCH(AA$1,données!$A$1:$D$1)),0) -> 217.58 | AB42: 217.58 | AC42: #DIV/0! | AE42: =IFERROR(INDEX(données!$A$1:$D$56,MATCH($A42,données!$A$1:$A$56,0),MATCH(AE$1,données!$A$1:$D$1)),0) -> 764.20673 | AF42: 764.20673 | AG42: #DIV/0!
A43: U50 | C43: =IFERROR(INDEX(données!$A$1:$D$56,MATCH($A43,données!$A$1:$A$56,0),MATCH(C$1,données!$A$1:$D$1)),0) -> 3274.35 | D43: 3274.35 | E43: #DIV/0! | G43: =IFERROR(INDEX(données!$A$1:$D$56,MATCH($A43,données!$A$1:$A$56,0),MATCH(G$1,données!$A$1:$D$1)),0) -> 3274.35 | H43: 3274.35 | I43: #DIV/0! | K43: =IFERROR(INDEX(données!$A$1:$D$56,MATCH($A43,données!$A$1:$A$56,0),MATCH(K$1,données!$A$1:$D$1)),0) -> 506.92 | L43: 506.92 | M43: #DIV/0! | O43: =IFERROR(INDEX(données!$A$1:$D$56,MATCH($A43,données!$A$1:$A$56,0),MATCH(O$1,données!$A$1:$D$1)),0) -> 506.92 | P43: 506.92 | Q43: #DIV/0! | S43: =IFERROR(INDEX(données!$A$1:$D$56,MATCH($A43,données!$A$1:$A$56,0),MATCH(S$1,données!$A$1:$D$1)),0) -> 506.92 | T43: 506.92 | U43: #DIV/0! | W43: =IFERROR(INDEX(données!$A$1:$D$56,MATCH($A43,données!$A$1:$A$56,0),MATCH(W$1,données!$A$1:$D$1)),0) -> 506.92 | X43: 506.92 | Y43: #DIV/0! | AA43: =IFERROR(INDEX(données!$A$1:$D$56,MATCH($A43,données!$A$1:$A$56,0),MATCH(AA$1,données!$A$1:$D$1)),0) -> 506.92 | AB43: 506.92 | AC43: #DIV/0! | AE43: =IFERROR(INDEX(données!$A$1:$D$56,MATCH($A43,données!$A$1:$A$56,0),MATCH(AE$1,données!$A$1:$D$1)),0) -> 2665.7987 | AF43: 2665.7987 | AG43: #DIV/0!
A44: U54 | C44: =IFERROR(INDEX(données!$A$1:$D$56,MATCH($A44,données!$A$1:$A$56,0),MATCH(C$1,données!$A$1:$D$1)),0) -> 2440.67 | D44: 2440.67 | E44: #DIV/0! | G44: =IFERROR(INDEX(données!$A$1:$D$56,MATCH($A44,données!$A$1:$A$56,0),MATCH(G$1,données!$A$1:$D$1)),0) -> 2440.67 | H44: 2440.67 | I44: #DIV/0! | K44: =IFERROR(INDEX(données!$A$1:$D$56,MATCH($A44,données!$A$1:$A$56,0),MATCH(K$1,données!$A$1:$D$1)),0) -> 366.69 | L44: 366.69 | M44: #DIV/0! | O44: =IFERROR(INDEX(données!$A$1:$D$56,MATCH($A44,données!$A$1:$A$56,0),MATCH(O$1,données!$A$1:$D$1)),0) -> 366.69 | P44: 366.69 | Q44: #DIV/0! | S44: =IFERROR(INDEX(données!$A$1:$D$56,MATCH($A44,données!$A$1:$A$56,0),MATCH(S$1,données!$A$1:$D$1)),0) -> 366.69 | T44: 366.69 | U44: #DIV/0! | W44: =IFERROR(INDEX(données!$A$1:$D$56,MATCH($A44,données!$A$1:$A$56,0),MATCH(W$1,données!$A$1:$D$1)),0) -> 366.69 | X44: 366.69 | Y44: #DIV/0! | AA44: =IFERROR(INDEX(données!$A$1:$D$56,MATCH($A44,données!$A$1:$A$56,0),MATCH(AA$1,données!$A$1:$D$1)),0) -> 366.69 | AB44: 366.69 | AC44: #DIV/0! | AE44: =IFERROR(INDEX(données!$A$1:$D$56,MATCH($A44,données!$A$1:$A$56,0),MATCH(AE$1,données!$A$1:$D$1)),0) -> 983.87187 | AF44: 983.87187 | AG44: #DIV/0!
A45: U55 | C45: =IFERROR(INDEX(données!$A$1:$D$56,MATCH($A45,données!$A$1:$A$56,0),MATCH(C$1,données!$A$1:$D$1)),0) -> 3286.64 | D45: 3286.64 | E45: #DIV/0! | G45: =IFERROR(INDEX(données!$A$1:$D$56,MATCH($A45,données!$A$1:$A$56,0),MATCH(G$1,données!$A$1:$D$1)),0) -> 3286.64 | H45: 3286.64 | I45: #DIV/0! | K45: =IFERROR(INDEX(données!$A$1:$D$56,MATCH($A45,données!$A$1:$A$56,0),MATCH(K$1,données!$A$1:$D$1)),0) -> 526.15 | L45: 526.15 | M45: #DIV/0! | O45: =IFERROR(INDEX(données!$A$1:$D$56,MATCH($A45,données!$A$1:$A$56,0),MATCH(O$1,données!$A$1:$D$1)),0) -> 526.15 | P45: 526.15 | Q45: #DIV/0! | S45: =IFERROR(INDEX(données!$A$1:$D$56,MATCH($A45,données!$A$1:$A$56,0),MATCH(S$1,données!$A$1:$D$1)),0) -> 526.15 | T45: 526.15 | U45: #DIV/0! | W45: =IFERROR(INDEX(données!$A$1:$D$56,MATCH($A45,données!$A$1:$A$56,0),MATCH(W$1,données!$A$1:$D$1)),0) -> 526.15 | X45: 526.15 | Y45: #DIV/0! | AA45: =IFERROR(INDEX(données!$A$1:$D$56,MATCH($A45,données!$A$1:$A$56,0),MATCH(AA$1,données!$A$1:$D$1)),0) -> 526.15 | AB45: 526.15 | AC45: #DIV/0! | AE45: =IFERROR(INDEX(données!$A$1:$D$56,MATCH($A45,données!$A$1:$A$56,0),MATCH(AE$1,données!$A$1:$D$1)),0) -> 1920.9059 | AF45: 1920.9059 | AG45: #DIV/0!
A46: U58 | C46: =IFERROR(INDEX(données!$A$1:$D$56,MATCH($A46,données!$A$1:$A$56,0),MATCH(C$1,données!$A$1:$D$1)),0) -> 5903.77 | D46: 5903.77 | E46: #DIV/0! | G46: =IFERROR(INDEX(données!$A$1:$D$56,MATCH($A46,données!$A$1:$A$56,0),MATCH(G$1,données!$A$1:$D$1)),0) -> 5903.77 | H46: 5903.77 | I46: #DIV/0! | K46: =IFERROR(INDEX(données!$A$1:$D$56,MATCH($A46,données!$A$1:$A$56,0),MATCH(K$1,données!$A$1:$D$1)),0) -> 827.35 | L46: 827.35 | M46: #DIV/0! | O46: =IFERROR(INDEX(données!$A$1:$D$56,MATCH($A46,données!$A$1:$A$56,0),MATCH(O$1,données!$A$1:$D$1)),0) -> 827.35 | P46: 827.35 | Q46: #DIV/0! | S46: =IFERROR(INDEX(données!$A$1:$D$56,MATCH($A46,données!$A$1:$A$56,0),MATCH(S$1,données!$A$1:$D$1)),0) -> 827.35 | T46: 827.35 | U46: #DIV/0! | W46: =IFERROR(INDEX(données!$A$1:$D$56,MATCH($A46,données!$A$1:$A$56,0),MATCH(W$1,données!$A$1:$D$1)),0) -> 827.35 | X46: 827.35 | Y46: #DIV/0! | AA46: =IFERROR(INDEX(données!$A$1:$D$56,MATCH($A46,données!$A$1:$A$56,0),MATCH(AA$1,données!$A$1:$D$1)),0) -> 827.35 | AB46: 827.35 | AC46: #DIV/0! | AE46: =IFERROR(INDEX(données!$A$1:$D$56,MATCH($A46,données!$A$1:$A$56,0),MATCH(AE$1,données!$A$1:$D$1)),0) -> 2602.9226 | AF46: 2602.9226 | AG46: #DIV/0!
A47: TEXTILE | B47: 0 | C47: =SUM(C48:C49) -> 16926.96 | D47: 16926.96 | E47: #DIV/0! | F47: 0 | G47: =SUM(G48:G49) -> 16926.96 | H47: 0 | I47: #DIV/0! | J47: 0 | K47: =SUM(K48:K49) -> 2670.38 | L47: 2670.38 | M47: #DIV/0! | N47: 0 | O47: =SUM(O48:O49) -> 2670.38 | P47: 2670.38 | Q47: #DIV/0! | R47: 0 | S47: =SUM(S48:S49) -> 2670.38 | T47: 2670.38 | U47: #DIV/0! | V47: 0 | W47: =SUM(W48:W49) -> 2670.38 | X47: 2670.38 | Y47: #DIV/0! | Z47: 0 | AA47: =SUM(AA48:AA49) -> 2670.38 | AB47: 2670.38 | AC47: #DIV/0! | AD47: 0 | AE47: =SUM(AE48:AE49) -> 19060.512 | AF47: 19060.512 | AG47: #DIV/0!
A48: U27 | C48: =IFERROR(INDEX(données!$A$1:$D$56,MATCH($A48,données!$A$1:$A$56,0),MATCH(C$1,données!$A$1:$D$1)),0) -> 14165.08 | D48: 14165.08 | E48: #DIV/0! | G48: =IFERROR(INDEX(données!$A$1:$D$56,MATCH($A48,données!$A$1:$A$56,0),MATCH(G$1,données!$A$1:$D$1)),0) -> 14165.08 | H48: 2761.88 | I48: #DIV/0! | K48: =IFERROR(INDEX(données!$A$1:$D$56,MATCH($A48,données!$A$1:$A$56,0),MATCH(K$1,données!$A$1:$D$1)),0) -> 2177.29 | L48: 2177.29 | M48: #DIV/0! | O48: =IFERROR(INDEX(données!$A$1:$D$56,MATCH($A48,données!$A$1:$A$56,0),MATCH(O$1,données!$A$1:$D$1)),0) -> 2177.29 | P48: 2177.29 | Q48: #DIV/0! | S48: =IFERROR(INDEX(données!$A$1:$D$56,MATCH($A48,données!$A$1:$A$56,0),MATCH(S$1,données!$A$1:$D$1)),0) -> 2177.29 | T48: 2177.29 | U48: #DIV/0! | W48: =IFERROR(INDEX(données!$A$1:$D$56,MATCH($A48,données!$A$1:$A$56,0),MATCH(W$1,données!$A$1:$D$1)),0) -> 2177.29 | X48: 2177.29 | Y48: #DIV/0! | AA48: =IFERROR(INDEX(données!$A$1:$D$56,MATCH($A48,données!$A$1:$A$56,0),MATCH(AA$1,données!$A$1:$D$1)),0) -> 2177.29 | AB48: 2177.29 | AC48: #DIV/0! | AE48: =IFERROR(INDEX(données!$A$1:$D$56,MATCH($A48,données!$A$1:$A$56,0),MATCH(AE$1,données!$A$1:$D$1)),0) -> 17373.322 | AF48: 17373.322 | AG48: #DIV/0!
A49: U59 | C49: =IFERROR(INDEX(données!$A$1:$D$56,MATCH($A49,données!$A$1:$A$56,0),MATCH(C$1,données!$A$1:$D$1)),0) -> 2761.88 | D49: 2761.88 | E49: #DIV/0! | G49: =IFERROR(INDEX(données!$A$1:$D$56,MATCH($A49,données!$A$1:$A$56,0),MATCH(G$1,données!$A$1:$D$1)),0) -> 2761.88 | H49: 2761.88 | I49: #DIV/0! | K49: =IFERROR(INDEX(données!$A$1:$D$56,MATCH($A49,données!$A$1:$A$56,0),MATCH(K$1,données!$A$1:$D$1)),0) -> 493.09 | L49: 493.09 | M49: #DIV/0! | O49: =IFERROR(INDEX(données!$A$1:$D$56,MATCH($A49,données!$A$1:$A$56,0),MATCH(O$1,données!$A$1:$D$1)),0) -> 493.09 | P49: 493.09 | Q49: #DIV/0! | S49: =IFERROR(INDEX(données!$A$1:$D$56,MATCH($A49,données!$A$1:$A$56,0),MATCH(S$1,données!$A$1:$D$1)),0) -> 493.09 | T49: 493.09 | U49: #DIV/0! | W49: =IFERROR(INDEX(données!$A$1:$D$56,MATCH($A49,données!$A$1:$A$56,0),MATCH(W$1,données!$A$1:$D$1)),0) -> 493.09 | X49: 493.09 | Y49: #DIV/0! | AA49: =IFERROR(INDEX(données!$A$1:$D$56,MATCH($A49,données!$A$1:$A$56,0),MATCH(AA$1,données!$A$1:$D$1)),0) -> 493.09 | AB49: 493.09 | AC49: #DIV/0! | AE49: =IFERROR(INDEX(données!$A$1:$D$56,MATCH($A49,données!$A$1:$A$56,0),MATCH(AE$1,données!$A$1:$D$1)),0) -> 1687.1899 | AF49: 1687.1899 | AG49: #DIV/0!
A50: SAISONNIER | B50: 0 | C50: =C51+C56 -> 51250.33 | D50: 51250.33 | E50: #DIV/0! | F50: 0 | G50: =G51+G56 -> 51250.33 | H50: 0 | I50: #DIV/0! | J50: 0 | K50: =K51+K56 -> 8643.4 | L50: 8643.4 | M50: #DIV/0! | N50: 0 | O50: =O51+O56 -> 8643.4 | P50: 8643.4 | Q50: #DIV/0! | R50: 0 | S50: =S51+S56 -> 8643.4 | T50: 8643.4 | U50: #DIV/0! | V50: 0 | W50: =W51+W56 -> 8643.4 | X50: 8643.4 | Y50: #DIV/0! | Z50: 0 | AA50: =AA51+AA56 -> 8643.4 | AB50: 8643.4 | AC50: #DIV/0! | AD50: 0 | AE50: =AE51+AE56 -> 71384.328 | AF50: 71384.328 | AG50: #DIV/0!
A51: LOISIRS | B51: 0 | C51: =SUM(C52:C55) -> 31268.84 | D51: 31268.84 | E51: #DIV/0! | F51: 0 | G51: =SUM(G52:G55) -> 31268.84 | H51: 44006.69 | I51: #DIV/0! | J51: 0 | K51: =SUM(K52:K55) -> 4754.32 | L51: 4754.32 | M51: #DIV/0! | N51: 0 | O51: =SUM(O52:O55) -> 4754.32 | P51: 4754.32 | Q51: #DIV/0! | R51: 0 | S51: =SUM(S52:S55) -> 4754.32 | T51: 4754.32 | U51: #DIV/0! | V51: 0 | W51: =SUM(W52:W55) -> 4754.32 | X51: 4754.32 | Y51: #DIV/0! | Z51: 0 | AA51: =SUM(AA52:AA55) -> 4754.32 | AB51: 4754.32 | AC51: #DIV/0! | AD51: 0 | AE51: =SUM(AE52:AE55) -> 25085.072 | AF51: 25085.072 | AG51: #DIV/0!
A52: U13 | C52: =IFERROR(INDEX(données!$A$1:$D$56,MATCH($A52,données!$A$1:$A$56,0),MATCH(C$1,données!$A$1:$D$1)),0) -> 5519.08 | D52: 5519.08 | E52: #DIV/0! | G52: =IFERROR(INDEX(données!$A$1:$D$56,MATCH($A52,données!$A$1:$A$56,0),MATCH(G$1,données!$A$1:$D$1)),0) -> 5519.08 | H52: 25749.76 | I52: #DIV/0! | K52: =IFERROR(INDEX(données!$A$1:$D$56,MATCH($A52,données!$A$1:$A$56,0),MATCH(K$1,données!$A$1:$D$1)),0) -> 1162.54 | L52: 1162.54 | M52: #DIV/0! | O52: =IFERROR(INDEX(données!$A$1:$D$56,MATCH($A52,données!$A$1:$A$56,0),MATCH(O$1,données!$A$1:$D$1)),0) -> 1162.54 | P52: 1162.54 | Q52: #DIV/0! | S52: =IFERROR(INDEX(données!$A$1:$D$56,MATCH($A52,données!$A$1:$A$56,0),MATCH(S$1,données!$A$1:$D$1)),0) -> 1162.54 | T52: 1162.54 | U52: #DIV/0! | W52: =IFERROR(INDEX(données!$A$1:$D$56,MATCH($A52,données!$A$1:$A$56,0),MATCH(W$1,données!$A$1:$D$1)),0) -> 1162.54 | X52: 1162.54 | Y52: #DIV/0! | AA52: =IFERROR(INDEX(données!$A$1:$D$56,MATCH($A52,données!$A$1:$A$56,0),MATCH(AA$1,données!$A$1:$D$1)),0) -> 1162.54 | AB52: 1162.54 | AC52: #DIV/0! | AE52: =IFERROR(INDEX(données!$A$1:$D$56,MATCH($A52,données!$A$1:$A$56,0),MATCH(AE$1,données!$A$1:$D$1)),0) -> 3464.7677 | AF52: 3464.7677 | AG52: #DIV/0!
A53: U15 | C53: =IFERROR(INDEX(données!$A$1:$D$56,MATCH($A53,données!$A$1:$A$56,0),MATCH(C$1,données!$A$1:$D$1)),0) -> 4943.11 | D53: 4943.11 | E53: #DIV/0! | G53: =IFERROR(INDEX(données!$A$1:$D$56,MATCH($A53,données!$A$1:$A$56,0),MATCH(G$1,données!$A$1:$D$1)),0) -> 4943.11 | H53: 4943.11 | I53: #DIV/0! | K53: =IFERROR(INDEX(données!$A$1:$D$56,MATCH($A53,données!$A$1:$A$56,0),MATCH(K$1,données!$A$1:$D$1)),0) -> 888.98 | L53: 888.98 | M53: #DIV/0! | O53: =IFERROR(INDEX(données!$A$1:$D$56,MATCH($A53,données!$A$1:$A$56,0),MATCH(O$1,données!$A$1:$D$1)),0) -> 888.98 | P53: 888.98 | Q53: #DIV/0! | S53: =IFERROR(INDEX(données!$A$1:$D$56,MATCH($A53,données!$A$1:$A$56,0),MATCH(S$1,données!$A$1:$D$1)),0) -> 888.98 | T53: 888.98 | U53: #DIV/0! | W53: =IFERROR(INDEX(données!$A$1:$D$56,MATCH($A53,données!$A$1:$A$56,0),MATCH(W$1,données!$A$1:$D$1)),0) -> 888.98 | X53: 888.98 | Y53: #DIV/0! | AA53: =IFERROR(INDEX(données!$A$1:$D$56,MATCH($A53,données!$A$1:$A$56,0),MATCH(AA$1,données!$A$1:$D$1)),0) -> 888.98 | AB53: 888.98 | AC53: #DIV/0! | AE53: =IFERROR(INDEX(données!$A$1:$D$56,MATCH($A53,données!$A$1:$A$56,0),MATCH(AE$1,données!$A$1:$D$1)),0) -> 7112.7993 | AF53: 7112.7993 | AG53: #DIV/0!
A54: U45 | C54: =IFERROR(INDEX(données!$A$1:$D$56,MATCH($A54,données!$A$1:$A$56,0),MATCH(C$1,données!$A$1:$D$1)),0) -> 18780.27 | D54: 18780.27 | E54: #DIV/0! | G54: =IFERROR(INDEX(données!$A$1:$D$56,MATCH($A54,données!$A$1:$A$56,0),MATCH(G$1,données!$A$1:$D$1)),0) -> 18780.27 | H54: 18780.27 | I54: #DIV/0! | K54: =IFERROR(INDEX(données!$A$1:$D$56,MATCH($A54,données!$A$1:$A$56,0),MATCH(K$1,données!$A$1:$D$1)),0) -> 2385.03 | L54: 2385.03 | M54: #DIV/0! | O54: =IFERROR(INDEX(données!$A$1:$D$56,MATCH($A54,données!$A$1:$A$56,0),MATCH(O$1,données!$A$1:$D$1)),0) -> 2385.03 | P54: 2385.03 | Q54: #DIV/0! | S54: =IFERROR(INDEX(données!$A$1:$D$56,MATCH($A54,données!$A$1:$A$56,0),MATCH(S$1,données!$A$1:$D$1)),0) -> 2385.03 | T54: 2385.03 | U54: #DIV/0! | W54: =IFERROR(INDEX(données!$A$1:$D$56,MATCH($A54,données!$A$1:$A$56,0),MATCH(W$1,données!$A$1:$D$1)),0) -> 2385.03 | X54: 2385.03 | Y54: #DIV/0! | AA54: =IFERROR(INDEX(données!$A$1:$D$56,MATCH($A54,données!$A$1:$A$56,0),MATCH(AA$1,données!$A$1:$D$1)),0) -> 2385.03 | AB54: 2385.03 | AC54: #DIV/0! | AE54: =IFERROR(INDEX(données!$A$1:$D$56,MATCH($A54,données!$A$1:$A$56,0),MATCH(AE$1,données!$A$1:$D$1)),0) -> 11895.057 | AF54: 11895.057 | AG54: #DIV/0!
A55: U56 | C55: =IFERROR(INDEX(données!$A$1:$D$56,MATCH($A55,données!$A$1:$A$56,0),MATCH(C$1,données!$A$1:$D$1)),0) -> 2026.38 | D55: 2026.38 | E55: #DIV/0! | G55: =IFERROR(INDEX(données!$A$1:$D$56,MATCH($A55,données!$A$1:$A$56,0),MATCH(G$1,données!$A$1:$D$1)),0) -> 2026.38 | H55: 2026.38 | I55: #DIV/0! | K55: =IFERROR(INDEX(données!$A$1:$D$56,MATCH($A55,données!$A$1:$A$56,0),MATCH(K$1,données!$A$1:$D$1)),0) -> 317.77 | L55: 317.77 | M55: #DIV/0! | O55: =IFERROR(INDEX(données!$A$1:$D$56,MATCH($A55,données!$A$1:$A$56,0),MATCH(O$1,données!$A$1:$D$1)),0) -> 317.77 | P55: 317.77 | Q55: #DIV/0! | S55: =IFERROR(INDEX(données!$A$1:$D$56,MATCH($A55,données!$A$1:$A$56,0),MATCH(S$1,données!$A$1:$D$1)),0) -> 317.77 | T55: 317.77 | U55: #DIV/0! | W55: =IFERROR(INDEX(données!$A$1:$D$56,MATCH($A55,données!$A$1:$A$56,0),MATCH(W$1,données!$A$1:$D$1)),0) -> 317.77 | X55: 317.77 | Y55: #DIV/0! | AA55: =IFERROR(INDEX(données!$A$1:$D$56,MATCH($A55,données!$A$1:$A$56,0),MATCH(AA$1,données!$A$1:$D$1)),0) -> 317.77 | AB55: 317.77 | AC55: #DIV/0! | AE55: =IFERROR(INDEX(données!$A$1:$D$56,MATCH($A55,données!$A$1:$A$56,0),MATCH(AE$1,données!$A$1:$D$1)),0) -> 2612.4484 | AF55: 2612.4484 | AG55: #DIV/0!
A56: TEXTILE | B56: 0 | C56: =SUM(C57:C62) -> 19981.49 | D56: 19981.49 | E56: #DIV/0! | F56: 0 | G56: =SUM(G57:G62) -> 19981.49 | H56: 0 | I56: #DIV/0! | J56: 0 | K56: =SUM(K57:K62) -> 3889.08 | L56: 3889.08 | M56: #DIV/0! | N56: 0 | O56: =SUM(O57:O62) -> 3889.08 | P56: 3889.08 | Q56: #DIV/0! | R56: 0 | S56: =SUM(S57:S62) -> 3889.08 | T56: 3889.08 | U56: #DIV/0! | V56: 0 | W56: =SUM(W57:W62) -> 3889.08 | X56: 3889.08 | Y56: #DIV/0! | Z56: 0 | AA56: =SUM(AA57:AA62) -> 3889.08 | AB56: 3889.08 | AC56: #DIV/0! | AD56: 0 | AE56: =SUM(AE57:AE62) -> 46299.256 | AF56: 46299.256 | AG56: #DIV/0!
A57: U17 | C57: =IFERROR(INDEX(données!$A$1:$D$56,MATCH($A57,données!$A$1:$A$56,0),MATCH(C$1,données!$A$1:$D$1)),0) -> 1724.56 | D57: 1724.56 | E57: #DIV/0! | G57: =IFERROR(INDEX(données!$A$1:$D$56,MATCH($A57,données!$A$1:$A$56,0),MATCH(G$1,données!$A$1:$D$1)),0) -> 1724.56 | H57: 18256.93 | I57: #DIV/0! | K57: =IFERROR(INDEX(données!$A$1:$D$56,MATCH($A57,données!$A$1:$A$56,0),MATCH(K$1,données!$A$1:$D$1)),0) -> 305.79 | L57: 305.79 | M57: #DIV/0! | O57: =IFERROR(INDEX(données!$A$1:$D$56,MATCH($A57,données!$A$1:$A$56,0),MATCH(O$1,données!$A$1:$D$1)),0) -> 305.79 | P57: 305.79 | Q57: #DIV/0! | S57: =IFERROR(INDEX(données!$A$1:$D$56,MATCH($A57,données!$A$1:$A$56,0),MATCH(S$1,données!$A$1:$D$1)),0) -> 305.79 | T57: 305.79 | U57: #DIV/0! | W57: =IFERROR(INDEX(données!$A$1:$D$56,MATCH($A57,données!$A$1:$A$56,0),MATCH(W$1,données!$A$1:$D$1)),0) -> 305.79 | X57: 305.79 | Y57: #DIV/0! | AA57: =IFERROR(INDEX(données!$A$1:$D$56,MATCH($A57,données!$A$1:$A$56,0),MATCH(AA$1,données!$A$1:$D$1)),0) -> 305.79 | AB57: 305.79 | AC57: #DIV/0! | AE57: =IFERROR(INDEX(données!$A$1:$D$56,MATCH($A57,données!$A$1:$A$56,0),MATCH(AE$1,données!$A$1:$D$1)),0) -> 2051.0587 | AF57: 2051.0587 | AG57: #DIV/0!
A58: U18 | C58: =IFERROR(INDEX(données!$A$1:$D$56,MATCH($A58,données!$A$1:$A$56,0),MATCH(C$1,données!$A$1:$D$1)),0) -> 4402.45 | D58: 4402.45 | E58: #DIV/0! | G58: =IFERROR(INDEX(données!$A$1:$D$56,MATCH($A58,données!$A$1:$A$56,0),MATCH(G$1,données!$A$1:$D$1)),0) -> 4402.45 | H58: 4402.45 | I58: #DIV/0! | K58: =IFERROR(INDEX(données!$A$1:$D$56,MATCH($A58,données!$A$1:$A$56,0),MATCH(K$1,données!$A$1:$D$1)),0) -> 815.56 | L58: 815.56 | M58: #DIV/0! | O58: =IFERROR(INDEX(données!$A$1:$D$56,MATCH($A58,données!$A$1:$A$56,0),MATCH(O$1,données!$A$1:$D$1)),0) -> 815.56 | P58: 815.56 | Q58: #DIV/0! | S58: =IFERROR(INDEX(données!$A$1:$D$56,MATCH($A58,données!$A$1:$A$56,0),MATCH(S$1,données!$A$1:$D$1)),0) -> 815.56 | T58: 815.56 | U58: #DIV/0! | W58: =IFERROR(INDEX(données!$A$1:$D$56,MATCH($A58,données!$A$1:$A$56,0),MATCH(W$1,données!$A$1:$D$1)),0) -> 815.56 | X58: 815.56 | Y58: #DIV/0! | AA58: =IFERROR(INDEX(données!$A$1:$D$56,MATCH($A58,données!$A$1:$A$56,0),MATCH(AA$1,données!$A$1:$D$1)),0) -> 815.56 | AB58: 815.56 | AC58: #DIV/0! | AE58: =IFERROR(INDEX(données!$A$1:$D$56,MATCH($A58,données!$A$1:$A$56,0),MATCH(AE$1,données!$A$1:$D$1)),0) -> 8277.0477 | AF58: 8277.0477 | AG58: #DIV/0!
A59: U21 | C59: =IFERROR(INDEX(données!$A$1:$D$56,MATCH($A59,données!$A$1:$A$56,0),MATCH(C$1,données!$A$1:$D$1)),0) -> 5012.45 | D59: 5012.45 | E59: #DIV/0! | G59: =IFERROR(INDEX(données!$A$1:$D$56,MATCH($A59,données!$A$1:$A$56,0),MATCH(G$1,données!$A$1:$D$1)),0) -> 5012.45 | H59: 5012.45 | I59: #DIV/0! | K59: =IFERROR(INDEX(données!$A$1:$D$56,MATCH($A59,données!$A$1:$A$56,0),MATCH(K$1,données!$A$1:$D$1)),0) -> 934.68 | L59: 934.68 | M59: #DIV/0! | O59: =IFERROR(INDEX(données!$A$1:$D$56,MATCH($A59,données!$A$1:$A$56,0),MATCH(O$1,données!$A$1:$D$1)),0) -> 934.68 | P59: 934.68 | Q59: #DIV/0! | S59: =IFERROR(INDEX(données!$A$1:$D$56,MATCH($A59,données!$A$1:$A$56,0),MATCH(S$1,données!$A$1:$D$1)),0) -> 934.68 | T59: 934.68 | U59: #DIV/0! | W59: =IFERROR(INDEX(données!$A$1:$D$56,MATCH($A59,données!$A$1:$A$56,0),MATCH(W$1,données!$A$1:$D$1)),0) -> 934.68 | X59: 934.68 | Y59: #DIV/0! | AA59: =IFERROR(INDEX(données!$A$1:$D$56,MATCH($A59,données!$A$1:$A$56,0),MATCH(AA$1,données!$A$1:$D$1)),0) -> 934.68 | AB59: 934.68 | AC59: #DIV/0! | AE59: =IFERROR(INDEX(données!$A$1:$D$56,MATCH($A59,données!$A$1:$A$56,0),MATCH(AE$1,données!$A$1:$D$1)),0) -> 8579.1616 | AF59: 8579.1616 | AG59: #DIV/0!
A60: U22 | C60: =IFERROR(INDEX(données!$A$1:$D$56,MATCH($A60,données!$A$1:$A$56,0),MATCH(C$1,données!$A$1:$D$1)),0) -> 2784.92 | D60: 2784.92 | E60: #DIV/0! | G60: =IFERROR(INDEX(données!$A$1:$D$56,MATCH($A60,données!$A$1:$A$56,0),MATCH(G$1,données!$A$1:$D$1)),0) -> 2784.92 | H60: 2784.92 | I60: #DIV/0! | K60: =IFERROR(INDEX(données!$A$1:$D$56,MATCH($A60,données!$A$1:$A$56,0),MATCH(K$1,données!$A$1:$D$1)),0) -> 573.24 | L60: 573.24 | M60: #DIV/0! | O60: =IFERROR(INDEX(données!$A$1:$D$56,MATCH($A60,données!$A$1:$A$56,0),MATCH(O$1,données!$A$1:$D$1)),0) -> 573.24 | P60: 573.24 | Q60: #DIV/0! | S60: =IFERROR(INDEX(données!$A$1:$D$56,MATCH($A60,données!$A$1:$A$56,0),MATCH(S$1,données!$A$1:$D$1)),0) -> 573.24 | T60: 573.24 | U60: #DIV/0! | W60: =IFERROR(INDEX(données!$A$1:$D$56,MATCH($A60,données!$A$1:$A$56,0),MATCH(W$1,données!$A$1:$D$1)),0) -> 573.24 | X60: 573.24 | Y60: #DIV/0! | AA60: =IFERROR(INDEX(données!$A$1:$D$56,MATCH($A60,données!$A$1:$A$56,0),MATCH(AA$1,données!$A$1:$D$1)),0) -> 573.24 | AB60: 573.24 | AC60: #DIV/0! | AE60: =IFERROR(INDEX(données!$A$1:$D$56,MATCH($A60,données!$A$1:$A$56,0),MATCH(AE$1,données!$A$1:$D$1)),0) -> 13027.988 | AF60: 13027.988 | AG60: #DIV/0!
A61: U23 | C61: =IFERROR(INDEX(données!$A$1:$D$56,MATCH($A61,données!$A$1:$A$56,0),MATCH(C$1,données!$A$1:$D$1)),0) -> 4557.95 | D61: 4557.95 | E61: #DIV/0! | G61: =IFERROR(INDEX(données!$A$1:$D$56,MATCH($A61,données!$A$1:$A$56,0),MATCH(G$1,données!$A$1:$D$1)),0) -> 4557.95 | H61: 4557.95 | I61: #DIV/0! | K61: =IFERROR(INDEX(données!$A$1:$D$56,MATCH($A61,données!$A$1:$A$56,0),MATCH(K$1,données!$A$1:$D$1)),0) -> 959.36 | L61: 959.36 | M61: #DIV/0! | O61: =IFERROR(INDEX(données!$A$1:$D$56,MATCH($A61,données!$A$1:$A$56,0),MATCH(O$1,données!$A$1:$D$1)),0) -> 959.36 | P61: 959.36 | Q61: #DIV/0! | S61: =IFERROR(INDEX(données!$A$1:$D$56,MATCH($A61,données!$A$1:$A$56,0),MATCH(S$1,données!$A$1:$D$1)),0) -> 959.36 | T61: 959.36 | U61: #DIV/0! | W61: =IFERROR(INDEX(données!$A$1:$D$56,MATCH($A61,données!$A$1:$A$56,0),MATCH(W$1,données!$A$1:$D$1)),0) -> 959.36 | X61: 959.36 | Y61: #DIV/0! | AA61: =IFERROR(INDEX(données!$A$1:$D$56,MATCH($A61,données!$A$1:$A$56,0),MATCH(AA$1,données!$A$1:$D$1)),0) -> 959.36 | AB61: 959.36 | AC61: #DIV/0! | AE61: =IFERROR(INDEX(données!$A$1:$D$56,MATCH($A61,données!$A$1:$A$56,0),MATCH(AE$1,données!$A$1:$D$1)),0) -> 9717.3944 | AF61: 9717.3944 | AG61: #DIV/0!
A62: U57 | C62: =IFERROR(INDEX(données!$A$1:$D$56,MATCH($A62,données!$A$1:$A$56,0),MATCH(C$1,données!$A$1:$D$1)),0) -> 1499.16 | D62: 1499.16 | E62: #DIV/0! | G62: =IFERROR(INDEX(données!$A$1:$D$56,MATCH($A62,données!$A$1:$A$56,0),MATCH(G$1,données!$A$1:$D$1)),0) -> 1499.16 | H62: 1499.16 | I62: #DIV/0! | K62: =IFERROR(INDEX(données!$A$1:$D$56,MATCH($A62,données!$A$1:$A$56,0),MATCH(K$1,données!$A$1:$D$1)),0) -> 300.45 | L62: 300.45 | M62: #DIV/0! | O62: =IFERROR(INDEX(données!$A$1:$D$56,MATCH($A62,données!$A$1:$A$56,0),MATCH(O$1,données!$A$1:$D$1)),0) -> 300.45 | P62: 300.45 | Q62: #DIV/0! | S62: =IFERROR(INDEX(données!$A$1:$D$56,MATCH($A62,données!$A$1:$A$56,0),MATCH(S$1,données!$A$1:$D$1)),0) -> 300.45 | T62: 300.45 | U62: #DIV/0! | W62: =IFERROR(INDEX(données!$A$1:$D$56,MATCH($A62,données!$A$1:$A$56,0),MATCH(W$1,données!$A$1:$D$1)),0) -> 300.45 | X62: 300.45 | Y62: #DIV/0! | AA62: =IFERROR(INDEX(données!$A$1:$D$56,MATCH($A62,données!$A$1:$A$56,0),MATCH(AA$1,données!$A$1:$D$1)),0) -> 300.45 | AB62: 300.45 | AC62: #DIV/0! | AE62: =IFERROR(INDEX(données!$A$1:$D$56,MATCH($A62,données!$A$1:$A$56,0),MATCH(AE$1,données!$A$1:$D$1)),0) -> 4646.6055 | AF62: 4646.6055 | AG62: #DIV/0!
A63: TECHNIQUE | B63: 0 | C63: =C64+C66+C70 -> 16519.48 | D63: 16519.48 | E63: #DIV/0! | F63: 0 | G63: =G64+G66+G70 -> 16519.48 | H63: 0 | I63: #DIV/0! | J63: 0 | K63: =K64+K66+K70 -> 1673.55 | L63: 1673.55 | M63: #DIV/0! | N63: 0 | O63: =O64+O66+O70 -> 1673.55 | P63: 1673.55 | Q63: #DIV/0! | R63: 0 | S63: =S64+S66+S70 -> 1673.55 | T63: 1673.55 | U63: #DIV/0! | V63: 0 | W63: =W64+W66+W70 -> 1673.55 | X63: 1673.55 | Y63: #DIV/0! | Z63: 0 | AA63: =AA64+AA66+AA70 -> 1673.55 | AB63: 1673.55 | AC63: #DIV/0! | AD63: 0 | AE63: =AE64+AE66+AE70 -> 16486.61 | AF63: 16486.61 | AG63: #DIV/0!
A64: MAISON | C64: =C65 -> 282.87 | D64: 282.87 | E64: #DIV/0! | G64: =G65 -> 282.87 | H64: 10428.57 | I64: #DIV/0! | K64: =K65 -> 27.34 | L64: 27.34 | M64: #DIV/0! | O64: =O65 -> 27.34 | P64: 27.34 | Q64: #DIV/0! | S64: =S65 -> 27.34 | T64: 27.34 | U64: #DIV/0! | W64: =W65 -> 27.34 | X64: 27.34 | Y64: #DIV/0! | AA64: =AA65 -> 27.34 | AB64: 27.34 | AC64: #DIV/0! | AE64: =AE65 -> 949.36041 | AF64: 949.36041 | AG64: #DIV/0!
A65: U08 | C65: =IFERROR(INDEX(données!$A$1:$D$56,MATCH($A65,données!$A$1:$A$56,0),MATCH(C$1,données!$A$1:$D$1)),0) -> 282.87 | D65: 282.87 | E65: #DIV/0! | G65: =IFERROR(INDEX(données!$A$1:$D$56,MATCH($A65,données!$A$1:$A$56,0),MATCH(G$1,données!$A$1:$D$1)),0) -> 282.87 | H65: 0 | I65: #DIV/0! | K65: =IFERROR(INDEX(données!$A$1:$D$56,MATCH($A65,données!$A$1:$A$56,0),MATCH(K$1,données!$A$1:$D$1)),0) -> 27.34 | L65: 27.34 | M65: #DIV/0! | O65: =IFERROR(INDEX(données!$A$1:$D$56,MATCH($A65,données!$A$1:$A$56,0),MATCH(O$1,données!$A$1:$D$1)),0) -> 27.34 | P65: 27.34 | Q65: #DIV/0! | S65: =IFERROR(INDEX(données!$A$1:$D$56,MATCH($A65,données!$A$1:$A$56,0),MATCH(S$1,données!$A$1:$D$1)),0) -> 27.34 | T65: 27.34 | U65: #DIV/0! | W65: =IFERROR(INDEX(données!$A$1:$D$56,MATCH($A65,données!$A$1:$A$56,0),MATCH(W$1,données!$A$1:$D$1)),0) -> 27.34 | X65: 27.34 | Y65: #DIV/0! | AA65: =IFERROR(INDEX(données!$A$1:$D$56,MATCH($A65,données!$A$1:$A$56,0),MATCH(AA$1,données!$A$1:$D$1)),0) -> 27.34 | AB65: 27.34 | AC65: #DIV/0! | AE65: =IFERROR(INDEX(données!$A$1:$D$56,MATCH($A65,données!$A$1:$A$56,0),MATCH(AE$1,données!$A$1:$D$1)),0) -> 949.36041 | AF65: 949.36041 | AG65: #DIV/0!
A66: MULTIMEDIA | B66: 0 | C66: =SUM(C67:C69) -> 16167.31 | D66: 16167.31 | E66: #DIV/0! | F66: 0 | G66: =SUM(G67:G69) -> 16167.31 | H66: 0 | I66: #DIV/0! | J66: 0 | K66: =SUM(K67:K69) -> 1636.66 | L66: 1636.66 | M66: #DIV/0! | N66: 0 | O66: =SUM(O67:O69) -> 1636.66 | P66: 1636.66 | Q66: #DIV/0! | R66: 0 | S66: =SUM(S67:S69) -> 1636.66 | T66: 1636.66 | U66: #DIV/0! | V66: 0 | W66: =SUM(W67:W69) -> 1636.66 | X66: 1636.66 | Y66: #DIV/0! | Z66: 0 | AA66: =SUM(AA67:AA69) -> 1636.66 | AB66: 1636.66 | AC66: #DIV/0! | AD66: 0 | AE66: =SUM(AE67:AE69) -> 15504.636 | AF66: 15504.636 | AG66: #DIV/0!
A67: U09 | C67: =IFERROR(INDEX(données!$A$1:$D$56,MATCH($A67,données!$A$1:$A$56,0),MATCH(C$1,données!$A$1:$D$1)),0) -> 5738.74 | D67: 5738.74 | E67: #DIV/0! | G67: =IFERROR(INDEX(données!$A$1:$D$56,MATCH($A67,données!$A$1:$A$56,0),MATCH(G$1,données!$A$1:$D$1)),0) -> 5738.74 | H67: 10428.57 | I67: #DIV/0! | K67: =IFERROR(INDEX(données!$A$1:$D$56,MATCH($A67,données!$A$1:$A$56,0),MATCH(K$1,données!$A$1:$D$1)),0) -> 528.04 | L67: 528.04 | M67: #DIV/0! | O67: =IFERROR(INDEX(données!$A$1:$D$56,MATCH($A67,données!$A$1:$A$56,0),MATCH(O$1,données!$A$1:$D$1)),0) -> 528.04 | P67: 528.04 | Q67: #DIV/0! | S67: =IFERROR(INDEX(données!$A$1:$D$56,MATCH($A67,données!$A$1:$A$56,0),MATCH(S$1,données!$A$1:$D$1)),0) -> 528.04 | T67: 528.04 | U67: #DIV/0! | W67: =IFERROR(INDEX(données!$A$1:$D$56,MATCH($A67,données!$A$1:$A$56,0),MATCH(W$1,données!$A$1:$D$1)),0) -> 528.04 | X67: 528.04 | Y67: #DIV/0! | AA67: =IFERROR(INDEX(données!$A$1:$D$56,MATCH($A67,données!$A$1:$A$56,0),MATCH(AA$1,données!$A$1:$D$1)),0) -> 528.04 | AB67: 528.04 | AC67: #DIV/0! | AE67: =IFERROR(INDEX(données!$A$1:$D$56,MATCH($A67,données!$A$1:$A$56,0),MATCH(AE$1,données!$A$1:$D$1)),0) -> 4781.3552 | AF67: 4781.3552 | AG67: #DIV/0!
A68: U47 | C68: =IFERROR(INDEX(données!$A$1:$D$56,MATCH($A68,données!$A$1:$A$56,0),MATCH(C$1,données!$A$1:$D$1)),0) -> 4031.76 | D68: 4031.76 | E68: #DIV/0! | G68: =IFERROR(INDEX(données!$A$1:$D$56,MATCH($A68,données!$A$1:$A$56,0),MATCH(G$1,données!$A$1:$D$1)),0) -> 4031.76 | H68: 4031.76 | I68: #DIV/0! | K68: =IFERROR(INDEX(données!$A$1:$D$56,MATCH($A68,données!$A$1:$A$56,0),MATCH(K$1,données!$A$1:$D$1)),0) -> 575.73 | L68: 575.73 | M68: #DIV/0! | O68: =IFERROR(INDEX(données!$A$1:$D$56,MATCH($A68,données!$A$1:$A$56,0),MATCH(O$1,données!$A$1:$D$1)),0) -> 575.73 | P68: 575.73 | Q68: #DIV/0! | S68: =IFERROR(INDEX(données!$A$1:$D$56,MATCH($A68,données!$A$1:$A$56,0),MATCH(S$1,données!$A$1:$D$1)),0) -> 575.73 | T68: 575.73 | U68: #DIV/0! | W68: =IFERROR(INDEX(données!$A$1:$D$56,MATCH($A68,données!$A$1:$A$56,0),MATCH(W$1,données!$A$1:$D$1)),0) -> 575.73 | X68: 575.73 | Y68: #DIV/0! | AA68: =IFERROR(INDEX(données!$A$1:$D$56,MATCH($A68,données!$A$1:$A$56,0),MATCH(AA$1,données!$A$1:$D$1)),0) -> 575.73 | AB68: 575.73 | AC68: #DIV/0! | AE68: =IFERROR(INDEX(données!$A$1:$D$56,MATCH($A68,données!$A$1:$A$56,0),MATCH(AE$1,données!$A$1:$D$1)),0) -> 3858.5811 | AF68: 3858.5811 | AG68: #DIV/0!
A69: U48 | C69: =IFERROR(INDEX(données!$A$1:$D$56,MATCH($A69,données!$A$1:$A$56,0),MATCH(C$1,données!$A$1:$D$1)),0) -> 6396.81 | D69: 6396.81 | E69: #DIV/0! | G69: =IFERROR(INDEX(données!$A$1:$D$56,MATCH($A69,données!$A$1:$A$56,0),MATCH(G$1,données!$A$1:$D$1)),0) -> 6396.81 | H69: 6396.81 | I69: #DIV/0! | K69: =IFERROR(INDEX(données!$A$1:$D$56,MATCH($A69,données!$A$1:$A$56,0),MATCH(K$1,données!$A$1:$D$1)),0) -> 532.89 | L69: 532.89 | M69: #DIV/0! | O69: =IFERROR(INDEX(données!$A$1:$D$56,MATCH($A69,données!$A$1:$A$56,0),MATCH(O$1,données!$A$1:$D$1)),0) -> 532.89 | P69: 532.89 | Q69: #DIV/0! | S69: =IFERROR(INDEX(données!$A$1:$D$56,MATCH($A69,données!$A$1:$A$56,0),MATCH(S$1,données!$A$1:$D$1)),0) -> 532.89 | T69: 532.89 | U69: #DIV/0! | W69: =IFERROR(INDEX(données!$A$1:$D$56,MATCH($A69,données!$A$1:$A$56,0),MATCH(W$1,données!$A$1:$D$1)),0) -> 532.89 | X69: 532.89 | Y69: #DIV/0! | AA69: =IFERROR(INDEX(données!$A$1:$D$56,MATCH($A69,données!$A$1:$A$56,0),MATCH(AA$1,données!$A$1:$D$1)),0) -> 532.89 | AB69: 532.89 | AC69: #DIV/0! | AE69: =IFERROR(INDEX(données!$A$1:$D$56,MATCH($A69,données!$A$1:$A$56,0),MATCH(AE$1,données!$A$1:$D$1)),0) -> 6864.7001 | AF69: 6864.7001 | AG69: #DIV/0!
A70: TEXTILE | B70: 0 | C70: =C71 -> 69.3 | D70: 69.3 | E70: #DIV/0! | F70: 0 | G70: =G71 -> 69.3 | H70: 0 | I70: #DIV/0! | J70: 0 | K70: =K71 -> 9.55 | L70: 9.55 | M70: #DIV/0! | N70: 0 | O70: =O71 -> 9.55 | P70: 9.55 | Q70: #DIV/0! | R70: 0 | S70: =S71 -> 9.55 | T70: 9.55 | U70: #DIV/0! | V70: 0 | W70: =W71 -> 9.55 | X70: 9.55 | Y70: #DIV/0! | Z70: 0 | AA70: =AA71 -> 9.55 | AB70: 9.55 | AC70: #DIV/0! | AD70: 0 | AE70: =AE71 -> 32.613129 | AF70: 32.613129 | AG70: #DIV/0!
A71: U29 | C71: =IFERROR(INDEX(données!$A$1:$D$56,MATCH($A71,données!$A$1:$A$56,0),MATCH(C$1,données!$A$1:$D$1)),0) -> 69.3 | D71: 69.3 | E71: #DIV/0! | G71: =IFERROR(INDEX(données!$A$1:$D$56,MATCH($A71,données!$A$1:$A$56,0),MATCH(G$1,données!$A$1:$D$1)),0) -> 69.3 | H71: 0 | I71: #DIV/0! | K71: =IFERROR(INDEX(données!$A$1:$D$56,MATCH($A71,données!$A$1:$A$56,0),MATCH(K$1,données!$A$1:$D$1)),0) -> 9.55 | L71: 9.55 | M71: #DIV/0! | O71: =IFERROR(INDEX(données!$A$1:$D$56,MATCH($A71,données!$A$1:$A$56,0),MATCH(O$1,données!$A$1:$D$1)),0) -> 9.55 | P71: 9.55 | Q71: #DIV/0! | S71: =IFERROR(INDEX(données!$A$1:$D$56,MATCH($A71,données!$A$1:$A$56,0),MATCH(S$1,données!$A$1:$D$1)),0) -> 9.55 | T71: 9.55 | U71: #DIV/0! | W71: =IFERROR(INDEX(données!$A$1:$D$56,MATCH($A71,données!$A$1:$A$56,0),MATCH(W$1,données!$A$1:$D$1)),0) -> 9.55 | X71: 9.55 | Y71: #DIV/0! | AA71: =IFERROR(INDEX(données!$A$1:$D$56,MATCH($A71,données!$A$1:$A$56,0),MATCH(AA$1,données!$A$1:$D$1)),0) -> 9.55 | AB71: 9.55 | AC71: #DIV/0! | AE71: =IFERROR(INDEX(données!$A$1:$D$56,MATCH($A71,données!$A$1:$A$56,0),MATCH(AE$1,données!$A$1:$D$1)),0) -> 32.613129 | AF71: 32.613129 | AG71: #DIV/0!
A72: DIVERS | B72: 0 | C72: =SUM(C73:C77) -> 5827.51 | D72: 5827.51 | E72: #DIV/0! | F72: 0 | G72: =SUM(G73:G77) -> 5827.51 | H72: 0 | I72: #DIV/0! | J72: 0 | K72: =SUM(K73:K77) -> 898.97 | L72: 898.97 | M72: #DIV/0! | N72: 0 | O72: =SUM(O73:O77) -> 898.97 | P72: 898.97 | Q72: #DIV/0! | R72: 0 | S72: =SUM(S73:S77) -> 898.97 | T72: 898.97 | U72: #DIV/0! | V72: 0 | W72: =SUM(W73:W77) -> 898.97 | X72: 898.97 | Y72: #DIV/0! | Z72: 0 | AA72: =SUM(AA73:AA77) -> 898.97 | AB72: 898.97 | AC72: #DIV/0! | AD72: 0 | AE72: =SUM(AE73:AE77) -> 2704.213 | AF72: 2704.213 | AG72: #DIV/0!
A73: U19 | C73: =IFERROR(INDEX(données!$A$1:$D$56,MATCH($A73,données!$A$1:$A$56,0),MATCH(C$1,données!$A$1:$D$1)),0) -> 94.04 | D73: 94.04 | E73: #DIV/0! | G73: =IFERROR(INDEX(données!$A$1:$D$56,MATCH($A73,données!$A$1:$A$56,0),MATCH(G$1,données!$A$1:$D$1)),0) -> 94.04 | H73: 5733.47 | I73: #DIV/0! | K73: =IFERROR(INDEX(données!$A$1:$D$56,MATCH($A73,données!$A$1:$A$56,0),MATCH(K$1,données!$A$1:$D$1)),0) -> 4.99 | L73: 4.99 | M73: #DIV/0! | O73: =IFERROR(INDEX(données!$A$1:$D$56,MATCH($A73,données!$A$1:$A$56,0),MATCH(O$1,données!$A$1:$D$1)),0) -> 4.99 | P73: 4.99 | Q73: #DIV/0! | S73: =IFERROR(INDEX(données!$A$1:$D$56,MATCH($A73,données!$A$1:$A$56,0),MATCH(S$1,données!$A$1:$D$1)),0) -> 4.99 | T73: 4.99 | U73: #DIV/0! | W73: =IFERROR(INDEX(données!$A$1:$D$56,MATCH($A73,données!$A$1:$A$56,0),MATCH(W$1,données!$A$1:$D$1)),0) -> 4.99 | X73: 4.99 | Y73: #DIV/0! | AA73: =IFERROR(INDEX(données!$A$1:$D$56,MATCH($A73,données!$A$1:$A$56,0),MATCH(AA$1,données!$A$1:$D$1)),0) -> 4.99 | AB73: 4.99 | AC73: #DIV/0! | AE73: =IFERROR(INDEX(données!$A$1:$D$56,MATCH($A73,données!$A$1:$A$56,0),MATCH(AE$1,données!$A$1:$D$1)),0) -> 25.4574 | AF73: 25.4574 | AG73: #DIV/0!
A74: U30 | C74: =IFERROR(INDEX(données!$A$1:$D$56,MATCH($A74,données!$A$1:$A$56,0),MATCH(C$1,données!$A$1:$D$1)),0) -> 3717.95 | D74: 3717.95 | E74: #DIV/0! | G74: =IFERROR(INDEX(données!$A$1:$D$56,MATCH($A74,données!$A$1:$A$56,0),MATCH(G$1,données!$A$1:$D$1)),0) -> 3717.95 | H74: 3717.95 | I74: #DIV/0! | K74: =IFERROR(INDEX(données!$A$1:$D$56,MATCH($A74,données!$A$1:$A$56,0),MATCH(K$1,données!$A$1:$D$1)),0) -> 584.61 | L74: 584.61 | M74: #DIV/0! | O74: =IFERROR(INDEX(données!$A$1:$D$56,MATCH($A74,données!$A$1:$A$56,0),MATCH(O$1,données!$A$1:$D$1)),0) -> 584.61 | P74: 584.61 | Q74: #DIV/0! | S74: =IFERROR(INDEX(données!$A$1:$D$56,MATCH($A74,données!$A$1:$A$56,0),MATCH(S$1,données!$A$1:$D$1)),0) -> 584.61 | T74: 584.61 | U74: #DIV/0! | W74: =IFERROR(INDEX(données!$A$1:$D$56,MATCH($A74,données!$A$1:$A$56,0),MATCH(W$1,données!$A$1:$D$1)),0) -> 584.61 | X74: 584.61 | Y74: #DIV/0! | AA74: =IFERROR(INDEX(données!$A$1:$D$56,MATCH($A74,données!$A$1:$A$56,0),MATCH(AA$1,données!$A$1:$D$1)),0) -> 584.61 | AB74: 584.61 | AC74: #DIV/0! | AE74: =IFERROR(INDEX(données!$A$1:$D$56,MATCH($A74,données!$A$1:$A$56,0),MATCH(AE$1,données!$A$1:$D$1)),0) -> 1947.7427 | AF74: 1947.7427 | AG74: #DIV/0!
A75: U42 | C75: =IFERROR(INDEX(données!$A$1:$D$56,MATCH($A75,données!$A$1:$A$56,0),MATCH(C$1,données!$A$1:$D$1)),0) -> 1899.25 | D75: 1899.25 | E75: #DIV/0! | G75: =IFERROR(INDEX(données!$A$1:$D$56,MATCH($A75,données!$A$1:$A$56,0),MATCH(G$1,données!$A$1:$D$1)),0) -> 1899.25 | H75: 1899.25 | I75: #DIV/0! | K75: =IFERROR(INDEX(données!$A$1:$D$56,MATCH($A75,données!$A$1:$A$56,0),MATCH(K$1,données!$A$1:$D$1)),0) -> 294.25 | L75: 294.25 | M75: #DIV/0! | O75: =IFERROR(INDEX(données!$A$1:$D$56,MATCH($A75,données!$A$1:$A$56,0),MATCH(O$1,données!$A$1:$D$1)),0) -> 294.25 | P75: 294.25 | Q75: #DIV/0! | S75: =IFERROR(INDEX(données!$A$1:$D$56,MATCH($A75,données!$A$1:$A$56,0),MATCH(S$1,données!$A$1:$D$1)),0) -> 294.25 | T75: 294.25 | U75: #DIV/0! | W75: =IFERROR(INDEX(données!$A$1:$D$56,MATCH($A75,données!$A$1:$A$56,0),MATCH(W$1,données!$A$1:$D$1)),0) -> 294.25 | X75: 294.25 | Y75: #DIV/0! | AA75: =IFERROR(INDEX(données!$A$1:$D$56,MATCH($A75,données!$A$1:$A$56,0),MATCH(AA$1,données!$A$1:$D$1)),0) -> 294.25 | AB75: 294.25 | AC75: #DIV/0! | AE75: =IFERROR(INDEX(données!$A$1:$D$56,MATCH($A75,données!$A$1:$A$56,0),MATCH(AE$1,données!$A$1:$D$1)),0) -> 725.68748 | AF75: 725.68748 | AG75: #DIV/0!
A76: U89 | C76: =IFERROR(INDEX(données!$A$1:$D$56,MATCH($A76,données!$A$1:$A$56,0),MATCH(C$1,données!$A$1:$D$1)),0) -> 112.4 | D76: 112.4 | E76: #DIV/0! | G76: =IFERROR(INDEX(données!$A$1:$D$56,MATCH($A76,données!$A$1:$A$56,0),MATCH(G$1,données!$A$1:$D$1)),0) -> 112.4 | H76: 112.4 | I76: #DIV/0! | K76: =IFERROR(INDEX(données!$A$1:$D$56,MATCH($A76,données!$A$1:$A$56,0),MATCH(K$1,données!$A$1:$D$1)),0) -> 14.08 | L76: 14.08 | M76: #DIV/0! | O76: =IFERROR(INDEX(données!$A$1:$D$56,MATCH($A76,données!$A$1:$A$56,0),MATCH(O$1,données!$A$1:$D$1)),0) -> 14.08 | P76: 14.08 | Q76: #DIV/0! | S76: =IFERROR(INDEX(données!$A$1:$D$56,MATCH($A76,données!$A$1:$A$56,0),MATCH(S$1,données!$A$1:$D$1)),0) -> 14.08 | T76: 14.08 | U76: #DIV/0! | W76: =IFERROR(INDEX(données!$A$1:$D$56,MATCH($A76,données!$A$1:$A$56,0),MATCH(W$1,données!$A$1:$D$1)),0) -> 14.08 | X76: 14.08 | Y76: #DIV/0! | AA76: =IFERROR(INDEX(données!$A$1:$D$56,MATCH($A76,données!$A$1:$A$56,0),MATCH(AA$1,données!$A$1:$D$1)),0) -> 14.08 | AB76: 14.08 | AC76: #DIV/0! | AE76: =IFERROR(INDEX(données!$A$1:$D$56,MATCH($A76,données!$A$1:$A$56,0),MATCH(AE$1,données!$A$1:$D$1)),0) -> 3.91844 | AF76: 3.91844 | AG76: #DIV/0!
A77: U92 | C77: =IFERROR(INDEX(données!$A$1:$D$56,MATCH($A77,données!$A$1:$A$56,0),MATCH(C$1,données!$A$1:$D$1)),0) -> 3.87 | D77: 3.87 | E77: #DIV/0! | G77: =IFERROR(INDEX(données!$A$1:$D$56,MATCH($A77,données!$A$1:$A$56,0),MATCH(G$1,données!$A$1:$D$1)),0) -> 3.87 | H77: 3.87 | I77: #DIV/0! | K77: =IFERROR(INDEX(données!$A$1:$D$56,MATCH($A77,données!$A$1:$A$56,0),MATCH(K$1,données!$A$1:$D$1)),0) -> 1.04 | L77: 1.04 | M77: #DIV/0! | O77: =IFERROR(INDEX(données!$A$1:$D$56,MATCH($A77,données!$A$1:$A$56,0),MATCH(O$1,données!$A$1:$D$1)),0) -> 1.04 | P77: 1.04 | Q77: #DIV/0! | S77: =IFERROR(INDEX(données!$A$1:$D$56,MATCH($A77,données!$A$1:$A$56,0),MATCH(S$1,données!$A$1:$D$1)),0) -> 1.04 | T77: 1.04 | U77: #DIV/0! | W77: =IFERROR(INDEX(données!$A$1:$D$56,MATCH($A77,données!$A$1:$A$56,0),MATCH(W$1,données!$A$1:$D$1)),0) -> 1.04 | X77: 1.04 | Y77: #DIV/0! | AA77: =IFERROR(INDEX(données!$A$1:$D$56,MATCH($A77,données!$A$1:$A$56,0),MATCH(AA$1,données!$A$1:$D$1)),0) -> 1.04 | AB77: 1.04 | AC77: #DIV/0! | AE77: =IFERROR(INDEX(données!$A$1:$D$56,MATCH($A77,données!$A$1:$A$56,0),MATCH(AE$1,données!$A$1:$D$1)),0) -> 1.4069708 | AF77: 1.4069708 | AG77: #DIV/0!
A78: TOTAL | B78: 0 | C78: =SUM(C72,C28,C18,C5) -> 1131693.7 | D78: 1108423.1 | E78: #DIV/0! | F78: 0 | G78: =SUM(G72,G28,G18,G5) -> 1131693.7 | H78: 0 | I78: #DIV/0! | J78: 0 | K78: =SUM(K72,K28,K18,K5) -> 164863.47 | L78: 160901.96 | M78: #DIV/0! | N78: 0 | O78: =SUM(O72,O28,O18,O5) -> 164863.47 | P78: 160901.96 | Q78: #DIV/0! | R78: 0 | S78: =SUM(S72,S28,S18,S5) -> 164863.47 | T78: 160901.96 | U78: #DIV/0! | V78: 0 | W78: =SUM(W72,W28,W18,W5) -> 164863.47 | X78: 160901.96 | Y78: #DIV/0! | Z78: 0 | AA78: =SUM(AA72,AA28,AA18,AA5) -> 164863.47 | AB78: 160901.96 | AC78: #DIV/0! | AD78: 0 | AE78: =SUM(AE72,AE28,AE18,AE5) -> 681870.04 | AF78: 667125.77 | AG78: #DIV/0!

Sheet données
A1: UE | B1: 17 | C1: 19 | D1: 24
A2: U01 | B2: 103080.36 | C2: 15391.54 | D2: 55254.528
A3: U14 | B3: 103120.77 | C3: 14341.59 | D3: 54103.822
A4: U20 | B4: 34556.73 | C4: 4838.26 | D4: 16926.354
A5: U24 | B5: 10761.17 | C5: 1706.22 | D5: 5279.8692
A6: U25 | B6: 47997.35 | C6: 6941.67 | D6: 24274.696
A7: U28 | B7: 62991.76 | C7: 9402.53 | D7: 33818.301
A8: U74 | B8: 112634.72 | C8: 16670.86 | D8: 64830.157
A9: U02 | B9: 68564.04 | C9: 9324.12 | D9: 34323.874
A10: U35 | B10: 31806.2 | C10: 5114.64 | D10: 19735.016
A11: U36 | B11: 121500.15 | C11: 16665.63 | D11: 59423.157
A12: U03 | B12: 74578.7 | C12: 10781.46 | D12: 38642.299
... A56: U92 | B56: 3.87 | C56: 1.04 | D56: 1.4069708
