Workbook

Sheet tableau
B1: 17 | C1: 17 | F1: 18 | G1: 18 | J1: 19 | K1: 19 | N1: 20 | O1: 20 | R1: 21 | S1: 21 | V1: 22 | W1: 22 | Z1: 23 | AA1: 23 | AD1: 24 | AE1: 24
B3: 17 | F3: 18 | J3: 19 | N3: 20 | R3: 21 | V3: 22 | Z3: 23 | AD3: 24
B4: 2014 | C4: 2015 | D4: écart | E4: évol | F4: 2014 | G4: 2015 | H4: écart | I4: évol | J4: 2014 | K4: 2015 | L4: écart | M4: évol | N4: 2014 | O4: 2015 | P4: écart | Q4: évol | R4: 2014 | S4: 2015 | T4: écart | U4: évol | V4: 2014 | W4: 2015 | X4: écart | Y4: évol | Z4: 2014 | AA4: 2015 | AB4: écart | AC4: évol | AD4: 2014 | AE4: 2015 | AF4: écart | AG4: évol
A5: PGC-FI | B5: 0 | C5: =C6+C14 -> 697013.25 | D5: 697013.25 | E5: #DIV/0! | F5: 0 | G5: =G6+G14 -> 697013.25 | H5: 2015 | I5: #DIV/0! | J5: 0 | K5: =K6+K14 -> 100397.06 | L5: 100397.06 | M5: #DIV/0! | N5: 0 | O5: =O6+O14 -> 100397.06 | P5: 100397.06 | Q5: #DIV/0! | R5: 0 | S5: =S6+S14 -> 100397.06 | T5: 100397.06 | U5: #DIV/0! | V5: 0 | W5: =W6+W14 -> 100397.06 | X5: 100397.06 | Y5: #DIV/0! | Z5: 0 | AA5: =AA6+AA14 -> 100397.06 | AB5: 100397.06 | AC5: #DIV/0! | AD5: 0 | AE5: =AE6+AE14 -> 367969.78 | AF5: 367969.78 | AG5: #DIV/0!
A6: PGC | B6: 0 | C6: =SUM(C7:C13) -> 475142.86 | D6: 475142.86 | E6: #DIV/0! | F6: 0 | G6: =SUM(G7:G13) -> 475142.86 | H6: 525368.85 | I6: #DIV/0! | J6: 0 | K6: =SUM(K7:K13) -> 69292.67 | L6: 69292.67 | M6: #DIV/0! | N6: 0 | O6: =SUM(O7:O13) -> 69292.67 | P6: 69292.67 | Q6: #DIV/0! | R6: 0 | S6: =SUM(S7:S13) -> 69292.67 | T6: 69292.67 | U6: #DIV/0! | V6: 0 | W6: =SUM(W7:W13) -> 69292.67 | X6: 69292.67 | Y6: #DIV/0! | Z6: 0 | AA6: =SUM(AA7:AA13) -> 69292.67 | AB6: 69292.67 | AC6: #DIV/0! | AD6: 0 | AE6: =SUM(AE7:AE13) -> 254487.73 | AF6: 254487.73 | AG6: #DIV/0!
A7: U01 | C7: =IFERROR(INDEX(données!$A$1:$D$56,MATCH($A7,données!$A$1:$A$56,0),MATCH(C$1,données!$A$1:$D$1)),0) -> 103080.36 | D7: 103080.36 | E7: #DIV/0! | G7: =IFERROR(INDEX(données!$A$1:$D$56,MATCH($A7,données!$A$1:$A$56,0),MATCH(G$1,données!$A$1:$D$1)),0) -> 103080.36 | H7: 372062.5 | I7: #DIV/0! | K7: =IFERROR(INDEX(données!$A$1:$D$56,MATCH($A7,données!$A$1:$A$56,0),MATCH(K$1,données!$A$1:$D$1)),0) -> 15391.54 | L7: 15391.54 | M7: #DIV/0! | O7: =IFERROR(INDEX(données!$A$1:$D$56,MATCH($A7,données!$A$1:$A$56,0),MATCH(O$1,données!$A$1:$D$1)),0) -> 15391.54 | P7: 15391.54 | Q7: #DIV/0! | S7: =IFERROR(INDEX(données!$A$1:$D$56,MATCH($A7,données!$A$1:$A$56,0),MATCH(S$1,données!$A$1:$D$1)),0) -> 15391.54 | T7: 15391.54 | U7: #DIV/0! | W7: =IFERROR(INDEX(données!$A$1:$D$56,MATCH($A7,données!$A$1:$A$56,0),MATCH(W$1,données!$A$1:$D$1)),0) -> 15391.54 | X7: 15391.54 | Y7: #DIV/0! | AA7: =IFERROR(INDEX(données!$A$1:$D$56,MATCH($A7,données!$A$1:$A$56,0),MATCH(AA$1,données!$A$1:$D$1)),0) -> 15391.54 | AB7: 15391.54 | AC7: #DIV/0! | AE7: =IFERROR(INDEX(données!$A$1:$D$56,MATCH($A7,données!$A$1:$A$56,0),MATCH(AE$1,données!$A$1:$D$1)),0) -> 55254.528 | AF7: 55254.528 | AG7: #DIV/0!
A8: U14 | C8: =IFERROR(INDEX(données!$A$1:$D$56,MATCH($A8,données!$A$1:$A$56,0),MATCH(C$1,données!$A$1:$D$1)),0) -> 103120.77 | D8: 103120.77 | E8: #DIV/0! | G8: =IFERROR(INDEX(données!$A$1:$D$56,MATCH($A8,données!$A$1:$A$56,0),MATCH(G$1,données!$A$1:$D$1)),0) -> 103120.77 | H8: 103120.77 | I8: #DIV/0! | K8: =IFERROR(INDEX(données!$A$1:$D$56,MATCH($A8,données!$A$1:$A$56,0),MATCH(K$1,données!$A$1:$D$1)),0) -> 14341.59 | L8: 14341.59 | M8: #DIV/0! | O8: =IFERROR(INDEX(données!$A$1:$D$56,MATCH($A8,données!$A$1:$A$56,0),MATCH(O$1,données!$A$1:$D$1)),0) -> 14341.59 | P8: 14341.59 | Q8: #DIV/0! | S8: =IFERROR(INDEX(données!$A$1:$D$56,MATCH($A8,données!$A$1:$A$56,0),MATCH(S$1,données!$A$1:$D$1)),0) -> 14341.59 | T8: 14341.59 | U8: #DIV/0! | W8: =IFERROR(INDEX(données!$A$1:$D$56,MATCH($A8,données!$A$1:$A$56,0),MATCH(W$1,données!$A$1:$D$1)),0) -> 14341.59 | X8: 14341.59 | Y8: #DIV/0! | AA8: =IFERROR(INDEX(données!$A$1:$D$56,MATCH($A8,données!$A$1:$A$56,0),MATCH(AA$1,données!$A$1:$D$1)),0) -> 14341.59 | AB8: 14341.59 | AC8: #DIV/0! | AE8: =IFERROR(INDEX(données!$A$1:$D$56,MATCH($A8,données!$A$1:$A$56,0),MATCH(AE$1,données!$A$1:$D$1)),0) -> 54103.822 | AF8: 54103.822 | AG8: #DIV/0!
A9: U20 | C9: =IFERROR(INDEX(données!$A$1:$D$56,MATCH($A9,données!$A$1:$A$56,0),MATCH(C$1,données!$A$1:$D$1)),0) -> 34556.73 | D9: 34556.73 | E9: #DIV/0! | G9: =IFERROR(INDEX(données!$A$1:$D$56,MATCH($A9,données!$A$1:$A$56,0),MATCH(G$1,données!$A$1:$D$1)),0) -> 34556.73 | H9: 34556.73 | I9: #DIV/0! | K9: =IFERROR(INDEX(données!$A$1:$D$56,MATCH($A9,données!$A$1:$A$56,0),MATCH(K$1,données!$A$1:$D$1)),0) -> 4838.26 | L9: 4838.26 | M9: #DIV/0! | O9: =IFERROR(INDEX(données!$A$1:$D$56,MATCH($A9,données!$A$1:$A$56,0),MATCH(O$1,données!$A$1:$D$1)),0) -> 4838.26 | P9: 4838.26 | Q9: #DIV/0! | S9: =IFERROR(INDEX(données!$A$1:$D$56,MATCH($A9,données!$A$1:$A$56,0),MATCH(S$1,données!$A$1:$D$1)),0) -> 4838.26 | T9: 4838.26 | U9: #DIV/0! | W9: =IFERROR(INDEX(données!$A$1:$D$56,MATCH($A9,données!$A$1:$A$56,0),MATCH(W$1,données!$A$1:$D$1)),0) -> 4838.26 | X9: 4838.26 | Y9: #DIV/0! | AA9: =IFERROR(INDEX(données!$A$1:$D$56,MATCH($A9,données!$A$1:$A$56,0),MATCH(AA$1,données!$A$1:$D$1)),0) -> 4838.26 | AB9: 4838.26 | AC9: #DIV/0! | AE9: =IFERROR(INDEX(données!$A$1:$D$56,MATCH($A9,données!$A$1:$A$56,0),MATCH(AE$1,données!$A$1:$D$1)),0) -> 16926.354 | AF9: 16926.354 | AG9: #DIV/0!
A10: U24 | C10: =IFERROR(INDEX(données!$A$1:$D$56,MATCH($A10,données!$A$1:$A$56,0),MATCH(C$1,données!$A$1:$D$1)),0) -> 10761.17 | D10: 10761.17 | E10: #DIV/0! | G10: =IFERROR(INDEX(données!$A$1:$D$56,MATCH($A10,données!$A$1:$A$56,0),MATCH(G$1,données!$A$1:$D$1)),0) -> 10761.17 | H10: 10761.17 | I10: #DIV/0! | K10: =IFERROR(INDEX(données!$A$1:$D$56,MATCH($A10,données!$A$1:$A$56,0),MATCH(K$1,données!$A$1:$D$1)),0) -> 1706.22 | L10: 1706.22 | M10: #DIV/0! | O10: =IFERROR(INDEX(données!$A$1:$D$56,MATCH($A10,données!$A$1:$A$56,0),MATCH(O$1,données!$A$1:$D$1)),0) -> 1706.22 | P10: 1706.22 | Q10: #DIV/0! | S10: =IFERROR(INDEX(données!$A$1:$D$56,MATCH($A10,données!$A$1:$A$56,0),MATCH(S$1,données!$A$1:$D$1)),0) -> 1706.22 | T10: 1706.22 | U10: #DIV/0! | W10: =IFERROR(INDEX(données!$A$1:$D$56,MATCH($A10,données!$A$1:$A$56,0),MATCH(W$1,données!$A$1:$D$1)),0) -> 1706.22 | X10: 1706.22 | Y10: #DIV/0! | AA10: =IFERROR(INDEX(données!$A$1:$D$56,MATCH($A10,données!$A$1:$A$56,0),MATCH(AA$1,données!$A$1:$D$1)),0) -> 1706.22 | AB10: 1706.22 | AC10: #DIV/0! | AE10: =IFERROR(INDEX(données!$A$1:$D$56,MATCH($A10,données!$A$1:$A$56,0),MATCH(AE$1,données!$A$1:$D$1)),0) -> 5279.8692 | AF10: 5279.8692 | AG10: #DIV/0!
A11: U25 | C11: =IFERROR(INDEX(données!$A$1:$D$56,MATCH($A11,données!$A$1:$A$56,0),MATCH(C$1,données!$A$1:$D$1)),0) -> 47997.35 | D11: 47997.35 | E11: #DIV/0! | G11: =IFERROR(INDEX(données!$A$1:$D$56,MATCH($A11,données!$A$1:$A$56,0),MATCH(G$1,données!$A$1:$D$1)),0) -> 47997.35 | H11: 47997.35 | I11: #DIV/0! | K11: =IFERROR(INDEX(données!$A$1:$D$56,MATCH($A11,données!$A$1:$A$56,0),MATCH(K$1,données!$A$1:$D$1)),0) -> 6941.67 | L11: 6941.67 | M11: #DIV/0! | O11: =IFERROR(INDEX(données!$A$1:$D$56,MATCH($A11,données!$A$1:$A$56,0),MATCH(O$1,données!$A$1:$D$1)),0) -> 6941.67 | P11: 6941.67 | Q11: #DIV/0! | S11: =IFERROR(INDEX(données!$A$1:$D$56,MATCH($A11,données!$A$1:$A$56,0),MATCH(S$1,données!$A$1:$D$1)),0) -> 6941.67 | T11: 6941.67 | U11: #DIV/0! | W11: =IFERROR(INDEX(données!$A$1:$D$56,MATCH($A11,données!$A$1:$A$56,0),MATCH(W$1,données!$A$1:$D$1)),0) -> 6941.67 | X11: 6941.67 | Y11: #DIV/0! | AA11: =IFERROR(INDEX(données!$A$1:$D$56,MATCH($A11,données!$A$1:$A$56,0),MATCH(AA$1,données!$A$1:$D$1)),0) -> 6941.67 | AB11: 6941.67 | AC11: #DIV/0! | AE11: =IFERROR(INDEX(données!$A$1:$D$56,MATCH($A11,données!$A$1:$A$56,0),MATCH(AE$1,données!$A$1:$D$1)),0) -> 24274.696 | AF11: 24274.696 | AG11: #DIV/0!
A12: U28 | C12: =IFERROR(INDEX(données!$A$1:$D$56,MATCH($A12,données!$A$1:$A$56,0),MATCH(C$1,données!$A$1:$D$1)),0) -> 62991.76 | D12: 62991.76 | E12: #DIV/0! | G12: =IFERROR(INDEX(données!$A$1:$D$56,MATCH($A12,données!$A$1:$A$56,0),MATCH(G$1,données!$A$1:$D$1)),0) -> 62991.76 | H12: 62991.76 | I12: #DIV/0! | K12: =IFERROR(INDEX(données!$A$1:$D$56,MATCH($A12,données!$A$1:$A$56,0),MATCH(K$1,données!$A$1:$D$1)),0) -> 9402.53 | L12: 9402.53 | M12: #DIV/0! | O12: =IFERROR(INDEX(données!$A$1:$D$56,MATCH($A12,données!$A$1:$A$56,0),MATCH(O$1,données!$A$1:$D$1)),0) -> 9402.53 | P12: 9402.53 | Q12: #DIV/0! | S12: =IFERROR(INDEX(données!$A$1:$D$56,MATCH($A12,données!$A$1:$A$56,0),MATCH(S$1,données!$A$1:$D$1)),0) -> 9402.53 | T12: 9402.53 | U12: #DIV/0! | W12: =IFERROR(INDEX(données!$A$1:$D$56,MATCH($A12,données!$A$1:$A$56,0),MATCH(W$1,données!$A$1:$D$1)),0) -> 9402.53 | X12: 9402.53 | Y12: #DIV/0! | AA12: =IFERROR(INDEX(données!$A$1:$D$56,MATCH($A12,données!$A$1:$A$56,0),MATCH(AA$1,données!$A$1:$D$1)),0) -> 9402.53 | AB12: 9402.53 | AC12: #DIV/0! | AE12: =IFERROR(INDEX(données!$A$1:$D$56,MATCH($A12,données!$A$1:$A$56,0),MATCH(AE$1,données!$A$1:$D$1)),0) -> 33818.301 | AF12: 33818.301 | AG12: #DIV/0!
A13: U74 | C13: =IFERROR(INDEX(données!$A$1:$D$56,MATCH($A13,données!$A$1:$A$56,0),MATCH(C$1,données!$A$1:$D$1)),0) -> 112634.72 | D13: 112634.72 | E13: #DIV/0! | G13: =IFERROR(INDEX(données!$A$1:$D$56,MATCH($A13,données!$A$1:$A$56,0),MATCH(G$1,données!$A$1:$D$1)),0) -> 112634.72 | H13: 112634.72 | I13: #DIV/0! | K13: =IFERROR(INDEX(données!$A$1:$D$56,MATCH($A13,données!$A$1:$A$56,0),MATCH(K$1,données!$A$1:$D$1)),0) -> 16670.86 | L13: 16670.86 | M13: #DIV/0! | O13: =IFERROR(INDEX(données!$A$1:$D$56,MATCH($A13,données!$A$1:$A$56,0),MATCH(O$1,données!$A$1:$D$1)),0) -> 16670.86 | P13: 16670.86 | Q13: #DIV/0! | S13: =IFERROR(INDEX(données!$A$1:$D$56,MATCH($A13,données!$A$1:$A$56,0),MATCH(S$1,données!$A$1:$D$1)),0) -> 16670.86 | T13: 16670.86 | U13: #DIV/0! | W13: =IFERROR(INDEX(données!$A$1:$D$56,MATCH($A13,données!$A$1:$A$56,0),MATCH(W$1,données!$A$1:$D$1)),0) -> 16670.86 | X13: 16670.86 | Y13: #DIV/0! | AA13: =IFERROR(INDEX(données!$A$1:$D$56,MATCH($A13,données!$A$1:$A$56,0),MATCH(AA$1,données!$A$1:$D$1)),0) -> 16670.86 | AB13: 16670.86 | AC13: #DIV/0! | AE13: =IFERROR(INDEX(données!$A$1:$D$56,MATCH($A13,données!$A$1:$A$56,0),MATCH(AE$1,données!$A$1:$D$1)),0) -> 64830.157 | AF13: 64830.157 | AG13: #DIV/0!
A14: FI | B14: 0 | C14: =SUM(C15:C17) -> 221870.39 | D14: 221870.39 | E14: #DIV/0! | F14: 0 | G14: =SUM(G15:G17) -> 221870.39 | H14: 0 | I14: #DIV/0! | J14: 0 | K14: =SUM(K15:K17) -> 31104.39 | L14: 31104.39 | M14: #DIV/0! | N14: 0 | O14: =SUM(O15:O17) -> 31104.39 | P14: 31104.39 | Q14: #DIV/0! | R14: 0 | S14: =SUM(S15:S17) -> 31104.39 | T14: 31104.39 | U14: #DIV/0! | V14: 0 | W14: =SUM(W15:W17) -> 31104.39 | X14: 31104.39 | Y14: #DIV/0! | Z14: 0 | AA14: =SUM(AA15:AA17) -> 31104.39 | AB14: 31104.39 | AC14: #DIV/0! | AD14: 0 | AE14: =SUM(AE15:AE17) -> 113482.05 | AF14: 113482.05 | AG14: #DIV/0!
A15: U02 | C15: =IFERROR(INDEX(données!$A$1:$D$56,MATCH($A15,données!$A$1:$A$56,0),MATCH(C$1,données!$A$1:$D$1)),0) -> 68564.04 | D15: 68564.04 | E15: #DIV/0! | G15: =IFERROR(INDEX(données!$A$1:$D$56,MATCH($A15,données!$A$1:$A$56,0),MATCH(G$1,données!$A$1:$D$1)),0) -> 68564.04 | H15: 153306.35 | I15: #DIV/0! | K15: =IFERROR(INDEX(données!$A$1:$D$56,MATCH($A15,données!$A$1:$A$56,0),MATCH(K$1,données!$A$1:$D$1)),0) -> 9324.12 | L15: 9324.12 | M15: #DIV/0! | O15: =IFERROR(INDEX(données!$A$1:$D$56,MATCH($A15,données!$A$1:$A$56,0),MATCH(O$1,données!$A$1:$D$1)),0) -> 9324.12 | P15: 9324.12 | Q15: #DIV/0! | S15: =IFERROR(INDEX(données!$A$1:$D$56,MATCH($A15,données!$A$1:$A$56,0),MATCH(S$1,données!$A$1:$D$1)),0) -> 9324.12 | T15: 9324.12 | U15: #DIV/0! | W15: =IFERROR(INDEX(données!$A$1:$D$56,MATCH($A15,données!$A$1:$A$56,0),MATCH(W$1,données!$A$1:$D$1)),0) -> 9324.12 | X15: 9324.12 | Y15: #DIV/0! | AA15: =IFERROR(INDEX(données!$A$1:$D$56,MATCH($A15,données!$A$1:$A$56,0),MATCH(AA$1,données!$A$1:$D$1)),0) -> 9324.12 | AB15: 9324.12 | AC15: #DIV/0! | AE15: =IFERROR(INDEX(données!$A$1:$D$56,MATCH($A15,données!$A$1:$A$56,0),MATCH(AE$1,données!$A$1:$D$1)),0) -> 34323.874 | AF15: 34323.874 | AG15: #DIV/0!
A16: U35 | C16: =IFERROR(INDEX(données!$A$1:$D$56,MATCH($A16,données!$A$1:$A$56,0),MATCH(C$1,données!$A$1:$D$1)),0) -> 31806.2 | D16: 31806.2 | E16: #DIV/0! | G16: =IFERROR(INDEX(données!$A$1:$D$56,MATCH($A16,données!$A$1:$A$56,0),MATCH(G$1,données!$A$1:$D$1)),0) -> 31806.2 | H16: 31806.2 | I16: #DIV/0! | K16: =IFERROR(INDEX(données!$A$1:$D$56,MATCH($A16,données!$A$1:$A$56,0),MATCH(K$1,données!$A$1:$D$1)),0) -> 5114.64 | L16: 5114.64 | M16: #DIV/0! | O16: =IFERROR(INDEX(données!$A$1:$D$56,MATCH($A16,données!$A$1:$A$56,0),MATCH(O$1,données!$A$1:$D$1)),0) -> 5114.64 | P16: 5114.64 | Q16: #DIV/0! | S16: =IFERROR(INDEX(données!$A$1:$D$56,MATCH($A16,données!$A$1:$A$56,0),MATCH(S$1,données!$A$1:$D$1)),0) -> 5114.64 | T16: 5114.64 | U16: #DIV/0! | W16: =IFERROR(INDEX(données!$A$1:$D$56,MATCH($A16,données!$A$1:$A$56,0),MATCH(W$1,données!$A$1:$D$1)),0) -> 5114.64 | X16: 5114.64 | Y16: #DIV/0! | AA16: =IFERROR(INDEX(données!$A$1:$D$56,MATCH($A16,données!$A$1:$A$56,0),MATCH(AA$1,données!$A$1:$D$1)),0) -> 5114.64 | AB16: 5114.64 | AC16: #DIV/0! | AE16: =IFERROR(INDEX(données!$A$1:$D$56,MATCH($A16,données!$A$1:$A$56,0),MATCH(AE$1,données!$A$1:$D$1)),0) -> 19735.016 | AF16: 19735.016 | AG16: #DIV/0!
A17: U36 | C17: =IFERROR(INDEX(données!$A$1:$D$56,MATCH($A17,données!$A$1:$A$56,0),MATCH(C$1,données!$A$1:$D$1)),0) -> 121500.15 | D17: 121500.15 | E17: #DIV/0! | G17: =IFERROR(INDEX(données!$A$1:$D$56,MATCH($A17,données!$A$1:$A$56,0),MATCH(G$1,données!$A$1:$D$1)),0) -> 121500.15 | H17: 121500.15 | I17: #DIV/0! | K17: =IFERROR(INDEX(données!$A$1:$D$56,MATCH($A17,données!$A$1:$A$56,0),MATCH(K$1,données!$A$1:$D$1)),0) -> 16665.63 | L17: 16665.63 | M17: #DIV/0! | O17: =IFERROR(INDEX(données!$A$1:$D$56,MATCH($A17,données!$A$1:$A$56,0),MATCH(O$1,données!$A$1:$D$1)),0) -> 16665.63 | P17: 16665.63 | Q17: #DIV/0! | S17: =IFERROR(INDEX(données!$A$1:$D$56,MATCH($A17,données!$A$1:$A$56,0),MATCH(S$1,données!$A$1:$D$1)),0) -> 16665.63 | T17: 16665.63 | U17: #DIV/0! | W17: =IFERROR(INDEX(données!$A$1:$D$56,MATCH($A17,données!$A$1:$A$56,0),MATCH(W$1,données!$A$1:$D$1)),0) -> 16665.63 | X17: 16665.63 | Y17: #DIV/0! | AA17: =IFERROR(INDEX(données!$A$1:$D$56,MATCH($A17,données!$A$1:$A$56,0),MATCH(AA$1,données!$A$1:$D$1)),0) -> 16665.63 | AB17: 16665.63 | AC17: #DIV/0! | AE17: =IFERROR(INDEX(données!$A$1:$D$56,MATCH($A17,données!$A$1:$A$56,0),MATCH(AE$1,données!$A$1:$D$1)),0) -> 59423.157 | AF17: 59423.157 | AG17: #DIV/0!
A18: MT | B18: 0 | C18: =SUM(C19:C27) -> 262464.03 | D18: 262464.03 | E18: #DIV/0! | F18: 0 | G18: =SUM(G19:G27) -> 262464.03 | H18: 0 | I18: #DIV/0! | J18: 0 | K18: =SUM(K19:K27) -> 37384.83 | L18: 37384.83 | M18: #DIV/0! | N18: 0 | O18: =SUM(O19:O27) -> 37384.83 | P18: 37384.83 | Q18: #DIV/0! | R18: 0 | S18: =SUM(S19:S27) -> 37384.83 | T18: 37384.83 | U18: #DIV/0! | V18: 0 | W18: =SUM(W19:W27) -> 37384.83 | X18: 37384.83 | Y18: #DIV/0! | Z18: 0 | AA18: =SUM(AA19:AA27) -> 37384.83 | AB18: 37384.83 | AC18: #DIV/0! | AD18: 0 | AE18: =SUM(AE19:AE27) -> 129128.22 | AF18: 129128.22 | AG18: #DIV/0!
A19: U03 | C19: =IFERROR(INDEX(données!$A$1:$D$56,MATCH($A19,données!$A$1:$A$56,0),MATCH(C$1,données!$A$1:$D$1)),0) -> 74578.7 | D19: 74578.7 | E19: #DIV/0! | G19: =IFERROR(INDEX(données!$A$1:$D$56,MATCH($A19,données!$A$1:$A$56,0),MATCH(G$1,données!$A$1:$D$1)),0) -> 74578.7 | H19: 187885.33 | I19: #DIV/0! | K19: =IFERROR(INDEX(données!$A$1:$D$56,MATCH($A19,données!$A$1:$A$56,0),MATCH(K$1,données!$A$1:$D$1)),0) -> 10781.46 | L19: 10781.46 | M19: #DIV/0! | O19: =IFERROR(INDEX(données!$A$1:$D$56,MATCH($A19,données!$A$1:$A$56,0),MATCH(O$1,données!$A$1:$D$1)),0) -> 10781.46 | P19: 10781.46 | Q19: #DIV/0! | S19: =IFERROR(INDEX(données!$A$1:$D$56,MATCH($A19,données!$A$1:$A$56,0),MATCH(S$1,données!$A$1:$D$1)),0) -> 10781.46 | T19: 10781.46 | U19: #DIV/0! | W19: =IFERROR(INDEX(données!$A$1:$D$56,MATCH($A19,données!$A$1:$A$56,0),MATCH(W$1,données!$A$1:$D$1)),0) -> 10781.46 | X19: 10781.46 | Y19: #DIV/0! | AA19: =IFERROR(INDEX(données!$A$1:$D$56,MATCH($A19,données!$A$1:$A$56,0),MATCH(AA$1,données!$A$1:$D$1)),0) -> 10781.46 | AB19: 10781.46 | AC19: #DIV/0! | AE19: =IFERROR(INDEX(données!$A$1:$D$56,MATCH($A19,données!$A$1:$A$56,0),MATCH(AE$1,données!$A$1:$D$1)),0) -> 38642.299 | AF19: 38642.299 | AG19: #DIV/0!
A20: U10 | C20: =IFERROR(INDEX(données!$A$1:$D$56,MATCH($A20,données!$A$1:$A$56,0),MATCH(C$1,données!$A$1:$D$1)),0) -> 3000.64 | D20: 3000.64 | E20: #DIV/0! | G20: =IFERROR(INDEX(données!$A$1:$D$56,MATCH($A20,données!$A$1:$A$56,0),MATCH(G$1,données!$A$1:$D$1)),0) -> 3000.64 | H20: 3000.64 | I20: #DIV/0! | K20: =IFERROR(INDEX(données!$A$1:$D$56,MATCH($A20,données!$A$1:$A$56,0),MATCH(K$1,données!$A$1:$D$1)),0) -> 331.71 | L20: 331.71 | M20: #DIV/0! | O20: =IFERROR(INDEX(données!$A$1:$D$56,MATCH($A20,données!$A$1:$A$56,0),MATCH(O$1,données!$A$1:$D$1)),0) -> 331.71 | P20: 331.71 | Q20: #DIV/0! | S20: =IFERROR(INDEX(données!$A$1:$D$56,MATCH($A20,données!$A$1:$A$56,0),MATCH(S$1,données!$A$1:$D$1)),0) -> 331.71 | T20: 331.71 | U20: #DIV/0! | W20: =IFERROR(INDEX(données!$A$1:$D$56,MATCH($A20,données!$A$1:$A$56,0),MATCH(W$1,données!$A$1:$D$1)),0) -> 331.71 | X20: 331.71 | Y20: #DIV/0! | AA20: =IFERROR(INDEX(données!$A$1:$D$56,MATCH($A20,données!$A$1:$A$56,0),MATCH(AA$1,données!$A$1:$D$1)),0) -> 331.71 | AB20: 331.71 | AC20: #DIV/0! | AE20: =IFERROR(INDEX(données!$A$1:$D$56,MATCH($A20,données!$A$1:$A$56,0),MATCH(AE$1,données!$A$1:$D$1)),0) -> 711.81906 | AF20: 711.81906 | AG20: #DIV/0!
A21: U05 | C21: =IFERROR(INDEX(données!$A$1:$D$56,MATCH($A21,données!$A$1:$A$56,0),MATCH(C$1,données!$A$1:$D$1)),0) -> 43408.62 | D21: 43408.62 | E21: #DIV/0! | G21: =IFERROR(INDEX(données!$A$1:$D$56,MATCH($A21,données!$A$1:$A$56,0),MATCH(G$1,données!$A$1:$D$1)),0) -> 43408.62 | H21: 43408.62 | I21: #DIV/0! | K21: =IFERROR(INDEX(données!$A$1:$D$56,MATCH($A21,données!$A$1:$A$56,0),MATCH(K$1,données!$A$1:$D$1)),0) -> 6095.85 | L21: 6095.85 | M21: #DIV/0! | O21: =IFERROR(INDEX(données!$A$1:$D$56,MATCH($A21,données!$A$1:$A$56,0),MATCH(O$1,données!$A$1:$D$1)),0) -> 6095.85 | P21: 6095.85 | Q21: #DIV/0! | S21: =IFERROR(INDEX(données!$A$1:$D$56,MATCH($A21,données!$A$1:$A$56,0),MATCH(S$1,données!$A$1:$D$1)),0) -> 6095.85 | T21: 6095.85 | U21: #DIV/0! | W21: =IFERROR(INDEX(données!$A$1:$D$56,MATCH($A21,données!$A$1:$A$56,0),MATCH(W$1,données!$A$1:$D$1)),0) -> 6095.85 | X21: 6095.85 | Y21: #DIV/0! | AA21: =IFERROR(INDEX(données!$A$1:$D$56,MATCH($A21,données!$A$1:$A$56,0),MATCH(AA$1,données!$A$1:$D$1)),0) -> 6095.85 | AB21: 6095.85 | AC21: #DIV/0! | AE21: =IFERROR(INDEX(données!$A$1:$D$56,MATCH($A21,données!$A$1:$A$56,0),MATCH(AE$1,données!$A$1:$D$1)),0) -> 20722.409 | AF21: 20722.409 | AG21: #DIV/0!
A22: U40 | C22: =IFERROR(INDEX(données!$A$1:$D$56,MATCH($A22,données!$A$1:$A$56,0),MATCH(C$1,données!$A$1:$D$1)),0) -> 50062.86 | D22: 50062.86 | E22: #DIV/0! | G22: =IFERROR(INDEX(données!$A$1:$D$56,MATCH($A22,données!$A$1:$A$56,0),MATCH(G$1,données!$A$1:$D$1)),0) -> 50062.86 | H22: 50062.86 | I22: #DIV/0! | K22: =IFERROR(INDEX(données!$A$1:$D$56,MATCH($A22,données!$A$1:$A$56,0),MATCH(K$1,données!$A$1:$D$1)),0) -> 6877.24 | L22: 6877.24 | M22: #DIV/0! | O22: =IFERROR(INDEX(données!$A$1:$D$56,MATCH($A22,données!$A$1:$A$56,0),MATCH(O$1,données!$A$1:$D$1)),0) -> 6877.24 | P22: 6877.24 | Q22: #DIV/0! | S22: =IFERROR(INDEX(données!$A$1:$D$56,MATCH($A22,données!$A$1:$A$56,0),MATCH(S$1,données!$A$1:$D$1)),0) -> 6877.24 | T22: 6877.24 | U22: #DIV/0! | W22: =IFERROR(INDEX(données!$A$1:$D$56,MATCH($A22,données!$A$1:$A$56,0),MATCH(W$1,données!$A$1:$D$1)),0) -> 6877.24 | X22: 6877.24 | Y22: #DIV/0! | AA22: =IFERROR(INDEX(données!$A$1:$D$56,MATCH($A22,données!$A$1:$A$56,0),MATCH(AA$1,données!$A$1:$D$1)),0) -> 6877.24 | AB22: 6877.24 | AC22: #DIV/0! | AE22: =IFERROR(INDEX(données!$A$1:$D$56,MATCH($A22,données!$A$1:$A$56,0),MATCH(AE$1,données!$A$1:$D$1)),0) -> 24048.589 | AF22: 24048.589 | AG22: #DIV/0!
A23: U33 | C23: =IFERROR(INDEX(données!$A$1:$D$56,MATCH($A23,données!$A$1:$A$56,0),MATCH(C$1,données!$A$1:$D$1)),0) -> 17783.1 | D23: 17783.1 | E23: #DIV/0! | G23: =IFERROR(INDEX(données!$A$1:$D$56,MATCH($A23,données!$A$1:$A$56,0),MATCH(G$1,données!$A$1:$D$1)),0) -> 17783.1 | H23: 17783.1 | I23: #DIV/0! | K23: =IFERROR(INDEX(données!$A$1:$D$56,MATCH($A23,données!$A$1:$A$56,0),MATCH(K$1,données!$A$1:$D$1)),0) -> 2426.93 | L23: 2426.93 | M23: #DIV/0! | O23: =IFERROR(INDEX(données!$A$1:$D$56,MATCH($A23,données!$A$1:$A$56,0),MATCH(O$1,données!$A$1:$D$1)),0) -> 2426.93 | P23: 2426.93 | Q23: #DIV/0! | S23: =IFERROR(INDEX(données!$A$1:$D$56,MATCH($A23,données!$A$1:$A$56,0),MATCH(S$1,données!$A$1:$D$1)),0) -> 2426.93 | T23: 2426.93 | U23: #DIV/0! | W23: =IFERROR(INDEX(données!$A$1:$D$56,MATCH($A23,données!$A$1:$A$56,0),MATCH(W$1,données!$A$1:$D$1)),0) -> 2426.93 | X23: 2426.93 | Y23: #DIV/0! | AA23: =IFERROR(INDEX(données!$A$1:$D$56,MATCH($A23,données!$A$1:$A$56,0),MATCH(AA$1,données!$A$1:$D$1)),0) -> 2426.93 | AB23: 2426.93 | AC23: #DIV/0! | AE23: =IFERROR(INDEX(données!$A$1:$D$56,MATCH($A23,données!$A$1:$A$56,0),MATCH(AE$1,données!$A$1:$D$1)),0) -> 8221.6534 | AF23: 8221.6534 | AG23: #DIV/0!
A24: U76 | C24: =IFERROR(INDEX(données!$A$1:$D$56,MATCH($A24,données!$A$1:$A$56,0),MATCH(C$1,données!$A$1:$D$1)),0) -> 21357.06 | D24: 21357.06 | E24: #DIV/0! | G24: =IFERROR(INDEX(données!$A$1:$D$56,MATCH($A24,données!$A$1:$A$56,0),MATCH(G$1,données!$A$1:$D$1)),0) -> 21357.06 | H24: 21357.06 | I24: #DIV/0! | K24: =IFERROR(INDEX(données!$A$1:$D$56,MATCH($A24,données!$A$1:$A$56,0),MATCH(K$1,données!$A$1:$D$1)),0) -> 3080.93 | L24: 3080.93 | M24: #DIV/0! | O24: =IFERROR(INDEX(données!$A$1:$D$56,MATCH($A24,données!$A$1:$A$56,0),MATCH(O$1,données!$A$1:$D$1)),0) -> 3080.93 | P24: 3080.93 | Q24: #DIV/0! | S24: =IFERROR(INDEX(données!$A$1:$D$56,MATCH($A24,données!$A$1:$A$56,0),MATCH(S$1,données!$A$1:$D$1)),0) -> 3080.93 | T24: 3080.93 | U24: #DIV/0! | W24: =IFERROR(INDEX(données!$A$1:$D$56,MATCH($A24,données!$A$1:$A$56,0),MATCH(W$1,données!$A$1:$D$1)),0) -> 3080.93 | X24: 3080.93 | Y24: #DIV/0! | AA24: =IFERROR(INDEX(données!$A$1:$D$56,MATCH($A24,données!$A$1:$A$56,0),MATCH(AA$1,données!$A$1:$D$1)),0) -> 3080.93 | AB24: 3080.93 | AC24: #DIV/0! | AE24: =IFERROR(INDEX(données!$A$1:$D$56,MATCH($A24,données!$A$1:$A$56,0),MATCH(AE$1,données!$A$1:$D$1)),0) -> 10758.657 | AF24: 10758.657 | AG24: #DIV/0!
A25: U77 | C25: =IFERROR(INDEX(données!$A$1:$D$56,MATCH($A25,données!$A$1:$A$56,0),MATCH(C$1,données!$A$1:$D$1)),0) -> 13060.14 | D25: 13060.14 | E25: #DIV/0! | G25: =IFERROR(INDEX(données!$A$1:$D$56,MATCH($A25,données!$A$1:$A$56,0),MATCH(G$1,données!$A$1:$D$1)),0) -> 13060.14 | H25: 13060.14 | I25: #DIV/0! | K25: =IFERROR(INDEX(données!$A$1:$D$56,MATCH($A25,données!$A$1:$A$56,0),MATCH(K$1,données!$A$1:$D$1)),0) -> 2097.11 | L25: 2097.11 | M25: #DIV/0! | O25: =IFERROR(INDEX(données!$A$1:$D$56,MATCH($A25,données!$A$1:$A$56,0),MATCH(O$1,données!$A$1:$D$1)),0) -> 2097.11 | P25: 2097.11 | Q25: #DIV/0! | S25: =IFERROR(INDEX(données!$A$1:$D$56,MATCH($A25,données!$A$1:$A$56,0),MATCH(S$1,données!$A$1:$D$1)),0) -> 2097.11 | T25: 2097.11 | U25: #DIV/0! | W25: =IFERROR(INDEX(données!$A$1:$D$56,MATCH($A25,données!$A$1:$A$56,0),MATCH(W$1,données!$A$1:$D$1)),0) -> 2097.11 | X25: 2097.11 | Y25: #DIV/0! | AA25: =IFERROR(INDEX(données!$A$1:$D$56,MATCH($A25,données!$A$1:$A$56,0),MATCH(AA$1,données!$A$1:$D$1)),0) -> 2097.11 | AB25: 2097.11 | AC25: #DIV/0! | AE25: =IFERROR(INDEX(données!$A$1:$D$56,MATCH($A25,données!$A$1:$A$56,0),MATCH(AE$1,données!$A$1:$D$1)),0) -> 6779.3492 | AF25: 6779.3492 | AG25: #DIV/0!
A26: U79 | C26: =IFERROR(INDEX(données!$A$1:$D$56,MATCH($A26,données!$A$1:$A$56,0),MATCH(C$1,données!$A$1:$D$1)),0) -> 11116.3 | D26: 11116.3 | E26: #DIV/0! | G26: =IFERROR(INDEX(données!$A$1:$D$56,MATCH($A26,données!$A$1:$A$56,0),MATCH(G$1,données!$A$1:$D$1)),0) -> 11116.3 | H26: 11116.3 | I26: #DIV/0! | K26: =IFERROR(INDEX(données!$A$1:$D$56,MATCH($A26,données!$A$1:$A$56,0),MATCH(K$1,données!$A$1:$D$1)),0) -> 1752.07 | L26: 1752.07 | M26: #DIV/0! | O26: =IFERROR(INDEX(données!$A$1:$D$56,MATCH($A26,données!$A$1:$A$56,0),MATCH(O$1,données!$A$1:$D$1)),0) -> 1752.07 | P26: 1752.07 | Q26: #DIV/0! | S26: =IFERROR(INDEX(données!$A$1:$D$56,MATCH($A26,données!$A$1:$A$56,0),MATCH(S$1,données!$A$1:$D$1)),0) -> 1752.07 | T26: 1752.07 | U26: #DIV/0! | W26: =IFERROR(INDEX(données!$A$1:$D$56,MATCH($A26,données!$A$1:$A$56,0),MATCH(W$1,données!$A$1:$D$1)),0) -> 1752.07 | X26: 1752.07 | Y26: #DIV/0! | AA26: =IFERROR(INDEX(données!$A$1:$D$56,MATCH($A26,données!$A$1:$A$56,0),MATCH(AA$1,données!$A$1:$D$1)),0) -> 1752.07 | AB26: 1752.07 | AC26: #DIV/0! | AE26: =IFERROR(INDEX(données!$A$1:$D$56,MATCH($A26,données!$A$1:$A$56,0),MATCH(AE$1,données!$A$1:$D$1)),0) -> 5382.4012 | AF26: 5382.4012 | AG26: #DIV/0!
A27: U81 | C27: =IFERROR(INDEX(données!$A$1:$D$56,MATCH($A27,données!$A$1:$A$56,0),MATCH(C$1,données!$A$1:$D$1)),0) -> 28096.61 | D27: 28096.61 | E27: #DIV/0! | G27: =IFERROR(INDEX(données!$A$1:$D$56,MATCH($A27,données!$A$1:$A$56,0),MATCH(G$1,données!$A$1:$D$1)),0) -> 28096.61 | H27: 28096.61 | I27: #DIV/0! | K27: =IFERROR(INDEX(données!$A$1:$D$56,MATCH($A27,données!$A$1:$A$56,0),MATCH(K$1,données!$A$1:$D$1)),0) -> 3941.53 | L27: 3941.53 | M27: #DIV/0! | O27: =IFERROR(INDEX(données!$A$1:$D$56,MATCH($A27,données!$A$1:$A$56,0),MATCH(O$1,données!$A$1:$D$1)),0) -> 3941.53 | P27: 3941.53 | Q27: #DIV/0! | S27: =IFERROR(INDEX(données!$A$1:$D$56,MATCH($A27,données!$A$1:$A$56,0),MATCH(S$1,données!$A$1:$D$1)),0) -> 3941.53 | T27: 3941.53 | U27: #DIV/0! | W27: =IFERROR(INDEX(données!$A$1:$D$56,MATCH($A27,données!$A$1:$A$56,0),MATCH(W$1,données!$A$1:$D$1)),0) -> 3941.53 | X27: 3941.53 | Y27: #DIV/0! | AA27: =IFERROR(INDEX(données!$A$1:$D$56,MATCH($A27,données!$A$1:$A$56,0),MATCH(AA$1,données!$A$1:$D$1)),0) -> 3941.53 | AB27: 3941.53 | AC27: #DIV/0! | AE27: =IFERROR(INDEX(données!$A$1:$D$56,MATCH($A27,données!$A$1:$A$56,0),MATCH(AE$1,données!$A$1:$D$1)),0) -> 13861.046 | AF27: 13861.046 | AG27: #DIV/0!
A28: MG | B28: 0 | C28: =C29+C50+C63 -> 166388.89 | D28: 143118.31 | E28: #DIV/0! | F28: 0 | G28: =G29+G50+G63 -> 166388.89 | H28: 0 | I28: #DIV/0! | J28: 0 | K28: =K29+K50+K63 -> 26182.61 | L28: 22221.1 | M28: #DIV/0! | N28: 0 | O28: =O29+O50+O63 -> 26182.61 | P28: 22221.1 | Q28: #DIV/0! | R28: 0 | S28: =S29+S50+S63 -> 26182.61 | T28: 22221.1 | U28: #DIV/0! | V28: 0 | W28: =W29+W50+W63 -> 26182.61 | X28: 22221.1 | Y28: #DIV/0! | Z28: 0 | AA28: =AA29+AA50+AA63 -> 26182.61 | AB28: 22221.1 | AC28: #DIV/0! | AD28: 0 | AE28: =AE29+AE50+AE63 -> 182067.83 | AF28: 167323.56 | AG28: #DIV/0!
A29: PERMANENT | B29: 0 | C29: =C30+C36+C40+C47 -> 98619.08 | D29: 75348.5 | E29: #DIV/0! | F29: 0 | G29: =G30+G36+G40+G47 -> 98619.08 | H29: 106046.86 | I29: #DIV/0! | J29: 0 | K29: =K30+K36+K40+K47 -> 15865.66 | L29: 11904.15 | M29: #DIV/0! | N29: 0 | O29: =O30+O36+O40+O47 -> 15865.66 | P29: 11904.15 | Q29: #DIV/0! | R29: 0 | S29: =S30+S36+S40+S47 -> 15865.66 | T29: 11904.15 | U29: #DIV/0! | V29: 0 | W29: =W30+W36+W40+W47 -> 15865.66 | X29: 11904.15 | Y29: #DIV/0! | Z29: 0 | AA29: =AA30+AA36+AA40+AA47 -> 15865.66 | AB29: 11904.15 | AC29: #DIV/0! | AD29: 0 | AE29: =AE30+AE36+AE40+AE47 -> 94196.889 | AF29: 79452.624 | AG29: #DIV/0!
A30: LOISIRS | B30: 0 | C30: =SUM(C31:C35) -> 23270.58 | D30: 0 | E30: #DIV/0! | F30: 0 | G30: =SUM(G31:G35) -> 23270.58 | H30: 51611.6 | I30: #DIV/0! | J30: 0 | K30: =SUM(K31:K35) -> 3961.51 | L30: 0 | M30: #DIV/0! | N30: 0 | O30: =SUM(O31:O35) -> 3961.51 | P30: 0 | Q30: #DIV/0! | R30: 0 | S30: =SUM(S31:S35) -> 3961.51 | T30: 0 | U30: #DIV/0! | V30: 0 | W30: =SUM(W31:W35) -> 3961.51 | X30: 0 | Y30: #DIV/0! | Z30: 0 | AA30: =SUM(AA31:AA35) -> 3961.51 | AB30: 0 | AC30: #DIV/0! | AD30: 0 | AE30: =SUM(AE31:AE35) -> 14744.265 | AF30: 0 | AG30: #DIV/0!
A31: U06 | C31: =IFERROR(INDEX(données!$A$1:$D$56,MATCH($A31,données!$A$1:$A$56,0),MATCH(C$1,données!$A$1:$D$1)),0) -> 7063.73 | D31: 7063.73 | E31: #DIV/0! | G31: =IFERROR(INDEX(données!$A$1:$D$56,MATCH($A31,données!$A$1:$A$56,0),MATCH(G$1,données!$A$1:$D$1)),0) -> 7063.73 | H31: 7063.73 | I31: #DIV/0! | K31: =IFERROR(INDEX(données!$A$1:$D$56,MATCH($A31,données!$A$1:$A$56,0),MATCH(K$1,données!$A$1:$D$1)),0) -> 1219.07 | L31: 1219.07 | M31: #DIV/0! | O31: =IFERROR(INDEX(données!$A$1:$D$56,MATCH($A31,données!$A$1:$A$56,0),MATCH(O$1,données!$A$1:$D$1)),0) -> 1219.07 | P31: 1219.07 | Q31: #DIV/0! | S31: =IFERROR(INDEX(données!$A$1:$D$56,MATCH($A31,données!$A$1:$A$56,0),MATCH(S$1,données!$A$1:$D$1)),0) -> 1219.07 | T31: 1219.07 | U31: #DIV/0! | W31: =IFERROR(INDEX(données!$A$1:$D$56,MATCH($A31,données!$A$1:$A$56,0),MATCH(W$1,données!$A$1:$D$1)),0) -> 1219.07 | X31: 1219.07 | Y31: #DIV/0! | AA31: =IFERROR(INDEX(données!$A$1:$D$56,MATCH($A31,données!$A$1:$A$56,0),MATCH(AA$1,données!$A$1:$D$1)),0) -> 1219.07 | AB31: 1219.07 | AC31: #DIV/0! | AE31: =IFERROR(INDEX(données!$A$1:$D$56,MATCH($A31,données!$A$1:$A$56,0),MATCH(AE$1,données!$A$1:$D$1)),0) -> 4777.1573 | AF31: 4777.1573 | AG31: #DIV/0!
A32: U39 | C32: =IFERROR(INDEX(données!$A$1:$D$56,MATCH($A32,données!$A$1:$A$56,0),MATCH(C$1,données!$A$1:$D$1)),0) -> 6946.65 | D32: 6946.65 | E32: #DIV/0! | G32: =IFERROR(INDEX(données!$A$1:$D$56,MATCH($A32,données!$A$1:$A$56,0),MATCH(G$1,données!$A$1:$D$1)),0) -> 6946.65 | H32: 6946.65 | I32: #DIV/0! | K32: =IFERROR(INDEX(données!$A$1:$D$56,MATCH($A32,données!$A$1:$A$56,0),MATCH(K$1,données!$A$1:$D$1)),0) -> 1065.06 | L32: 1065.06 | M32: #DIV/0! | O32: =IFERROR(INDEX(données!$A$1:$D$56,MATCH($A32,données!$A$1:$A$56,0),MATCH(O$1,données!$A$1:$D$1)),0) -> 1065.06 | P32: 1065.06 | Q32: #DIV/0! | S32: =IFERROR(INDEX(données!$A$1:$D$56,MATCH($A32,données!$A$1:$A$56,0),MATCH(S$1,données!$A$1:$D$1)),0) -> 1065.06 | T32: 1065.06 | U32: #DIV/0! | W32: =IFERROR(INDEX(données!$A$1:$D$56,MATCH($A32,données!$A$1:$A$56,0),MATCH(W$1,données!$A$1:$D$1)),0) -> 1065.06 | X32: 1065.06 | Y32: #DIV/0! | AA32: =IFERROR(INDEX(données!$A$1:$D$56,MATCH($A32,données!$A$1:$A$56,0),MATCH(AA$1,données!$A$1:$D$1)),0) -> 1065.06 | AB32: 1065.06 | AC32: #DIV/0! | AE32: =IFERROR(INDEX(données!$A$1:$D$56,MATCH($A32,données!$A$1:$A$56,0),MATCH(AE$1,données!$A$1:$D$1)),0) -> 4396.3353 | AF32: 4396.3353 | AG32: #DIV/0!
A33: U41 | C33: =IFERROR(INDEX(données!$A$1:$D$56,MATCH($A33,données!$A$1:$A$56,0),MATCH(C$1,données!$A$1:$D$1)),0) -> 3889.9 | D33: 3889.9 | E33: #DIV/0! | G33: =IFERROR(INDEX(données!$A$1:$D$56,MATCH($A33,données!$A$1:$A$56,0),MATCH(G$1,données!$A$1:$D$1)),0) -> 3889.9 | H33: 3889.9 | I33: #DIV/0! | K33: =IFERROR(INDEX(données!$A$1:$D$56,MATCH($A33,données!$A$1:$A$56,0),MATCH(K$1,données!$A$1:$D$1)),0) -> 604.47 | L33: 604.47 | M33: #DIV/0! | O33: =IFERROR(INDEX(données!$A$1:$D$56,MATCH($A33,données!$A$1:$A$56,0),MATCH(O$1,données!$A$1:$D$1)),0) -> 604.47 | P33: 604.47 | Q33: #DIV/0! | S33: =IFERROR(INDEX(données!$A$1:$D$56,MATCH($A33,données!$A$1:$A$56,0),MATCH(S$1,données!$A$1:$D$1)),0) -> 604.47 | T33: 604.47 | U33: #DIV/0! | W33: =IFERROR(INDEX(données!$A$1:$D$56,MATCH($A33,données!$A$1:$A$56,0),MATCH(W$1,données!$A$1:$D$1)),0) -> 604.47 | X33: 604.47 | Y33: #DIV/0! | AA33: =IFERROR(INDEX(données!$A$1:$D$56,MATCH($A33,données!$A$1:$A$56,0),MATCH(AA$1,données!$A$1:$D$1)),0) -> 604.47 | AB33: 604.47 | AC33: #DIV/0! | AE33: =IFERROR(INDEX(données!$A$1:$D$56,MATCH($A33,données!$A$1:$A$56,0),MATCH(AE$1,données!$A$1:$D$1)),0) -> 1902.094 | AF33: 1902.094 | AG33: #DIV/0!
A34: U44 | C34: =IFERROR(INDEX(données!$A$1:$D$56,MATCH($A34,données!$A$1:$A$56,0),MATCH(C$1,données!$A$1:$D$1)),0) -> 4135.5 | D34: 4135.5 | E34: #DIV/0! | G34: =IFERROR(INDEX(données!$A$1:$D$56,MATCH($A34,données!$A$1:$A$56,0),MATCH(G$1,données!$A$1:$D$1)),0) -> 4135.5 | H34: 4135.5 | I34: #DIV/0! | K34: =IFERROR(INDEX(données!$A$1:$D$56,MATCH($A34,données!$A$1:$A$56,0),MATCH(K$1,données!$A$1:$D$1)),0) -> 888.7 | L34: 888.7 | M34: #DIV/0! | O34: =IFERROR(INDEX(données!$A$1:$D$56,MATCH($A34,données!$A$1:$A$56,0),MATCH(O$1,données!$A$1:$D$1)),0) -> 888.7 | P34: 888.7 | Q34: #DIV/0! | S34: =IFERROR(INDEX(données!$A$1:$D$56,MATCH($A34,données!$A$1:$A$56,0),MATCH(S$1,données!$A$1:$D$1)),0) -> 888.7 | T34: 888.7 | U34: #DIV/0! | W34: =IFERROR(INDEX(données!$A$1:$D$56,MATCH($A34,données!$A$1:$A$56,0),MATCH(W$1,données!$A$1:$D$1)),0) -> 888.7 | X34: 888.7 | Y34: #DIV/0! | AA34: =IFERROR(INDEX(données!$A$1:$D$56,MATCH($A34,données!$A$1:$A$56,0),MATCH(AA$1,données!$A$1:$D$1)),0) -> 888.7 | AB34: 888.7 | AC34: #DIV/0! | AE34: =IFERROR(INDEX(données!$A$1:$D$56,MATCH($A34,données!$A$1:$A$56,0),MATCH(AE$1,données!$A$1:$D$1)),0) -> 3084.765 | AF34: 3084.765 | AG34: #DIV/0!
A35: U82 | C35: =IFERROR(INDEX(données!$A$1:$D$56,MATCH($A35,données!$A$1:$A$56,0),MATCH(C$1,données!$A$1:$D$1)),0) -> 1234.8 | D35: 1234.8 | E35: #DIV/0! | G35: =IFERROR(INDEX(données!$A$1:$D$56,MATCH($A35,données!$A$1:$A$56,0),MATCH(G$1,données!$A$1:$D$1)),0) -> 1234.8 | H35: 1234.8 | I35: #DIV/0! | K35: =IFERROR(INDEX(données!$A$1:$D$56,MATCH($A35,données!$A$1:$A$56,0),MATCH(K$1,données!$A$1:$D$1)),0) -> 184.21 | L35: 184.21 | M35: #DIV/0! | O35: =IFERROR(INDEX(données!$A$1:$D$56,MATCH($A35,données!$A$1:$A$56,0),MATCH(O$1,données!$A$1:$D$1)),0) -> 184.21 | P35: 184.21 | Q35: #DIV/0! | S35: =IFERROR(INDEX(données!$A$1:$D$56,MATCH($A35,données!$A$1:$A$56,0),MATCH(S$1,données!$A$1:$D$1)),0) -> 184.21 | T35: 184.21 | U35: #DIV/0! | W35: =IFERROR(INDEX(données!$A$1:$D$56,MATCH($A35,données!$A$1:$A$56,0),MATCH(W$1,données!$A$1:$D$1)),0) -> 184.21 | X35: 184.21 | Y35: #DIV/0! | AA35: =IFERROR(INDEX(données!$A$1:$D$56,MATCH($A35,données!$A$1:$A$56,0),MATCH(AA$1,données!$A$1:$D$1)),0) -> 184.21 | AB35: 184.21 | AC35: #DIV/0! | AE35: =IFERROR(INDEX(données!$A$1:$D$56,MATCH($A35,données!$A$1:$A$56,0),MATCH(AE$1,données!$A$1:$D$1)),0) -> 583.91339 | AF35: 583.91339 | AG35: #DIV/0!
A36: MAISON | B36: 0 | C36: =SUM(C37:C39) -> 41145.12 | D36: 41145.12 | E36: #DIV/0! | F36: 0 | G36: =SUM(G37:G39) -> 41145.12 | H36: 0 | I36: #DIV/0! | J36: 0 | K36: =SUM(K37:K39) -> 6544.55 | L36: 6544.55 | M36: #DIV/0! | N36: 0 | O36: =SUM(O37:O39) -> 6544.55 | P36: 6544.55 | Q36: #DIV/0! | R36: 0 | S36: =SUM(S37:S39) -> 6544.55 | T36: 6544.55 | U36: #DIV/0! | V36: 0 | W36: =SUM(W37:W39) -> 6544.55 | X36: 6544.55 | Y36: #DIV/0! | Z36: 0 | AA36: =SUM(AA37:AA39) -> 6544.55 | AB36: 6544.55 | AC36: #DIV/0! | AD36: 0 | AE36: =SUM(AE37:AE39) -> 50818.648 | AF36: 50818.648 | AG36: #DIV/0!
A37: U07 | C37: =IFERROR(INDEX(données!$A$1:$D$56,MATCH($A37,données!$A$1:$A$56,0),MATCH(C$1,données!$A$1:$D$1)),0) -> 15491.34 | D37: 15491.34 | E37: #DIV/0! | G37: =IFERROR(INDEX(données!$A$1:$D$56,MATCH($A37,données!$A$1:$A$56,0),MATCH(G$1,données!$A$1:$D$1)),0) -> 15491.34 | H37: 25653.78 | I37: #DIV/0! | K37: =IFERROR(INDEX(données!$A$1:$D$56,MATCH($A37,données!$A$1:$A$56,0),MATCH(K$1,données!$A$1:$D$1)),0) -> 2486.51 | L37: 2486.51 | M37: #DIV/0! | O37: =IFERROR(INDEX(données!$A$1:$D$56,MATCH($A37,données!$A$1:$A$56,0),MATCH(O$1,données!$A$1:$D$1)),0) -> 2486.51 | P37: 2486.51 | Q37: #DIV/0! | S37: =IFERROR(INDEX(données!$A$1:$D$56,MATCH($A37,données!$A$1:$A$56,0),MATCH(S$1,données!$A$1:$D$1)),0) -> 2486.51 | T37: 2486.51 | U37: #DIV/0! | W37: =IFERROR(INDEX(données!$A$1:$D$56,MATCH($A37,données!$A$1:$A$56,0),MATCH(W$1,données!$A$1:$D$1)),0) -> 2486.51 | X37: 2486.51 | Y37: #DIV/0! | AA37: =IFERROR(INDEX(données!$A$1:$D$56,MATCH($A37,données!$A$1:$A$56,0),MATCH(AA$1,données!$A$1:$D$1)),0) -> 2486.51 | AB37: 2486.51 | AC37: #DIV/0! | AE37: =IFERROR(INDEX(données!$A$1:$D$56,MATCH($A37,données!$A$1:$A$56,0),MATCH(AE$1,données!$A$1:$D$1)),0) -> 13566.963 | AF37: 13566.963 | AG37: #DIV/0!
A38: U26 | C38: =IFERROR(INDEX(données!$A$1:$D$56,MATCH($A38,données!$A$1:$A$56,0),MATCH(C$1,données!$A$1:$D$1)),0) -> 7137.92 | D38: 7137.92 | E38: #DIV/0! | G38: =IFERROR(INDEX(données!$A$1:$D$56,MATCH($A38,données!$A$1:$A$56,0),MATCH(G$1,données!$A$1:$D$1)),0) -> 7137.92 | H38: 7137.92 | I38: #DIV/0! | K38: =IFERROR(INDEX(données!$A$1:$D$56,MATCH($A38,données!$A$1:$A$56,0),MATCH(K$1,données!$A$1:$D$1)),0) -> 1260.12 | L38: 1260.12 | M38: #DIV/0! | O38: =IFERROR(INDEX(données!$A$1:$D$56,MATCH($A38,données!$A$1:$A$56,0),MATCH(O$1,données!$A$1:$D$1)),0) -> 1260.12 | P38: 1260.12 | Q38: #DIV/0! | S38: =IFERROR(INDEX(données!$A$1:$D$56,MATCH($A38,données!$A$1:$A$56,0),MATCH(S$1,données!$A$1:$D$1)),0) -> 1260.12 | T38: 1260.12 | U38: #DIV/0! | W38: =IFERROR(INDEX(données!$A$1:$D$56,MATCH($A38,données!$A$1:$A$56,0),MATCH(W$1,données!$A$1:$D$1)),0) -> 1260.12 | X38: 1260.12 | Y38: #DIV/0! | AA38: =IFERROR(INDEX(données!$A$1:$D$56,MATCH($A38,données!$A$1:$A$56,0),MATCH(AA$1,données!$A$1:$D$1)),0) -> 1260.12 | AB38: 1260.12 | AC38: #DIV/0! | AE38: =IFERROR(INDEX(données!$A$1:$D$56,MATCH($A38,données!$A$1:$A$56,0),MATCH(AE$1,données!$A$1:$D$1)),0) -> 12845.889 | AF38: 12845.889 | AG38: #DIV/0!
A39: U46 | C39: =IFERROR(INDEX(données!$A$1:$D$56,MATCH($A39,données!$A$1:$A$56,0),MATCH(C$1,données!$A$1:$D$1)),0) -> 18515.86 | D39: 18515.86 | E39: #DIV/0! | G39: =IFERROR(INDEX(données!$A$1:$D$56,MATCH($A39,données!$A$1:$A$56,0),MATCH(G$1,données!$A$1:$D$1)),0) -> 18515.86 | H39: 18515.86 | I39: #DIV/0! | K39: =IFERROR(INDEX(données!$A$1:$D$56,MATCH($A39,données!$A$1:$A$56,0),MATCH(K$1,données!$A$1:$D$1)),0) -> 2797.92 | L39: 2797.92 | M39: #DIV/0! | O39: =IFERROR(INDEX(données!$A$1:$D$56,MATCH($A39,données!$A$1:$A$56,0),MATCH(O$1,données!$A$1:$D$1)),0) -> 2797.92 | P39: 2797.92 | Q39: #DIV/0! | S39: =IFERROR(INDEX(données!$A$1:$D$56,MATCH($A39,données!$A$1:$A$56,0),MATCH(S$1,données!$A$1:$D$1)),0) -> 2797.92 | T39: 2797.92 | U39: #DIV/0! | W39: =IFERROR(INDEX(données!$A$1:$D$56,MATCH($A39,données!$A$1:$A$56,0),MATCH(W$1,données!$A$1:$D$1)),0) -> 2797.92 | X39: 2797.92 | Y39: #DIV/0! | AA39: =IFERROR(INDEX(données!$A$1:$D$56,MATCH($A39,données!$A$1:$A$56,0),MATCH(AA$1,données!$A$1:$D$1)),0) -> 2797.92 | AB39: 2797.92 | AC39: #DIV/0! | AE39: =IFERROR(INDEX(données!$A$1:$D$56,MATCH($A39,données!$A$1:$A$56,0),MATCH(AE$1,données!$A$1:$D$1)),0) -> 24405.796 | AF39: 24405.796 | AG39: #DIV/0!
A40: MULTIMEDIA | B40: 0 | C40: =SUM(C41:C46) -> 17276.42 | D40: 17276.42 | E40: #DIV/0! | F40: 0 | G40: =SUM(G41:G46) -> 17276.42 | H40: 0 | I40: #DIV/0! | J40: 0 | K40: =SUM(K41:K46) -> 2689.22 | L40: 2689.22 | M40: #DIV/0! | N40: 0 | O40: =SUM(O41:O46) -> 2689.22 | P40: 2689.22 | Q40: #DIV/0! | R40: 0 | S40: =SUM(S41:S46) -> 2689.22 | T40: 2689.22 | U40: #DIV/0! | V40: 0 | W40: =SUM(W41:W46) -> 2689.22 | X40: 2689.22 | Y40: #DIV/0! | Z40: 0 | AA40: =SUM(AA41:AA46) -> 2689.22 | AB40: 2689.22 | AC40: #DIV/0! | AD40: 0 | AE40: =SUM(AE41:AE46) -> 9573.4647 | AF40: 9573.4647 | AG40: #DIV/0!
A41: U12 | C41: =IFERROR(INDEX(données!$A$1:$D$56,MATCH($A41,données!$A$1:$A$56,0),MATCH(C$1,données!$A$1:$D$1)),0) -> 1144.21 | D41: 1144.21 | E41: #DIV/0! | G41: =IFERROR(INDEX(données!$A$1:$D$56,MATCH($A41,données!$A$1:$A$56,0),MATCH(G$1,données!$A$1:$D$1)),0) -> 1144.21 | H41: 16132.21 | I41: #DIV/0! | K41: =IFERROR(INDEX(données!$A$1:$D$56,MATCH($A41,données!$A$1:$A$56,0),MATCH(K$1,données!$A$1:$D$1)),0) -> 244.53 | L41: 244.53 | M41: #DIV/0! | O41: =IFERROR(INDEX(données!$A$1:$D$56,MATCH($A41,données!$A$1:$A$56,0),MATCH(O$1,données!$A$1:$D$1)),0) -> 244.53 | P41: 244.53 | Q41: #DIV/0! | S41: =IFERROR(INDEX(données!$A$1:$D$56,MATCH($A41,données!$A$1:$A$56,0),MATCH(S$1,données!$A$1:$D$1)),0) -> 244.53 | T41: 244.53 | U41: #DIV/0! | W41: =IFERROR(INDEX(données!$A$1:$D$56,MATCH($A41,données!$A$1:$A$56,0),MATCH(W$1,données!$A$1:$D$1)),0) -> 244.53 | X41: 244.53 | Y41: #DIV/0! | AA41: =IFERROR(INDEX(données!$A$1:$D$56,MATCH($A41,données!$A$1:$A$56,0),MATCH(AA$1,données!$A$1:$D$1)),0) -> 244.53 | AB41: 244.53 | AC41: #DIV/0! | AE41: =IFERROR(INDEX(données!$A$1:$D$56,MATCH($A41,données!$A$1:$A$56,0),MATCH(AE$1,données!$A$1:$D$1)),0) -> 635.75889 | AF41: 635.75889 | AG41: #DIV/0!
...

Sheet données
A1: UE | B1: 17 | C1: 19 | D1: 24
A2: U01 | B2: 103080.36 | C2: 15391.54 | D2: 55254.528
A3: U14 | B3: 103120.77 | C3: 14341.59 | D3: 54103.822
A4: U20 | B4: 34556.73 | C4: 4838.26 | D4: 16926.354
A5: U24 | B5: 10761.17 | C5: 1706.22 | D5: 5279.8692
A6: U25 | B6: 47997.35 | C6: 6941.67 | D6: 24274.696
A7: U28 | B7: 62991.76 | C7: 9402.53 | D7: 33818.301
A8: U74 | B8: 112634.72 | C8: 16670.86 | D8: 64830.157
A9: U02 | B9: 68564.04 | C9: 9324.12 | D9: 34323.874
A10: U35 | B10: 31806.2 | C10: 5114.64 | D10: 19735.016
A11: U36 | B11: 121500.15 | C11: 16665.63 | D11: 59423.157
A12: U03 | B12: 74578.7 | C12: 10781.46 | D12: 38642.299
... A56: U92 | B56: 3.87 | C56: 1.04 | D56: 1.4069708
