Workbook

Sheet Suivi OP des subventions
A3: SUIVI OPERATIONNEL DES SUBVENTIONS
A5: N° OP | B5: Statut du dossier | C5: Responsable Projet | D5: Nom du bailleur | E5: Objet de la subvention | F5: Type de financement | G5: Date de début de la convention | H5: Date de fin de la convention | I5: Retard Nbre d'envoi | J5: Montant demandé | K5: Montant total accordé en € | L5: Encaissé Avt 2015 | M5: Prévu 2015 | N5: Perçu 2015 | O5: Ecart 2015 | P5: Paiement Nbre de retard | Q5: Prévu 2016 | R5: Prévu 2017 | S5: N° compte tiers | T5: N° compte recette
A6: ='15001'!$D$3 -> 15001 | B6: ='15001'!$G$3 -> Sollicité | C6: ='15001'!$G$9 -> OPS-COO | D6: ='15001'!$J$4 -> MACHIN | E6: ='15001'!$I$7 -> Projet de mise en place XX | F6: ='15001'!$J$5 -> International | G6: ='15001'!$J$16 -> 42069 | H6: ='15001'!$K$16 -> 42861 | I6: =COUNTIF('15001'!M:M,"Alerte Rapport") -> 1 | J6: ='15001'!$F$16 -> 350000 | K6: ='15001'!$F$16 -> 350000 | L6: 0 | M6: =SUMIF('15001'!$C$32:$C$42,"2015",'15001'!$D$32:$D$42) -> 190000 | N6: =SUMIF('15001'!$C$32:$C$42,"2015",'15001'!$F$32:$F$42) -> 50000 | O6: =M6-N6 -> 140000 | P6: =COUNTIF('15001'!M:M,"Alerte Paiement") -> 1 | Q6: =SUMIF('15001'!$C$32:$C$42,"2016",'15001'!$D$32:$D$42) -> 40000 | R6: =SUMIF('15001'!$C$32:$C$42,"2017",'15001'!$D$32:$D$42) -> 30000 | S6: ='15001'!$G$6 -> 44104100 | T6: ='15001'!$G$7 -> 74104100
K9: =SUM(K6:K8) -> 350000 | L9: =SUM(L6:L8) -> 0 | M9: =SUM(M6:M8) -> 190000 | N9: =SUM(N6:N8) -> 50000 | O9: =SUM(O6:O8) -> 140000 | Q9: =SUM(Q6:Q8) -> 40000 | R9: =SUM(R6:R8) -> 30000

Sheet Alertes
A1: Alerte Paiement | F1: Alerte Rapport
A3: N° OP | B3: Date Prévu | C3: Montant Prévu | D3: Observations | F3: N° OP | G3: Échéance | H3: Type de rapport | I3: Observations

Sheet 15001
B1: DOSSIER CHRONO ORIGINAL A RETOURNER
B3: Code OP | D3: 15001 | F3: Statut | G3: Sollicité | I3: Bailleur
I4: Nom | J4: MACHIN
F5: Comptabilité | I5: Type de financement | J5: International
F6: Compte tiers | G6: 44104100 | I6: Objet de la subvention
F7: Compte recette | G7: =IF(ISBLANK(G6),"",LOOKUP(G6,Base!A:A,Base!B:B)) -> 74104100 | I7: Projet de mise en place XX
F9: Responsable | G9: OPS-COO
F11: Dossier créé le | G11: 15001
B13: Accord du bailleur
B15: Référence du contrat | D15: Date d'accord | F15: Montant demandé | G15: Montant accordé | I15: Montant révisé | J15: Date de début | K15: Date de fin
B16: XXXX | D16: 42069 | F16: 350000 | G16: 280000 | J16: 42069 | K16: 42861
B19: Affectations du financement
B21: Année | D21: Action | F21: Code Analytique | G21: Montant Prévu | I21: Montant Révisé | J21: Observations
B22: 2015 | F22: ASICOURT00 | G22: 140000
B23: 2016 | F23: ASILONG00 | G23: 100000
B24: 2016 | F24: ASILONG00 | G24: 20000
F26: Montant Total | G26: =SUM(G22:G25) -> 260000 | I26: =SUM(I22:I25) -> 0
B29: Echéancier
B31: Date Prévu | D31: Montant Prévu | F31: Montant Versé | G31: Date Compta | I31: Facture n° | J31: Observations | M31: Retard Paiement | N31: Jours de retard
B32: 42069 | C32: =YEAR(B32) -> 2015 | D32: 50000 | F32: 50000 | G32: 42100 | I32: xxxx | M32: =IF(ISBLANK(B32),"",IF(AND(TODAY()>B32,D32-F32<>0),"Alerte Paiement","")) | N32: =IF(M32="","",TODAY()-B32)
B33: 42069 | C33: =YEAR(B33) -> 2015 | D33: 60000 | J33: Facture à faire | M33: =IF(ISBLANK(B33),"",IF(AND(TODAY()>B33,D33-F33<>0),"Alerte Paiement","")) -> Alerte Paiement | N33: =IF(M33="","",TODAY()-B33) -> 98
B34: 42369 | C34: =YEAR(B34) -> 2015 | D34: 80000 | J34: Facture à faire | M34: =IF(ISBLANK(B34),"",IF(AND(TODAY()>B34,D34-F34<>0),"Alerte Paiement","")) | N34: =IF(M34="","",TODAY()-B34)
B35: 42402 | C35: =YEAR(B35) -> 2016 | D35: 40000 | J35: Facture à faire | M35: =IF(ISBLANK(B35),"",IF(AND(TODAY()>B35,D35-F35<>0),"Alerte Paiement","")) | N35: =IF(M35="","",TODAY()-B35)
B36: 42861 | C36: =YEAR(B36) -> 2017 | D36: 30000 | J36: Facture à faire | M36: =IF(ISBLANK(B36),"",IF(AND(TODAY()>B36,D36-F36<>0),"Alerte Paiement","")) | N36: =IF(M36="","",TODAY()-B36)
C37: =YEAR(B37) -> 1900 | M37: =IF(ISBLANK(B37),"",IF(AND(TODAY()>B37,D37-F37<>0),"Alerte Paiement","")) | N37: =IF(M37="","",TODAY()-B37)
C38: =YEAR(B38) -> 1900 | M38: =IF(ISBLANK(B38),"",IF(AND(TODAY()>B38,D38-F38<>0),"Alerte Paiement","")) | N38: =IF(M38="","",TODAY()-B38)
C39: =YEAR(B39) -> 1900 | M39: =IF(ISBLANK(B39),"",IF(AND(TODAY()>B39,D39-F39<>0),"Alerte Paiement","")) | N39: =IF(M39="","",TODAY()-B39)
C40: =YEAR(B40) -> 1900 | M40: =IF(ISBLANK(B40),"",IF(AND(TODAY()>B40,D40-F40<>0),"Alerte Paiement","")) | N40: =IF(M40="","",TODAY()-B40)
C41: =YEAR(B41) -> 1900 | M41: =IF(ISBLANK(B41),"",IF(AND(TODAY()>B41,D41-F41<>0),"Alerte Paiement","")) | N41: =IF(M41="","",TODAY()-B41)
C42: =YEAR(B42) -> 1900 | M42: =IF(ISBLANK(B42),"",IF(AND(TODAY()>B42,D42-F42<>0),"Alerte Paiement","")) | N42: =IF(M42="","",TODAY()-B42)
B43: Montant Total | D43: =SUM(D32:D42) -> 260000 | F43: =SUM(F32:F42) -> 50000
B47: Rapports au bailleur
B49: Échéance | D49: Type de rapport | I49: Date d'envoi | J49: Observations | M49: Retard Rapport | N49: Jours de retard
B50: 42069 | C50: =YEAR(B50) -> 2015 | D50: Plan de rédaction du rapport + facture | I50: 42078 | M50: =IF(ISBLANK(B50),"",IF(AND(TODAY()>B50,I50<>""),"Alerte Rapport","")) -> Alerte Rapport | N50: =IF(M50="","",TODAY()-B50) -> 98
B51: 42100 | C51: =YEAR(B51) -> 2015 | D51: Remise du document projet et annexe | M51: =IF(ISBLANK(B51),"",IF(AND(TODAY()>B51,I51<>""),"Alerte Rapport","")) | N51: =IF(M51="","",TODAY()-B51)
B52: 42130 | C52: =YEAR(B52) -> 2015 | M52: =IF(ISBLANK(B52),"",IF(AND(TODAY()>B52,I52<>""),"Alerte Rapport","")) | N52: =IF(M52="","",TODAY()-B52)
B53: 42161 | C53: =YEAR(B53) -> 2015 | M53: =IF(ISBLANK(B53),"",IF(AND(TODAY()>B53,I53<>""),"Alerte Rapport","")) | N53: =IF(M53="","",TODAY()-B53)
B54: 41765 | C54: =YEAR(B54) -> 2014 | D54: Bilan final | M54: =IF(ISBLANK(B54),"",IF(AND(TODAY()>B54,I54<>""),"Alerte Rapport","")) | N54: =IF(M54="","",TODAY()-B54)
C55: =YEAR(B55) -> 1900 | M55: =IF(ISBLANK(B55),"",IF(AND(TODAY()>B55,I55<>""),"Alerte Rapport","")) | N55: =IF(M55="","",TODAY()-B55)
C56: =YEAR(B56) -> 1900 | M56: =IF(ISBLANK(B56),"",IF(AND(TODAY()>B56,I56<>""),"Alerte Rapport","")) | N56: =IF(M56="","",TODAY()-B56)
...

Sheet Base
A1: Cpte Tiers | B1: Cpte Recette | C1: Libellé Bailleur | D1: Type Bailleur | F1: Responsable Projet
A2: 0 | B2: 0 | C2: NF | D2: Convention Non Financière | F2: DIR-DGL
A3: 44103000 | B3: 74103000 | C3: CONSEILS GENERAUX DEPARTEMENTS | D3: Départements | F3: DIR-COM
A4: 44103100 | B4: 74103100 | C4: CONSEIL GENERAL du Rhône | D4: Départements | F4: OPS-FCA
A5: 44104000 | B5: 74104000 | C5: EUROPE | D5: International | F5: DIR-DOC
A6: 44104100 | B6: 74104100 | C6: INTERNATIONAL Hors Europe | D6: International | F6: DEF-COO
A7: 44152000 | B7: 74502000 | C7: ENTREPRISE | D7: Privé | F7: DOP-DEF
A8: 44159000 | B8: 74509000 | C8: PRIVE AUTRE | D8: Privé | F8: DEF-HPM
F9: DEF-IEP
F10: DEF-WAS
F11: DOPPAM
F12: DOP-PDL
F13: OPS-FCR
F14: SGX-INF
F15: OPS-COO
F16: OPS-CRB
F17: PDC-COO
