Workbook
Name centresDeCouts: suivi!$C$128:$C$144
Name centresDeCouts: preparatifs!$E$72:$E$88
Name fonctions: [1]code!$B$30:$B$43
Name fonctions: code!$B$30:$B$43
Name fonctionsLiaisons: liaisons!$A$2:$N$2
Name liaisons: liaisons!$A$2:$S$57
Name lieu_1: code!$B$11:$B$14
Name lieu_2: code!$C$11:$C$18
Name lieu_3: code!$D$11:$D$14
Name lieu_4: code!$E$11
Name lieu_5: code!$F$11:$F$22
Name liste_fonctions: preparatifs!$C$4
Name regions: [1]code!$B$10:$F$10
Name regions: code!$B$10:$F$10
Name taches: liaisons!$A$2:$A$57
Name Telcom: suivi!#REF!

Sheet preparatifs
B2: Prénom du collaborateur : | E2: Région de la succursale :
B3: Nom du collaborateur : | E3: Centre de coûts :
B4: Fonction du collaborateur : | E4: Date d'entrée du collaborateur :
B6: Tâches : | C6: Durée pour obtenir le nécessaire : | D6: Dernier délais pour lancer l'action de la tâche : | E6: Personne responsable d'effectuer la tâche : | F6: Accès au documents : | G6: Document à transmettre à : | H6: Avec copie à : | I6: Effectué par : | J6: Effectué le :
D7: =IF(C7="","",#REF!-C7)
B8: Tâches à effectuer avant l'arrivée : | D8: =IF(C8="","",#REF!-C8)
D10: =IF($F$4="","",$F$4-C10)
D11: =IF($F$4="","",$F$4-C11)
D12: =IF($F$4="","",$F$4-C12)
D13: =IF($F$4="","",$F$4-C13)
D14: =IF($F$4="","",$F$4-C14)
D15: =IF($F$4="","",$F$4-C15)
D16: =IF($F$4="","",$F$4-C16)
D17: =IF($F$4="","",$F$4-C17)
D18: =IF($F$4="","",$F$4-C18)
D19: =IF($F$4="","",$F$4-C19)

Sheet suivi
B2: Prénom du collaborateur : | C2: =IF(preparatifs!C2="","",preparatifs!C2) | D2: Région de la succursale : | E2: =IF(preparatifs!F2="","",preparatifs!F2)
B3: Nom du collaborateur : | C3: =IF(preparatifs!C3="","",preparatifs!C3) | D3: Centre de coûts : | E3: =IF(preparatifs!F3="","",preparatifs!F3)
B4: Fonction du collaborateur : | C4: =IF(liste_fonctions="","",liste_fonctions) | D4: Date d'entrée du collaborateur : | E4: =IF(preparatifs!F4="","",preparatifs!F4)
B6: Tâche : | C6: Personne responsable d'effectuer la tâche : | D6: Réalisé le : | E6: Visa du responsable : | F6: Visa du collaborateur :
B8: 1er jour de travail
B21: Durant le 1er mois de travail
B56: Durant les 3 premiers mois
B65: A la fin des 3 premiers mois
B70: Durant la première année

Sheet liaisons
A2: tâches : | B2: fonction-1 | C2: fonction-2 | D2: fonction-3 | E2: fonction-4 | F2: fonction-5 | G2: fonction-6 | H2: fonction-7 | I2: fonction-8 | J2: fonction-9 | K2: fonction-10 | L2: fonction-11 | M2: fonction-12 | N2: fonction-13 | O2: lieu-1 | P2: lieu-2 | Q2: lieu-3 | R2: lieu-4 | S2: lieu-5
A3: tâche-1 | B3: x | C3: x | D3: x | E3: x | F3: x | G3: x | H3: x | I3: x | J3: x | K3: x | L3: x | M3: x | N3: x | O3: x | P3: x | Q3: x | R3: x | S3: x
A4: tâche-2 | B4: x | C4: x | D4: - | E4: x | F4: x | G4: x | H4: x | I4: - | J4: x | K4: x | L4: x | M4: x | N4: - | O4: x | P4: x | Q4: x | R4: x | S4: x
A5: tâche-3 | B5: x | C5: x | D5: - | E5: x | F5: x | G5: x | H5: x | I5: - | J5: x | K5: x | L5: x | M5: x | N5: - | O5: x | P5: x | Q5: x | R5: x | S5: x
A6: tâche-4 | B6: x | C6: x | D6: - | E6: x | F6: x | G6: x | H6: x | I6: - | J6: x | K6: x | L6: x | M6: x | N6: - | O6: x | P6: x | Q6: x | R6: x | S6: x
A7: tâche-5 | B7: x | C7: x | D7: - | E7: x | F7: x | G7: x | H7: x | I7: - | J7: x | K7: x | L7: x | M7: x | N7: - | O7: x | P7: x | Q7: x | R7: x | S7: x
A8: tâche-6 | B8: x | C8: x | D8: - | E8: x | F8: x | G8: x | H8: x | I8: - | J8: x | K8: x | L8: x | M8: x | N8: - | O8: x | P8: x | Q8: x | R8: x | S8: x
A9: tâche-7 | B9: x | C9: x | D9: - | E9: x | F9: x | G9: x | H9: x | I9: - | J9: x | K9: x | L9: x | M9: x | N9: - | O9: x | P9: x | Q9: x | R9: x | S9: x
A10: tâche-8 | B10: x | C10: x | D10: - | E10: x | F10: x | G10: x | H10: x | I10: - | J10: x | K10: x | L10: x | M10: x | N10: - | O10: x | P10: x | Q10: x | R10: x | S10: x
A11: tâche-9 | B11: - | C11: - | D11: - | E11: - | F11: x | G11: x | H11: x | I11: x | J11: x | K11: x | L11: - | M11: x | N11: x | O11: x | P11: x | Q11: x | R11: x | S11: x
A12: tâche-10 | B12: x | C12: x | D12: - | E12: x | F12: x | G12: x | H12: x | I12: - | J12: x | K12: x | L12: x | M12: x | N12: - | O12: x | P12: x | Q12: x | R12: x | S12: x
A13: tâche-11 | B13: x | C13: x | D13: x | E13: x | F13: x | G13: x | H13: x | I13: x | J13: x | K13: x | L13: x | M13: x | N13: x | O13: x | P13: x | Q13: x | R13: x | S13: x
... A57: tâche-55 | B57: x | C57: x | D57: x | E57: x | F57: x | G57: x | H57: x | I57: x | J57: x | K57: x | L57: x | M57: x | N57: x | O57: x | P57: x | Q57: x | R57: x | S57: x

Sheet code
A10: Regions | B10: lieu_1 | C10: lieu_2 | D10: lieu_3 | E10: lieu_4 | F10: lieu_5
A11: Centre de coûts | B11: 100 | C11: 200 | D11: 300 | E11: 400 | F11: 500
B12: 110 | C12: 210 | D12: 310 | F12: 510
B13: 120 | C13: 220 | D13: 320 | F13: 520
B14: 130 | C14: 230 | D14: 340 | F14: 530
C15: 240 | F15: 540
C16: 250 | F16: 550
C17: 260 | F17: 560
C18: 270 | F18: 570
F19: 580
F20: 590
B30: =liaisons!B2 -> fonction-1
B31: =liaisons!C2 -> fonction-2
B32: =liaisons!D2 -> fonction-3
B33: =liaisons!E2 -> fonction-4
B34: =liaisons!F2 -> fonction-5
B35: =liaisons!G2 -> fonction-6
B36: =liaisons!H2 -> fonction-7
B37: =liaisons!I2 -> fonction-8
B38: =liaisons!J2 -> fonction-9
B39: =liaisons!K2 -> fonction-10
B40: =liaisons!L2 -> fonction-11
B41: =liaisons!M2 -> fonction-12
B42: =liaisons!N2 -> fonction-13
