Workbook
Name debut: 'formation 1'!$C$4
Name debut: 'Feuille de copie'!$C$4
Name fin: 'formation 1'!$D$4
Name fin: 'Feuille de copie'!$D$4
Name nom: 'formation 1'!$A$4
Name nom: 'Feuille de copie'!$A$4
Name Suivi: 'formation 1'!$B$4
Name Suivi: 'Feuille de copie'!$B$4

Sheet Feuille de copie
A3: Stage: | B3: Ref FF Suivi | C3: Début | D3: Fin
A4: =MID(CELL("nomfichier",A1),FIND("]",CELL("nomfichier",A1),1)+1,30) -> Feuille de copie | E4: =$D$4 -> 0
B6: du …... au ……. 2015 | H6: Moyenne par catégorie
A7: Cette formation est-elle adaptée à votre métier? | H7: =AVERAGE(B7:G7) -> #DIV/0!
A8: Ce programme a-t-il répondu à vos attentes? | H8: =AVERAGE(B8:G8) -> #DIV/0!
A9: Qualité pédagogiques | H9: =AVERAGE(B9:G9) -> #DIV/0!
A10: Qualité d'écoute | H10: =AVERAGE(B10:G10) -> #DIV/0!
A11: Capacité à répondre | H11: =AVERAGE(B11:G11) -> #DIV/0!
A12: Qualité supports pédagogiques | H12: =AVERAGE(B12:G12) -> #DIV/0!
A13: Equilibre entre pratique et théorie | H13: =AVERAGE(B13:G13) -> #DIV/0!
A14: Moyenne par stagiaire | B14: =SUM(B7:B12)/6 -> 0 | C14: =SUM(C7:C13)/7 -> 0 | D14: =SUM(D7:D13)/7 -> 0 | E14: =SUM(E7:E12)/6 -> 0 | F14: =SUM(F7:F12)/6 -> 0 | G14: =SUM(G7:G12)/6 -> 0 | H14: =AVERAGE(B14:G14) -> 0
A15: Moyenne Formation | B15: =AVERAGE(B14,G14) -> 0 | H15: =AVERAGE(B15:G15) -> 0
A17: Nombre de stagiaire :
A18: Nombre de réponse: | B18: =COLUMN(H7)-COLUMN(A$5)-1 -> 6
A19: Taux de réponse au questionnaire : | B19: =B18/B17 -> #DIV/0!
A21: Commentaire:

Sheet Recap 
A2: Ref FF Suivi | B2: Mois | C2: Stage | D2: Date Début | E2: Date Fin | F2: Nbre stagiaires inscrits | G2: Nbre reponses stagiaires | H2: % Reponse | I2: Cette formation est-elle adaptée à votre métier? | J2: Ce programme a-t-il répondu à vos attentes? | K2: Qualité pédagogiques | L2: Qualité d'écoute | M2: Capacité à répondre | N2: Qualité supports pédagogiques | O2: Equilibre entre pratique et théorie | P2: Note globale
A3: ='Feuille de copie'!$B$4 -> 0 | B3: ='Feuille de copie'!$E$4 -> 0 | C3: ='Feuille de copie'!$A$4 -> Feuille de copie | D3: ='Feuille de copie'!$C$4 -> 0 | E3: ='Feuille de copie'!$D$4 -> 0 | F3: ='Feuille de copie'!B17 -> 0 | G3: ='Feuille de copie'!B18 -> 6 | H3: ='Feuille de copie'!B19 -> #DIV/0! | I3: ='Feuille de copie'!H7 -> #DIV/0! | J3: ='Feuille de copie'!H8 -> #DIV/0! | K3: ='Feuille de copie'!H9 -> #DIV/0! | L3: ='Feuille de copie'!H10 -> #DIV/0! | M3: ='Feuille de copie'!H11 -> #DIV/0! | N3: ='Feuille de copie'!H12 -> #DIV/0! | O3: ='Feuille de copie'!H13 -> #DIV/0! | P3: ='Feuille de copie'!$B$15 -> 0
A17: Nombre de stage: | C17: =COUNTA(C4:C16)-COUNTIF(C4:C16,"0") -> 0 | D17: Moyenne | H17: =AVERAGE(H4:H16) -> #DIV/0! | I17: =AVERAGE(I4:I16) -> #DIV/0! | J17: =AVERAGE(J4:J16) -> #DIV/0! | K17: =AVERAGE(K4:K16) -> #DIV/0! | L17: =AVERAGE(L4:L16) -> #DIV/0! | M17: =AVERAGE(M4:M16) -> #DIV/0! | N17: =AVERAGE(N4:N16) -> #DIV/0! | O17: =AVERAGE(O4:O16) -> #DIV/0! | P17: =AVERAGE(P4:P16) -> #DIV/0!

Sheet formation 1
A3: Stage: | B3: Ref FF Suivi | C3: Début | D3: Fin
A4: =MID(CELL("nomfichier",A1),FIND("]",CELL("nomfichier",A1),1)+1,30) -> formation 1 | E4: =$D$4 -> 0
B6: du …... au ……. 2015 | H6: Moyenne par catégorie
A7: Cette formation est-elle adaptée à votre métier? | H7: =AVERAGE(B7:G7) -> #DIV/0!
A8: Ce programme a-t-il répondu à vos attentes? | H8: =AVERAGE(B8:G8) -> #DIV/0!
A9: Qualité pédagogiques | H9: =AVERAGE(B9:G9) -> #DIV/0!
A10: Qualité d'écoute | H10: =AVERAGE(B10:G10) -> #DIV/0!
A11: Capacité à répondre | H11: =AVERAGE(B11:G11) -> #DIV/0!
A12: Qualité supports pédagogiques | H12: =AVERAGE(B12:G12) -> #DIV/0!
A13: Equilibre entre pratique et théorie | H13: =AVERAGE(B13:G13) -> #DIV/0!
A14: Moyenne par stagiaire | B14: =SUM(B7:B12)/6 -> 0 | C14: =SUM(C7:C13)/7 -> 0 | D14: =SUM(D7:D13)/7 -> 0 | E14: =SUM(E7:E12)/6 -> 0 | F14: =SUM(F7:F12)/6 -> 0 | G14: =SUM(G7:G12)/6 -> 0 | H14: =AVERAGE(B14:G14) -> 0
A15: Moyenne Formation | B15: =AVERAGE(B14,G14) -> 0 | H15: =AVERAGE(B15:G15) -> 0
A17: Nombre de stagiaire :
A18: Nombre de réponse: | B18: =COLUMN(H7)-COLUMN(A$5)-1 -> 6
A19: Taux de réponse au questionnaire : | B19: =B18/B17 -> #DIV/0!
A21: Commentaire:
