Workbook
Name liste: OFFSET(Feuil1!$E$8,-(COUNTA(Feuil1!$E$2:$E$8)-COUNTIF(Feuil1!$E$2:$E$8,"")-1),,COUNTA(Feuil1!$E$2:$E$8)-COUNTIF(Feuil1!$E$2:$E$8,""))
Name non_affecté: Feuil1!$C$2:$C$8
Name sans_formule: Feuil1!$C$27:$C$33

Sheet Feuil1
A1: Liste des personnes | C1: Liste non affecté | E1: Liste non affecté avec la formule matricielle pour trier | H1: Affection Avec liste déroulante
A2: jean | B2: =COUNTIF($I$2:$I$8,A2) -> 1 | C2: =IF(B2<>0,"",A2) | E2: {=INDEX(non_affecté,SMALL(IF(ISNA(MATCH(non_affecté,non_affecté,0)),"",MATCH(non_affecté,non_affecté,0)),ROW(INDIRECT("1:"&ROWS(non_affecté)))))} | H2: Poste 1 | I2: jean
A3: Robert | B3: =COUNTIF($I$2:$I$8,A3) -> 1 | C3: =IF(B3<>0,"",A3) | H3: Poste 2 | I3: Max
A4: marc | B4: =COUNTIF($I$2:$I$8,A4) -> 0 | C4: =IF(B4<>0,"",A4) -> marc | H4: Poste 3
A5: sophie | B5: =COUNTIF($I$2:$I$8,A5) -> 1 | C5: =IF(B5<>0,"",A5) | H5: Poste 4
A6: Marie | B6: =COUNTIF($I$2:$I$8,A6) -> 0 | C6: =IF(B6<>0,"",A6) -> Marie | E6: marc | H6: Poste 5 | I6: sophie
A7: Max | B7: =COUNTIF($I$2:$I$8,A7) -> 1 | C7: =IF(B7<>0,"",A7) | E7: Marie | H7: Poste 6
A8: Michel | B8: =COUNTIF($I$2:$I$8,A8) -> 0 | C8: =IF(B8<>0,"",A8) -> Michel | E8: Michel | F8: =COUNTA($E$2:$E$8)-COUNTIF($E$2:$E$8,"") -> 3 | H8: Poste 7 | I8: Robert
A13: J'ai simplifié le fichier car je travail sur plusieurs feuilles. J'ai beaucoup de personnes à affecter sur de multiples postes et je souhaite avoir une liste déroulante qui ne me propose que des personnes non affectés
C27: jean | E27: {=INDEX(sans_formule,SMALL(IF(ISNA(MATCH(sans_formule,sans_formule,0)),"",MATCH(sans_formule,sans_formule,0)),ROW(INDIRECT("1:"&ROWS(sans_formule)))))} -> jean | G27: jean
C28: Robert | E28: Robert
E29: Max
E30: Michel
E31: #NUM!
C32: Max | E32: #NUM!
C33: Michel | E33: #NUM!

Sheet Feuil2
A1: Liste des personnes | C1: Liste non affecté
A2: jean | B2: =COUNTIF(Feuil1!$I$2:$I$8,A2) -> 1 | C2: =IF(B2<>0,"",A2)
A3: Robert | B3: =COUNTIF(Feuil1!$I$2:$I$8,A3) -> 1 | C3: =IF(B3<>0,"",A3)
A4: marc | B4: =COUNTIF(Feuil1!$I$2:$I$8,A4) -> 0 | C4: =IF(B4<>0,"",A4) -> marc
A5: sophie | B5: =COUNTIF(Feuil1!$I$2:$I$8,A5) -> 1 | C5: =IF(B5<>0,"",A5)
A6: Marie | B6: =COUNTIF(Feuil1!$I$2:$I$8,A6) -> 0 | C6: =IF(B6<>0,"",A6) -> Marie
A7: Max | B7: =COUNTIF(Feuil1!$I$2:$I$8,A7) -> 1 | C7: =IF(B7<>0,"",A7)
