Workbook

Sheet PLAN DE COMPETENCES 2022
A1: Plan de développement des compétences 2022
A6: STATUT | C6: PUBLICS VISES | N6: INFORMATION SUR LES FORMATIONS | W6: COUT DE LA FORMATION | Y6: Tarif apliqué
A7: Priorité | B7: Statut de la formation | C7: P1 | D7: P2 | E7: P3 | F7: P4 | G7: P5 | H7: P6 | I7: P7 | J7: P8 | K7: P9 | L7: P10 | M7: P11 | N7: Intitulé de la formation | O7: Catégorie d'action | P7: Type de formation | Q7: Année concernée | R7: Période de réalisation DU | S7: Période de réalisation AU | T7: Organisme | U7: Nbre de salariés | V7: Durée en heure | W7: Frais formation TTC | X7: Frais annexes | Y7: P1 | Z7: P2 | AA7: P3 | AB7: P4 | AC7: P5 | AD7: P6 | AE7: P7 | AF7: P8 | AG7: P9 | AH7: P10 | AI7: P11
A8: 1 | B8: Réalisée | C8: AA | D8: BB | E8: CC | N8: Habilitation BE BS manœuvre | O8: Obligatoire | P8: Intra | Q8: =YEAR(Tableau10[[#This Row],[Période de réalisation DU]]) -> 2022 | R8: 44650 | S8: 44651 | T8: XX | U8: =COUNTA(C8:M8) -> 3 | V8: 14 | W8: 1704 | Y8: =IF(Tableau10[[#This Row],[P1]]<>"",(VLOOKUP(Tableau10[[#This Row],[P1]],données!$A$3:$B$8,2,FALSE)*Tableau10[[#This Row],[Durée en heure]])+(Tableau10[[#This Row],[Frais formation TTC]]/Tableau10[[#This Row],[Nbre de salariés]]),0) -> 871.61363 | Z8: =IF(Tableau10[[#This Row],[P2]]<>"",(VLOOKUP(Tableau10[[#This Row],[P2]],données!$A$3:$B$8,2,FALSE)*Tableau10[[#This Row],[Durée en heure]])+(Tableau10[[#This Row],[Frais formation TTC]]/Tableau10[[#This Row],[Nbre de salariés]]),0) -> 841.93275 | AA8: =IF(Tableau10[[#This Row],[P3]]<>"",(VLOOKUP(Tableau10[[#This Row],[P3]],données!$A$3:$B$8,2,FALSE)*Tableau10[[#This Row],[Durée en heure]])+(Tableau10[[#This Row],[Frais formation TTC]]/Tableau10[[#This Row],[Nbre de salariés]]),0) -> 1027.2118 | AB8: =IF(Tableau10[[#This Row],[P4]]<>"",(VLOOKUP(Tableau10[[#This Row],[P4]],données!$A$3:$B$8,2,FALSE)*Tableau10[[#This Row],[Durée en heure]])+(Tableau10[[#This Row],[Frais formation TTC]]/Tableau10[[#This Row],[Nbre de salariés]]),0) -> 0 | AC8: =IF(Tableau10[[#This Row],[P5]]<>"",(VLOOKUP(Tableau10[[#This Row],[P5]],données!$A$3:$B$8,2,FALSE)*Tableau10[[#This Row],[Durée en heure]])+(Tableau10[[#This Row],[Frais formation TTC]]/Tableau10[[#This Row],[Nbre de salariés]]),0) -> 0 | AD8: =IF(Tableau10[[#This Row],[P6]]<>"",(VLOOKUP(Tableau10[[#This Row],[P6]],données!$A$3:$B$8,2,FALSE)*Tableau10[[#This Row],[Durée en heure]])+(Tableau10[[#This Row],[Frais formation TTC]]/Tableau10[[#This Row],[Nbre de salariés]]),0) -> 0 | AE8: =IF(Tableau10[[#This Row],[P7]]<>"",(VLOOKUP(Tableau10[[#This Row],[P7]],données!$A$3:$B$8,2,FALSE)*Tableau10[[#This Row],[Durée en heure]])+(Tableau10[[#This Row],[Frais formation TTC]]/Tableau10[[#This Row],[Nbre de salariés]]),0) -> 0 | AF8: =IF(Tableau10[[#This Row],[P8]]<>"",(VLOOKUP(Tableau10[[#This Row],[P8]],données!$A$3:$B$8,2,FALSE)*Tableau10[[#This Row],[Durée en heure]])+(Tableau10[[#This Row],[Frais formation TTC]]/Tableau10[[#This Row],[Nbre de salariés]]),0) -> 0 | AG8: =IF(Tableau10[[#This Row],[P9]]<>"",(VLOOKUP(Tableau10[[#This Row],[P9]],données!$A$3:$B$8,2,FALSE)*Tableau10[[#This Row],[Durée en heure]])+(Tableau10[[#This Row],[Frais formation TTC]]/Tableau10[[#This Row],[Nbre de salariés]]),0) -> 0 | AH8: =IF(Tableau10[[#This Row],[P10]]<>"",(VLOOKUP(Tableau10[[#This Row],[P10]],données!$A$3:$B$8,2,FALSE)*Tableau10[[#This Row],[Durée en heure]])+(Tableau10[[#This Row],[Frais formation TTC]]/Tableau10[[#This Row],[Nbre de salariés]]),0) -> 0 | AI8: =IF(Tableau10[[#This Row],[P11]]<>"",(VLOOKUP(Tableau10[[#This Row],[P11]],données!$A$3:$B$8,2,FALSE)*Tableau10[[#This Row],[Durée en heure]])+(Tableau10[[#This Row],[Frais formation TTC]]/Tableau10[[#This Row],[Nbre de salariés]]),0) -> 0
A9: 1 | B9: Réalisée | C9: DD | N9: Responsable HSE | O9: Obligatoire | P9: A distance | Q9: =YEAR(Tableau10[[#This Row],[Période de réalisation DU]]) -> 2022 | R9: 44641 | S9: 44643 | T9: XX | U9: =COUNTA(C9:M9) -> 1 | V9: 22 | W9: 2292 | Y9: =IF(Tableau10[[#This Row],[P1]]<>"",(VLOOKUP(Tableau10[[#This Row],[P1]],données!$A$3:$B$8,2,FALSE)*Tableau10[[#This Row],[Durée en heure]])+(Tableau10[[#This Row],[Frais formation TTC]]/Tableau10[[#This Row],[Nbre de salariés]]),0) -> 2725.2681 | Z9: =IF(Tableau10[[#This Row],[P2]]<>"",(VLOOKUP(Tableau10[[#This Row],[P2]],données!$A$3:$B$8,2,FALSE)*Tableau10[[#This Row],[Durée en heure]])+(Tableau10[[#This Row],[Frais formation TTC]]/Tableau10[[#This Row],[Nbre de salariés]]),0) -> 0 | AA9: =IF(Tableau10[[#This Row],[P3]]<>"",(VLOOKUP(Tableau10[[#This Row],[P3]],données!$A$3:$B$8,2,FALSE)*Tableau10[[#This Row],[Durée en heure]])+(Tableau10[[#This Row],[Frais formation TTC]]/Tableau10[[#This Row],[Nbre de salariés]]),0) -> 0 | AB9: =IF(Tableau10[[#This Row],[P4]]<>"",(VLOOKUP(Tableau10[[#This Row],[P4]],données!$A$3:$B$8,2,FALSE)*Tableau10[[#This Row],[Durée en heure]])+(Tableau10[[#This Row],[Frais formation TTC]]/Tableau10[[#This Row],[Nbre de salariés]]),0) -> 0 | AC9: =IF(Tableau10[[#This Row],[P5]]<>"",(VLOOKUP(Tableau10[[#This Row],[P5]],données!$A$3:$B$8,2,FALSE)*Tableau10[[#This Row],[Durée en heure]])+(Tableau10[[#This Row],[Frais formation TTC]]/Tableau10[[#This Row],[Nbre de salariés]]),0) -> 0 | AD9: =IF(Tableau10[[#This Row],[P6]]<>"",(VLOOKUP(Tableau10[[#This Row],[P6]],données!$A$3:$B$8,2,FALSE)*Tableau10[[#This Row],[Durée en heure]])+(Tableau10[[#This Row],[Frais formation TTC]]/Tableau10[[#This Row],[Nbre de salariés]]),0) -> 0 | AE9: =IF(Tableau10[[#This Row],[P7]]<>"",(VLOOKUP(Tableau10[[#This Row],[P7]],données!$A$3:$B$8,2,FALSE)*Tableau10[[#This Row],[Durée en heure]])+(Tableau10[[#This Row],[Frais formation TTC]]/Tableau10[[#This Row],[Nbre de salariés]]),0) -> 0 | AF9: =IF(Tableau10[[#This Row],[P8]]<>"",(VLOOKUP(Tableau10[[#This Row],[P8]],données!$A$3:$B$8,2,FALSE)*Tableau10[[#This Row],[Durée en heure]])+(Tableau10[[#This Row],[Frais formation TTC]]/Tableau10[[#This Row],[Nbre de salariés]]),0) -> 0 | AG9: =IF(Tableau10[[#This Row],[P9]]<>"",(VLOOKUP(Tableau10[[#This Row],[P9]],données!$A$3:$B$8,2,FALSE)*Tableau10[[#This Row],[Durée en heure]])+(Tableau10[[#This Row],[Frais formation TTC]]/Tableau10[[#This Row],[Nbre de salariés]]),0) -> 0 | AH9: =IF(Tableau10[[#This Row],[P10]]<>"",(VLOOKUP(Tableau10[[#This Row],[P10]],données!$A$3:$B$8,2,FALSE)*Tableau10[[#This Row],[Durée en heure]])+(Tableau10[[#This Row],[Frais formation TTC]]/Tableau10[[#This Row],[Nbre de salariés]]),0) -> 0 | AI9: =IF(Tableau10[[#This Row],[P11]]<>"",(VLOOKUP(Tableau10[[#This Row],[P11]],données!$A$3:$B$8,2,FALSE)*Tableau10[[#This Row],[Durée en heure]])+(Tableau10[[#This Row],[Frais formation TTC]]/Tableau10[[#This Row],[Nbre de salariés]]),0) -> 0
A10: 1 | B10: Réalisée | C10: EE | N10: accueil | O10: Actions non obligatoires | P10: Inter | Q10: =YEAR(Tableau10[[#This Row],[Période de réalisation DU]]) -> 2022 | R10: 44635 | S10: 44637 | T10: XX | U10: =COUNTA(C10:M10) -> 1 | V10: 23 | W10: 1500 | Y10: =IF(Tableau10[[#This Row],[P1]]<>"",(VLOOKUP(Tableau10[[#This Row],[P1]],données!$A$3:$B$8,2,FALSE)*Tableau10[[#This Row],[Durée en heure]])+(Tableau10[[#This Row],[Frais formation TTC]]/Tableau10[[#This Row],[Nbre de salariés]]),0) -> 2036.5883 | Z10: =IF(Tableau10[[#This Row],[P2]]<>"",(VLOOKUP(Tableau10[[#This Row],[P2]],données!$A$3:$B$8,2,FALSE)*Tableau10[[#This Row],[Durée en heure]])+(Tableau10[[#This Row],[Frais formation TTC]]/Tableau10[[#This Row],[Nbre de salariés]]),0) -> 0 | AA10: =IF(Tableau10[[#This Row],[P3]]<>"",(VLOOKUP(Tableau10[[#This Row],[P3]],données!$A$3:$B$8,2,FALSE)*Tableau10[[#This Row],[Durée en heure]])+(Tableau10[[#This Row],[Frais formation TTC]]/Tableau10[[#This Row],[Nbre de salariés]]),0) -> 0 | AB10: =IF(Tableau10[[#This Row],[P4]]<>"",(VLOOKUP(Tableau10[[#This Row],[P4]],données!$A$3:$B$8,2,FALSE)*Tableau10[[#This Row],[Durée en heure]])+(Tableau10[[#This Row],[Frais formation TTC]]/Tableau10[[#This Row],[Nbre de salariés]]),0) -> 0 | AC10: =IF(Tableau10[[#This Row],[P5]]<>"",(VLOOKUP(Tableau10[[#This Row],[P5]],données!$A$3:$B$8,2,FALSE)*Tableau10[[#This Row],[Durée en heure]])+(Tableau10[[#This Row],[Frais formation TTC]]/Tableau10[[#This Row],[Nbre de salariés]]),0) -> 0 | AD10: =IF(Tableau10[[#This Row],[P6]]<>"",(VLOOKUP(Tableau10[[#This Row],[P6]],données!$A$3:$B$8,2,FALSE)*Tableau10[[#This Row],[Durée en heure]])+(Tableau10[[#This Row],[Frais formation TTC]]/Tableau10[[#This Row],[Nbre de salariés]]),0) -> 0 | AE10: =IF(Tableau10[[#This Row],[P7]]<>"",(VLOOKUP(Tableau10[[#This Row],[P7]],données!$A$3:$B$8,2,FALSE)*Tableau10[[#This Row],[Durée en heure]])+(Tableau10[[#This Row],[Frais formation TTC]]/Tableau10[[#This Row],[Nbre de salariés]]),0) -> 0 | AF10: =IF(Tableau10[[#This Row],[P8]]<>"",(VLOOKUP(Tableau10[[#This Row],[P8]],données!$A$3:$B$8,2,FALSE)*Tableau10[[#This Row],[Durée en heure]])+(Tableau10[[#This Row],[Frais formation TTC]]/Tableau10[[#This Row],[Nbre de salariés]]),0) -> 0 | AG10: =IF(Tableau10[[#This Row],[P9]]<>"",(VLOOKUP(Tableau10[[#This Row],[P9]],données!$A$3:$B$8,2,FALSE)*Tableau10[[#This Row],[Durée en heure]])+(Tableau10[[#This Row],[Frais formation TTC]]/Tableau10[[#This Row],[Nbre de salariés]]),0) -> 0 | AH10: =IF(Tableau10[[#This Row],[P10]]<>"",(VLOOKUP(Tableau10[[#This Row],[P10]],données!$A$3:$B$8,2,FALSE)*Tableau10[[#This Row],[Durée en heure]])+(Tableau10[[#This Row],[Frais formation TTC]]/Tableau10[[#This Row],[Nbre de salariés]]),0) -> 0 | AI10: =IF(Tableau10[[#This Row],[P11]]<>"",(VLOOKUP(Tableau10[[#This Row],[P11]],données!$A$3:$B$8,2,FALSE)*Tableau10[[#This Row],[Durée en heure]])+(Tableau10[[#This Row],[Frais formation TTC]]/Tableau10[[#This Row],[Nbre de salariés]]),0) -> 0
A11: 1 | B11: Programmée | C11: BB | N11: Habilitation électrique recyclage | O11: Obligatoire | P11: Inter | Q11: =YEAR(Tableau10[[#This Row],[Période de réalisation DU]]) -> 2022 | R11: 44823 | S11: 44824 | T11: XX | U11: =COUNTA(C11:M11) -> 1 | V11: 10.5 | W11: 360 | Y11: =IF(Tableau10[[#This Row],[P1]]<>"",(VLOOKUP(Tableau10[[#This Row],[P1]],données!$A$3:$B$8,2,FALSE)*Tableau10[[#This Row],[Durée en heure]])+(Tableau10[[#This Row],[Frais formation TTC]]/Tableau10[[#This Row],[Nbre de salariés]]),0) -> 565.44956 | Z11: =IF(Tableau10[[#This Row],[P2]]<>"",(VLOOKUP(Tableau10[[#This Row],[P2]],données!$A$3:$B$8,2,FALSE)*Tableau10[[#This Row],[Durée en heure]])+(Tableau10[[#This Row],[Frais formation TTC]]/Tableau10[[#This Row],[Nbre de salariés]]),0) -> 0 | AA11: =IF(Tableau10[[#This Row],[P3]]<>"",(VLOOKUP(Tableau10[[#This Row],[P3]],données!$A$3:$B$8,2,FALSE)*Tableau10[[#This Row],[Durée en heure]])+(Tableau10[[#This Row],[Frais formation TTC]]/Tableau10[[#This Row],[Nbre de salariés]]),0) -> 0 | AB11: =IF(Tableau10[[#This Row],[P4]]<>"",(VLOOKUP(Tableau10[[#This Row],[P4]],données!$A$3:$B$8,2,FALSE)*Tableau10[[#This Row],[Durée en heure]])+(Tableau10[[#This Row],[Frais formation TTC]]/Tableau10[[#This Row],[Nbre de salariés]]),0) -> 0 | AC11: =IF(Tableau10[[#This Row],[P5]]<>"",(VLOOKUP(Tableau10[[#This Row],[P5]],données!$A$3:$B$8,2,FALSE)*Tableau10[[#This Row],[Durée en heure]])+(Tableau10[[#This Row],[Frais formation TTC]]/Tableau10[[#This Row],[Nbre de salariés]]),0) -> 0 | AD11: =IF(Tableau10[[#This Row],[P6]]<>"",(VLOOKUP(Tableau10[[#This Row],[P6]],données!$A$3:$B$8,2,FALSE)*Tableau10[[#This Row],[Durée en heure]])+(Tableau10[[#This Row],[Frais formation TTC]]/Tableau10[[#This Row],[Nbre de salariés]]),0) -> 0 | AE11: =IF(Tableau10[[#This Row],[P7]]<>"",(VLOOKUP(Tableau10[[#This Row],[P7]],données!$A$3:$B$8,2,FALSE)*Tableau10[[#This Row],[Durée en heure]])+(Tableau10[[#This Row],[Frais formation TTC]]/Tableau10[[#This Row],[Nbre de salariés]]),0) -> 0 | AF11: =IF(Tableau10[[#This Row],[P8]]<>"",(VLOOKUP(Tableau10[[#This Row],[P8]],données!$A$3:$B$8,2,FALSE)*Tableau10[[#This Row],[Durée en heure]])+(Tableau10[[#This Row],[Frais formation TTC]]/Tableau10[[#This Row],[Nbre de salariés]]),0) -> 0 | AG11: =IF(Tableau10[[#This Row],[P9]]<>"",(VLOOKUP(Tableau10[[#This Row],[P9]],données!$A$3:$B$8,2,FALSE)*Tableau10[[#This Row],[Durée en heure]])+(Tableau10[[#This Row],[Frais formation TTC]]/Tableau10[[#This Row],[Nbre de salariés]]),0) -> 0 | AH11: =IF(Tableau10[[#This Row],[P10]]<>"",(VLOOKUP(Tableau10[[#This Row],[P10]],données!$A$3:$B$8,2,FALSE)*Tableau10[[#This Row],[Durée en heure]])+(Tableau10[[#This Row],[Frais formation TTC]]/Tableau10[[#This Row],[Nbre de salariés]]),0) -> 0 | AI11: =IF(Tableau10[[#This Row],[P11]]<>"",(VLOOKUP(Tableau10[[#This Row],[P11]],données!$A$3:$B$8,2,FALSE)*Tableau10[[#This Row],[Durée en heure]])+(Tableau10[[#This Row],[Frais formation TTC]]/Tableau10[[#This Row],[Nbre de salariés]]),0) -> 0
A12: 1 | B12: Programmée | C12: AA | D12: BB | E12: CC | F12: DD | G12: FF | N12: SST recyclage | O12: Obligatoire | P12: Intra | Q12: =YEAR(Tableau10[[#This Row],[Période de réalisation DU]]) -> 2022 | R12: 44844 | S12: 44844 | T12: XX | U12: =COUNTA(C12:M12) -> 5 | V12: 7 | W12: 768 | Y12: =IF(Tableau10[[#This Row],[P1]]<>"",(VLOOKUP(Tableau10[[#This Row],[P1]],données!$A$3:$B$8,2,FALSE)*Tableau10[[#This Row],[Durée en heure]])+(Tableau10[[#This Row],[Frais formation TTC]]/Tableau10[[#This Row],[Nbre de salariés]]),0) -> 305.40682 | Z12: =IF(Tableau10[[#This Row],[P2]]<>"",(VLOOKUP(Tableau10[[#This Row],[P2]],données!$A$3:$B$8,2,FALSE)*Tableau10[[#This Row],[Durée en heure]])+(Tableau10[[#This Row],[Frais formation TTC]]/Tableau10[[#This Row],[Nbre de salariés]]),0) -> 290.56637 | AA12: =IF(Tableau10[[#This Row],[P3]]<>"",(VLOOKUP(Tableau10[[#This Row],[P3]],données!$A$3:$B$8,2,FALSE)*Tableau10[[#This Row],[Durée en heure]])+(Tableau10[[#This Row],[Frais formation TTC]]/Tableau10[[#This Row],[Nbre de salariés]]),0) -> 383.20592 | AB12: =IF(Tableau10[[#This Row],[P4]]<>"",(VLOOKUP(Tableau10[[#This Row],[P4]],données!$A$3:$B$8,2,FALSE)*Tableau10[[#This Row],[Durée en heure]])+(Tableau10[[#This Row],[Frais formation TTC]]/Tableau10[[#This Row],[Nbre de salariés]]),0) -> 291.45805 | AC12: =IF(Tableau10[[#This Row],[P5]]<>"",(VLOOKUP(Tableau10[[#This Row],[P5]],données!$A$3:$B$8,2,FALSE)*Tableau10[[#This Row],[Durée en heure]])+(Tableau10[[#This Row],[Frais formation TTC]]/Tableau10[[#This Row],[Nbre de salariés]]),0) -> 527.82706 | AD12: =IF(Tableau10[[#This Row],[P6]]<>"",(VLOOKUP(Tableau10[[#This Row],[P6]],données!$A$3:$B$8,2,FALSE)*Tableau10[[#This Row],[Durée en heure]])+(Tableau10[[#This Row],[Frais formation TTC]]/Tableau10[[#This Row],[Nbre de salariés]]),0) -> 0 | AE12: =IF(Tableau10[[#This Row],[P7]]<>"",(VLOOKUP(Tableau10[[#This Row],[P7]],données!$A$3:$B$8,2,FALSE)*Tableau10[[#This Row],[Durée en heure]])+(Tableau10[[#This Row],[Frais formation TTC]]/Tableau10[[#This Row],[Nbre de salariés]]),0) -> 0 | AF12: =IF(Tableau10[[#This Row],[P8]]<>"",(VLOOKUP(Tableau10[[#This Row],[P8]],données!$A$3:$B$8,2,FALSE)*Tableau10[[#This Row],[Durée en heure]])+(Tableau10[[#This Row],[Frais formation TTC]]/Tableau10[[#This Row],[Nbre de salariés]]),0) -> 0 | AG12: =IF(Tableau10[[#This Row],[P9]]<>"",(VLOOKUP(Tableau10[[#This Row],[P9]],données!$A$3:$B$8,2,FALSE)*Tableau10[[#This Row],[Durée en heure]])+(Tableau10[[#This Row],[Frais formation TTC]]/Tableau10[[#This Row],[Nbre de salariés]]),0) -> 0 | AH12: =IF(Tableau10[[#This Row],[P10]]<>"",(VLOOKUP(Tableau10[[#This Row],[P10]],données!$A$3:$B$8,2,FALSE)*Tableau10[[#This Row],[Durée en heure]])+(Tableau10[[#This Row],[Frais formation TTC]]/Tableau10[[#This Row],[Nbre de salariés]]),0) -> 0 | AI12: =IF(Tableau10[[#This Row],[P11]]<>"",(VLOOKUP(Tableau10[[#This Row],[P11]],données!$A$3:$B$8,2,FALSE)*Tableau10[[#This Row],[Durée en heure]])+(Tableau10[[#This Row],[Frais formation TTC]]/Tableau10[[#This Row],[Nbre de salariés]]),0) -> 0
B13: Programmée | C13: FF | N13: accueil | O13: Actions non obligatoires | P13: Inter | Q13: =YEAR(Tableau10[[#This Row],[Période de réalisation DU]]) -> 2023 | R13: 44986 | T13: XX | U13: =COUNTA(C13:M13) -> 1 | V13: 28 | W13: 1800 | Y13: =IF(Tableau10[[#This Row],[P1]]<>"",(VLOOKUP(Tableau10[[#This Row],[P1]],données!$A$3:$B$8,2,FALSE)*Tableau10[[#This Row],[Durée en heure]])+(Tableau10[[#This Row],[Frais formation TTC]]/Tableau10[[#This Row],[Nbre de salariés]]),0) -> 3296.9082 | Z13: =IF(Tableau10[[#This Row],[P2]]<>"",(VLOOKUP(Tableau10[[#This Row],[P2]],données!$A$3:$B$8,2,FALSE)*Tableau10[[#This Row],[Durée en heure]])+(Tableau10[[#This Row],[Frais formation TTC]]/Tableau10[[#This Row],[Nbre de salariés]]),0) -> 0 | AA13: =IF(Tableau10[[#This Row],[P3]]<>"",(VLOOKUP(Tableau10[[#This Row],[P3]],données!$A$3:$B$8,2,FALSE)*Tableau10[[#This Row],[Durée en heure]])+(Tableau10[[#This Row],[Frais formation TTC]]/Tableau10[[#This Row],[Nbre de salariés]]),0) -> 0 | AB13: =IF(Tableau10[[#This Row],[P4]]<>"",(VLOOKUP(Tableau10[[#This Row],[P4]],données!$A$3:$B$8,2,FALSE)*Tableau10[[#This Row],[Durée en heure]])+(Tableau10[[#This Row],[Frais formation TTC]]/Tableau10[[#This Row],[Nbre de salariés]]),0) -> 0 | AC13: =IF(Tableau10[[#This Row],[P5]]<>"",(VLOOKUP(Tableau10[[#This Row],[P5]],données!$A$3:$B$8,2,FALSE)*Tableau10[[#This Row],[Durée en heure]])+(Tableau10[[#This Row],[Frais formation TTC]]/Tableau10[[#This Row],[Nbre de salariés]]),0) -> 0 | AD13: =IF(Tableau10[[#This Row],[P6]]<>"",(VLOOKUP(Tableau10[[#This Row],[P6]],données!$A$3:$B$8,2,FALSE)*Tableau10[[#This Row],[Durée en heure]])+(Tableau10[[#This Row],[Frais formation TTC]]/Tableau10[[#This Row],[Nbre de salariés]]),0) -> 0 | AE13: =IF(Tableau10[[#This Row],[P7]]<>"",(VLOOKUP(Tableau10[[#This Row],[P7]],données!$A$3:$B$8,2,FALSE)*Tableau10[[#This Row],[Durée en heure]])+(Tableau10[[#This Row],[Frais formation TTC]]/Tableau10[[#This Row],[Nbre de salariés]]),0) -> 0 | AF13: =IF(Tableau10[[#This Row],[P8]]<>"",(VLOOKUP(Tableau10[[#This Row],[P8]],données!$A$3:$B$8,2,FALSE)*Tableau10[[#This Row],[Durée en heure]])+(Tableau10[[#This Row],[Frais formation TTC]]/Tableau10[[#This Row],[Nbre de salariés]]),0) -> 0 | AG13: =IF(Tableau10[[#This Row],[P9]]<>"",(VLOOKUP(Tableau10[[#This Row],[P9]],données!$A$3:$B$8,2,FALSE)*Tableau10[[#This Row],[Durée en heure]])+(Tableau10[[#This Row],[Frais formation TTC]]/Tableau10[[#This Row],[Nbre de salariés]]),0) -> 0 | AH13: =IF(Tableau10[[#This Row],[P10]]<>"",(VLOOKUP(Tableau10[[#This Row],[P10]],données!$A$3:$B$8,2,FALSE)*Tableau10[[#This Row],[Durée en heure]])+(Tableau10[[#This Row],[Frais formation TTC]]/Tableau10[[#This Row],[Nbre de salariés]]),0) -> 0 | AI13: =IF(Tableau10[[#This Row],[P11]]<>"",(VLOOKUP(Tableau10[[#This Row],[P11]],données!$A$3:$B$8,2,FALSE)*Tableau10[[#This Row],[Durée en heure]])+(Tableau10[[#This Row],[Frais formation TTC]]/Tableau10[[#This Row],[Nbre de salariés]]),0) -> 0
N28: (taux horaire * nbre jour formation) + (cout formation concernées par la personne / nbre salariés ayant participé à la ou aux formations)

Sheet synthèse
A3: Initiale | B3: Département | C3: Groupe | D3: CSP | E3: Sexe | F3: Formation sur 2022 | G3: Coûts
A4: AA | B4: OPERATIONS | C4: GBA | D4: C | E4: F | F4: =COUNTIF(Tableau10[[P1]:[P11]],synthèse!A4) -> 2 | G4: {=SUMPRODUCT((Tableau10[[P1]:[P11]]=synthèse!A4)*('PLAN DE COMPETENCES 2022'!Y8:AI13))} -> 1177.0205
A5: BB | B5: OPERATIONS | C5: GBA | D5: NC | E5: H | F5: =COUNTIF(Tableau10[[P1]:[P11]],synthèse!A5) -> 3 | G5: {=SUMPRODUCT((Tableau10[[P1]:[P11]]=synthèse!A5)*('PLAN DE COMPETENCES 2022'!Y9:AI14))} -> 305.40682
A6: CC | B6: RESSOURCES HUMAINES | C6: 0 | D6: C | E6: F | F6: =COUNTIF(Tableau10[[P1]:[P11]],synthèse!A6) -> 2 | G6: {=SUMPRODUCT((Tableau10[[P1]:[P11]]=synthèse!A6)*('PLAN DE COMPETENCES 2022'!Y10:AI15))} -> 0
A7: DD | B7: OPERATIONS | C7: PVV | D7: C | E7: H | F7: =COUNTIF(Tableau10[[P1]:[P11]],synthèse!A7) -> 2 | G7: {=SUMPRODUCT((Tableau10[[P1]:[P11]]=synthèse!A7)*('PLAN DE COMPETENCES 2022'!Y11:AI16))} -> 305.40682
A8: EE | B8: ADMINISTRATIF | C8: 0 | D8: C | E8: F | F8: =COUNTIF(Tableau10[[P1]:[P11]],synthèse!A8) -> 1 | G8: {=SUMPRODUCT((Tableau10[[P1]:[P11]]=synthèse!A8)*('PLAN DE COMPETENCES 2022'!Y12:AI17))} -> 0
A9: FF | B9: OPERATIONS | C9: GIC | D9: C | E9: F | F9: =COUNTIF(Tableau10[[P1]:[P11]],synthèse!A9) -> 2 | G9: {=SUMPRODUCT((Tableau10[[P1]:[P11]]=synthèse!A9)*('PLAN DE COMPETENCES 2022'!Y13:AI18))} -> 0

Sheet données
A2: Initiale | B2: Taux horaire chargé
A3: AA | B3: =3289.22/151.67 -> 21.686688
A4: BB | B4: =2967.67/151.67 -> 19.566625
A5: CC | B5: =(4392.58*12)/1607 -> 32.800846
A6: DD | B6: =2986.99/151.67 -> 19.694007
A7: EE | B7: =(2879.71-48.95)/121.336 -> 23.329927
A8: FF | B8: =(7159.32*12)/1607 -> 53.461008
