Workbook

Sheet Feuil1
A1: NOM | B1: CODE | C1: MONTANT
A2: MAGASIN 1 | B2: S621 | C2: -90
A3: MAGASIN 2 | B3: S607 | C3: -400
A4: MAGASIN 1 | B4: S613 | C4: 500
A5: MAGASIN 2 | B5: S621 | C5: 120 | E5: =IF(F5="","",$A$2& " + " & $A$3) -> MAGASIN 1 + MAGASIN 2 | F5: {=IFERROR(INDEX($B$2:$B$1000,SMALL(IF(FREQUENCY(IF($B$2:$B$1000<>"",MATCH($B$2:$B$1000,$B$2:$B$1000,0)), ROW($B$2:$B$1000)-ROW($B$2)+1),ROW($B$2:$B$1000)-ROW($B$2)+1),ROWS($F$5:F5))),"")} -> S621 | G5: =IF(F5<>"",SUMPRODUCT(($B$2:$B$1000=F5)*($C$2:$C$1000)),"") -> 30
A6: MAGASIN 1 | B6: S607 | C6: -300 | E6: =IF(F6="","",$A$2& " + " & $A$3) -> MAGASIN 1 + MAGASIN 2 | F6: {=IFERROR(INDEX($B$2:$B$1000,SMALL(IF(FREQUENCY(IF($B$2:$B$1000<>"",MATCH($B$2:$B$1000,$B$2:$B$1000,0)), ROW($B$2:$B$1000)-ROW($B$2)+1),ROW($B$2:$B$1000)-ROW($B$2)+1),ROWS($F$5:F6))),"")} -> S607 | G6: =IF(F6<>"",SUMPRODUCT(($B$2:$B$1000=F6)*($C$2:$C$1000)),"") -> -700
A7: MAGASIN 2 | B7: S613 | C7: -80 | E7: =IF(F7="","",$A$2& " + " & $A$3) -> MAGASIN 1 + MAGASIN 2 | F7: {=IFERROR(INDEX($B$2:$B$1000,SMALL(IF(FREQUENCY(IF($B$2:$B$1000<>"",MATCH($B$2:$B$1000,$B$2:$B$1000,0)), ROW($B$2:$B$1000)-ROW($B$2)+1),ROW($B$2:$B$1000)-ROW($B$2)+1),ROWS($F$5:F7))),"")} -> S613 | G7: =IF(F7<>"",SUMPRODUCT(($B$2:$B$1000=F7)*($C$2:$C$1000)),"") -> 420
E8: =IF(F8="","",$A$2& " + " & $A$3) | F8: {=IFERROR(INDEX($B$2:$B$1000,SMALL(IF(FREQUENCY(IF($B$2:$B$1000<>"",MATCH($B$2:$B$1000,$B$2:$B$1000,0)), ROW($B$2:$B$1000)-ROW($B$2)+1),ROW($B$2:$B$1000)-ROW($B$2)+1),ROWS($F$5:F8))),"")} | G8: =IF(F8<>"",SUMPRODUCT(($B$2:$B$1000=F8)*($C$2:$C$1000)),"")
E9: =IF(F9="","",$A$2& " + " & $A$3) | F9: {=IFERROR(INDEX($B$2:$B$1000,SMALL(IF(FREQUENCY(IF($B$2:$B$1000<>"",MATCH($B$2:$B$1000,$B$2:$B$1000,0)), ROW($B$2:$B$1000)-ROW($B$2)+1),ROW($B$2:$B$1000)-ROW($B$2)+1),ROWS($F$5:F9))),"")} | G9: =IF(F9<>"",SUMPRODUCT(($B$2:$B$1000=F9)*($C$2:$C$1000)),"")
E10: =IF(F10="","",$A$2& " + " & $A$3) | F10: {=IFERROR(INDEX($B$2:$B$1000,SMALL(IF(FREQUENCY(IF($B$2:$B$1000<>"",MATCH($B$2:$B$1000,$B$2:$B$1000,0)), ROW($B$2:$B$1000)-ROW($B$2)+1),ROW($B$2:$B$1000)-ROW($B$2)+1),ROWS($F$5:F10))),"")} | G10: =IF(F10<>"",SUMPRODUCT(($B$2:$B$1000=F10)*($C$2:$C$1000)),"")
E11: =IF(F11="","",$A$2& " + " & $A$3) | F11: {=IFERROR(INDEX($B$2:$B$1000,SMALL(IF(FREQUENCY(IF($B$2:$B$1000<>"",MATCH($B$2:$B$1000,$B$2:$B$1000,0)), ROW($B$2:$B$1000)-ROW($B$2)+1),ROW($B$2:$B$1000)-ROW($B$2)+1),ROWS($F$5:F11))),"")} | G11: =IF(F11<>"",SUMPRODUCT(($B$2:$B$1000=F11)*($C$2:$C$1000)),"")
E12: =IF(F12="","",$A$2& " + " & $A$3) | F12: {=IFERROR(INDEX($B$2:$B$1000,SMALL(IF(FREQUENCY(IF($B$2:$B$1000<>"",MATCH($B$2:$B$1000,$B$2:$B$1000,0)), ROW($B$2:$B$1000)-ROW($B$2)+1),ROW($B$2:$B$1000)-ROW($B$2)+1),ROWS($F$5:F12))),"")} | G12: =IF(F12<>"",SUMPRODUCT(($B$2:$B$1000=F12)*($C$2:$C$1000)),"")
E13: =IF(F13="","",$A$2& " + " & $A$3) | F13: {=IFERROR(INDEX($B$2:$B$1000,SMALL(IF(FREQUENCY(IF($B$2:$B$1000<>"",MATCH($B$2:$B$1000,$B$2:$B$1000,0)), ROW($B$2:$B$1000)-ROW($B$2)+1),ROW($B$2:$B$1000)-ROW($B$2)+1),ROWS($F$5:F13))),"")} | G13: =IF(F13<>"",SUMPRODUCT(($B$2:$B$1000=F13)*($C$2:$C$1000)),"")
E14: =IF(F14="","",$A$2& " + " & $A$3) | F14: {=IFERROR(INDEX($B$2:$B$1000,SMALL(IF(FREQUENCY(IF($B$2:$B$1000<>"",MATCH($B$2:$B$1000,$B$2:$B$1000,0)), ROW($B$2:$B$1000)-ROW($B$2)+1),ROW($B$2:$B$1000)-ROW($B$2)+1),ROWS($F$5:F14))),"")} | G14: =IF(F14<>"",SUMPRODUCT(($B$2:$B$1000=F14)*($C$2:$C$1000)),"")
E15: =IF(F15="","",$A$2& " + " & $A$3) | F15: {=IFERROR(INDEX($B$2:$B$1000,SMALL(IF(FREQUENCY(IF($B$2:$B$1000<>"",MATCH($B$2:$B$1000,$B$2:$B$1000,0)), ROW($B$2:$B$1000)-ROW($B$2)+1),ROW($B$2:$B$1000)-ROW($B$2)+1),ROWS($F$5:F15))),"")} | G15: =IF(F15<>"",SUMPRODUCT(($B$2:$B$1000=F15)*($C$2:$C$1000)),"")
F16: {=IFERROR(INDEX($B$2:$B$1000,SMALL(IF(FREQUENCY(IF($B$2:$B$1000<>"",MATCH($B$2:$B$1000,$B$2:$B$1000,0)), ROW($B$2:$B$1000)-ROW($B$2)+1),ROW($B$2:$B$1000)-ROW($B$2)+1),ROWS($F$5:F16))),"")} | G16: =IF(F16<>"",SUMPRODUCT(($B$2:$B$1000=F16)*($C$2:$C$1000)),"")
F17: {=IFERROR(INDEX($B$2:$B$1000,SMALL(IF(FREQUENCY(IF($B$2:$B$1000<>"",MATCH($B$2:$B$1000,$B$2:$B$1000,0)), ROW($B$2:$B$1000)-ROW($B$2)+1),ROW($B$2:$B$1000)-ROW($B$2)+1),ROWS($F$5:F17))),"")} | G17: =IF(F17<>"",SUMPRODUCT(($B$2:$B$1000=F17)*($C$2:$C$1000)),"")
F18: {=IFERROR(INDEX($B$2:$B$1000,SMALL(IF(FREQUENCY(IF($B$2:$B$1000<>"",MATCH($B$2:$B$1000,$B$2:$B$1000,0)), ROW($B$2:$B$1000)-ROW($B$2)+1),ROW($B$2:$B$1000)-ROW($B$2)+1),ROWS($F$5:F18))),"")} | G18: =IF(F18<>"",SUMPRODUCT(($B$2:$B$1000=F18)*($C$2:$C$1000)),"")
F19: {=IFERROR(INDEX($B$2:$B$1000,SMALL(IF(FREQUENCY(IF($B$2:$B$1000<>"",MATCH($B$2:$B$1000,$B$2:$B$1000,0)), ROW($B$2:$B$1000)-ROW($B$2)+1),ROW($B$2:$B$1000)-ROW($B$2)+1),ROWS($F$5:F19))),"")} | G19: =IF(F19<>"",SUMPRODUCT(($B$2:$B$1000=F19)*($C$2:$C$1000)),"")
G20: =IF(F20<>"",SUMPRODUCT(($B$2:$B$1000=F20)*($C$2:$C$1000)),"")
G21: =IF(F21<>"",SUMPRODUCT(($B$2:$B$1000=F21)*($C$2:$C$1000)),"")
G22: =IF(F22<>"",SUMPRODUCT(($B$2:$B$1000=F22)*($C$2:$C$1000)),"")
G23: =IF(F23<>"",SUMPRODUCT(($B$2:$B$1000=F23)*($C$2:$C$1000)),"")
G24: =IF(F24<>"",SUMPRODUCT(($B$2:$B$1000=F24)*($C$2:$C$1000)),"")
G25: =IF(F25<>"",SUMPRODUCT(($B$2:$B$1000=F25)*($C$2:$C$1000)),"")
G26: =IF(F26<>"",SUMPRODUCT(($B$2:$B$1000=F26)*($C$2:$C$1000)),"")
G27: =IF(F27<>"",SUMPRODUCT(($B$2:$B$1000=F27)*($C$2:$C$1000)),"")
G28: =IF(F28<>"",SUMPRODUCT(($B$2:$B$1000=F28)*($C$2:$C$1000)),"")
G29: =IF(F29<>"",SUMPRODUCT(($B$2:$B$1000=F29)*($C$2:$C$1000)),"")
G30: =IF(F30<>"",SUMPRODUCT(($B$2:$B$1000=F30)*($C$2:$C$1000)),"")
G31: =IF(F31<>"",SUMPRODUCT(($B$2:$B$1000=F31)*($C$2:$C$1000)),"")
... G89: =IF(F89<>"",SUMPRODUCT(($B$2:$B$1000=F89)*($C$2:$C$1000)),"")

Sheet DATA
A1: NOM | B1: CODE | C1: MONTANT
A2: =IF(B2="","",Feuil1!$A$2& " + " & Feuil1!$A$3) -> MAGASIN 1 + MAGASIN 2 | B2: {=IFERROR(INDEX(Feuil1!$B$2:$B$1000,SMALL(IF(FREQUENCY(IF(Feuil1!$B$2:$B$1000<>"",MATCH(Feuil1!$B$2:$B$1000,Feuil1!$B$2:$B$1000,0)), ROW(Feuil1!$B$2:$B$1000)-ROW(Feuil1!$B$2)+1),ROW(Feuil1!$B$2:$B$1000)-ROW(Feuil1!$B$2)+1),ROWS($B$2:B2))),"")} -> S621 | C2: =IF(B2<>"",SUMPRODUCT((Feuil1!$B$2:$B$1000=B2)*(Feuil1!$C$2:$C$1000)),"") -> 30
A3: =IF(B3="","",Feuil1!$A$2& " + " & Feuil1!$A$3) -> MAGASIN 1 + MAGASIN 2 | B3: {=IFERROR(INDEX(Feuil1!$B$2:$B$1000,SMALL(IF(FREQUENCY(IF(Feuil1!$B$2:$B$1000<>"",MATCH(Feuil1!$B$2:$B$1000,Feuil1!$B$2:$B$1000,0)), ROW(Feuil1!$B$2:$B$1000)-ROW(Feuil1!$B$2)+1),ROW(Feuil1!$B$2:$B$1000)-ROW(Feuil1!$B$2)+1),ROWS($B$2:B3))),"")} -> S607 | C3: =IF(B3<>"",SUMPRODUCT((Feuil1!$B$2:$B$1000=B3)*(Feuil1!$C$2:$C$1000)),"") -> -700
A4: =IF(B4="","",Feuil1!$A$2& " + " & Feuil1!$A$3) -> MAGASIN 1 + MAGASIN 2 | B4: {=IFERROR(INDEX(Feuil1!$B$2:$B$1000,SMALL(IF(FREQUENCY(IF(Feuil1!$B$2:$B$1000<>"",MATCH(Feuil1!$B$2:$B$1000,Feuil1!$B$2:$B$1000,0)), ROW(Feuil1!$B$2:$B$1000)-ROW(Feuil1!$B$2)+1),ROW(Feuil1!$B$2:$B$1000)-ROW(Feuil1!$B$2)+1),ROWS($B$2:B4))),"")} -> S613 | C4: =IF(B4<>"",SUMPRODUCT((Feuil1!$B$2:$B$1000=B4)*(Feuil1!$C$2:$C$1000)),"") -> 420
