Workbook

Sheet base tarif fournisseur pour imp
A1: Famille / Gamme * | B1: Categorie / Modele * | C1: Marque * | D1: Type | E1: Segment | F1: Code * | G1: Prix Achat principal en Devise | H1: Nouveau prix
A2: JEUX | B2: JOUETDOG | C2: PETMATE | F2: 700 | G2: 1.16 | H2: =IF(ISNUMBER(VLOOKUP(F2,'NOUVEAUX PRIX'!A:C,3,FALSE)),VLOOKUP(F2,'NOUVEAUX PRIX'!A:C,3,FALSE),"pas de correspondance") -> 83.836929
A3: JEUX | B3: JOUETDOG | C3: PETMATE | F3: 353694 | G3: 1.16 | H3: =IF(ISNUMBER(VLOOKUP(F3,'NOUVEAUX PRIX'!A:C,3,FALSE)),VLOOKUP(F3,'NOUVEAUX PRIX'!A:C,3,FALSE),"pas de correspondance") -> pas de correspondance
A4: ALIMENTA | B4: GAMELLES | C4: PETMATE | D4: ULTRAHEAVYWEIGHT | E4: GAMELLEPLASTIQU | F4: 23050 | G4: 1.06 | H4: =IF(ISNUMBER(VLOOKUP(F4,'NOUVEAUX PRIX'!A:C,3,FALSE)),VLOOKUP(F4,'NOUVEAUX PRIX'!A:C,3,FALSE),"pas de correspondance") -> 1.1065354
A5: TRANSPT | B5: CAISSES | C5: PETMATE | D5: VARIKENNEL | E5: CAISSEPLASTIQUE | F5: 21949 | G5: 32.89 | H5: =IF(ISNUMBER(VLOOKUP(F5,'NOUVEAUX PRIX'!A:C,3,FALSE)),VLOOKUP(F5,'NOUVEAUX PRIX'!A:C,3,FALSE),"pas de correspondance") -> 25.905347
A6: TRANSPT | B6: CAISSES | C6: PETMATE | D6: SKYKENNEL | E6: CAISSEPLASTIQUE | F6: 400 | G6: 41.79 | H6: =IF(ISNUMBER(VLOOKUP(F6,'NOUVEAUX PRIX'!A:C,3,FALSE)),VLOOKUP(F6,'NOUVEAUX PRIX'!A:C,3,FALSE),"pas de correspondance") -> 37.9656
A7: TRANSPT | B7: CAISSES | C7: PETMATE | D7: SKYKENNEL | E7: CAISSEPLASTIQUE | F7: 200 | G7: 24.66 | H7: =IF(ISNUMBER(VLOOKUP(F7,'NOUVEAUX PRIX'!A:C,3,FALSE)),VLOOKUP(F7,'NOUVEAUX PRIX'!A:C,3,FALSE),"pas de correspondance") -> 20.823161
A8: TRANSPT | B8: CAISSES | C8: PETMATE | D8: LOOKNSEE | E8: CAISSEPLASTIQUE | F8: 21162 | G8: 13.37 | H8: =IF(ISNUMBER(VLOOKUP(F8,'NOUVEAUX PRIX'!A:C,3,FALSE)),VLOOKUP(F8,'NOUVEAUX PRIX'!A:C,3,FALSE),"pas de correspondance") -> pas de correspondance
A9: ALIMENTA | B9: GAMELLES | C9: PETMATE | D9: ULTRAHEAVYWEIGHT | E9: GAMELLEPLASTIQU | F9: 23177 | G9: 1.45 | H9: =IF(ISNUMBER(VLOOKUP(F9,'NOUVEAUX PRIX'!A:C,3,FALSE)),VLOOKUP(F9,'NOUVEAUX PRIX'!A:C,3,FALSE),"pas de correspondance") -> 1.5795446
A10: TRANSPT | B10: CAISSES | C10: PETMATE | D10: VARIKENNEL | E10: CAISSEPLASTIQUE | F10: 21950 | G10: 41.15 | H10: =IF(ISNUMBER(VLOOKUP(F10,'NOUVEAUX PRIX'!A:C,3,FALSE)),VLOOKUP(F10,'NOUVEAUX PRIX'!A:C,3,FALSE),"pas de correspondance") -> 35.67704
A11: ALIMENTA | B11: GAMELLES | C11: PETMATE | D11: ULTRALIGHTWEIGHT | E11: GAMELLEPLASTIQU | F11: 23175 | G11: 0.97 | H11: =IF(ISNUMBER(VLOOKUP(F11,'NOUVEAUX PRIX'!A:C,3,FALSE)),VLOOKUP(F11,'NOUVEAUX PRIX'!A:C,3,FALSE),"pas de correspondance") -> 1.1038523
A12: ALIMENTA | B12: GAMELLES | C12: PETMATE | D12: ULTRALIGHTWEIGHT | E12: GAMELLEPLASTIQU | F12: 23080 | G12: 0.95 | H12: =IF(ISNUMBER(VLOOKUP(F12,'NOUVEAUX PRIX'!A:C,3,FALSE)),VLOOKUP(F12,'NOUVEAUX PRIX'!A:C,3,FALSE),"pas de correspondance") -> 1.0200492
A13: ALIMENTA | B13: GAMELLES | C13: PETMATE | D13: ULTRALIGHTWEIGHT | E13: GAMELLEPLASTIQU | F13: 23079 | G13: 0.74 | H13: =IF(ISNUMBER(VLOOKUP(F13,'NOUVEAUX PRIX'!A:C,3,FALSE)),VLOOKUP(F13,'NOUVEAUX PRIX'!A:C,3,FALSE),"pas de correspondance") -> 0.71595077
A14: ALIMENTA | B14: GAMELLES | C14: PETMATE | D14: ULTRALIGHTWEIGHT | E14: GAMELLEPLASTIQU | F14: 23078 | G14: 0.55 | H14: =IF(ISNUMBER(VLOOKUP(F14,'NOUVEAUX PRIX'!A:C,3,FALSE)),VLOOKUP(F14,'NOUVEAUX PRIX'!A:C,3,FALSE),"pas de correspondance") -> 0.51847385
A15: ALIMENTA | B15: GAMELLES | C15: PETMATE | D15: ULTRALIGHTWEIGHT | E15: GAMELLEPLASTIQU | F15: 23077 | G15: 0.41 | H15: =IF(ISNUMBER(VLOOKUP(F15,'NOUVEAUX PRIX'!A:C,3,FALSE)),VLOOKUP(F15,'NOUVEAUX PRIX'!A:C,3,FALSE),"pas de correspondance") -> 0.44946462
... A146: TRANSPT | B146: CAISSES | C146: PETMATE | D146: KENNELMAT | E146: TAPISCAISSE | F146: 26598 | G146: 9.40 | H146: =IF(ISNUMBER(VLOOKUP(F146,'NOUVEAUX PRIX'!A:C,3,FALSE)),VLOOKUP(F146,'NOUVEAUX PRIX'!A:C,3,FALSE),"pas de correspondance") -> 7.8472246
A147: JEUX | B147: JOUETDOG | C147: JW | F147: 47313 | G147: 2.41 | H147: =IF(ISNUMBER(VLOOKUP(F147,'NOUVEAUX PRIX'!A:C,3,FALSE)),VLOOKUP(F147,'NOUVEAUX PRIX'!A:C,3,FALSE),"pas de correspondance") -> pas de correspondance
A148: JEUX | B148: JOUETDOG | C148: CHUCKIT | D148: LIGHTPLAY | E148: GAMMECHUCKIT | F148: 32312 | G148: 1.30 | H148: =IF(ISNUMBER(VLOOKUP(F148,'NOUVEAUX PRIX'!A:C,3,FALSE)),VLOOKUP(F148,'NOUVEAUX PRIX'!A:C,3,FALSE),"pas de correspondance") -> 1.16
A149: HYGIENE | B149: HYGICHAT | C149: PETMATE | D149: STAYFRESH | E149: GAMMEFATCAT | F149: 22205 | G149: 1.44 | H149: =IF(ISNUMBER(VLOOKUP(F149,'NOUVEAUX PRIX'!A:C,3,FALSE)),VLOOKUP(F149,'NOUVEAUX PRIX'!A:C,3,FALSE),"pas de correspondance") -> 1.4600667
A150: HYGIENE | B150: HYGICHAT | C150: PETMATE | D150: STAYFRESH | E150: GAMELLEACIER | F150: 22206 | G150: 3.91 | H150: =IF(ISNUMBER(VLOOKUP(F150,'NOUVEAUX PRIX'!A:C,3,FALSE)),VLOOKUP(F150,'NOUVEAUX PRIX'!A:C,3,FALSE),"pas de correspondance") -> 3.6394889
A151: JEUX | B151: JOUETDOG | C151: DOGZILLA | D151: DOGZILLACHEWY | E151: GAMMEDOGZILLA | F151: 353986 | G151: 2.91 | H151: =IF(ISNUMBER(VLOOKUP(F151,'NOUVEAUX PRIX'!A:C,3,FALSE)),VLOOKUP(F151,'NOUVEAUX PRIX'!A:C,3,FALSE),"pas de correspondance") -> 2.9118
A152: JEUX | B152: JOUETDOG | C152: DOGZILLA | D152: DOGZILLACHEWY | E152: GAMMEDOGZILLA | F152: 353332 | G152: 1.76 | H152: =IF(ISNUMBER(VLOOKUP(F152,'NOUVEAUX PRIX'!A:C,3,FALSE)),VLOOKUP(F152,'NOUVEAUX PRIX'!A:C,3,FALSE),"pas de correspondance") -> 1.7595
A153: TRANSPT | B153: TRAVLBED | C153: CHUCKIT | D153: CANINEHARDWARE | F153: 10400 | G153: 12.24 | H153: =IF(ISNUMBER(VLOOKUP(F153,'NOUVEAUX PRIX'!A:C,3,FALSE)),VLOOKUP(F153,'NOUVEAUX PRIX'!A:C,3,FALSE),"pas de correspondance") -> 10.70968
A154: ALIMENTA | B154: GAMELLES | C154: PETMATE | D154: WEIGHTDESIGNER | E154: GAMELLEPLASTIQU | F154: 23230 | G154: 0.87 | H154: =IF(ISNUMBER(VLOOKUP(F154,'NOUVEAUX PRIX'!A:C,3,FALSE)),VLOOKUP(F154,'NOUVEAUX PRIX'!A:C,3,FALSE),"pas de correspondance") -> pas de correspondance
A155: ALIMENTA | B155: DISTREAU | C155: PETMATE | D155: BISTRO | E155: DISTRIBSIMPLE | F155: 24496 | G155: 5.73 | H155: =IF(ISNUMBER(VLOOKUP(F155,'NOUVEAUX PRIX'!A:C,3,FALSE)),VLOOKUP(F155,'NOUVEAUX PRIX'!A:C,3,FALSE),"pas de correspondance") -> 4.7
A156: TRANSPT | B156: CAISSES | C156: PETMATE | D156: TRAININGRETREAT | E156: GAMMEPETMATE | F156: 21974 | G156: 33.72 | H156: =IF(ISNUMBER(VLOOKUP(F156,'NOUVEAUX PRIX'!A:C,3,FALSE)),VLOOKUP(F156,'NOUVEAUX PRIX'!A:C,3,FALSE),"pas de correspondance") -> 32.800183
A157: TRANSPT | B157: CAISSES | C157: PETMATE | D157: TRAININGRETREAT | E157: GAMMEPETMATE | F157: 21975 | G157: 47.13 | H157: =IF(ISNUMBER(VLOOKUP(F157,'NOUVEAUX PRIX'!A:C,3,FALSE)),VLOOKUP(F157,'NOUVEAUX PRIX'!A:C,3,FALSE),"pas de correspondance") -> 43.703771
A158: ALIMENTA | B158: DISTREAU | C158: PETMATE | D158: PETMCAFE | E158: DISTRIBSIMPLE | F158: 24405 | G158: 5.53 | H158: =IF(ISNUMBER(VLOOKUP(F158,'NOUVEAUX PRIX'!A:C,3,FALSE)),VLOOKUP(F158,'NOUVEAUX PRIX'!A:C,3,FALSE),"pas de correspondance") -> 5.8
A159: SOINS | B159: TOILCHIE | C159: PETMATE | E159: FURBUSTER | F159: 89812 | G159: 2.51 | H159: =IF(ISNUMBER(VLOOKUP(F159,'NOUVEAUX PRIX'!A:C,3,FALSE)),VLOOKUP(F159,'NOUVEAUX PRIX'!A:C,3,FALSE),"pas de correspondance") -> 2.25564
A160: SOINS | B160: TOILCHIE | C160: PETMATE | E160: FURBUSTER | F160: 89826 | G160: 2.62 | H160: =IF(ISNUMBER(VLOOKUP(F160,'NOUVEAUX PRIX'!A:C,3,FALSE)),VLOOKUP(F160,'NOUVEAUX PRIX'!A:C,3,FALSE),"pas de correspondance") -> 2.426228
A161: SOINS | B161: TOILCHIE | C161: PETMATE | E161: FURBUSTER | F161: 89818 | G161: 5.67 | H161: =IF(ISNUMBER(VLOOKUP(F161,'NOUVEAUX PRIX'!A:C,3,FALSE)),VLOOKUP(F161,'NOUVEAUX PRIX'!A:C,3,FALSE),"pas de correspondance") -> 5.3144
A162: SOINS | B162: TOILCHIE | C162: PETMATE | E162: FURBUSTER | F162: 89810 | G162: 3.05 | H162: =IF(ISNUMBER(VLOOKUP(F162,'NOUVEAUX PRIX'!A:C,3,FALSE)),VLOOKUP(F162,'NOUVEAUX PRIX'!A:C,3,FALSE),"pas de correspondance") -> 2.6876667
A163: JEUX | B163: JOUETDOG | C163: PETMATE | D163: FATCATDOGTOYS | E163: GAMMEFATCAT | F163: 640039 | G163: 4.94 | H163: =IF(ISNUMBER(VLOOKUP(F163,'NOUVEAUX PRIX'!A:C,3,FALSE)),VLOOKUP(F163,'NOUVEAUX PRIX'!A:C,3,FALSE),"pas de correspondance") -> 4.9361464
A164: JEUX | B164: JOUETDOG | C164: PETMATE | D164: FATCATDOGTOYS | E164: GAMMEFATCAT | F164: 630026 | G164: 1.97 | H164: =IF(ISNUMBER(VLOOKUP(F164,'NOUVEAUX PRIX'!A:C,3,FALSE)),VLOOKUP(F164,'NOUVEAUX PRIX'!A:C,3,FALSE),"pas de correspondance") -> 1.9722
A165: SOINS | B165: TOILCHIE | C165: JW | F165: 65006 | G165: 2.91 | H165: =IF(ISNUMBER(VLOOKUP(F165,'NOUVEAUX PRIX'!A:C,3,FALSE)),VLOOKUP(F165,'NOUVEAUX PRIX'!A:C,3,FALSE),"pas de correspondance") -> 2.1110133
A166: SOINS | B166: TOILCHAT | C166: JW | F166: 65025 | G166: 2.35 | H166: =IF(ISNUMBER(VLOOKUP(F166,'NOUVEAUX PRIX'!A:C,3,FALSE)),VLOOKUP(F166,'NOUVEAUX PRIX'!A:C,3,FALSE),"pas de correspondance") -> 2.2363733
A167: JEUX | B167: JOUETCAT | C167: PETMATE | D167: FATCATDOGTOYS | E167: GAMMEFATCAT | F167: 630027 | G167: 1.67 | H167: =IF(ISNUMBER(VLOOKUP(F167,'NOUVEAUX PRIX'!A:C,3,FALSE)),VLOOKUP(F167,'NOUVEAUX PRIX'!A:C,3,FALSE),"pas de correspondance") -> 1.6682
A168: ALIMENTA | B168: GAMELLES | C168: PETMATE | D168: BAMBOO | E168: GAMELLEPLASTIQU | F168: 23356 | G168: 3.80 | H168: =IF(ISNUMBER(VLOOKUP(F168,'NOUVEAUX PRIX'!A:C,3,FALSE)),VLOOKUP(F168,'NOUVEAUX PRIX'!A:C,3,FALSE),"pas de correspondance") -> 3.2809477
A169: ALIMENTA | B169: DISTRNOU | C169: PETMATE | E169: DISTRIBSIMPLE | F169: 24499 | G169: 11.07 | H169: =IF(ISNUMBER(VLOOKUP(F169,'NOUVEAUX PRIX'!A:C,3,FALSE)),VLOOKUP(F169,'NOUVEAUX PRIX'!A:C,3,FALSE),"pas de correspondance") -> 10.55
A170: ALIMENTA | B170: GAMELLES | C170: PETMATE | F170: 23368 | G170: 2.18 | H170: =IF(ISNUMBER(VLOOKUP(F170,'NOUVEAUX PRIX'!A:C,3,FALSE)),VLOOKUP(F170,'NOUVEAUX PRIX'!A:C,3,FALSE),"pas de correspondance") -> 2.0146473
A171: DIVERS | B171: DIV | C171: RIVOLIER | F171: DROIUANIMA | G171: 0.00 | H171: =IF(ISNUMBER(VLOOKUP(F171,'NOUVEAUX PRIX'!A:C,3,FALSE)),VLOOKUP(F171,'NOUVEAUX PRIX'!A:C,3,FALSE),"pas de correspondance") -> pas de correspondance
A172: DIVERS | B172: DIV | C172: RIVOLIER | F172: FRTRANSITANIMA | G172: 0.00 | H172: =IF(ISNUMBER(VLOOKUP(F172,'NOUVEAUX PRIX'!A:C,3,FALSE)),VLOOKUP(F172,'NOUVEAUX PRIX'!A:C,3,FALSE),"pas de correspondance") -> pas de correspondance
A173: TRANSPT | B173: CAISSES | C173: PETMATE | D173: SOFTSIDED | E173: CAISSEPLASTIQUE | F173: 21314 | G173: 13.12 | H173: =IF(ISNUMBER(VLOOKUP(F173,'NOUVEAUX PRIX'!A:C,3,FALSE)),VLOOKUP(F173,'NOUVEAUX PRIX'!A:C,3,FALSE),"pas de correspondance") -> 12.821731
A174: JEUX | B174: JOUETDOG | C174: CHUCKIT | D174: LAUNCHCOMPATIBLE | E174: GAMMECHUCKIT | F174: 520820 | G174: 2.20 | H174: =IF(ISNUMBER(VLOOKUP(F174,'NOUVEAUX PRIX'!A:C,3,FALSE)),VLOOKUP(F174,'NOUVEAUX PRIX'!A:C,3,FALSE),"pas de correspondance") -> 2.202822
A175: JEUX | B175: JOUETDOG | C175: CHUCKIT | D175: LAUNCHCOMPATIBLE | E175: GAMMECHUCKIT | F175: 520320 | G175: 2.20 | H175: =IF(ISNUMBER(VLOOKUP(F175,'NOUVEAUX PRIX'!A:C,3,FALSE)),VLOOKUP(F175,'NOUVEAUX PRIX'!A:C,3,FALSE),"pas de correspondance") -> 2.20248
A176: JEUX | B176: JOUETDOG | C176: CHUCKIT | D176: LAUNCHCOMPATIBLE | E176: GAMMECHUCKIT | F176: 20420 | G176: 1.38 | H176: =IF(ISNUMBER(VLOOKUP(F176,'NOUVEAUX PRIX'!A:C,3,FALSE)),VLOOKUP(F176,'NOUVEAUX PRIX'!A:C,3,FALSE),"pas de correspondance") -> 1.38168
A177: JEUX | B177: JOUETDOG | C177: CHUCKIT | D177: LAUNCHCOMPATIBLE | E177: GAMMECHUCKIT | F177: 520020 | G177: 1.30 | H177: =IF(ISNUMBER(VLOOKUP(F177,'NOUVEAUX PRIX'!A:C,3,FALSE)),VLOOKUP(F177,'NOUVEAUX PRIX'!A:C,3,FALSE),"pas de correspondance") -> 1.16
A178: JEUX | B178: JOUETDOG | C178: CHUCKIT | D178: LAUNCHCOMPATIBLE | E178: GAMMECHUCKIT | F178: 20030 | G178: 1.81 | H178: =IF(ISNUMBER(VLOOKUP(F178,'NOUVEAUX PRIX'!A:C,3,FALSE)),VLOOKUP(F178,'NOUVEAUX PRIX'!A:C,3,FALSE),"pas de correspondance") -> 1.80576
A179: JEUX | B179: JOUETDOG | C179: CHUCKIT | D179: LAUNCHCOMPATIBLE | E179: GAMMECHUCKIT | F179: 20040 | G179: 2.37 | H179: =IF(ISNUMBER(VLOOKUP(F179,'NOUVEAUX PRIX'!A:C,3,FALSE)),VLOOKUP(F179,'NOUVEAUX PRIX'!A:C,3,FALSE),"pas de correspondance") -> 2.37
A180: JEUX | B180: JOUETDOG | C180: CHUCKIT | D180: LAUNCHCOMPATIBLE | E180: GAMMECHUCKIT | F180: 520210 | G180: 2.20 | H180: =IF(ISNUMBER(VLOOKUP(F180,'NOUVEAUX PRIX'!A:C,3,FALSE)),VLOOKUP(F180,'NOUVEAUX PRIX'!A:C,3,FALSE),"pas de correspondance") -> 2.20248
A181: JEUX | B181: JOUETDOG | C181: CHUCKIT | D181: LAUNCHCOMPATIBLE | E181: GAMMECHUCKIT | F181: 20220 | G181: 2.48 | H181: =IF(ISNUMBER(VLOOKUP(F181,'NOUVEAUX PRIX'!A:C,3,FALSE)),VLOOKUP(F181,'NOUVEAUX PRIX'!A:C,3,FALSE),"pas de correspondance") -> 2.47608
A182: JEUX | B182: JOUETDOG | C182: CHUCKIT | D182: LAUNCHCOMPATIBLE | E182: GAMMECHUCKIT | F182: 201401 | G182: 2.74 | H182: =IF(ISNUMBER(VLOOKUP(F182,'NOUVEAUX PRIX'!A:C,3,FALSE)),VLOOKUP(F182,'NOUVEAUX PRIX'!A:C,3,FALSE),"pas de correspondance") -> 2.74284
A183: JEUX | B183: JOUETDOG | C183: CHUCKIT | D183: LAUNCHCOMPATIBLE | E183: GAMMECHUCKIT | F183: 57402 | G183: 0.92 | H183: =IF(ISNUMBER(VLOOKUP(F183,'NOUVEAUX PRIX'!A:C,3,FALSE)),VLOOKUP(F183,'NOUVEAUX PRIX'!A:C,3,FALSE),"pas de correspondance") -> 1.0004211
A184: JEUX | B184: JOUETDOG | C184: CHUCKIT | D184: LAUNCHCOMPATIBLE | E184: GAMMECHUCKIT | F184: 84001 | G184: 1.12 | H184: =IF(ISNUMBER(VLOOKUP(F184,'NOUVEAUX PRIX'!A:C,3,FALSE)),VLOOKUP(F184,'NOUVEAUX PRIX'!A:C,3,FALSE),"pas de correspondance") -> 1.12176
... A199: JEUX | B199: JOUETDOG | C199: CHUCKIT | D199: FLYERS | E199: GAMMECHUCKIT | F199: 30863 | G199: 2.98 | H199: =IF(ISNUMBER(VLOOKUP(F199,'NOUVEAUX PRIX'!A:C,3,FALSE)),VLOOKUP(F199,'NOUVEAUX PRIX'!A:C,3,FALSE),"pas de correspondance") -> 2.98
A200: DIVERS | B200: DIV | C200: RIVOLIER | F200: AJUANIMAU | G200: 0.00 | H200: =IF(ISNUMBER(VLOOKUP(F200,'NOUVEAUX PRIX'!A:C,3,FALSE)),VLOOKUP(F200,'NOUVEAUX PRIX'!A:C,3,FALSE),"pas de correspondance") -> pas de correspondance
A201: JEUX | B201: JOUETDOG | C201: CHUCKIT | D201: LAUNCHERS | E201: GAMMECHUCKIT | F201: 6300 | G201: 1.94 | H201: =IF(ISNUMBER(VLOOKUP(F201,'NOUVEAUX PRIX'!A:C,3,FALSE)),VLOOKUP(F201,'NOUVEAUX PRIX'!A:C,3,FALSE),"pas de correspondance") -> 1.93572
A202: TRANSPT | B202: CAISSES | C202: PETMATE | D202: TRAININGRETREAT | F202: 21935 | G202: 40.27 | H202: =IF(ISNUMBER(VLOOKUP(F202,'NOUVEAUX PRIX'!A:C,3,FALSE)),VLOOKUP(F202,'NOUVEAUX PRIX'!A:C,3,FALSE),"pas de correspondance") -> 35.574504
A203: HYGIENE | B203: HYGICHAT | C203: PETMATE | D203: LITTERPANMICROBA | E203: LITIERES | F203: 22022 | G203: 2.07 | H203: =IF(ISNUMBER(VLOOKUP(F203,'NOUVEAUX PRIX'!A:C,3,FALSE)),VLOOKUP(F203,'NOUVEAUX PRIX'!A:C,3,FALSE),"pas de correspondance") -> pas de correspondance
A204: ALIMENTA | B204: SNACKING | C204: PETMATE | D204: YUMITUP | E204: SPRAY | F204: 70063 | G204: 3.44 | H204: =IF(ISNUMBER(VLOOKUP(F204,'NOUVEAUX PRIX'!A:C,3,FALSE)),VLOOKUP(F204,'NOUVEAUX PRIX'!A:C,3,FALSE),"pas de correspondance") -> pas de correspondance
A205: SOINS | B205: TOILCHAT | C205: PETMATE | D205: NAILCLIPPER | E205: FURBUSTER | F205: 89803 | G205: 2.48 | H205: =IF(ISNUMBER(VLOOKUP(F205,'NOUVEAUX PRIX'!A:C,3,FALSE)),VLOOKUP(F205,'NOUVEAUX PRIX'!A:C,3,FALSE),"pas de correspondance") -> 2.2706933
A206: SOINS | B206: TOILCHAT | C206: PETMATE | D206: NAILTRIMMER | E206: FURBUSTER | F206: 89802 | G206: 2.21 | H206: =IF(ISNUMBER(VLOOKUP(F206,'NOUVEAUX PRIX'!A:C,3,FALSE)),VLOOKUP(F206,'NOUVEAUX PRIX'!A:C,3,FALSE),"pas de correspondance") -> 2.0219867
A207: SOINS | B207: TOILCHIE | C207: PETMATE | F207: 89804 | G207: 2.07 | H207: =IF(ISNUMBER(VLOOKUP(F207,'NOUVEAUX PRIX'!A:C,3,FALSE)),VLOOKUP(F207,'NOUVEAUX PRIX'!A:C,3,FALSE),"pas de correspondance") -> pas de correspondance
A208: COUCHAGE | B208: COUSSINS | C208: ASPENPET | F208: 27776 | G208: 13.30 | H208: =IF(ISNUMBER(VLOOKUP(F208,'NOUVEAUX PRIX'!A:C,3,FALSE)),VLOOKUP(F208,'NOUVEAUX PRIX'!A:C,3,FALSE),"pas de correspondance") -> 11.733231
A209: JEUX | B209: JOUETDOG | C209: DOGZILLA | D209: DOGZILLACHEWY | E209: GAMMEDOGZILLA | F209: 52061 | G209: 2.68 | H209: =IF(ISNUMBER(VLOOKUP(F209,'NOUVEAUX PRIX'!A:C,3,FALSE)),VLOOKUP(F209,'NOUVEAUX PRIX'!A:C,3,FALSE),"pas de correspondance") -> 2.6772
A210: COUCHAGE | B210: COUSSINS | C210: ASPENPET | F210: 27835 | G210: 17.37 | H210: =IF(ISNUMBER(VLOOKUP(F210,'NOUVEAUX PRIX'!A:C,3,FALSE)),VLOOKUP(F210,'NOUVEAUX PRIX'!A:C,3,FALSE),"pas de correspondance") -> 14.858646
A211: COUCHAGE | B211: COUSSINS | C211: ASPENPET | F211: 28116 | G211: 7.99 | H211: =IF(ISNUMBER(VLOOKUP(F211,'NOUVEAUX PRIX'!A:C,3,FALSE)),VLOOKUP(F211,'NOUVEAUX PRIX'!A:C,3,FALSE),"pas de correspondance") -> pas de correspondance
A212: JEUX | B212: JOUETDOG | C212: JW | F212: 31064 | G212: 2.90 | H212: =IF(ISNUMBER(VLOOKUP(F212,'NOUVEAUX PRIX'!A:C,3,FALSE)),VLOOKUP(F212,'NOUVEAUX PRIX'!A:C,3,FALSE),"pas de correspondance") -> 2.904
A213: COUCHAGE | B213: COUSSINS | C213: ASPENPET | F213: 28119 | G213: 17.59 | H213: =IF(ISNUMBER(VLOOKUP(F213,'NOUVEAUX PRIX'!A:C,3,FALSE)),VLOOKUP(F213,'NOUVEAUX PRIX'!A:C,3,FALSE),"pas de correspondance") -> pas de correspondance
A214: COUCHAGE | B214: COUSSINS | C214: ASPENPET | F214: 28118 | G214: 13.76 | H214: =IF(ISNUMBER(VLOOKUP(F214,'NOUVEAUX PRIX'!A:C,3,FALSE)),VLOOKUP(F214,'NOUVEAUX PRIX'!A:C,3,FALSE),"pas de correspondance") -> pas de correspondance
A215: JEUX | B215: JOUETDOG | C215: DOGZILLA | D215: DOGZILLATREAT | E215: GAMMEDOGZILLA | F215: 52041 | G215: 4.90 | H215: =IF(ISNUMBER(VLOOKUP(F215,'NOUVEAUX PRIX'!A:C,3,FALSE)),VLOOKUP(F215,'NOUVEAUX PRIX'!A:C,3,FALSE),"pas de correspondance") -> 4.5648
A216: COUCHAGE | B216: COUSSINS | C216: ASPENPET | F216: 28117 | G216: 10.75 | H216: =IF(ISNUMBER(VLOOKUP(F216,'NOUVEAUX PRIX'!A:C,3,FALSE)),VLOOKUP(F216,'NOUVEAUX PRIX'!A:C,3,FALSE),"pas de correspondance") -> pas de correspondance
A217: JEUX | B217: JOUETCAT | C217: PETMATE | F217: 630069 | G217: 4.10 | H217: =IF(ISNUMBER(VLOOKUP(F217,'NOUVEAUX PRIX'!A:C,3,FALSE)),VLOOKUP(F217,'NOUVEAUX PRIX'!A:C,3,FALSE),"pas de correspondance") -> 4.1002
A218: JEUX | B218: JOUETCAT | C218: PETMATE | F218: 630076 | G218: 3.30 | H218: =IF(ISNUMBER(VLOOKUP(F218,'NOUVEAUX PRIX'!A:C,3,FALSE)),VLOOKUP(F218,'NOUVEAUX PRIX'!A:C,3,FALSE),"pas de correspondance") -> 3.30372
A219: JEUX | B219: JOUETDOG | C219: JW | F219: 31065 | G219: 2.47 | H219: =IF(ISNUMBER(VLOOKUP(F219,'NOUVEAUX PRIX'!A:C,3,FALSE)),VLOOKUP(F219,'NOUVEAUX PRIX'!A:C,3,FALSE),"pas de correspondance") -> 2.904
A220: JEUX | B220: JOUETDOG | C220: DOGZILLA | D220: DOGZILLATREAT | E220: GAMMEDOGZILLA | F220: 52054 | G220: 2.44 | H220: =IF(ISNUMBER(VLOOKUP(F220,'NOUVEAUX PRIX'!A:C,3,FALSE)),VLOOKUP(F220,'NOUVEAUX PRIX'!A:C,3,FALSE),"pas de correspondance") -> 2.4357
A221: JEUX | B221: JOUETDOG | C221: DOGZILLA | D221: DOGZILLAACTIVE | E221: GAMMEDOGZILLA | F221: 52040 | G221: 2.91 | H221: =IF(ISNUMBER(VLOOKUP(F221,'NOUVEAUX PRIX'!A:C,3,FALSE)),VLOOKUP(F221,'NOUVEAUX PRIX'!A:C,3,FALSE),"pas de correspondance") -> 2.91
A222: JEUX | B222: JOUETDOG | C222: DOGZILLA | D222: DOGZILLAACTIVE | E222: GAMMEDOGZILLA | F222: 52057 | G222: 1.86 | H222: =IF(ISNUMBER(VLOOKUP(F222,'NOUVEAUX PRIX'!A:C,3,FALSE)),VLOOKUP(F222,'NOUVEAUX PRIX'!A:C,3,FALSE),"pas de correspondance") -> 1.944
A223: JEUX | B223: JOUETDOG | C223: JW | F223: 30954 | G223: 1.51 | H223: =IF(ISNUMBER(VLOOKUP(F223,'NOUVEAUX PRIX'!A:C,3,FALSE)),VLOOKUP(F223,'NOUVEAUX PRIX'!A:C,3,FALSE),"pas de correspondance") -> 2.204
A224: JEUX | B224: JOUETDOG | C224: DOGZILLA | D224: DOGZILLATREAT | E224: GAMMEDOGZILLA | F224: 52056 | G224: 2.28 | H224: =IF(ISNUMBER(VLOOKUP(F224,'NOUVEAUX PRIX'!A:C,3,FALSE)),VLOOKUP(F224,'NOUVEAUX PRIX'!A:C,3,FALSE),"pas de correspondance") -> 2.2752
A225: JEUX | B225: JOUETDOG | C225: DOGZILLA | D225: DOGZILLACHEWY | E225: GAMMEDOGZILLA | F225: 53298 | G225: 3.04 | H225: =IF(ISNUMBER(VLOOKUP(F225,'NOUVEAUX PRIX'!A:C,3,FALSE)),VLOOKUP(F225,'NOUVEAUX PRIX'!A:C,3,FALSE),"pas de correspondance") -> 3.03876
A226: JEUX | B226: JOUETDOG | C226: DOGZILLA | D226: DOGZILLAACTIVE | E226: GAMMEDOGZILLA | F226: 30889 | G226: 2.69 | H226: =IF(ISNUMBER(VLOOKUP(F226,'NOUVEAUX PRIX'!A:C,3,FALSE)),VLOOKUP(F226,'NOUVEAUX PRIX'!A:C,3,FALSE),"pas de correspondance") -> 2.72376
A227: JEUX | B227: JOUETDOG | C227: DOGZILLA | D227: DOGZILLATREAT | E227: GAMMEDOGZILLA | F227: 30914 | G227: 1.80 | H227: =IF(ISNUMBER(VLOOKUP(F227,'NOUVEAUX PRIX'!A:C,3,FALSE)),VLOOKUP(F227,'NOUVEAUX PRIX'!A:C,3,FALSE),"pas de correspondance") -> 1.764
A228: JEUX | B228: JOUETDOG | C228: DOGZILLA | D228: DOGZILLATREAT | E228: GAMMEDOGZILLA | F228: 30813 | G228: 2.58 | H228: =IF(ISNUMBER(VLOOKUP(F228,'NOUVEAUX PRIX'!A:C,3,FALSE)),VLOOKUP(F228,'NOUVEAUX PRIX'!A:C,3,FALSE),"pas de correspondance") -> 2.52
A229: TRANSPT | B229: CAISSES | C229: PETMATE | D229: BOLSTERMAT | E229: TAPISCAISSE | F229: 26603 | G229: 5.51 | H229: =IF(ISNUMBER(VLOOKUP(F229,'NOUVEAUX PRIX'!A:C,3,FALSE)),VLOOKUP(F229,'NOUVEAUX PRIX'!A:C,3,FALSE),"pas de correspondance") -> 5.8675938
A230: TRANSPT | B230: CAISSES | C230: PETMATE | D230: BOLSTERMAT | E230: TAPISCAISSE | F230: 26604 | G230: 7.30 | H230: =IF(ISNUMBER(VLOOKUP(F230,'NOUVEAUX PRIX'!A:C,3,FALSE)),VLOOKUP(F230,'NOUVEAUX PRIX'!A:C,3,FALSE),"pas de correspondance") -> 8.1177477
A231: TRANSPT | B231: CAISSES | C231: PETMATE | D231: BOLSTERMAT | E231: TAPISCAISSE | F231: 26605 | G231: 9.28 | H231: =IF(ISNUMBER(VLOOKUP(F231,'NOUVEAUX PRIX'!A:C,3,FALSE)),VLOOKUP(F231,'NOUVEAUX PRIX'!A:C,3,FALSE),"pas de correspondance") -> 9.9354462
A232: TRANSPT | B232: CAISSES | C232: PETMATE | D232: BOLSTERMAT | E232: TAPISCAISSE | F232: 26606 | G232: 11.07 | H232: =IF(ISNUMBER(VLOOKUP(F232,'NOUVEAUX PRIX'!A:C,3,FALSE)),VLOOKUP(F232,'NOUVEAUX PRIX'!A:C,3,FALSE),"pas de correspondance") -> 11.047557
A233: ALIMENTA | B233: GAMELLES | C233: WETNOZ | D233: STUDIOSCOOP | E233: GAMELLEACIER | F233: 23558 | G233: 1.27 | H233: =IF(ISNUMBER(VLOOKUP(F233,'NOUVEAUX PRIX'!A:C,3,FALSE)),VLOOKUP(F233,'NOUVEAUX PRIX'!A:C,3,FALSE),"pas de correspondance") -> 1.006816
A234: ALIMENTA | B234: GAMELLES | C234: PETMATE | D234: ULTRALIGHTWEIGHT | E234: GAMELLEPLASTIQU | F234: 23174 | G234: 0.46 | H234: =IF(ISNUMBER(VLOOKUP(F234,'NOUVEAUX PRIX'!A:C,3,FALSE)),VLOOKUP(F234,'NOUVEAUX PRIX'!A:C,3,FALSE),"pas de correspondance") -> 0.54672
A235: ALIMENTA | B235: GAMELLES | C235: WETNOZ | D235: STUDIOSCOOP | E235: GAMELLEACIER | F235: 23555 | G235: 1.27 | H235: =IF(ISNUMBER(VLOOKUP(F235,'NOUVEAUX PRIX'!A:C,3,FALSE)),VLOOKUP(F235,'NOUVEAUX PRIX'!A:C,3,FALSE),"pas de correspondance") -> 1.006816
... A325: JEUX | B325: JOUETDOG | C325: CHUCKIT | D325: LAUNCHCOMPATIBLE | E325: GAMMECHUCKIT | F325: 84401 | G325: 2.15 | H325: =IF(ISNUMBER(VLOOKUP(F325,'NOUVEAUX PRIX'!A:C,3,FALSE)),VLOOKUP(F325,'NOUVEAUX PRIX'!A:C,3,FALSE),"pas de correspondance") -> 2.14776
A326: TRANSPT | B326: CAISSES | C326: PETMATE | D326: TRAININGRETREAT | F326: 21936 | G326: 48.36 | H326: =IF(ISNUMBER(VLOOKUP(F326,'NOUVEAUX PRIX'!A:C,3,FALSE)),VLOOKUP(F326,'NOUVEAUX PRIX'!A:C,3,FALSE),"pas de correspondance") -> 43.999894
A327: TRANSPT | B327: CAISSES | C327: PETMATE | D327: TRAININGRETREAT | F327: 21934 | G327: 28.66 | H327: =IF(ISNUMBER(VLOOKUP(F327,'NOUVEAUX PRIX'!A:C,3,FALSE)),VLOOKUP(F327,'NOUVEAUX PRIX'!A:C,3,FALSE),"pas de correspondance") -> 24.791435
A328: TRANSPT | B328: CAISSES | C328: PETMATE | D328: TRAININGRETREAT | F328: 21932 | G328: 16.47 | H328: =IF(ISNUMBER(VLOOKUP(F328,'NOUVEAUX PRIX'!A:C,3,FALSE)),VLOOKUP(F328,'NOUVEAUX PRIX'!A:C,3,FALSE),"pas de correspondance") -> 15.03553
A329: TRANSPT | B329: CAISSES | C329: PETMATE | D329: TRAININGRETREAT | F329: 21931 | G329: 10.02 | H329: =IF(ISNUMBER(VLOOKUP(F329,'NOUVEAUX PRIX'!A:C,3,FALSE)),VLOOKUP(F329,'NOUVEAUX PRIX'!A:C,3,FALSE),"pas de correspondance") -> 9.200128
A330: JEUX | B330: JOUETDOG | C330: CHUCKIT | D330: FLYERS | E330: GAMMECHUCKIT | F330: 30864 | G330: 3.07 | H330: =IF(ISNUMBER(VLOOKUP(F330,'NOUVEAUX PRIX'!A:C,3,FALSE)),VLOOKUP(F330,'NOUVEAUX PRIX'!A:C,3,FALSE),"pas de correspondance") -> 3.07
A331: JEUX | B331: JOUETDOG | C331: CHUCKIT | D331: LAUNCHCOMPATIBLE | E331: GAMMECHUCKIT | F331: 202202 | G331: 2.22 | H331: =IF(ISNUMBER(VLOOKUP(F331,'NOUVEAUX PRIX'!A:C,3,FALSE)),VLOOKUP(F331,'NOUVEAUX PRIX'!A:C,3,FALSE),"pas de correspondance") -> 2.22
A332: JEUX | B332: JOUETDOG | C332: CHUCKIT | D332: GROUNDPURSUIT | E332: GAMMECHUCKIT | F332: 84003 | G332: 1.00 | H332: =IF(ISNUMBER(VLOOKUP(F332,'NOUVEAUX PRIX'!A:C,3,FALSE)),VLOOKUP(F332,'NOUVEAUX PRIX'!A:C,3,FALSE),"pas de correspondance") -> 1
A333: JEUX | B333: JOUETDOG | C333: CHUCKIT | D333: GROUNDPURSUIT | E333: GAMMECHUCKIT | F333: 71015 | G333: 0.79 | H333: =IF(ISNUMBER(VLOOKUP(F333,'NOUVEAUX PRIX'!A:C,3,FALSE)),VLOOKUP(F333,'NOUVEAUX PRIX'!A:C,3,FALSE),"pas de correspondance") -> 0.79344
...

Sheet NOUVEAUX PRIX
A1: Clé | B1: Code | C1: Prix achat principal en devise
A2: =IF(ISNUMBER(B2*1),TEXT(B2*100/100,"#")*1,B2) -> 700 | B2: 00700 | C2: 83.836929
A3: =IF(ISNUMBER(B3*1),TEXT(B3*100/100,"#")*1,B3) -> 500 | B3: 00500 | C3: 49.46289
A4: =IF(ISNUMBER(B4*1),TEXT(B4*100/100,"#")*1,B4) -> 400 | B4: 00400 | C4: 37.9656
A5: =IF(ISNUMBER(B5*1),TEXT(B5*100/100,"#")*1,B5) -> 300 | B5: 00300 | C5: 26.159445
A6: =IF(ISNUMBER(B6*1),TEXT(B6*100/100,"#")*1,B6) -> 200 | B6: 00200 | C6: 20.823161
A7: =IF(ISNUMBER(B7*1),TEXT(B7*100/100,"#")*1,B7) -> 100 | B7: 00100 | C7: 15.1676
A8: =IF(ISNUMBER(B8*1),TEXT(B8*100/100,"#")*1,B8) -> 80262 | B8: 80262 | C8: 2.9269517
A9: =IF(ISNUMBER(B9*1),TEXT(B9*100/100,"#")*1,B9) -> 80263 | B9: 80263 | C9: 4.3973476
A10: =IF(ISNUMBER(B10*1),TEXT(B10*100/100,"#")*1,B10) -> 80264 | B10: 80264 | C10: 5.9717111
A11: =IF(ISNUMBER(B11*1),TEXT(B11*100/100,"#")*1,B11) -> 80265 | B11: 80265 | C11: 7.6912267
A12: =IF(ISNUMBER(B12*1),TEXT(B12*100/100,"#")*1,B12) -> 80266 | B12: 80266 | C12: 9.8651067
A13: =IF(ISNUMBER(B13*1),TEXT(B13*100/100,"#")*1,B13) -> 80267 | B13: 80267 | C13: 11.8662
... A2510: =IF(ISNUMBER(B2510*1),TEXT(B2510*100/100,"#")*1,B2510) -> 82151 | B2510: 82151 | C2510: 1.0250954
