Workbook

Sheet base tarif fournisseur pour imp
A1: Famille / Gamme * | B1: Categorie / Modele * | C1: Marque * | D1: Type | E1: Segment | F1: Code * | G1: Prix Achat principal en Devise | H1: Nouveau prix
A2: JEUX | B2: JOUETDOG | C2: PETMATE | F2: 700 | G2: 1.16 | H2: =IF(ISNUMBER(VLOOKUP(F2,'NOUVEAUX PRIX'!A:C,3,FALSE)),VLOOKUP(F2,'NOUVEAUX PRIX'!A:C,3,FALSE),"pas de correspondance") -> 83.836929
A3: JEUX | B3: JOUETDOG | C3: PETMATE | F3: 353694 | G3: 1.16 | H3: =IF(ISNUMBER(VLOOKUP(F3,'NOUVEAUX PRIX'!A:C,3,FALSE)),VLOOKUP(F3,'NOUVEAUX PRIX'!A:C,3,FALSE),"pas de correspondance") -> pas de correspondance
A4: ALIMENTA | B4: GAMELLES | C4: PETMATE | D4: ULTRAHEAVYWEIGHT | E4: GAMELLEPLASTIQU | F4: 23050 | G4: 1.06 | H4: =IF(ISNUMBER(VLOOKUP(F4,'NOUVEAUX PRIX'!A:C,3,FALSE)),VLOOKUP(F4,'NOUVEAUX PRIX'!A:C,3,FALSE),"pas de correspondance") -> 1.1065354
A5: TRANSPT | B5: CAISSES | C5: PETMATE | D5: VARIKENNEL | E5: CAISSEPLASTIQUE | F5: 21949 | G5: 32.89 | H5: =IF(ISNUMBER(VLOOKUP(F5,'NOUVEAUX PRIX'!A:C,3,FALSE)),VLOOKUP(F5,'NOUVEAUX PRIX'!A:C,3,FALSE),"pas de correspondance") -> 25.905347
A6: TRANSPT | B6: CAISSES | C6: PETMATE | D6: SKYKENNEL | E6: CAISSEPLASTIQUE | F6: 400 | G6: 41.79 | H6: =IF(ISNUMBER(VLOOKUP(F6,'NOUVEAUX PRIX'!A:C,3,FALSE)),VLOOKUP(F6,'NOUVEAUX PRIX'!A:C,3,FALSE),"pas de correspondance") -> 37.9656
A7: TRANSPT | B7: CAISSES | C7: PETMATE | D7: SKYKENNEL | E7: CAISSEPLASTIQUE | F7: 200 | G7: 24.66 | H7: =IF(ISNUMBER(VLOOKUP(F7,'NOUVEAUX PRIX'!A:C,3,FALSE)),VLOOKUP(F7,'NOUVEAUX PRIX'!A:C,3,FALSE),"pas de correspondance") -> 20.823161
A8: TRANSPT | B8: CAISSES | C8: PETMATE | D8: LOOKNSEE | E8: CAISSEPLASTIQUE | F8: 21162 | G8: 13.37 | H8: =IF(ISNUMBER(VLOOKUP(F8,'NOUVEAUX PRIX'!A:C,3,FALSE)),VLOOKUP(F8,'NOUVEAUX PRIX'!A:C,3,FALSE),"pas de correspondance") -> pas de correspondance
A9: ALIMENTA | B9: GAMELLES | C9: PETMATE | D9: ULTRAHEAVYWEIGHT | E9: GAMELLEPLASTIQU | F9: 23177 | G9: 1.45 | H9: =IF(ISNUMBER(VLOOKUP(F9,'NOUVEAUX PRIX'!A:C,3,FALSE)),VLOOKUP(F9,'NOUVEAUX PRIX'!A:C,3,FALSE),"pas de correspondance") -> 1.5795446
A10: TRANSPT | B10: CAISSES | C10: PETMATE | D10: VARIKENNEL | E10: CAISSEPLASTIQUE | F10: 21950 | G10: 41.15 | H10: =IF(ISNUMBER(VLOOKUP(F10,'NOUVEAUX PRIX'!A:C,3,FALSE)),VLOOKUP(F10,'NOUVEAUX PRIX'!A:C,3,FALSE),"pas de correspondance") -> 35.67704
A11: ALIMENTA | B11: GAMELLES | C11: PETMATE | D11: ULTRALIGHTWEIGHT | E11: GAMELLEPLASTIQU | F11: 23175 | G11: 0.97 | H11: =IF(ISNUMBER(VLOOKUP(F11,'NOUVEAUX PRIX'!A:C,3,FALSE)),VLOOKUP(F11,'NOUVEAUX PRIX'!A:C,3,FALSE),"pas de correspondance") -> 1.1038523
A12: ALIMENTA | B12: GAMELLES | C12: PETMATE | D12: ULTRALIGHTWEIGHT | E12: GAMELLEPLASTIQU | F12: 23080 | G12: 0.95 | H12: =IF(ISNUMBER(VLOOKUP(F12,'NOUVEAUX PRIX'!A:C,3,FALSE)),VLOOKUP(F12,'NOUVEAUX PRIX'!A:C,3,FALSE),"pas de correspondance") -> 1.0200492
A13: ALIMENTA | B13: GAMELLES | C13: PETMATE | D13: ULTRALIGHTWEIGHT | E13: GAMELLEPLASTIQU | F13: 23079 | G13: 0.74 | H13: =IF(ISNUMBER(VLOOKUP(F13,'NOUVEAUX PRIX'!A:C,3,FALSE)),VLOOKUP(F13,'NOUVEAUX PRIX'!A:C,3,FALSE),"pas de correspondance") -> 0.71595077
A14: ALIMENTA | B14: GAMELLES | C14: PETMATE | D14: ULTRALIGHTWEIGHT | E14: GAMELLEPLASTIQU | F14: 23078 | G14: 0.55 | H14: =IF(ISNUMBER(VLOOKUP(F14,'NOUVEAUX PRIX'!A:C,3,FALSE)),VLOOKUP(F14,'NOUVEAUX PRIX'!A:C,3,FALSE),"pas de correspondance") -> 0.51847385
A15: ALIMENTA | B15: GAMELLES | C15: PETMATE | D15: ULTRALIGHTWEIGHT | E15: GAMELLEPLASTIQU | F15: 23077 | G15: 0.41 | H15: =IF(ISNUMBER(VLOOKUP(F15,'NOUVEAUX PRIX'!A:C,3,FALSE)),VLOOKUP(F15,'NOUVEAUX PRIX'!A:C,3,FALSE),"pas de correspondance") -> 0.44946462
... A146: TRANSPT | B146: CAISSES | C146: PETMATE | D146: KENNELMAT | E146: TAPISCAISSE | F146: 26598 | G146: 9.40 | H146: =IF(ISNUMBER(VLOOKUP(F146,'NOUVEAUX PRIX'!A:C,3,FALSE)),VLOOKUP(F146,'NOUVEAUX PRIX'!A:C,3,FALSE),"pas de correspondance") -> 7.8472246
A147: JEUX | B147: JOUETDOG | C147: JW | F147: 47313 | G147: 2.41 | H147: =IF(ISNUMBER(VLOOKUP(F147,'NOUVEAUX PRIX'!A:C,3,FALSE)),VLOOKUP(F147,'NOUVEAUX PRIX'!A:C,3,FALSE),"pas de correspondance") -> pas de correspondance
A148: JEUX | B148: JOUETDOG | C148: CHUCKIT | D148: LIGHTPLAY | E148: GAMMECHUCKIT | F148: 32312 | G148: 1.30 | H148: =IF(ISNUMBER(VLOOKUP(F148,'NOUVEAUX PRIX'!A:C,3,FALSE)),VLOOKUP(F148,'NOUVEAUX PRIX'!A:C,3,FALSE),"pas de correspondance") -> 1.16
A149: HYGIENE | B149: HYGICHAT | C149: PETMATE | D149: STAYFRESH | E149: GAMMEFATCAT | F149: 22205 | G149: 1.44 | H149: =IF(ISNUMBER(VLOOKUP(F149,'NOUVEAUX PRIX'!A:C,3,FALSE)),VLOOKUP(F149,'NOUVEAUX PRIX'!A:C,3,FALSE),"pas de correspondance") -> 1.4600667
A150: HYGIENE | B150: HYGICHAT | C150: PETMATE | D150: STAYFRESH | E150: GAMELLEACIER | F150: 22206 | G150: 3.91 | H150: =IF(ISNUMBER(VLOOKUP(F150,'NOUVEAUX PRIX'!A:C,3,FALSE)),VLOOKUP(F150,'NOUVEAUX PRIX'!A:C,3,FALSE),"pas de correspondance") -> 3.6394889
A151: JEUX | B151: JOUETDOG | C151: DOGZILLA | D151: DOGZILLACHEWY | E151: GAMMEDOGZILLA | F151: 353986 | G151: 2.91 | H151: =IF(ISNUMBER(VLOOKUP(F151,'NOUVEAUX PRIX'!A:C,3,FALSE)),VLOOKUP(F151,'NOUVEAUX PRIX'!A:C,3,FALSE),"pas de correspondance") -> 2.9118
A152: JEUX | B152: JOUETDOG | C152: DOGZILLA | D152: DOGZILLACHEWY | E152: GAMMEDOGZILLA | F152: 353332 | G152: 1.76 | H152: =IF(ISNUMBER(VLOOKUP(F152,'NOUVEAUX PRIX'!A:C,3,FALSE)),VLOOKUP(F152,'NOUVEAUX PRIX'!A:C,3,FALSE),"pas de correspondance") -> 1.7595
A153: TRANSPT | B153: TRAVLBED | C153: CHUCKIT | D153: CANINEHARDWARE | F153: 10400 | G153: 12.24 | H153: =IF(ISNUMBER(VLOOKUP(F153,'NOUVEAUX PRIX'!A:C,3,FALSE)),VLOOKUP(F153,'NOUVEAUX PRIX'!A:C,3,FALSE),"pas de correspondance") -> 10.70968
A154: ALIMENTA | B154: GAMELLES | C154: PETMATE | D154: WEIGHTDESIGNER | E154: GAMELLEPLASTIQU | F154: 23230 | G154: 0.87 | H154: =IF(ISNUMBER(VLOOKUP(F154,'NOUVEAUX PRIX'!A:C,3,FALSE)),VLOOKUP(F154,'NOUVEAUX PRIX'!A:C,3,FALSE),"pas de correspondance") -> pas de correspondance
A155: ALIMENTA | B155: DISTREAU | C155: PETMATE | D155: BISTRO | E155: DISTRIBSIMPLE | F155: 24496 | G155: 5.73 | H155: =IF(ISNUMBER(VLOOKUP(F155,'NOUVEAUX PRIX'!A:C,3,FALSE)),VLOOKUP(F155,'NOUVEAUX PRIX'!A:C,3,FALSE),"pas de correspondance") -> 4.7
A156: TRANSPT | B156: CAISSES | C156: PETMATE | D156: TRAININGRETREAT | E156: GAMMEPETMATE | F156: 21974 | G156: 33.72 | H156: =IF(ISNUMBER(VLOOKUP(F156,'NOUVEAUX PRIX'!A:C,3,FALSE)),VLOOKUP(F156,'NOUVEAUX PRIX'!A:C,3,FALSE),"pas de correspondance") -> 32.800183
A157: TRANSPT | B157: CAISSES | C157: PETMATE | D157: TRAININGRETREAT | E157: GAMMEPETMATE | F157: 21975 | G157: 47.13 | H157: =IF(ISNUMBER(VLOOKUP(F157,'NOUVEAUX PRIX'!A:C,3,FALSE)),VLOOKUP(F157,'NOUVEAUX PRIX'!A:C,3,FALSE),"pas de correspondance") -> 43.703771
A158: ALIMENTA | B158: DISTREAU | C158: PETMATE | D158: PETMCAFE | E158: DISTRIBSIMPLE | F158: 24405 | G158: 5.53 | H158: =IF(ISNUMBER(VLOOKUP(F158,'NOUVEAUX PRIX'!A:C,3,FALSE)),VLOOKUP(F158,'NOUVEAUX PRIX'!A:C,3,FALSE),"pas de correspondance") -> 5.8
A159: SOINS | B159: TOILCHIE | C159: PETMATE | E159: FURBUSTER | F159: 89812 | G159: 2.51 | H159: =IF(ISNUMBER(VLOOKUP(F159,'NOUVEAUX PRIX'!A:C,3,FALSE)),VLOOKUP(F159,'NOUVEAUX PRIX'!A:C,3,FALSE),"pas de correspondance") -> 2.25564
A160: SOINS | B160: TOILCHIE | C160: PETMATE | E160: FURBUSTER | F160: 89826 | G160: 2.62 | H160: =IF(ISNUMBER(VLOOKUP(F160,'NOUVEAUX PRIX'!A:C,3,FALSE)),VLOOKUP(F160,'NOUVEAUX PRIX'!A:C,3,FALSE),"pas de correspondance") -> 2.426228
A161: SOINS | B161: TOILCHIE | C161: PETMATE | E161: FURBUSTER | F161: 89818 | G161: 5.67 | H161: =IF(ISNUMBER(VLOOKUP(F161,'NOUVEAUX PRIX'!A:C,3,FALSE)),VLOOKUP(F161,'NOUVEAUX PRIX'!A:C,3,FALSE),"pas de correspondance") -> 5.3144
A162: SOINS | B162: TOILCHIE | C162: PETMATE | E162: FURBUSTER | F162: 89810 | G162: 3.05 | H162: =IF(ISNUMBER(VLOOKUP(F162,'NOUVEAUX PRIX'!A:C,3,FALSE)),VLOOKUP(F162,'NOUVEAUX PRIX'!A:C,3,FALSE),"pas de correspondance") -> 2.6876667
A163: JEUX | B163: JOUETDOG | C163: PETMATE | D163: FATCATDOGTOYS | E163: GAMMEFATCAT | F163: 640039 | G163: 4.94 | H163: =IF(ISNUMBER(VLOOKUP(F163,'NOUVEAUX PRIX'!A:C,3,FALSE)),VLOOKUP(F163,'NOUVEAUX PRIX'!A:C,3,FALSE),"pas de correspondance") -> 4.9361464
A164: JEUX | B164: JOUETDOG | C164: PETMATE | D164: FATCATDOGTOYS | E164: GAMMEFATCAT | F164: 630026 | G164: 1.97 | H164: =IF(ISNUMBER(VLOOKUP(F164,'NOUVEAUX PRIX'!A:C,3,FALSE)),VLOOKUP(F164,'NOUVEAUX PRIX'!A:C,3,FALSE),"pas de correspondance") -> 1.9722
A165: SOINS | B165: TOILCHIE | C165: JW | F165: 65006 | G165: 2.91 | H165: =IF(ISNUMBER(VLOOKUP(F165,'NOUVEAUX PRIX'!A:C,3,FALSE)),VLOOKUP(F165,'NOUVEAUX PRIX'!A:C,3,FALSE),"pas de correspondance") -> 2.1110133
A166: SOINS | B166: TOILCHAT | C166: JW | F166: 65025 | G166: 2.35 | H166: =IF(ISNUMBER(VLOOKUP(F166,'NOUVEAUX PRIX'!A:C,3,FALSE)),VLOOKUP(F166,'NOUVEAUX PRIX'!A:C,3,FALSE),"pas de correspondance") -> 2.2363733
A167: JEUX | B167: JOUETCAT | C167: PETMATE | D167: FATCATDOGTOYS | E167: GAMMEFATCAT | F167: 630027 | G167: 1.67 | H167: =IF(ISNUMBER(VLOOKUP(F167,'NOUVEAUX PRIX'!A:C,3,FALSE)),VLOOKUP(F167,'NOUVEAUX PRIX'!A:C,3,FALSE),"pas de correspondance") -> 1.6682
A168: ALIMENTA | B168: GAMELLES | C168: PETMATE | D168: BAMBOO | E168: GAMELLEPLASTIQU | F168: 23356 | G168: 3.80 | H168: =IF(ISNUMBER(VLOOKUP(F168,'NOUVEAUX PRIX'!A:C,3,FALSE)),VLOOKUP(F168,'NOUVEAUX PRIX'!A:C,3,FALSE),"pas de correspondance") -> 3.2809477
A169: ALIMENTA | B169: DISTRNOU | C169: PETMATE | E169: DISTRIBSIMPLE | F169: 24499 | G169: 11.07 | H169: =IF(ISNUMBER(VLOOKUP(F169,'NOUVEAUX PRIX'!A:C,3,FALSE)),VLOOKUP(F169,'NOUVEAUX PRIX'!A:C,3,FALSE),"pas de correspondance") -> 10.55
A170: ALIMENTA | B170: GAMELLES | C170: PETMATE | F170: 23368 | G170: 2.18 | H170: =IF(ISNUMBER(VLOOKUP(F170,'NOUVEAUX PRIX'!A:C,3,FALSE)),VLOOKUP(F170,'NOUVEAUX PRIX'!A:C,3,FALSE),"pas de correspondance") -> 2.0146473
...

Sheet NOUVEAUX PRIX
A1: Clé | B1: Code | C1: Prix achat principal en devise
A2: =IF(ISNUMBER(B2*1),TEXT(B2*100/100,"#")*1,B2) -> 700 | B2: 00700 | C2: 83.836929
A3: =IF(ISNUMBER(B3*1),TEXT(B3*100/100,"#")*1,B3) -> 500 | B3: 00500 | C3: 49.46289
A4: =IF(ISNUMBER(B4*1),TEXT(B4*100/100,"#")*1,B4) -> 400 | B4: 00400 | C4: 37.9656
A5: =IF(ISNUMBER(B5*1),TEXT(B5*100/100,"#")*1,B5) -> 300 | B5: 00300 | C5: 26.159445
A6: =IF(ISNUMBER(B6*1),TEXT(B6*100/100,"#")*1,B6) -> 200 | B6: 00200 | C6: 20.823161
A7: =IF(ISNUMBER(B7*1),TEXT(B7*100/100,"#")*1,B7) -> 100 | B7: 00100 | C7: 15.1676
A8: =IF(ISNUMBER(B8*1),TEXT(B8*100/100,"#")*1,B8) -> 80262 | B8: 80262 | C8: 2.9269517
A9: =IF(ISNUMBER(B9*1),TEXT(B9*100/100,"#")*1,B9) -> 80263 | B9: 80263 | C9: 4.3973476
A10: =IF(ISNUMBER(B10*1),TEXT(B10*100/100,"#")*1,B10) -> 80264 | B10: 80264 | C10: 5.9717111
A11: =IF(ISNUMBER(B11*1),TEXT(B11*100/100,"#")*1,B11) -> 80265 | B11: 80265 | C11: 7.6912267
A12: =IF(ISNUMBER(B12*1),TEXT(B12*100/100,"#")*1,B12) -> 80266 | B12: 80266 | C12: 9.8651067
A13: =IF(ISNUMBER(B13*1),TEXT(B13*100/100,"#")*1,B13) -> 80267 | B13: 80267 | C13: 11.8662
... A2510: =IF(ISNUMBER(B2510*1),TEXT(B2510*100/100,"#")*1,B2510) -> 82151 | B2510: 82151 | C2510: 1.0250954
