Workbook
Name Engagements: 'Engagements (new)'!$A$3:$H$10

Sheet ENGAGEMENTS
A1: Frais engagés à payer depuis 12/N
A3: fournisseur | B3: rubrique | C3: compte | D3: montant | E3: réglé! | F3: mode pymt | G3: edité le | H3: Paiement
A4: A | B4: X | E4: 400 | F4: chq | G4: 42005 | H4: OK
A5: B | B5: Y | E5: 500 | G5: 42005 | H5: OK
A6: C | B6: Z | E6: 1000 | G6: 42005 | H6: OK
A7: D | B7: U | D7: 100
A8: E | B8: O | D8: 200

Sheet PAIEMENTS
A1: PAIEMENTS depuis 12/N
A3: fournisseur | B3: rubrique | C3: compte | D3: montant | E3: réglé! | F3: mode pymt | G3: edité le | H3: Paiement
A4: A | B4: X | E4: 400 | F4: chq | G4: 42005
A5: B | B5: Y | E5: 500 | G5: 42005
A6: C | B6: Z | E6: 1000 | G6: 42005
A7: D | B7: U | D7: 100
A8: E | B8: O | D8: 200

Sheet Engagements (new)
A1: Fichier des engagements | E1: =SUBTOTAL(9,E3:E10000) -> 2750 | F1: =SUBTOTAL(9,F3:F10000) -> 1550 | G1: =SUBTOTAL(9,G3:G10000) -> 1200
A3: Numéro | B3: Edité le | C3: Fournisseur | D3: Rubrique | E3: Montant | F3: Réglé | G3: Solde | H3: Observations
A4: 20150001 | B4: 42005 | C4: AAAA | D4: XXXX | E4: 500 | F4: =SUMIF('Paiements (new)'!A:I,'Engagements (new)'!A:A,'Engagements (new)'!E:E) -> 0 | G4: =E4-F4 -> 500
A5: 20150002 | B5: 42006 | C5: BBBB | D5: YYYY | E5: 450 | F5: =SUMIF('Paiements (new)'!A:I,'Engagements (new)'!A:A,'Engagements (new)'!E:E) -> 500 | G5: =E5-F5 -> -50
A6: 20150003 | B6: 42007 | C6: CCCC | D6: ZZZZ | E6: 600 | F6: =SUMIF('Paiements (new)'!A:I,'Engagements (new)'!A:A,'Engagements (new)'!E:E) -> 450 | G6: =E6-F6 -> 150
A7: 20150004 | B7: 42008 | C7: AAAA | D7: XXXX | E7: 550 | F7: =SUMIF('Paiements (new)'!A:I,'Engagements (new)'!A:A,'Engagements (new)'!E:E) -> 600 | G7: =E7-F7 -> -50
A8: 20150005 | B8: 42009 | C8: CCCC | D8: YYYY | E8: 200 | F8: =SUMIF('Paiements (new)'!A:I,'Engagements (new)'!A:A,'Engagements (new)'!E:E) -> 0 | G8: =E8-F8 -> 200
A9: 20150006 | B9: 42010 | C9: BBBB | D9: ZZZZ | E9: 450 | F9: =SUMIF('Paiements (new)'!A:I,'Engagements (new)'!A:A,'Engagements (new)'!E:E) -> 0 | G9: =E9-F9 -> 450

Sheet Paiements (new)
A1: Fichier des paiements | D1: =SUBTOTAL(9,D3:D10000) -> 1600
A3: Engagement | B3: Fournisseur | C3: Rubrique | D3: Montant | E3: Date paiement | F3: Mode paiement | G3: Observations
A4: 20150002 | B4: =VLOOKUP(A4,Engagements,3,FALSE) -> BBBB | C4: =VLOOKUP(A4,Engagements,4,FALSE) -> YYYY | D4: =VLOOKUP(A4,Engagements,5,FALSE) -> 450 | E4: 42036 | F4: Chèque
A5: 20150003 | B5: =VLOOKUP(A5,Engagements,3,FALSE) -> CCCC | C5: =VLOOKUP(A5,Engagements,4,FALSE) -> ZZZZ | D5: =VLOOKUP(A5,Engagements,5,FALSE) -> 600 | E5: 42037 | F5: Chèque
A6: 20150004 | B6: =VLOOKUP(A6,Engagements,3,FALSE) -> AAAA | C6: =VLOOKUP(A6,Engagements,4,FALSE) -> XXXX | D6: =VLOOKUP(A6,Engagements,5,FALSE) -> 550 | E6: 42038 | F6: Chèque
