Workbook
Name codepara: #REF!
Name geo: DEVIS!$H$34:$H$39
Name Montage: #REF!
Name PARA: #REF!
Name typemo: DEVIS!$C$34:$C$38

Sheet DEVIS
A4: DEVIS PNEUMATIQUES
A8: CODE | B8: Marque | C8: Taille | D8: Indice de charge | E8: Indice de vitesse | F8: PRIX UNITAIRE PNEU | G8: Type de Montage | H8: Prix du Montage Unitaire | I8: Tarif 2 Pneus | J8: Tarif 4 pneus | L8: Tarif 2 Pneus avec option géométrie | M8: Tarif 4 Pneus avec option géométrie
A9: 150000 | B9: =IF(ISTEXT(VLOOKUP(A9,DONNEES!A:F,5,FALSE)),VLOOKUP(A9,DONNEES!A:F,5,FALSE),"") -> MICHELIN | C9: =IF(ISTEXT(VLOOKUP(A9,DONNEES!A:F,2,FALSE)),VLOOKUP(A9,DONNEES!A:F,2,FALSE),"") -> 205/55R16 | D9: =IF(ISNUMBER(VLOOKUP(A9,DONNEES!A:F,3,FALSE)),VLOOKUP(A9,DONNEES!A:F,3,FALSE),"") -> 91 | E9: =IF(ISTEXT(VLOOKUP(A9,DONNEES!A:F,4,FALSE)),VLOOKUP(A9,DONNEES!A:F,4,FALSE),"") -> V | F9: =IF(ISNUMBER(VLOOKUP(A9,DONNEES!A:F,6,FALSE)),VLOOKUP(A9,DONNEES!A:F,6,FALSE),"") -> 75.95 | G9: Montage 4X4 et Util | H9: =IF(A9="","",VLOOKUP($G$9,C34:F38,4,0)) -> 23.5 | I9: =IF(A9="","",(F9+H9)*2) -> 198.9 | J9: =IF(A9="","",(F9+H9)*4) -> 397.8 | L9: =IF($B$17="Pas de réglage de para","",I9+$D$17) -> 285.8 | M9: =IF($B$17="Pas de réglage de para","",J9+$D$17) -> 484.7
A10: 150001 | B10: =IF(ISTEXT(VLOOKUP(A10,DONNEES!A:F,5,FALSE)),VLOOKUP(A10,DONNEES!A:F,5,FALSE),"") -> FALKEN | C10: =IF(ISTEXT(VLOOKUP(A10,DONNEES!A:F,2,FALSE)),VLOOKUP(A10,DONNEES!A:F,2,FALSE),"") -> 205/55R16 | D10: =IF(ISNUMBER(VLOOKUP(A10,DONNEES!A:F,3,FALSE)),VLOOKUP(A10,DONNEES!A:F,3,FALSE),"") -> 94 | E10: =IF(ISTEXT(VLOOKUP(A10,DONNEES!A:F,4,FALSE)),VLOOKUP(A10,DONNEES!A:F,4,FALSE),"") -> W | F10: =IF(ISNUMBER(VLOOKUP(A10,DONNEES!A:F,6,FALSE)),VLOOKUP(A10,DONNEES!A:F,6,FALSE),"") -> 76.95 | G10: =IF(A10="","",G9) -> Montage 4X4 et Util | H10: =IF(A10="","",VLOOKUP($G$9,C35:F39,4,0)) -> 23.5 | I10: =IF(A10="","",(F10+H10)*2) -> 200.9 | J10: =IF(A10="","",(F10+H10)*4) -> 401.8 | L10: =IF($B$17="Pas de réglage de para","",I10+$D$17) -> 287.8 | M10: =IF($B$17="Pas de réglage de para","",J10+$D$17) -> 488.7
A11: 150002 | B11: =IF(ISTEXT(VLOOKUP(A11,DONNEES!A:F,5,FALSE)),VLOOKUP(A11,DONNEES!A:F,5,FALSE),"") -> MICHELIN | C11: =IF(ISTEXT(VLOOKUP(A11,DONNEES!A:F,2,FALSE)),VLOOKUP(A11,DONNEES!A:F,2,FALSE),"") -> 175/65R14 | D11: =IF(ISNUMBER(VLOOKUP(A11,DONNEES!A:F,3,FALSE)),VLOOKUP(A11,DONNEES!A:F,3,FALSE),"") -> 82 | E11: =IF(ISTEXT(VLOOKUP(A11,DONNEES!A:F,4,FALSE)),VLOOKUP(A11,DONNEES!A:F,4,FALSE),"") -> T | F11: =IF(ISNUMBER(VLOOKUP(A11,DONNEES!A:F,6,FALSE)),VLOOKUP(A11,DONNEES!A:F,6,FALSE),"") -> 56.95 | G11: =IF(A11="","",G10) -> Montage 4X4 et Util | H11: =IF(A11="","",VLOOKUP($G$9,C36:F40,4,0)) -> 23.5 | I11: =IF(A11="","",(F11+H11)*2) -> 160.9 | J11: =IF(A11="","",(F11+H11)*4) -> 321.8 | L11: =IF($B$17="Pas de réglage de para","",I11+$D$17) -> 247.8 | M11: =IF($B$17="Pas de réglage de para","",J11+$D$17) -> 408.7
B12: =IF(ISTEXT(VLOOKUP(A12,DONNEES!A:F,5,FALSE)),VLOOKUP(A12,DONNEES!A:F,5,FALSE),"") | C12: =IF(ISTEXT(VLOOKUP(A12,DONNEES!A:F,2,FALSE)),VLOOKUP(A12,DONNEES!A:F,2,FALSE),"") | D12: =IF(ISNUMBER(VLOOKUP(A12,DONNEES!A:F,3,FALSE)),VLOOKUP(A12,DONNEES!A:F,3,FALSE),"") | E12: =IF(ISTEXT(VLOOKUP(A12,DONNEES!A:F,4,FALSE)),VLOOKUP(A12,DONNEES!A:F,4,FALSE),"") | F12: =IF(ISNUMBER(VLOOKUP(A12,DONNEES!A:F,6,FALSE)),VLOOKUP(A12,DONNEES!A:F,6,FALSE),"") | G12: =IF(A12="","",G11) | H12: =IF(A12="","",VLOOKUP($G$9,C37:F41,4,0)) | I12: =IF(A12="","",(F12+H12)*2) | J12: =IF(A12="","",(F12+H12)*4) | L12: =IF($B$17="Pas de réglage de para","",I12+$D$17) -> #VALUE! | M12: =IF($B$17="Pas de réglage de para","",J12+$D$17) -> #VALUE!
B13: =IF(ISTEXT(VLOOKUP(A13,DONNEES!A:F,5,FALSE)),VLOOKUP(A13,DONNEES!A:F,5,FALSE),"") | C13: =IF(ISTEXT(VLOOKUP(A13,DONNEES!A:F,2,FALSE)),VLOOKUP(A13,DONNEES!A:F,2,FALSE),"") | D13: =IF(ISNUMBER(VLOOKUP(A13,DONNEES!A:F,3,FALSE)),VLOOKUP(A13,DONNEES!A:F,3,FALSE),"") | E13: =IF(ISTEXT(VLOOKUP(A13,DONNEES!A:F,4,FALSE)),VLOOKUP(A13,DONNEES!A:F,4,FALSE),"") | F13: =IF(ISNUMBER(VLOOKUP(A13,DONNEES!A:F,6,FALSE)),VLOOKUP(A13,DONNEES!A:F,6,FALSE),"") | G13: =IF(A13="","",G12) | H13: =IF(A13="","",VLOOKUP($G$9,C38:F42,4,0)) | I13: =IF(A13="","",(F13+H13)*2) | J13: =IF(A13="","",(F13+H13)*4) | L13: =IF($B$17="Pas de réglage de para","",I13+$D$17) -> #VALUE! | M13: =IF($B$17="Pas de réglage de para","",J13+$D$17) -> #VALUE!
B14: =IF(ISTEXT(VLOOKUP(A14,DONNEES!A:F,5,FALSE)),VLOOKUP(A14,DONNEES!A:F,5,FALSE),"") | C14: =IF(ISTEXT(VLOOKUP(A14,DONNEES!A:F,2,FALSE)),VLOOKUP(A14,DONNEES!A:F,2,FALSE),"") | D14: =IF(ISNUMBER(VLOOKUP(A14,DONNEES!A:F,3,FALSE)),VLOOKUP(A14,DONNEES!A:F,3,FALSE),"") | E14: =IF(ISTEXT(VLOOKUP(A14,DONNEES!A:F,4,FALSE)),VLOOKUP(A14,DONNEES!A:F,4,FALSE),"") | F14: =IF(ISNUMBER(VLOOKUP(A14,DONNEES!A:F,6,FALSE)),VLOOKUP(A14,DONNEES!A:F,6,FALSE),"") | G14: =IF(A14="","",G13) | H14: =IF(A14="","",VLOOKUP($G$9,C39:F43,4,0)) | I14: =IF(A14="","",(F14+H14)*2) | J14: =IF(A14="","",(F14+H14)*4) | L14: =IF($B$17="Pas de réglage de para","",I14+$D$17) -> #VALUE! | M14: =IF($B$17="Pas de réglage de para","",J14+$D$17) -> #VALUE!
B15: =IF(ISTEXT(VLOOKUP(A15,DONNEES!A:F,5,FALSE)),VLOOKUP(A15,DONNEES!A:F,5,FALSE),"") | C15: =IF(ISTEXT(VLOOKUP(A15,DONNEES!A:F,2,FALSE)),VLOOKUP(A15,DONNEES!A:F,2,FALSE),"") | D15: =IF(ISNUMBER(VLOOKUP(A15,DONNEES!A:F,3,FALSE)),VLOOKUP(A15,DONNEES!A:F,3,FALSE),"") | E15: =IF(ISTEXT(VLOOKUP(A15,DONNEES!A:F,4,FALSE)),VLOOKUP(A15,DONNEES!A:F,4,FALSE),"") | F15: =IF(ISNUMBER(VLOOKUP(A15,DONNEES!A:F,6,FALSE)),VLOOKUP(A15,DONNEES!A:F,6,FALSE),"") | G15: =IF(A15="","",G14) | H15: =IF(A15="","",VLOOKUP($G$9,C40:F44,4,0)) | I15: =IF(A15="","",(F15+H15)*2) | J15: =IF(A15="","",(F15+H15)*4) | L15: =IF($B$17="Pas de réglage de para","",I15+$D$17) -> #VALUE! | M15: =IF($B$17="Pas de réglage de para","",J15+$D$17) -> #VALUE!
B16: =IF(ISTEXT(VLOOKUP(A16,DONNEES!A:F,5,FALSE)),VLOOKUP(A16,DONNEES!A:F,5,FALSE),"") | C16: =IF(ISTEXT(VLOOKUP(A16,DONNEES!A:F,2,FALSE)),VLOOKUP(A16,DONNEES!A:F,2,FALSE),"") | D16: =IF(ISNUMBER(VLOOKUP(A16,DONNEES!A:F,3,FALSE)),VLOOKUP(A16,DONNEES!A:F,3,FALSE),"") | E16: =IF(ISTEXT(VLOOKUP(A16,DONNEES!A:F,4,FALSE)),VLOOKUP(A16,DONNEES!A:F,4,FALSE),"") | F16: =IF(ISNUMBER(VLOOKUP(A16,DONNEES!A:F,6,FALSE)),VLOOKUP(A16,DONNEES!A:F,6,FALSE),"") | G16: =IF(A16="","",G15) | H16: =IF(A16="","",VLOOKUP($G$9,C41:F45,4,0)) | I16: =IF(A16="","",(F16+H16)*2) | J16: =IF(A16="","",(F16+H16)*4) | L16: =IF($B$17="Pas de réglage de para","",I16+$D$17) -> #VALUE! | M16: =IF($B$17="Pas de réglage de para","",J16+$D$17) -> #VALUE!
A17: =VLOOKUP(B17,H34:J39,3,0) -> 99125 | B17: Réglage géométrie 2 | D17: =VLOOKUP(B17,H34:I39,2,0) -> 86.9
C34: Montage 1 tole | F34: 12 | H34: Contrôle géométrie | I34: 35 | J34: 99133
C35: Montage 1 alu | F35: 14 | H35: Réglage géométrie 1 | I35: 66.9 | J35: 99123
C36: Montage 2 tole | F36: 17.5 | H36: Réglage géométrie 2 | I36: 86.9 | J36: 99125
C37: Montage 2 alu | F37: 18.5 | H37: Réglage gémoétrie 3 | I37: 95.9 | J37: 99124
C38: Montage 4X4 et Util | F38: 23.5 | H38: Réglage géométrie 4 | I38: 105.9 | J38: 99131
H39: Pas de réglage de para | I39: 0 | J39: =""

Sheet DONNEES
A1: Code article | B1: Taille | C1: Indic C. | D1: Indice V. | E1: Marque | F1: Prix
A2: 150000 | B2: 205/55R16 | C2: 91 | D2: V | E2: MICHELIN | F2: 75.95
A3: 150001 | B3: 205/55R16 | C3: 94 | D3: W | E3: FALKEN | F3: 76.95
A4: 150002 | B4: 175/65R14 | C4: 82 | D4: T | E4: MICHELIN | F4: 56.95
A5: 150124 | B5: 175/65R14 | C5: 82 | D5: H | E5: FALKEN | F5: 45.35
A6: 154214 | B6: 195/65R15 | C6: 91 | D6: H | E6: UNIROYAL | F6: 36.95
A7: 125477 | B7: 195/65R15 | C7: 91 | D7: V | E7: MICHELIN | F7: 29.95
A8: 124577 | B8: 195/65R15 | C8: 91 | D8: H | E8: MICHELIN | F8: 38.95
A9: 142547 | B9: 195/65R15 | C9: 91 | D9: V | E9: UNIROYAL | F9: 98.95
A10: 124777 | B10: 195/65R16 | C10: 92 | D10: V | E10: BRIDGESTONE | F10: 36.95

Sheet Feuil3
