Workbook
Name CHANTIER: #REF!
Name CHANTIERS: #REF!
Name ETAT: #REF!
Name FOURNISSEURS: #REF!
Name Liste_Chantiers: Chantiers!$A$3:$A$8
Name Liste_Fournisseurs: Fournisseurs!$A$3:$A$15
Name TYPE_ACHAT: #REF!

Sheet DA
A1: Fichier des DA | F1: =SUBTOTAL(3,A4:A10000) -> 23 | G1: =SUBTOTAL(9,G4:G10000) -> 276476705
A3: Chantier | B3: Date | C3: DA | D3: N° BC | E3: Fournisseur | F3: Nature | G3: Montant | H3: Type achat | I3: Suivi | J3: Observations | K3: Période
A4: DTN_11LBVDT_0 | B4: 42229 | C4: 32029 | D4: D11011508BCF-000425 | E4: ECIG | F4: PNEU 265/65R17 | G4: 615488 | H4: GROS ACHAT | I4: SOLDE | J4: SOLDE | K4: =YEAR(B4)&"-"&TEXT(MONTH(B4),"00") -> 2015-08
A5: DTN_11LBVDT_0 | B5: 42248 | C5: 13259 | D5: D11011509BCF-000452 | E5: MATFORCE | F5: PNEU 285/75 R | G5: 842768 | H5: GROS ACHAT | I5: SOLDE | J5: EN ATTENTE AU SCE ACHAT | K5: =YEAR(B5)&"-"&TEXT(MONTH(B5),"00") -> 2015-09
A6: BASE_ARMEE_FR_103_102_06 | B6: 42236 | C6: 9836 | E6: LSA | F6: BATTERIES 120 AH | G6: 180455 | H6: PETIT ACHAT | I6: EN SIGNATURE | J6: SOLDE | K6: =YEAR(B6)&"-"&TEXT(MONTH(B6),"00") -> 2015-08
A7: ECOLE_MINES_102_101_84 | B7: 42230 | C7: 32033 | D7: D11011508BCF-000427 | E7: COLAS | F7: SBLE CONCASSE 0/6 | G7: 251302240 | H7: GROS ACHAT | I7: EN SIGNATURE | J7: SOLDE | K7: =YEAR(B7)&"-"&TEXT(MONTH(B7),"00") -> 2015-08
A8: VOIRIE LBN_102_101_53 | B8: 41977 | C8: 12865 | D8: D11011412BCF-001401 | E8: SODIM TP | F8: ROULEMENT ROUE AVANT | G8: 1182521 | H8: GROS ACHAT | I8: EN ATTENTE AU SCE ACHAT | J8: SOLDE | K8: =YEAR(B8)&"-"&TEXT(MONTH(B8),"00") -> 2014-12
A9: VOIRIE LBN_102_101_53 | B9: 42027 | C9: 30027 | D9: D15011502BCF-000005 | E9: ECIG | F9: PNEU | G9: 2194564 | H9: GROS ACHAT | I9: EN ATTENTE AU SCE ACHAT | J9: EN ATTENTE AU SCE ACHAT | K9: =YEAR(B9)&"-"&TEXT(MONTH(B9),"00") -> 2015-01
A10: VOIRIE LBN_102_101_53 | B10: 42027 | C10: 30030 | E10: SODIM TP | F10: END BIT | G10: 615127 | H10: GROS ACHAT | I10: EN ATTENTE AU SCE ACHAT | J10: SOLDE | K10: =YEAR(B10)&"-"&TEXT(MONTH(B10),"00") -> 2015-01
A11: VOIRIE LBN_102_101_53 | B11: 42058 | C11: 12781 | D11: D11011503BCF-000082 | E11: SOBEA GABON | F11: GRAVIER 15/25 | G11: 3312000 | H11: GROS ACHAT | I11: EN ATTENTE AU SCE ACHAT | J11: EN ATTENTE AU SCE ACHAT | K11: =YEAR(B11)&"-"&TEXT(MONTH(B11),"00") -> 2015-02
A12: VOIRIE LBN_102_101_53 | B12: 42054 | C12: 411857 | D12: D11011502BCF-000079 | E12: GABON MECA | F12: TONNER LASER CF210A NOIR | G12: 617192 | H12: GROS ACHAT | I12: EN ATTENTE AU SCE ACHAT | J12: SOLDE | K12: =YEAR(B12)&"-"&TEXT(MONTH(B12),"00") -> 2015-02
A13: VOIRIE LBN_102_101_53 | B13: 42117 | C13: 10368 | D13: D11011504BCF-000185 | E13: GABON MECA | F13: CARTOUCHE COULEUR CANON CLI | G13: 338654 | H13: PETIT ACHAT | I13: EN ATTENTE AU SCE ACHAT | J13: EN ATTENTE AU SCE ACHAT | K13: =YEAR(B13)&"-"&TEXT(MONTH(B13),"00") -> 2015-04
A14: VOIRIE LBN_102_101_53 | B14: 42151 | C14: 12400 | D14: D11011506BCF-000248 | E14: BERNABE GABON | F14: TPN 2000x1000x4 mm | G14: 384325 | H14: PETIT ACHAT | I14: EN ATTENTE AU SCE ACHAT | J14: SOLDE | K14: =YEAR(B14)&"-"&TEXT(MONTH(B14),"00") -> 2015-05
A15: VOIRIE LBN_102_101_53 | B15: 42139 | C15: 12512 | D15: D11011505BCF-000232 | E15: TOYOTA GABON | F15: AMORTISSEUR ARD | G15: 1396170 | H15: GROS ACHAT | I15: EN ATTENTE AU SCE ACHAT | J15: EN ATTENTE AU SCE ACHAT | K15: =YEAR(B15)&"-"&TEXT(MONTH(B15),"00") -> 2015-05
A16: VOIRIE LBN_102_101_53 | B16: 42165 | C16: 12523 | D16: D11011506BCF-000266 | E16: TOTAL MARKETING GABON | F16: RUBIA TIR 7400 | G16: 2274922 | H16: GROS ACHAT | I16: EN ATTENTE AU SCE ACHAT | J16: SOLDE | K16: =YEAR(B16)&"-"&TEXT(MONTH(B16),"00") -> 2015-06
A17: VOIRIE LBN_102_101_53 | B17: 42227 | C17: 9827 | E17: LSA | F17: FORFAIT DEPLACEMENT MECA | G17: 6150921 | H17: GROS ACHAT | I17: EN ATTENTE AU SCE ACHAT | J17: EN ATTENTE AU SCE ACHAT | K17: =YEAR(B17)&"-"&TEXT(MONTH(B17),"00") -> 2015-08
A18: VOIRIE LBN_102_101_53 | B18: 42229 | C18: 32029 | D18: D11011508BCF-000425 | E18: ECIG | F18: PNEU | G18: 615488 | H18: GROS ACHAT | I18: EN ATTENTE AU SCE ACHAT | J18: SOLDE | K18: =YEAR(B18)&"-"&TEXT(MONTH(B18),"00") -> 2015-08
A19: VOIRIE LBN_102_101_53 | B19: 42229 | C19: 9770 | D19: D11011508BCF-000424 | E19: ECIG | F19: PNEU | G19: 615489 | H19: GROS ACHAT | I19: SOLDE | J19: EN ATTENTE AU SCE ACHAT | K19: =YEAR(B19)&"-"&TEXT(MONTH(B19),"00") -> 2015-08
A20: VOIRIE LBN_102_101_53 | B20: 42234 | C20: 12184 | E20: ECIG | F20: EMBASSE COMPLET | G20: 576784 | H20: GROS ACHAT | I20: EN SIGNATURE | J20: SOLDE | K20: =YEAR(B20)&"-"&TEXT(MONTH(B20),"00") -> 2015-08
A21: VOIRIE LBN_102_101_53 | B21: 42234 | C21: 12184 | E21: SODIM TP | F21: EMBASSE COMPLET | G21: 984221 | H21: GROS ACHAT | I21: EN SIGNATURE | J21: EN ATTENTE AU SCE ACHAT | K21: =YEAR(B21)&"-"&TEXT(MONTH(B21),"00") -> 2015-08
A22: VOIRIE LBN_102_101_53 | B22: 42243 | C22: 32043 | E22: SODIM TP | F22: COURROIE DE DISTRIBUTION | G22: 414110 | H22: GROS ACHAT | I22: SOLDE | J22: SOLDE | K22: =YEAR(B22)&"-"&TEXT(MONTH(B22),"00") -> 2015-08
A23: VOIRIE LBN_102_101_53 | B23: 42247 | C23: 13258 | F23: ORDINATEUR PC | G23: 526000 | H23: GROS ACHAT | I23: EN ATTENTE AU SCE ACHAT | J23: EN ATTENTE AU SCE ACHAT | K23: =YEAR(B23)&"-"&TEXT(MONTH(B23),"00") -> 2015-08
A24: VOIRIE LBN_102_101_53 | B24: 42242 | C24: 12186 | E24: ECIG | F24: PNEU 235/85R16 | G24: 614072 | H24: GROS ACHAT | I24: EN SIGNATURE | J24: SOLDE | K24: =YEAR(B24)&"-"&TEXT(MONTH(B24),"00") -> 2015-08
A25: VOIRIE LBN_102_101_53 | B25: 42243 | C25: 12186 | E25: TOYOTA GABON | F25: COURROIE DE DISTRIBUTION | G25: 471194 | H25: PETIT ACHAT | I25: EN SIGNATURE | J25: EN ATTENTE AU SCE ACHAT | K25: =YEAR(B25)&"-"&TEXT(MONTH(B25),"00") -> 2015-08
A26: VOIRIE LBN_102_101_53 | B26: 42250 | C26: 8818 | E26: SABLIERE OWENDO | F26: CAMION DE SABLE | G26: 252000 | H26: PETIT ACHAT | I26: EN ATTENTE AU SCE ACHAT | J26: SOLDE | K26: =YEAR(B26)&"-"&TEXT(MONTH(B26),"00") -> 2015-09

Sheet Synthèses DA
A3: Montants | B3: Étiquettes de colonnes
A4: Étiquettes de lignes | B4: GROS ACHAT | C4: PETIT ACHAT | D4: Total général
A5: 2014-12 | B5: 1182521 | D5: 1182521
A6: 2015-01 | B6: 2809691 | D6: 2809691
A7: 2015-02 | B7: 3929192 | D7: 3929192
A8: 2015-04 | C8: 338654 | D8: 338654
A9: 2015-05 | B9: 1396170 | C9: 384325 | D9: 1780495
A10: 2015-06 | B10: 2274922 | D10: 2274922
A11: 2015-08 | B11: 262414813 | C11: 651649 | D11: 263066462
A12: 2015-09 | B12: 842768 | C12: 252000 | D12: 1094768
A13: Total général | B13: 274850077 | C13: 1626628 | D13: 276476705

Sheet Chantiers
A1: Fichier des DA
A3: Chantier | B3: Ouverture | C3: Clôture | D3: Client | E3: Nombre de DA | F3: Montant | G3: Observations
A4: DTN_11LBVDT_0 | B4: 42248 | C4: 13259 | E4: =COUNTIF(DA!A:A,A:A) -> 2 | F4: =SUMIF(DA!A:A,A:A,DA!G:G) -> 1458256
A5: BASE_ARMEE_FR_103_102_06 | B5: 42236 | C5: 9836 | E5: =COUNTIF(DA!A:A,A:A) -> 1 | F5: 180455
A6: ECOLE_MINES_102_101_84 | B6: 42230 | C6: 32033 | E6: =COUNTIF(DA!A:A,A:A) -> 1 | F6: 251302240
A7: VOIRIE LBN_102_101_53 | B7: 41977 | C7: 12865 | E7: =COUNTIF(DA!A:A,A:A) -> 19 | F7: 1182521

Sheet Fournisseurs
A1: Fichier des fournisseurs | E1: =SUBTOTAL(9,E4:E1000) -> 275950705
A3: Désignation | B3: Adresse | C3: Site | D3: Courriel | E3: Montant des commandes | F3: Observations
A4: BERNABE GABON | E4: =SUMIF(DA!E:E,A:A,DA!G:G) -> 384325
A5: COLAS | E5: =SUMIF(DA!E:E,A:A,DA!G:G) -> 251302240
A6: ECIG | E6: =SUMIF(DA!E:E,A:A,DA!G:G) -> 5231885
A7: GABON MECA | E7: =SUMIF(DA!E:E,A:A,DA!G:G) -> 955846
A8: LSA | E8: =SUMIF(DA!E:E,A:A,DA!G:G) -> 6331376
A9: MATFORCE | E9: =SUMIF(DA!E:E,A:A,DA!G:G) -> 842768
A10: SABLIERE OWENDO | E10: =SUMIF(DA!E:E,A:A,DA!G:G) -> 252000
A11: SOBEA GABON | E11: =SUMIF(DA!E:E,A:A,DA!G:G) -> 3312000
A12: SODIM TP | E12: =SUMIF(DA!E:E,A:A,DA!G:G) -> 3195979
A13: TOTAL MARKETING GABON | E13: =SUMIF(DA!E:E,A:A,DA!G:G) -> 2274922
A14: TOYOTA GABON | E14: =SUMIF(DA!E:E,A:A,DA!G:G) -> 1867364
