Workbook
Name Tranches: Tranches!$A$3:$B$12

Sheet Données
B1: 2398.5 | C1: =VLOOKUP(B1,Tranches,2,TRUE) -> De 500 à 4 999 €
B2: 4150 | C2: =VLOOKUP(B2,Tranches,2,TRUE) -> De 500 à 4 999 €
B3: 6389 | C3: =VLOOKUP(B3,Tranches,2,TRUE) -> De 5000 à 9 999 €
B4: 850 | C4: =VLOOKUP(B4,Tranches,2,TRUE) -> Moins de 5000 €
B5: 2156 | C5: =VLOOKUP(B5,Tranches,2,TRUE) -> De 500 à 4 999 €
B6: 9666 | C6: =VLOOKUP(B6,Tranches,2,TRUE) -> De 5000 à 9 999 €
B7: 4717.5 | C7: =VLOOKUP(B7,Tranches,2,TRUE) -> De 500 à 4 999 €
B8: 4820 | C8: =VLOOKUP(B8,Tranches,2,TRUE) -> De 500 à 4 999 €
B9: 5400 | C9: =VLOOKUP(B9,Tranches,2,TRUE) -> De 5000 à 9 999 €
B10: 5000 | C10: =VLOOKUP(B10,Tranches,2,TRUE) -> De 5000 à 9 999 €
B11: 5200 | C11: =VLOOKUP(B11,Tranches,2,TRUE) -> De 5000 à 9 999 €
B12: 9775 | C12: =VLOOKUP(B12,Tranches,2,TRUE) -> De 5000 à 9 999 €
... B33: 9307.5 | C33: =VLOOKUP(B33,Tranches,2,TRUE) -> De 5000 à 9 999 €
B35: =SUM(B1:B34) -> 247884.54

Sheet Tranches
A1: Tranches de montants
A3: Mini | B3: Libellé | C3: Nombre | D3: Somme | E3: % nombre | F3: % somme
A4: 0 | B4: Moins de 5000 € | C4: =COUNTIF(Données!C1:$C$33,B:B) -> 5 | D4: =SUMIF(Données!C1:$C$33,B:B,Données!B:B) -> 2792.37 | E4: =C4/$C$13 -> 0.15625 | F4: =D4/$D$13 -> 0.016307733
A5: 1000 | B5: De 500 à 4 999 € | C5: =COUNTIF(Données!C2:$C$33,B:B) -> 8 | D5: =SUMIF(Données!C2:$C$33,B:B,Données!B:B) -> 35500.87 | E5: =C5/$C$13 -> 0.25 | F5: =D5/$D$13 -> 0.20732879
A6: 5000 | B6: De 5000 à 9 999 € | C6: =COUNTIF(Données!C3:$C$33,B:B) -> 14 | D6: =SUMIF(Données!C3:$C$33,B:B,Données!B:B) -> 110257.7 | E6: =C6/$C$13 -> 0.4375 | F6: =D6/$D$13 -> 0.6439165
A7: 10000 | B7: 10 000 € et plus | C7: =COUNTIF(Données!C4:$C$33,B:B) -> 5 | D7: =SUMIF(Données!C4:$C$33,B:B,Données!B:B) -> 22678.87 | E7: =C7/$C$13 -> 0.15625 | F7: =D7/$D$13 -> 0.13244697
C8: =COUNTIF(Données!C5:$C$33,B:B) -> 0 | D8: =SUMIF(Données!C5:$C$33,B:B,Données!B:B) -> 0 | E8: =C8/$C$13 -> 0 | F8: =D8/$D$13 -> 0
C9: =COUNTIF(Données!C6:$C$33,B:B) -> 0 | D9: =SUMIF(Données!C6:$C$33,B:B,Données!B:B) -> 0 | E9: =C9/$C$13 -> 0 | F9: =D9/$D$13 -> 0
C10: =COUNTIF(Données!C7:$C$33,B:B) -> 0 | D10: =SUMIF(Données!C7:$C$33,B:B,Données!B:B) -> 0 | E10: =C10/$C$13 -> 0 | F10: =D10/$D$13 -> 0
C11: =COUNTIF(Données!C8:$C$33,B:B) -> 0 | D11: =SUMIF(Données!C8:$C$33,B:B,Données!B:B) -> 0 | E11: =C11/$C$13 -> 0 | F11: =D11/$D$13 -> 0
C12: =COUNTIF(Données!C9:$C$33,B:B) -> 0 | D12: =SUMIF(Données!C9:$C$33,B:B,Données!B:B) -> 0 | E12: =C12/$C$13 -> 0 | F12: =D12/$D$13 -> 0
A13: Totaux | C13: =SUM(C4:C12) -> 32 | D13: =SUM(D4:D12) -> 171229.81 | E13: =SUM(E4:E12) -> 1 | F13: =SUM(F4:F12) -> 1
