Workbook
Name Catégories_Emprunteurs: 'Catégories Emprunteurs'!$A$4:$D$8
Name Collectivité: Paramètres!$B$1
Name Emprunteurs: Emprunteurs!$A$4:$E$17
Name Entetes_Locations: 'Entêtes Locations'!$A$4:$L$13
Name Equipements: Inventaire!$A$4:$J$16
Name Liste_Catégories_Emprunteurs: 'Catégories Emprunteurs'!$A$4:$A$8
Name Liste_Catégories_Inventaire: 'Catégories Inventaire'!$A$4:$A$12
Name Liste_Emprunteurs: Emprunteurs!$A$4:$A$17
Name Liste_Entetes_Locations: 'Entêtes Locations'!$A$4:$A$13
Name Liste_Equipements: Inventaire!$A$4:$A$16
Name Service: Paramètres!$B$2
Name Titre: Paramètres!$B$3

Sheet Entêtes Locations
B1: =Collectivité&"-"&Service&"-"&Titre&" - Entêtes Locations" -> Ville d'Excel-les-Bains-Patrimoine-Location d'équipements - Entêtes Locations
K2: =SUBTOTAL(9,K4:K13) -> 126 | L2: =SUBTOTAL(9,L4:L13) -> 1527
A4: Clé | B4: Collectivité | C4: Evénement | D4: Début | E4: Fin | F4: Retour | G4: Observations | H4: Catégorie | I4: Tarif applicable | J4: Durée prévue | K4: Durée réelle | L4: Montant
A5: =B5&"-"&C5 -> Ville de Craponne-Fête du Cheval | B5: Ville de Craponne | C5: Fête du Cheval | D5: 42273 | E5: 42281 | G5: Convention n°1535 | H5: =IF(ISTEXT(VLOOKUP(B5,Emprunteurs,2,FALSE)),VLOOKUP(B5,Emprunteurs,2,FALSE),"") -> Collectivités | I5: =IF(ISTEXT(VLOOKUP(H5,Catégories_Emprunteurs,2,FALSE)),VLOOKUP(H5,Catégories_Emprunteurs,2,FALSE),"") -> Tarif collectivité | J5: =E5-D5+1 -> 9 | K5: =IF(ISNUMBER(F5),F5-D5+1,E5-D5+1) -> 9 | L5: =SUMIF('Détails Locations'!A:A,'Entêtes Locations'!A:A,'Détails Locations'!J:J) -> 900
A6: =B6&"-"&C6 -> Ville de Brignais-Fête du Chien | B6: Ville de Brignais | C6: Fête du Chien | D6: 42274 | E6: 42288 | G6: Convention n°1536 | H6: =IF(ISTEXT(VLOOKUP(B6,Emprunteurs,2,FALSE)),VLOOKUP(B6,Emprunteurs,2,FALSE),"") -> Collectivités | I6: =IF(ISTEXT(VLOOKUP(H6,Catégories_Emprunteurs,2,FALSE)),VLOOKUP(H6,Catégories_Emprunteurs,2,FALSE),"") -> Tarif collectivité | J6: =E6-D6+1 -> 15 | K6: =IF(ISNUMBER(F6),F6-D6+1,E6-D6+1) -> 15 | L6: =SUMIF('Détails Locations'!A:A,'Entêtes Locations'!A:A,'Détails Locations'!J:J) -> 55.5
A7: =B7&"-"&C7 -> Ville de Francheville-Fête du Chat | B7: Ville de Francheville | C7: Fête du Chat | D7: 42275 | E7: 42295 | G7: Convention n°1537 | H7: =IF(ISTEXT(VLOOKUP(B7,Emprunteurs,2,FALSE)),VLOOKUP(B7,Emprunteurs,2,FALSE),"") -> Collectivités | I7: =IF(ISTEXT(VLOOKUP(H7,Catégories_Emprunteurs,2,FALSE)),VLOOKUP(H7,Catégories_Emprunteurs,2,FALSE),"") -> Tarif collectivité | J7: =E7-D7+1 -> 21 | K7: =IF(ISNUMBER(F7),F7-D7+1,E7-D7+1) -> 21 | L7: =SUMIF('Détails Locations'!A:A,'Entêtes Locations'!A:A,'Détails Locations'!J:J) -> 0
A8: =B8&"-"&C8 -> Club de Basket-ball-Championnats Vétérans | B8: Club de Basket-ball | C8: Championnats Vétérans | D8: 42276 | E8: 42281 | G8: Convention n°1538 | H8: =IF(ISTEXT(VLOOKUP(B8,Emprunteurs,2,FALSE)),VLOOKUP(B8,Emprunteurs,2,FALSE),"") -> Associations | I8: =IF(ISTEXT(VLOOKUP(H8,Catégories_Emprunteurs,2,FALSE)),VLOOKUP(H8,Catégories_Emprunteurs,2,FALSE),"") -> Tarif association | J8: =E8-D8+1 -> 6 | K8: =IF(ISNUMBER(F8),F8-D8+1,E8-D8+1) -> 6 | L8: =SUMIF('Détails Locations'!A:A,'Entêtes Locations'!A:A,'Détails Locations'!J:J) -> 31.5
A9: =B9&"-"&C9 -> Club de Volley-ball-Championnats Poussins | B9: Club de Volley-ball | C9: Championnats Poussins | D9: 42277 | E9: 42288 | G9: Convention n°1539 | H9: =IF(ISTEXT(VLOOKUP(B9,Emprunteurs,2,FALSE)),VLOOKUP(B9,Emprunteurs,2,FALSE),"") -> Associations | I9: =IF(ISTEXT(VLOOKUP(H9,Catégories_Emprunteurs,2,FALSE)),VLOOKUP(H9,Catégories_Emprunteurs,2,FALSE),"") -> Tarif association | J9: =E9-D9+1 -> 12 | K9: =IF(ISNUMBER(F9),F9-D9+1,E9-D9+1) -> 12 | L9: =SUMIF('Détails Locations'!A:A,'Entêtes Locations'!A:A,'Détails Locations'!J:J) -> 0
A10: =B10&"-"&C10 -> Entreprise Laboite & Cie-20ème anniversaire | B10: Entreprise Laboite & Cie | C10: 20ème anniversaire | D10: 42278 | E10: 42295 | G10: Convention n°1540 | H10: =IF(ISTEXT(VLOOKUP(B10,Emprunteurs,2,FALSE)),VLOOKUP(B10,Emprunteurs,2,FALSE),"") -> Divers | I10: =IF(ISTEXT(VLOOKUP(H10,Catégories_Emprunteurs,2,FALSE)),VLOOKUP(H10,Catégories_Emprunteurs,2,FALSE),"") -> Tarif autre | J10: =E10-D10+1 -> 18 | K10: =IF(ISNUMBER(F10),F10-D10+1,E10-D10+1) -> 18 | L10: =SUMIF('Détails Locations'!A:A,'Entêtes Locations'!A:A,'Détails Locations'!J:J) -> 540
A11: =B11&"-"&C11 -> Club de Philatélie-III° Rencontres Internationales | B11: Club de Philatélie | C11: III° Rencontres Internationales | D11: 42279 | E11: 42295 | G11: Convention n°1540 | H11: =IF(ISTEXT(VLOOKUP(B11,Emprunteurs,2,FALSE)),VLOOKUP(B11,Emprunteurs,2,FALSE),"") -> Associations | I11: =IF(ISTEXT(VLOOKUP(H11,Catégories_Emprunteurs,2,FALSE)),VLOOKUP(H11,Catégories_Emprunteurs,2,FALSE),"") -> Tarif association | J11: =E11-D11+1 -> 17 | K11: =IF(ISNUMBER(F11),F11-D11+1,E11-D11+1) -> 17 | L11: =SUMIF('Détails Locations'!A:A,'Entêtes Locations'!A:A,'Détails Locations'!J:J) -> 0
A12: =B12&"-"&C12 -> Club d'Aéromodélisme-Défi du Rail 2015 | B12: Club d'Aéromodélisme | C12: Défi du Rail 2015 | D12: 42280 | E12: 42307 | G12: Convention n°1541 | H12: =IF(ISTEXT(VLOOKUP(B12,Emprunteurs,2,FALSE)),VLOOKUP(B12,Emprunteurs,2,FALSE),"") -> Associations | I12: =IF(ISTEXT(VLOOKUP(H12,Catégories_Emprunteurs,2,FALSE)),VLOOKUP(H12,Catégories_Emprunteurs,2,FALSE),"") -> Tarif association | J12: =E12-D12+1 -> 28 | K12: =IF(ISNUMBER(F12),F12-D12+1,E12-D12+1) -> 28 | L12: =SUMIF('Détails Locations'!A:A,'Entêtes Locations'!A:A,'Détails Locations'!J:J) -> 0

Sheet Détails Locations
A1: =Collectivité&"-"&Service&"-"&Titre&" - Détails Locations" -> Ville d'Excel-les-Bains-Patrimoine-Location d'équipements - Détails Locations
H2: =SUBTOTAL(9,H4:H17) -> 138 | J2: =SUBTOTAL(9,J4:J17) -> 1527
A4: Clé Location | B4: Equipement | C4: Quantité | D4: Observations | E4: Tarif applicable | F4: Début | G4: Fin | H4: Durée | I4: Tarif jour | J4: Montant | K4: En stock ?
A5: Ville de Craponne-Fête du Cheval | B5: Drapeaux | C5: 10 | E5: =IF(ISTEXT(VLOOKUP(A5,Entetes_Locations,9,FALSE)),VLOOKUP(A5,Entetes_Locations,9,FALSE),"") -> Tarif collectivité | F5: =IF(ISNUMBER(VLOOKUP(A5,Entetes_Locations,4,FALSE)),VLOOKUP(A5,Entetes_Locations,4,FALSE),"") -> 42273 | G5: =F5+H5-1 -> 42281 | H5: =IF(ISNUMBER(VLOOKUP(A5,Entetes_Locations,11,FALSE)),VLOOKUP(A5,Entetes_Locations,11,FALSE),0) -> 9 | I5: =IF(ISNUMBER(IF(E5="Tarif collectivité",VLOOKUP(B5,Equipements,4,FALSE),VLOOKUP(B5,Equipements,5,FALSE))),IF(E5="Tarif collectivité",VLOOKUP(B5,Equipements,4,FALSE),VLOOKUP(B5,Equipements,5,FALSE)),"") -> 2 | J5: =I5*C5*H5 -> 180 | K5: =IF(AND(F5<=TODAY(),G5>=TODAY()),"non","oui") -> oui
A6: Ville de Craponne-Fête du Cheval | B6: Barrières métalliques | C6: 60 | E6: =IF(ISTEXT(VLOOKUP(A6,Entetes_Locations,9,FALSE)),VLOOKUP(A6,Entetes_Locations,9,FALSE),"") -> Tarif collectivité | F6: =IF(ISNUMBER(VLOOKUP(A6,Entetes_Locations,4,FALSE)),VLOOKUP(A6,Entetes_Locations,4,FALSE),"") -> 42273 | G6: =F6+H6-1 -> 42281 | H6: =IF(ISNUMBER(VLOOKUP(A6,Entetes_Locations,11,FALSE)),VLOOKUP(A6,Entetes_Locations,11,FALSE),0) -> 9 | I6: =IF(ISNUMBER(IF(E6="Tarif collectivité",VLOOKUP(B6,Equipements,4,FALSE),VLOOKUP(B6,Equipements,5,FALSE))),IF(E6="Tarif collectivité",VLOOKUP(B6,Equipements,4,FALSE),VLOOKUP(B6,Equipements,5,FALSE)),"") -> 0.25 | J6: =I6*C6*H6 -> 135 | K6: =IF(AND(F6<=TODAY(),G6>=TODAY()),"non","oui") -> oui
A7: Ville de Craponne-Fête du Cheval | B7: Petit podium | C7: 5 | E7: =IF(ISTEXT(VLOOKUP(A7,Entetes_Locations,9,FALSE)),VLOOKUP(A7,Entetes_Locations,9,FALSE),"") -> Tarif collectivité | F7: =IF(ISNUMBER(VLOOKUP(A7,Entetes_Locations,4,FALSE)),VLOOKUP(A7,Entetes_Locations,4,FALSE),"") -> 42273 | G7: =F7+H7-1 -> 42281 | H7: =IF(ISNUMBER(VLOOKUP(A7,Entetes_Locations,11,FALSE)),VLOOKUP(A7,Entetes_Locations,11,FALSE),0) -> 9 | I7: =IF(ISNUMBER(IF(E7="Tarif collectivité",VLOOKUP(B7,Equipements,4,FALSE),VLOOKUP(B7,Equipements,5,FALSE))),IF(E7="Tarif collectivité",VLOOKUP(B7,Equipements,4,FALSE),VLOOKUP(B7,Equipements,5,FALSE)),"") -> 5 | J7: =I7*C7*H7 -> 225 | K7: =IF(AND(F7<=TODAY(),G7>=TODAY()),"non","oui") -> oui
A8: Ville de Craponne-Fête du Cheval | B8: Grand podium | C8: 2 | E8: =IF(ISTEXT(VLOOKUP(A8,Entetes_Locations,9,FALSE)),VLOOKUP(A8,Entetes_Locations,9,FALSE),"") -> Tarif collectivité | F8: =IF(ISNUMBER(VLOOKUP(A8,Entetes_Locations,4,FALSE)),VLOOKUP(A8,Entetes_Locations,4,FALSE),"") -> 42273 | G8: =F8+H8-1 -> 42281 | H8: =IF(ISNUMBER(VLOOKUP(A8,Entetes_Locations,11,FALSE)),VLOOKUP(A8,Entetes_Locations,11,FALSE),0) -> 9 | I8: =IF(ISNUMBER(IF(E8="Tarif collectivité",VLOOKUP(B8,Equipements,4,FALSE),VLOOKUP(B8,Equipements,5,FALSE))),IF(E8="Tarif collectivité",VLOOKUP(B8,Equipements,4,FALSE),VLOOKUP(B8,Equipements,5,FALSE)),"") -> 10 | J8: =I8*C8*H8 -> 180 | K8: =IF(AND(F8<=TODAY(),G8>=TODAY()),"non","oui") -> oui
A9: Ville de Craponne-Fête du Cheval | B9: Barnum 9 m² | C9: 1 | E9: =IF(ISTEXT(VLOOKUP(A9,Entetes_Locations,9,FALSE)),VLOOKUP(A9,Entetes_Locations,9,FALSE),"") -> Tarif collectivité | F9: =IF(ISNUMBER(VLOOKUP(A9,Entetes_Locations,4,FALSE)),VLOOKUP(A9,Entetes_Locations,4,FALSE),"") -> 42273 | G9: =F9+H9-1 -> 42281 | H9: =IF(ISNUMBER(VLOOKUP(A9,Entetes_Locations,11,FALSE)),VLOOKUP(A9,Entetes_Locations,11,FALSE),0) -> 9 | I9: =IF(ISNUMBER(IF(E9="Tarif collectivité",VLOOKUP(B9,Equipements,4,FALSE),VLOOKUP(B9,Equipements,5,FALSE))),IF(E9="Tarif collectivité",VLOOKUP(B9,Equipements,4,FALSE),VLOOKUP(B9,Equipements,5,FALSE)),"") -> 20 | J9: =I9*C9*H9 -> 180 | K9: =IF(AND(F9<=TODAY(),G9>=TODAY()),"non","oui") -> oui
A10: Ville de Brignais-Fête du Chien | B10: Tables 80x60 | C10: 1 | E10: =IF(ISTEXT(VLOOKUP(A10,Entetes_Locations,9,FALSE)),VLOOKUP(A10,Entetes_Locations,9,FALSE),"") -> Tarif collectivité | F10: =IF(ISNUMBER(VLOOKUP(A10,Entetes_Locations,4,FALSE)),VLOOKUP(A10,Entetes_Locations,4,FALSE),"") -> 42274 | G10: =F10+H10-1 -> 42288 | H10: =IF(ISNUMBER(VLOOKUP(A10,Entetes_Locations,11,FALSE)),VLOOKUP(A10,Entetes_Locations,11,FALSE),0) -> 15 | I10: =IF(ISNUMBER(IF(E10="Tarif collectivité",VLOOKUP(B10,Equipements,4,FALSE),VLOOKUP(B10,Equipements,5,FALSE))),IF(E10="Tarif collectivité",VLOOKUP(B10,Equipements,4,FALSE),VLOOKUP(B10,Equipements,5,FALSE)),"") -> 1.2 | J10: =I10*C10*H10 -> 18 | K10: =IF(AND(F10<=TODAY(),G10>=TODAY()),"non","oui") -> oui
A11: Ville de Brignais-Fête du Chien | B11: Chaises coque plastique noire | C11: 1 | E11: =IF(ISTEXT(VLOOKUP(A11,Entetes_Locations,9,FALSE)),VLOOKUP(A11,Entetes_Locations,9,FALSE),"") -> Tarif collectivité | F11: =IF(ISNUMBER(VLOOKUP(A11,Entetes_Locations,4,FALSE)),VLOOKUP(A11,Entetes_Locations,4,FALSE),"") -> 42274 | G11: =F11+H11-1 -> 42288 | H11: =IF(ISNUMBER(VLOOKUP(A11,Entetes_Locations,11,FALSE)),VLOOKUP(A11,Entetes_Locations,11,FALSE),0) -> 15 | I11: =IF(ISNUMBER(IF(E11="Tarif collectivité",VLOOKUP(B11,Equipements,4,FALSE),VLOOKUP(B11,Equipements,5,FALSE))),IF(E11="Tarif collectivité",VLOOKUP(B11,Equipements,4,FALSE),VLOOKUP(B11,Equipements,5,FALSE)),"") -> 0.5 | J11: =I11*C11*H11 -> 7.5 | K11: =IF(AND(F11<=TODAY(),G11>=TODAY()),"non","oui") -> oui
A12: Ville de Brignais-Fête du Chien | B12: Drapeaux | C12: 1 | E12: =IF(ISTEXT(VLOOKUP(A12,Entetes_Locations,9,FALSE)),VLOOKUP(A12,Entetes_Locations,9,FALSE),"") -> Tarif collectivité | F12: =IF(ISNUMBER(VLOOKUP(A12,Entetes_Locations,4,FALSE)),VLOOKUP(A12,Entetes_Locations,4,FALSE),"") -> 42274 | G12: =F12+H12-1 -> 42288 | H12: =IF(ISNUMBER(VLOOKUP(A12,Entetes_Locations,11,FALSE)),VLOOKUP(A12,Entetes_Locations,11,FALSE),0) -> 15 | I12: =IF(ISNUMBER(IF(E12="Tarif collectivité",VLOOKUP(B12,Equipements,4,FALSE),VLOOKUP(B12,Equipements,5,FALSE))),IF(E12="Tarif collectivité",VLOOKUP(B12,Equipements,4,FALSE),VLOOKUP(B12,Equipements,5,FALSE)),"") -> 2 | J12: =I12*C12*H12 -> 30 | K12: =IF(AND(F12<=TODAY(),G12>=TODAY()),"non","oui") -> oui
A13: Club de Basket-ball-Championnats Vétérans | B13: Barrières métalliques | C13: 1 | E13: =IF(ISTEXT(VLOOKUP(A13,Entetes_Locations,9,FALSE)),VLOOKUP(A13,Entetes_Locations,9,FALSE),"") -> Tarif association | F13: =IF(ISNUMBER(VLOOKUP(A13,Entetes_Locations,4,FALSE)),VLOOKUP(A13,Entetes_Locations,4,FALSE),"") -> 42276 | G13: =F13+H13-1 -> 42281 | H13: =IF(ISNUMBER(VLOOKUP(A13,Entetes_Locations,11,FALSE)),VLOOKUP(A13,Entetes_Locations,11,FALSE),0) -> 6 | I13: =IF(ISNUMBER(IF(E13="Tarif collectivité",VLOOKUP(B13,Equipements,4,FALSE),VLOOKUP(B13,Equipements,5,FALSE))),IF(E13="Tarif collectivité",VLOOKUP(B13,Equipements,4,FALSE),VLOOKUP(B13,Equipements,5,FALSE)),"") -> 0.25 | J13: =I13*C13*H13 -> 1.5 | K13: =IF(AND(F13<=TODAY(),G13>=TODAY()),"non","oui") -> oui
A14: Club de Basket-ball-Championnats Vétérans | B14: Petit podium | C14: 1 | E14: =IF(ISTEXT(VLOOKUP(A14,Entetes_Locations,9,FALSE)),VLOOKUP(A14,Entetes_Locations,9,FALSE),"") -> Tarif association | F14: =IF(ISNUMBER(VLOOKUP(A14,Entetes_Locations,4,FALSE)),VLOOKUP(A14,Entetes_Locations,4,FALSE),"") -> 42276 | G14: =F14+H14-1 -> 42281 | H14: =IF(ISNUMBER(VLOOKUP(A14,Entetes_Locations,11,FALSE)),VLOOKUP(A14,Entetes_Locations,11,FALSE),0) -> 6 | I14: =IF(ISNUMBER(IF(E14="Tarif collectivité",VLOOKUP(B14,Equipements,4,FALSE),VLOOKUP(B14,Equipements,5,FALSE))),IF(E14="Tarif collectivité",VLOOKUP(B14,Equipements,4,FALSE),VLOOKUP(B14,Equipements,5,FALSE)),"") -> 5 | J14: =I14*C14*H14 -> 30 | K14: =IF(AND(F14<=TODAY(),G14>=TODAY()),"non","oui") -> oui
A15: Entreprise Laboite & Cie-20ème anniversaire | B15: Grand podium | C15: 1 | E15: =IF(ISTEXT(VLOOKUP(A15,Entetes_Locations,9,FALSE)),VLOOKUP(A15,Entetes_Locations,9,FALSE),"") -> Tarif autre | F15: =IF(ISNUMBER(VLOOKUP(A15,Entetes_Locations,4,FALSE)),VLOOKUP(A15,Entetes_Locations,4,FALSE),"") -> 42278 | G15: =F15+H15-1 -> 42295 | H15: =IF(ISNUMBER(VLOOKUP(A15,Entetes_Locations,11,FALSE)),VLOOKUP(A15,Entetes_Locations,11,FALSE),0) -> 18 | I15: =IF(ISNUMBER(IF(E15="Tarif collectivité",VLOOKUP(B15,Equipements,4,FALSE),VLOOKUP(B15,Equipements,5,FALSE))),IF(E15="Tarif collectivité",VLOOKUP(B15,Equipements,4,FALSE),VLOOKUP(B15,Equipements,5,FALSE)),"") -> 10 | J15: =I15*C15*H15 -> 180 | K15: =IF(AND(F15<=TODAY(),G15>=TODAY()),"non","oui") -> oui
A16: Entreprise Laboite & Cie-20ème anniversaire | B16: Barnum 9 m² | C16: 1 | E16: =IF(ISTEXT(VLOOKUP(A16,Entetes_Locations,9,FALSE)),VLOOKUP(A16,Entetes_Locations,9,FALSE),"") -> Tarif autre | F16: =IF(ISNUMBER(VLOOKUP(A16,Entetes_Locations,4,FALSE)),VLOOKUP(A16,Entetes_Locations,4,FALSE),"") -> 42278 | G16: =F16+H16-1 -> 42295 | H16: =IF(ISNUMBER(VLOOKUP(A16,Entetes_Locations,11,FALSE)),VLOOKUP(A16,Entetes_Locations,11,FALSE),0) -> 18 | I16: =IF(ISNUMBER(IF(E16="Tarif collectivité",VLOOKUP(B16,Equipements,4,FALSE),VLOOKUP(B16,Equipements,5,FALSE))),IF(E16="Tarif collectivité",VLOOKUP(B16,Equipements,4,FALSE),VLOOKUP(B16,Equipements,5,FALSE)),"") -> 20 | J16: =I16*C16*H16 -> 360 | K16: =IF(AND(F16<=TODAY(),G16>=TODAY()),"non","oui") -> oui

Sheet Emprunteurs
A1: =Collectivité&"-"&Service&"-"&Titre&" - Emprunteurs" -> Ville d'Excel-les-Bains-Patrimoine-Location d'équipements - Emprunteurs
E2: =SUBTOTAL(9,E4:E17) -> 1527
A4: Désignation | B4: Catégorie | C4: Contact | D4: Observations | E4: Montants
A5: Ville de Craponne | B5: Collectivités | E5: =SUMIF('Entêtes Locations'!B:B,A:A,'Entêtes Locations'!L:L) -> 900
A6: Ville de Brignais | B6: Collectivités | E6: =SUMIF('Entêtes Locations'!B:B,A:A,'Entêtes Locations'!L:L) -> 55.5
A7: Ville de Francheville | B7: Collectivités | E7: =SUMIF('Entêtes Locations'!B:B,A:A,'Entêtes Locations'!L:L) -> 0
A8: Commune d'Irigny | B8: Collectivités | E8: =SUMIF('Entêtes Locations'!B:B,A:A,'Entêtes Locations'!L:L) -> 0
A9: Commune d'Ecully | B9: Collectivités | E9: =SUMIF('Entêtes Locations'!B:B,A:A,'Entêtes Locations'!L:L) -> 0
A10: Entreprise Laboite & Cie | B10: Divers | E10: =SUMIF('Entêtes Locations'!B:B,A:A,'Entêtes Locations'!L:L) -> 540
A11: Club de Football | B11: Associations | E11: =SUMIF('Entêtes Locations'!B:B,A:A,'Entêtes Locations'!L:L) -> 0
A12: Club de Pétanque | B12: Associations | E12: =SUMIF('Entêtes Locations'!B:B,A:A,'Entêtes Locations'!L:L) -> 0
A13: Club de Basket-ball | B13: Associations | E13: =SUMIF('Entêtes Locations'!B:B,A:A,'Entêtes Locations'!L:L) -> 31.5
A14: Club de Volley-ball | B14: Associations | E14: =SUMIF('Entêtes Locations'!B:B,A:A,'Entêtes Locations'!L:L) -> 0
A15: Club de Philatélie | B15: Associations | E15: =SUMIF('Entêtes Locations'!B:B,A:A,'Entêtes Locations'!L:L) -> 0
A16: Club d'Aéromodélisme | B16: Associations | E16: =SUMIF('Entêtes Locations'!B:B,A:A,'Entêtes Locations'!L:L) -> 0

Sheet Inventaire
A1: =Collectivité&"-"&Service&"-"&Titre&" - Inventaire" -> Ville d'Excel-les-Bains-Patrimoine-Location d'équipements - Inventaire
H2: =SUBTOTAL(9,H4:H16) -> 276 | I2: =SUBTOTAL(9,I4:I16) -> 0 | J2: =SUBTOTAL(9,J4:J16) -> 276
A4: Désignation | B4: Descriptif | C4: Catégorie | D4: Tarif collectivité | E4: Tarif association | F4: Tarif autre | G4: Observations | H4: Stock | I4: Sorties | J4: Solde
A5: Barrières métalliques | C5: Sécurité | D5: 0.25 | E5: 0.25 | F5: 0.25 | H5: 50 | I5: =SUMIFS('Détails Locations'!C:C,'Détails Locations'!B:B,A:A,'Détails Locations'!K:K,"non") -> 0 | J5: =H5-I5 -> 50
A6: Barnum 9 m² | C6: Abris | D6: 20 | E6: 20 | F6: 20 | H6: 5 | I6: =SUMIFS('Détails Locations'!C:C,'Détails Locations'!B:B,A:A,'Détails Locations'!K:K,"non") -> 0 | J6: =H6-I6 -> 5
A7: Barnum 40 m² | C7: Abris | D7: 40 | E7: 40 | F7: 40 | H7: 2 | I7: =SUMIFS('Détails Locations'!C:C,'Détails Locations'!B:B,A:A,'Détails Locations'!K:K,"non") -> 0 | J7: =H7-I7 -> 2
A8: Chaises coque plastique noire | C8: Mobilier | D8: 0.5 | E8: 0.5 | F8: 0.5 | H8: 100 | I8: =SUMIFS('Détails Locations'!C:C,'Détails Locations'!B:B,A:A,'Détails Locations'!K:K,"non") -> 0 | J8: =H8-I8 -> 100
A9: Drapeaux | C9: Protocole | D9: 2 | E9: 2 | F9: 2 | H9: 30 | I9: =SUMIFS('Détails Locations'!C:C,'Détails Locations'!B:B,A:A,'Détails Locations'!K:K,"non") -> 0 | J9: =H9-I9 -> 30
A10: Grilles-Caddie | C10: Exposition | D10: 3 | E10: 3 | F10: 3 | H10: 20 | I10: =SUMIFS('Détails Locations'!C:C,'Détails Locations'!B:B,A:A,'Détails Locations'!K:K,"non") -> 0 | J10: =H10-I10 -> 20
A11: Panneaux d'exposition | C11: Exposition | D11: 3 | E11: 3 | F11: 3 | H11: 20 | I11: =SUMIFS('Détails Locations'!C:C,'Détails Locations'!B:B,A:A,'Détails Locations'!K:K,"non") -> 0 | J11: =H11-I11 -> 20
A12: Petit podium | C12: Protocole | D12: 5 | E12: 5 | F12: 5 | H12: 2 | I12: =SUMIFS('Détails Locations'!C:C,'Détails Locations'!B:B,A:A,'Détails Locations'!K:K,"non") -> 0 | J12: =H12-I12 -> 2
A13: Grand podium | C13: Protocole | D13: 10 | E13: 10 | F13: 10 | H13: 2 | I13: =SUMIFS('Détails Locations'!C:C,'Détails Locations'!B:B,A:A,'Détails Locations'!K:K,"non") -> 0 | J13: =H13-I13 -> 2
A14: Praticable 150x100 | C14: Spectacle | D14: 15 | E14: 15 | F14: 15 | H14: 5 | I14: =SUMIFS('Détails Locations'!C:C,'Détails Locations'!B:B,A:A,'Détails Locations'!K:K,"non") -> 0 | J14: =H14-I14 -> 5
A15: Tables 80x60 | C15: Mobilier | D15: 1.2 | E15: 1.2 | F15: 1.2 | H15: 40 | I15: =SUMIFS('Détails Locations'!C:C,'Détails Locations'!B:B,A:A,'Détails Locations'!K:K,"non") -> 0 | J15: =H15-I15 -> 40

Sheet Catégories Inventaire
A1: =Collectivité&"-"&Service&"-"&Titre&" - Catégories de l'inventaire" -> Ville d'Excel-les-Bains-Patrimoine-Location d'équipements - Catégories de l'inventaire
C2: =SUBTOTAL(9,C4:C12) -> 11
A4: Désignation | B4: Observations | C4: Nombre d'éléments
A5: Abris | C5: =COUNTIF(Inventaire!C:C,A5) -> 2
A6: Divers | C6: =COUNTIF(Inventaire!C:C,A6) -> 0
A7: Exposition | C7: =COUNTIF(Inventaire!C:C,A7) -> 2
A8: Mobilier | C8: =COUNTIF(Inventaire!C:C,A8) -> 2
A9: Protocole | C9: =COUNTIF(Inventaire!C:C,A9) -> 3
A10: Sécurité | C10: =COUNTIF(Inventaire!C:C,A10) -> 1
A11: Spectacle | C11: =COUNTIF(Inventaire!C:C,A11) -> 1

Sheet Catégories Emprunteurs
A1: =Collectivité&"-"&Service&"-"&Titre&" - Catégories d'emprunteurs" -> Ville d'Excel-les-Bains-Patrimoine-Location d'équipements - Catégories d'emprunteurs
D2: =SUBTOTAL(9,D4:D8) -> 1527
A4: Désignation | B4: Tarif applicable | C4: Observations | D4: Montants
A5: Collectivités | B5: Tarif collectivité | D5: =SUMIF('Entêtes Locations'!H:H,'Catégories Emprunteurs'!A:A,'Entêtes Locations'!L:L) -> 955.5
A6: Divers | B6: Tarif autre | D6: =SUMIF('Entêtes Locations'!H:H,'Catégories Emprunteurs'!A:A,'Entêtes Locations'!L:L) -> 540
A7: Associations | B7: Tarif association | D7: =SUMIF('Entêtes Locations'!H:H,'Catégories Emprunteurs'!A:A,'Entêtes Locations'!L:L) -> 31.5

Sheet Paramètres
A1: Collectivité | B1: Ville d'Excel-les-Bains
A2: Service | B2: Patrimoine
A3: Titre | B3: Location d'équipements
