Workbook
Name Acomptes: Evénements!$D$3:$F$1002
Name Acomptes: Acomptes!$A$3:$J$1000
Name Evénements: Evénements!$A$3:$J$9
Name Liste_Evénements: Paramètres!$A$30:$A$37
Name Liste_Lots: Lots!$A$3:$A$17
Name Liste_Marchés: Marchés!$A$3:$A$9
Name Liste_Modes: Paramètres!$A$5:$A$9
Name Liste_Services: Paramètres!$A$21:$A$26
Name Liste_Types: Paramètres!$A$13:$A$17
Name Lots: Lots!$A$3:$K$1000
Name Marchés: Marchés!$A$3:$R$1000
Name Titre: Paramètres!$B$1
Name Tranches: Tranches!$A$3:$E$21

Sheet Marchés
A1: =Titre&" - Fichier des marchés" -> Recensement des marchés publics - Fichier des marchés | L1: =SUBTOTAL(9,L3:L9) -> 521946.82 | M1: =SUBTOTAL(9,M3:M9) -> 526600 | N1: =SUBTOTAL(9,N3:N9) -> 50000 | O1: =SUBTOTAL(9,O3:O9) -> 476600
A3: Code marché | B3: Libellé | C3: Service acheteur | D3: Mode de passation | E3: Type de marché | F3: Durée en mois | G3: Observations | H3: Année de création | I3: Début | J3: Fin | K3: Nombre de lots | L3: Montant total | M3: Budgété | N3: Acomptes | O3: Solde | P3: Tranche | Q3: Date dernier événement | R3: Dernier événement
A4: 2010-24 | B4: Modernisation des dispositifs de stockage, de sauvegarde et de virtualisation des serveurs informatiques | C4: Informatique | D4: MAPA | E4: Fournitures et services | F4: 36 | H4: 2010 | I4: 40179 | J4: =IF(I4,I4+(F4/12*365.25),"") -> 41274.75 | K4: =COUNTIF(Lots!B:B,Marchés!A:A) -> 1 | L4: =SUMIF(Lots!B:B,Marchés!A:A,Lots!H:H) -> 48988 | M4: =SUMIF(Lots!B:B,Marchés!A:A,Lots!I:I) -> 50000 | N4: =SUMIF(Lots!B:B,Marchés!A:A,Lots!J:J) -> 50000 | O4: =M4-N4 -> 0 | P4: =VLOOKUP(L4,Tranches,3,TRUE) -> Entre 15 et 90 K€ | Q4: =IF(MAX(IF(Evénements!$B$3:$B$9=A4,Evénements!$D$3:$D$9)),MAX(IF(Evénements!$B$3:$B$9=A4,Evénements!$D$3:$D$9)),"") -> 41041 | R4: =IF(ISTEXT(VLOOKUP(A4&"-"&INT(Q4),Evénements,5,FALSE)),VLOOKUP(A4&"-"&INT(Q4),Evénements,5,FALSE),"") -> Clôture
A5: 2012-01 | B5: Réhabilitation du Centre social | C5: Bâtiments | D5: Appel d'offres | E5: Travaux | F5: 12 | H5: 2012 | I5: 41183 | J5: =IF(I5,I5+(F5/12*365.25),"") -> 41548.25 | K5: =COUNTIF(Lots!B:B,Marchés!A:A) -> 8 | L5: =SUMIF(Lots!B:B,Marchés!A:A,Lots!H:H) -> 329191.25 | M5: =SUMIF(Lots!B:B,Marchés!A:A,Lots!I:I) -> 330600 | N5: =SUMIF(Lots!B:B,Marchés!A:A,Lots!J:J) -> 0 | O5: =M5-N5 -> 330600 | P5: =VLOOKUP(L5,Tranches,3,TRUE) -> Supérieur à 200 K€ | Q5: =IF(MAX(IF(Evénements!$B$3:$B$9=A5,Evénements!$D$3:$D$9)),MAX(IF(Evénements!$B$3:$B$9=A5,Evénements!$D$3:$D$9)),"") | R5: =IF(ISTEXT(VLOOKUP(A5&"-"&INT(Q5),Evénements,5,FALSE)),VLOOKUP(A5&"-"&INT(Q5),Evénements,5,FALSE),"")
A6: 2012-08 | B6: Travaux programmés de voirie 2012 | C6: Voirie | D6: MAPA | E6: Travaux | F6: 12 | H6: 2012 | I6: 41122 | J6: =IF(I6,I6+(F6/12*365.25),"") -> 41487.25 | K6: =COUNTIF(Lots!B:B,Marchés!A:A) -> 2 | L6: =SUMIF(Lots!B:B,Marchés!A:A,Lots!H:H) -> 110322.75 | M6: =SUMIF(Lots!B:B,Marchés!A:A,Lots!I:I) -> 112000 | N6: =SUMIF(Lots!B:B,Marchés!A:A,Lots!J:J) -> 0 | O6: =M6-N6 -> 112000 | P6: =VLOOKUP(L6,Tranches,3,TRUE) -> Entre 90 et 200 000 K€ | Q6: =IF(MAX(IF(Evénements!$B$3:$B$9=A6,Evénements!$D$3:$D$9)),MAX(IF(Evénements!$B$3:$B$9=A6,Evénements!$D$3:$D$9)),"") | R6: =IF(ISTEXT(VLOOKUP(A6&"-"&INT(Q6),Evénements,5,FALSE)),VLOOKUP(A6&"-"&INT(Q6),Evénements,5,FALSE),"")
A7: 2012-02 | B7: Entretien du parc de feux tricolores | C7: Voirie | D7: MAPA | E7: Travaux | F7: 60 | H7: 2012 | I7: 40940 | J7: =IF(I7,I7+(F7/12*365.25),"") -> 42766.25 | K7: =COUNTIF(Lots!B:B,Marchés!A:A) -> 1 | L7: =SUMIF(Lots!B:B,Marchés!A:A,Lots!H:H) -> 16722.41 | M7: =SUMIF(Lots!B:B,Marchés!A:A,Lots!I:I) -> 17000 | N7: =SUMIF(Lots!B:B,Marchés!A:A,Lots!J:J) -> 0 | O7: =M7-N7 -> 17000 | P7: =VLOOKUP(L7,Tranches,3,TRUE) -> Entre 15 et 90 K€ | Q7: =IF(MAX(IF(Evénements!$B$3:$B$9=A7,Evénements!$D$3:$D$9)),MAX(IF(Evénements!$B$3:$B$9=A7,Evénements!$D$3:$D$9)),"") | R7: =IF(ISTEXT(VLOOKUP(A7&"-"&INT(Q7),Evénements,5,FALSE)),VLOOKUP(A7&"-"&INT(Q7),Evénements,5,FALSE),"")
A8: 2012-06 | B8: Travaux d'impression des supports d'information municipaux | C8: Communication | D8: MAPA | E8: Travaux | F8: 36 | H8: 2012 | I8: 41075 | J8: =IF(I8,I8+(F8/12*365.25),"") -> 42170.75 | K8: =COUNTIF(Lots!B:B,Marchés!A:A) -> 1 | L8: =SUMIF(Lots!B:B,Marchés!A:A,Lots!H:H) -> 16722.41 | M8: =SUMIF(Lots!B:B,Marchés!A:A,Lots!I:I) -> 17000 | N8: =SUMIF(Lots!B:B,Marchés!A:A,Lots!J:J) -> 0 | O8: =M8-N8 -> 17000 | P8: =VLOOKUP(L8,Tranches,3,TRUE) -> Entre 15 et 90 K€ | Q8: =IF(MAX(IF(Evénements!$B$3:$B$9=A8,Evénements!$D$3:$D$9)),MAX(IF(Evénements!$B$3:$B$9=A8,Evénements!$D$3:$D$9)),"") | R8: =IF(ISTEXT(VLOOKUP(A8&"-"&INT(Q8),Evénements,5,FALSE)),VLOOKUP(A8&"-"&INT(Q8),Evénements,5,FALSE),"")

Sheet Lots
A1: =Titre&" - Fichier des lots" -> Recensement des marchés publics - Fichier des lots | H1: =SUBTOTAL(9,H3:H17) -> 521946.82 | I1: =SUBTOTAL(9,I3:I17) -> 526600 | J1: =SUBTOTAL(9,J3:J17) -> 50000 | K1: =SUBTOTAL(9,K3:K17) -> 476600
A3: Identifiant | B3: Marché | C3: Libellé | D3: Numéro de lot | E3: Libellé du lot | F3: Titulaire | G3: Observations | H3: Montant total TTC | I3: Budgété | J3: Acomptes | K3: Solde
A4: =B4&"-"&D4 -> 2010-24-1 | B4: 2010-24 | C4: =VLOOKUP(B4,Marchés,2,FALSE) -> Modernisation des dispositifs de stockage, de sauvegarde et de virtualisation des serveurs informatiques | D4: 1 | E4: Modernisation des dispositifs de stockage, de sauvegarde et de virtualisation des serveurs informatiques | F4: Access Diffusion | H4: 48988 | I4: 50000 | J4: =SUMIF(Acomptes!A:A,A:A,Acomptes!I:I) -> 50000 | K4: =I4-J4 -> 0
A5: =B5&"-"&D5 -> 2012-01-1 | B5: 2012-01 | C5: =VLOOKUP(B5,Marchés,2,FALSE) -> Réhabilitation du Centre social | D5: 1 | E5: Charpente - couverture | F5: Bezacier - 42460 | H5: 71280.7 | I5: 72000 | J5: =SUMIF(Acomptes!A:A,A:A,Acomptes!I:I) -> 0 | K5: =I5-J5 -> 72000
A6: =B6&"-"&D6 -> 2012-01-2 | B6: 2012-01 | C6: =VLOOKUP(B6,Marchés,2,FALSE) -> Réhabilitation du Centre social | D6: 2 | E6: Plafonds suspendus - plâtrerie - peinture | F6: Chrisdécor - 71340 | H6: 78344 | I6: 78500 | J6: =SUMIF(Acomptes!A:A,A:A,Acomptes!I:I) -> 0 | K6: =I6-J6 -> 78500
A7: =B7&"-"&D7 -> 2012-01-3 | B7: 2012-01 | C7: =VLOOKUP(B7,Marchés,2,FALSE) -> Réhabilitation du Centre social | D7: 3 | E7: Maçonnerie - carrelage | F7: O2 - 42590 | H7: 25075.51 | I7: 25100 | J7: =SUMIF(Acomptes!A:A,A:A,Acomptes!I:I) -> 0 | K7: =I7-J7 -> 25100
A8: =B8&"-"&D8 -> 2012-01-4 | B8: 2012-01 | C8: =VLOOKUP(B8,Marchés,2,FALSE) -> Réhabilitation du Centre social | D8: 4 | E8: Menuiseries extérieures | F8: B'Alu - 71340 | H8: 51869.1 | I8: 52000 | J8: =SUMIF(Acomptes!A:A,A:A,Acomptes!I:I) -> 0 | K8: =I8-J8 -> 52000
A9: =B9&"-"&D9 -> 2012-01-5 | B9: 2012-01 | C9: =VLOOKUP(B9,Marchés,2,FALSE) -> Réhabilitation du Centre social | D9: 5 | E9: Menuiseries intérieures | F9: Chapuis - 42110 | H9: 37759.6 | I9: 38000 | J9: =SUMIF(Acomptes!A:A,A:A,Acomptes!I:I) -> 0 | K9: =I9-J9 -> 38000
A10: =B10&"-"&D10 -> 2012-01-6 | B10: 2012-01 | C10: =VLOOKUP(B10,Marchés,2,FALSE) -> Réhabilitation du Centre social | D10: 6 | E10: Plomberie - sanitaire | F10: Raquin-Duchon - 42300 | H10: 6452.34 | I10: 6500 | J10: =SUMIF(Acomptes!A:A,A:A,Acomptes!I:I) -> 0 | K10: =I10-J10 -> 6500
A11: =B11&"-"&D11 -> 2012-01-7 | B11: 2012-01 | C11: =VLOOKUP(B11,Marchés,2,FALSE) -> Réhabilitation du Centre social | D11: 7 | E11: Portes automatiques | F11: Dorma Accueil - 69200 | H11: 7000 | I11: 7000 | J11: =SUMIF(Acomptes!A:A,A:A,Acomptes!I:I) -> 0 | K11: =I11-J11 -> 7000
A12: =B12&"-"&D12 -> 2012-01-8 | B12: 2012-01 | C12: =VLOOKUP(B12,Marchés,2,FALSE) -> Réhabilitation du Centre social | D12: 8 | E12: Electricité | F12: Rocharm - 69240 | H12: 51410 | I12: 51500 | J12: =SUMIF(Acomptes!A:A,A:A,Acomptes!I:I) -> 0 | K12: =I12-J12 -> 51500
A13: =B13&"-"&D13 -> 2012-08-1 | B13: 2012-08 | C13: =VLOOKUP(B13,Marchés,2,FALSE) -> Travaux programmés de voirie 2012 | D13: 1 | E13: Réfection rue de Beaulieu | F13: Eurovia Dala - 42153 | H13: 63175.95 | I13: 64000 | J13: =SUMIF(Acomptes!A:A,A:A,Acomptes!I:I) -> 0 | K13: =I13-J13 -> 64000
A14: =B14&"-"&D14 -> 2012-08-2 | B14: 2012-08 | C14: =VLOOKUP(B14,Marchés,2,FALSE) -> Travaux programmés de voirie 2012 | D14: 2 | E14: Réfection route de l'Aéroport | F14: Eurovia Dala - 42153 | H14: 47146.8 | I14: 48000 | J14: =SUMIF(Acomptes!A:A,A:A,Acomptes!I:I) -> 0 | K14: =I14-J14 -> 48000
A15: =B15&"-"&D15 -> 2012-02-2 | B15: 2012-02 | C15: =VLOOKUP(B15,Marchés,2,FALSE) -> Entretien du parc de feux tricolores | D15: 2 | E15: Entretien du parc de feux tricolores | F15: Cegelec - 42300 | H15: 16722.41 | I15: 17000 | J15: =SUMIF(Acomptes!A:A,A:A,Acomptes!I:I) -> 0 | K15: =I15-J15 -> 17000
A16: =B16&"-"&D16 -> 2012-06-2 | B16: 2012-06 | C16: =VLOOKUP(B16,Marchés,2,FALSE) -> Travaux d'impression des supports d'information municipaux | D16: 2 | E16: Entretien du parc de feux tricolores | F16: Cegelec - 42300 | H16: 16722.41 | I16: 17000 | J16: =SUMIF(Acomptes!A:A,A:A,Acomptes!I:I) -> 0 | K16: =I16-J16 -> 17000

Sheet Acomptes
A1: =Titre&" - Fichier des acomptes" -> Recensement des marchés publics - Fichier des acomptes | F1: =SUBTOTAL(3,B3:B7)-1&" acomptes" -> 3 acomptes | I1: =SUBTOTAL(9,I3:I7) -> 50000
A3: Identifiant | B3: Marché | C3: Numéro de lot | D3: Libellé du marché | E3: Libellé du lot | F3: Titulaire | G3: Date de l'acompte | H3: Numéro de mandat | I3: Montant TTC | J3: Observations
A4: =B4&"-"&C4 -> 2010-24-1 | B4: 2010-24 | C4: 1 | D4: =VLOOKUP(B4,Marchés,2,FALSE) -> Modernisation des dispositifs de stockage, de sauvegarde et de virtualisation des serveurs informatiques | E4: =VLOOKUP(B4&"-"&C4,Lots,5,FALSE) -> Modernisation des dispositifs de stockage, de sauvegarde et de virtualisation des serveurs informatiques | F4: =VLOOKUP(B4&"-"&C4,Lots,6,FALSE) -> Access Diffusion | G4: 40630 | H4: 254 | I4: 11000
A5: =B5&"-"&C5 -> 2010-24-1 | B5: 2010-24 | C5: 1 | D5: =VLOOKUP(B5,Marchés,2,FALSE) -> Modernisation des dispositifs de stockage, de sauvegarde et de virtualisation des serveurs informatiques | E5: =VLOOKUP(B5&"-"&C5,Lots,5,FALSE) -> Modernisation des dispositifs de stockage, de sauvegarde et de virtualisation des serveurs informatiques | F5: =VLOOKUP(B5&"-"&C5,Lots,6,FALSE) -> Access Diffusion | G5: 40661 | H5: 645 | I5: 22000
A6: =B6&"-"&C6 -> 2010-24-1 | B6: 2010-24 | C6: 1 | D6: =VLOOKUP(B6,Marchés,2,FALSE) -> Modernisation des dispositifs de stockage, de sauvegarde et de virtualisation des serveurs informatiques | E6: =VLOOKUP(B6&"-"&C6,Lots,5,FALSE) -> Modernisation des dispositifs de stockage, de sauvegarde et de virtualisation des serveurs informatiques | F6: =VLOOKUP(B6&"-"&C6,Lots,6,FALSE) -> Access Diffusion | G6: 40691 | H6: 966 | I6: 17000

Sheet Evénements
A1: Recensement des marchés publics - Fichier des évènements
A3: Code recherche | B3: Marché | C3: Libellé | D3: Date | E3: Evénement | F3: Observations | G3: Service acheteur | H3: Mode de passation | I3: Type de marché | J3: Durée en mois
A4: =B4&"-"&INT(D4) -> 2010-24-40586 | B4: 2010-24 | C4: =VLOOKUP(B4,Marchés,2,FALSE) -> Modernisation des dispositifs de stockage, de sauvegarde et de virtualisation des serveurs informatiques | D4: 40586 | E4: Publicité | F4: France-Soir, Le Chasseur Français, Paris-Match | G4: =VLOOKUP(B4,Marchés,3,FALSE) -> Informatique | H4: =VLOOKUP(B4,Marchés,4,FALSE) -> MAPA | I4: =VLOOKUP(B4,Marchés,5,FALSE) -> Fournitures et services | J4: =VLOOKUP(B4,Marchés,6,FALSE) -> 36
A5: =B5&"-"&INT(D5) -> 2010-24-40614 | B5: 2010-24 | C5: =VLOOKUP(B5,Marchés,2,FALSE) -> Modernisation des dispositifs de stockage, de sauvegarde et de virtualisation des serveurs informatiques | D5: 40614 | E5: Ouverture des plis | F5: Maire, Adjoint aux TICE, Responsable Marché Responsable Informatique | G5: =VLOOKUP(B5,Marchés,3,FALSE) -> Informatique | H5: =VLOOKUP(B5,Marchés,4,FALSE) -> MAPA | I5: =VLOOKUP(B5,Marchés,5,FALSE) -> Fournitures et services | J5: =VLOOKUP(B5,Marchés,6,FALSE) -> 36
A6: =B6&"-"&INT(D6) -> 2010-24-40645 | B6: 2010-24 | C6: =VLOOKUP(B6,Marchés,2,FALSE) -> Modernisation des dispositifs de stockage, de sauvegarde et de virtualisation des serveurs informatiques | D6: 40645 | E6: Choix en CEM | G6: =VLOOKUP(B6,Marchés,3,FALSE) -> Informatique | H6: =VLOOKUP(B6,Marchés,4,FALSE) -> MAPA | I6: =VLOOKUP(B6,Marchés,5,FALSE) -> Fournitures et services | J6: =VLOOKUP(B6,Marchés,6,FALSE) -> 36
A7: =B7&"-"&INT(D7) -> 2010-24-40675 | B7: 2010-24 | C7: =VLOOKUP(B7,Marchés,2,FALSE) -> Modernisation des dispositifs de stockage, de sauvegarde et de virtualisation des serveurs informatiques | D7: 40675 | E7: Notification | G7: =VLOOKUP(B7,Marchés,3,FALSE) -> Informatique | H7: =VLOOKUP(B7,Marchés,4,FALSE) -> MAPA | I7: =VLOOKUP(B7,Marchés,5,FALSE) -> Fournitures et services | J7: =VLOOKUP(B7,Marchés,6,FALSE) -> 36
A8: =B8&"-"&INT(D8) -> 2010-24-41041 | B8: 2010-24 | C8: =VLOOKUP(B8,Marchés,2,FALSE) -> Modernisation des dispositifs de stockage, de sauvegarde et de virtualisation des serveurs informatiques | D8: 41041 | E8: Clôture | G8: =VLOOKUP(B8,Marchés,3,FALSE) -> Informatique | H8: =VLOOKUP(B8,Marchés,4,FALSE) -> MAPA | I8: =VLOOKUP(B8,Marchés,5,FALSE) -> Fournitures et services | J8: =VLOOKUP(B8,Marchés,6,FALSE) -> 36

Sheet Tranches
A1: =Titre&" - Table des tranches" -> Recensement des marchés publics - Table des tranches | D1: =SUBTOTAL(9,D3:D21) -> 5 | E1: =SUBTOTAL(9,E3:E21) -> 521946.82
A3: Montant mini | B3: Montant maxi | C3: Libellé | D3: Nombre de marchés | E3: Montants totaux
A4: 0 | B4: 14999 | C4: Inférieur à 15 K€ | D4: =COUNTIF(Marchés!P:P,Tranches!C:C) -> 0 | E4: =SUMIF(Marchés!P:P,Tranches!C:C,Marchés!L:L) -> 0
A5: 15000 | B5: 89999 | C5: Entre 15 et 90 K€ | D5: =COUNTIF(Marchés!P:P,Tranches!C:C) -> 3 | E5: =SUMIF(Marchés!P:P,Tranches!C:C,Marchés!L:L) -> 82432.82
A6: 90000 | B6: 199999 | C6: Entre 90 et 200 000 K€ | D6: =COUNTIF(Marchés!P:P,Tranches!C:C) -> 1 | E6: =SUMIF(Marchés!P:P,Tranches!C:C,Marchés!L:L) -> 110322.75
A7: 200000 | B7: 999999 | C7: Supérieur à 200 K€ | D7: =COUNTIF(Marchés!P:P,Tranches!C:C) -> 1 | E7: =SUMIF(Marchés!P:P,Tranches!C:C,Marchés!L:L) -> 329191.25
D8: =COUNTIF(Marchés!P:P,Tranches!C:C) -> 0 | E8: =SUMIF(Marchés!P:P,Tranches!C:C,Marchés!L:L) -> 0
D9: =COUNTIF(Marchés!P:P,Tranches!C:C) -> 0 | E9: =SUMIF(Marchés!P:P,Tranches!C:C,Marchés!L:L) -> 0
D10: =COUNTIF(Marchés!P:P,Tranches!C:C) -> 0 | E10: =SUMIF(Marchés!P:P,Tranches!C:C,Marchés!L:L) -> 0
D11: =COUNTIF(Marchés!P:P,Tranches!C:C) -> 0 | E11: =SUMIF(Marchés!P:P,Tranches!C:C,Marchés!L:L) -> 0
D12: =COUNTIF(Marchés!P:P,Tranches!C:C) -> 0 | E12: =SUMIF(Marchés!P:P,Tranches!C:C,Marchés!L:L) -> 0
D13: =COUNTIF(Marchés!P:P,Tranches!C:C) -> 0 | E13: =SUMIF(Marchés!P:P,Tranches!C:C,Marchés!L:L) -> 0
D14: =COUNTIF(Marchés!P:P,Tranches!C:C) -> 0 | E14: =SUMIF(Marchés!P:P,Tranches!C:C,Marchés!L:L) -> 0
D15: =COUNTIF(Marchés!P:P,Tranches!C:C) -> 0 | E15: =SUMIF(Marchés!P:P,Tranches!C:C,Marchés!L:L) -> 0
D16: =COUNTIF(Marchés!P:P,Tranches!C:C) -> 0 | E16: =SUMIF(Marchés!P:P,Tranches!C:C,Marchés!L:L) -> 0
D17: =COUNTIF(Marchés!P:P,Tranches!C:C) -> 0 | E17: =SUMIF(Marchés!P:P,Tranches!C:C,Marchés!L:L) -> 0
D18: =COUNTIF(Marchés!P:P,Tranches!C:C) -> 0 | E18: =SUMIF(Marchés!P:P,Tranches!C:C,Marchés!L:L) -> 0
D19: =COUNTIF(Marchés!P:P,Tranches!C:C) -> 0 | E19: =SUMIF(Marchés!P:P,Tranches!C:C,Marchés!L:L) -> 0
D20: =COUNTIF(Marchés!P:P,Tranches!C:C) -> 0 | E20: =SUMIF(Marchés!P:P,Tranches!C:C,Marchés!L:L) -> 0

Sheet Synthèses
A1: Type de marché | B1: (Tous)
A2: Année de création | B2: (Tous)
A4: Montants
C5: Appel d'offres | D5: MAPA | E5: Total général
A6: Bâtiments | B6: Supérieur à 200 K€ | C6: 329191.25 | E6: 329191.25
A7: Total Bâtiments | C7: 329191.25 | E7: 329191.25
A8: Communication | B8: Entre 15 et 90 K€ | D8: 16722.41 | E8: 16722.41
A9: Total Communication | D9: 16722.41 | E9: 16722.41
A10: Informatique | B10: Entre 15 et 90 K€ | D10: 48988 | E10: 48988
A11: Total Informatique | D11: 48988 | E11: 48988
A12: Voirie | B12: Entre 15 et 90 K€ | D12: 16722.41 | E12: 16722.41
B13: Entre 90 et 200 000 K€ | D13: 110322.75 | E13: 110322.75
A14: Total Voirie | D14: 127045.16 | E14: 127045.16
A15: Total général | C15: 329191.25 | D15: 192755.57 | E15: 521946.82

Sheet Paramètres
A1: Titre | B1: Recensement des marchés publics
A4: Modes de passation
A5: Libellé | B5: Observations
A6: MAPA
A7: Appel d'offres
A12: Types de marché
A13: Libellé | B13: Observations
A14: Fournitures et services
A15: Travaux
A20: Services acheteurs
A21: Libellé | B21: Observations
A22: Bâtiments
A23: Communication
A24: Informatique
A25: Voirie
A29: Evénements
A30: Libellé | B30: Observations
A31: Publicité
A32: Ouverture des plis
A33: Notification
A34: Choix en CAO
A35: Choix en CEM
A36: Clôture
