Workbook
Name Comptes_Recettes: 'Comptes de recettes'!$A$3:$F$10
Name Echéancier: Echéancier!$A$3:$G$9
Name Liste_Comptes_Recette: 'Comptes de recettes'!$A$3:$A$10
Name Liste_Responsables: Paramètres!$A$12:$A$29
Name Liste_Statuts: Paramètres!$A$3:$A$10
Name Liste_Types_Financement: Paramètres!$A$31:$A$40
Name Responsables: Paramètres!$A$12:$A$29
Name Statuts: Paramètres!$A$3:$A$10
Name Subventions: Subventions!$A$3:$O$6
Name Types_Financement: Paramètres!$A$31:$A$40

Sheet Subventions
A1: Suivi opérationnel des subventions | K1: =SUBTOTAL(9,K4:K997) -> 850000 | L1: =SUBTOTAL(9,L4:L997) -> 80000 | M1: =SUBTOTAL(9,M4:M997) -> 770000
A3: N° OP | B3: Statut du dossier | C3: Responsable Projet | D3: Nom du bailleur | E3: Objet de la subvention | F3: Type de financement | G3: Début de la convention | H3: Fin de la convention | I3: Retard Nbre d'envoi | J3: Montant demandé | K3: Montant accordé | L3: Montant encaissé | M3: Reste à encaisser | N3: N° compte tiers | O3: N° compte recette
A4: 15001 | B4: Sollicité | C4: OPS-COO | D4: MACHIN | E4: Projet numéro 1 | F4: International | G4: 42069 | H4: 42861 | I4: =SUMIF(Echéancier!A:A,Subventions!A4,Echéancier!H:H) -> 1 | J4: ='15001'!$F$16 -> 350000 | K4: 350000 | L4: =SUMIF(Echéancier!A:A,Subventions!A4,Echéancier!F:F) -> 80000 | M4: =K4-L4 -> 270000 | N4: 44104100 | O4: 74104100
A5: 15002 | B5: Acceptée | C5: OPS-FCA | D5: BIDULE | E5: Projet numéro 2 | F5: Privé | G5: 42069 | H5: 42861 | I5: =SUMIF(Echéancier!A:A,Subventions!A5,Echéancier!H:H) -> 0 | J5: 300000 | K5: 300000 | L5: =SUMIF(Echéancier!A:A,Subventions!A5,Echéancier!F:F) -> 0 | M5: =K5-L5 -> 300000 | N5: 44104100 | O5: 74103000
A6: 15003 | B6: Sollicité | C6: PDC-COO | D6: TRUC | E6: Projet numéro 3 | F6: Région Rhône Alpes | G6: 42069 | H6: 42861 | I6: =SUMIF(Echéancier!A:A,Subventions!A6,Echéancier!H:H) -> 0 | J6: 200000 | K6: 200000 | L6: =SUMIF(Echéancier!A:A,Subventions!A6,Echéancier!F:F) -> 0 | M6: =K6-L6 -> 200000 | N6: 44104100 | O6: 74509000

Sheet Synthèses subventions
A1: Type de financement | B1: (Tous)
B3: Statut du dossier | C3: Valeurs
B4: Acceptée | E4: Sollicité | H4: Total Montants accordés | I4: Total Montants encaissés | J4: Total Restes à encaisser
A5: N° compte recette | B5: Montants accordés | C5: Montants encaissés | D5: Restes à encaisser | E5: Montants accordés | F5: Montants encaissés | G5: Restes à encaisser
A6: 74103000 | B6: 300000 | C6: 0 | D6: 300000 | H6: 300000 | I6: 0 | J6: 300000
A7: 74104100 | E7: 350000 | F7: 80000 | G7: 270000 | H7: 350000 | I7: 80000 | J7: 270000
A8: 74509000 | E8: 200000 | F8: 0 | G8: 200000 | H8: 200000 | I8: 0 | J8: 200000
A9: Total général | B9: 300000 | C9: 0 | D9: 300000 | E9: 550000 | F9: 80000 | G9: 470000 | H9: 850000 | I9: 80000 | J9: 770000

Sheet Echéancier
A1: Fichier des échéanciers | D1: =SUBTOTAL(9,D3:D1003) -> 700000 | E1: =SUBTOTAL(9,E3:E1003) -> 1600000 | F1: =SUBTOTAL(9,F3:F1003) -> 80000 | G1: =SUBTOTAL(9,G3:G1003) -> 620000
A3: N° OP | B3: Montant accordé | C3: Année | D3: Montant échéance | E3: Total échéancier | F3: Montant encaissement | G3: Reste à encaisser | H3: Alerte
A4: 15001 | B4: =VLOOKUP(A4,Subventions,12,FALSE) -> 80000 | C4: 2014 | D4: 100000 | E4: =SUMIF(A:A,A4,D:D) -> 350000 | F4: 80000 | G4: =D4-F4 -> 20000 | H4: =IF(AND(YEAR(TODAY())>C4,G4>0),YEAR(TODAY())-C4,"") -> 1
A5: 15001 | B5: =VLOOKUP(A5,Subventions,12,FALSE) -> 80000 | C5: 2015 | D5: 100000 | E5: =SUMIF(A:A,A5,D:D) -> 350000 | G5: =D5-F5 -> 100000 | H5: =IF(AND(YEAR(TODAY())>C5,G5>0),YEAR(TODAY())-C5,"")
A6: 15001 | B6: =VLOOKUP(A6,Subventions,12,FALSE) -> 80000 | C6: 2016 | D6: 150000 | E6: =SUMIF(A:A,A6,D:D) -> 350000 | G6: =D6-F6 -> 150000 | H6: =IF(AND(YEAR(TODAY())>C6,G6>0),YEAR(TODAY())-C6,"")
A7: 15002 | B7: =VLOOKUP(A7,Subventions,12,FALSE) -> 0 | C7: 2015 | D7: 100000 | E7: =SUMIF(A:A,A7,D:D) -> 200000 | G7: =D7-F7 -> 100000 | H7: =IF(AND(YEAR(TODAY())>C7,G7>0),YEAR(TODAY())-C7,"")
A8: 15002 | B8: =VLOOKUP(A8,Subventions,12,FALSE) -> 0 | C8: 2016 | D8: 100000 | E8: =SUMIF(A:A,A8,D:D) -> 200000 | G8: =D8-F8 -> 100000 | H8: =IF(AND(YEAR(TODAY())>C8,G8>0),YEAR(TODAY())-C8,"")
A9: 15003 | B9: =VLOOKUP(A9,Subventions,12,FALSE) -> 0 | C9: 2016 | D9: 150000 | E9: =SUMIF(A:A,A9,D:D) -> 150000 | G9: =D9-F9 -> 150000 | H9: =IF(AND(YEAR(TODAY())>C9,G9>0),YEAR(TODAY())-C9,"")

Sheet Synthèses Echéancier
B3: Année | C3: Valeurs
B4: 2015 | E4: 2016 | H4: 2017 | K4: Total Echéances prévues | L4: Total Montants encaissés | M4: Total Soldes
A5: N° OP | B5: Echéances prévues | C5: Montants encaissés | D5: Soldes | E5: Echéances prévues | F5: Montants encaissés | G5: Soldes | H5: Echéances prévues | I5: Montants encaissés | J5: Soldes
A6: 15001 | B6: 100000 | C6: 100000 | D6: 0 | E6: 100000 | G6: 100000 | H6: 150000 | J6: 150000 | K6: 350000 | L6: 100000 | M6: 250000
A7: 15002 | B7: 100000 | D7: 100000 | E7: 100000 | G7: 100000 | K7: 200000 | M7: 200000
A8: 15003 | E8: 150000 | G8: 150000 | K8: 150000 | M8: 150000
A9: Total général | B9: 200000 | C9: 100000 | D9: 100000 | E9: 350000 | G9: 350000 | H9: 150000 | J9: 150000 | K9: 700000 | L9: 100000 | M9: 600000

Sheet Comptes de recettes
A1: Comptes de recettes | D1: =SUBTOTAL(9,D2:D1000) -> 850000 | E1: =SUBTOTAL(9,E2:E1000) -> 0 | F1: =SUBTOTAL(9,F2:F1000) -> 850000
A3: Numéro | B3: Libellé Bailleur | C3: Type Bailleur | D3: Montants accordés | E3: Montants encaissés | F3: Ecarts
A4: 74103000 | B4: CONSEILS GENERAUX DEPARTEMENTS | C4: Départements | D4: =SUMIF(Subventions!O:O,'Comptes de recettes'!A4,Subventions!K:K) -> 300000 | F4: =D4-E4 -> 300000
A5: 74103100 | B5: CONSEIL GENERAL du Rhône | C5: Départements | D5: =SUMIF(Subventions!O:O,'Comptes de recettes'!A5,Subventions!K:K) -> 0 | F5: =D5-E5 -> 0
A6: 74104000 | B6: EUROPE | C6: International | D6: =SUMIF(Subventions!O:O,'Comptes de recettes'!A6,Subventions!K:K) -> 0 | F6: =D6-E6 -> 0
A7: 74104100 | B7: INTERNATIONAL Hors Europe | C7: International | D7: =SUMIF(Subventions!O:O,'Comptes de recettes'!A7,Subventions!K:K) -> 350000 | F7: =D7-E7 -> 350000
A8: 74502000 | B8: ENTREPRISE | C8: Privé | D8: =SUMIF(Subventions!O:O,'Comptes de recettes'!A8,Subventions!K:K) -> 0 | F8: =D8-E8 -> 0
A9: 74509000 | B9: PRIVE AUTRE | C9: Privé | D9: =SUMIF(Subventions!O:O,'Comptes de recettes'!A9,Subventions!K:K) -> 200000 | F9: =D9-E9 -> 200000

Sheet Alertes
A1: Alerte Paiement | F1: Alerte Rapport
A3: N° OP | B3: Date Prévu | C3: Montant Prévu | D3: Observations | F3: N° OP | G3: Échéance | H3: Type de rapport | I3: Observations

Sheet 15001
B1: DOSSIER CHRONO ORIGINAL A RETOURNER
B3: Code OP | D3: 15001 | F3: Statut | G3: Sollicité | I3: Bailleur
I4: Nom | J4: MACHIN
F5: Comptabilité | I5: Type de financement | J5: International
F6: Compte tiers | G6: 44104100 | I6: Objet de la subvention
F7: Compte recette | G7: =IF(ISBLANK(G6),"",LOOKUP(G6,Base!A:A,Base!B:B)) -> 74104100 | I7: Projet de mise en place XX
F9: Responsable | G9: OPS-COO
F11: Dossier créé le | G11: 15001
B13: Accord du bailleur
B15: Référence du contrat | D15: Date d'accord | F15: Montant demandé | G15: Montant accordé | I15: Montant révisé | J15: Date de début | K15: Date de fin
B16: XXXX | D16: 42069 | F16: 350000 | G16: 280000 | J16: 42069 | K16: 42861
B19: Affectations du financement
B21: Année | D21: Action | F21: Code Analytique | G21: Montant Prévu | I21: Montant Révisé | J21: Observations
B22: 2015 | F22: ASICOURT00 | G22: 140000
B23: 2016 | F23: ASILONG00 | G23: 100000
B24: 2016 | F24: ASILONG00 | G24: 20000
F26: Montant Total | G26: =SUM(G22:G25) -> 260000 | I26: =SUM(I22:I25) -> 0
B29: Echéancier
B31: Date Prévu | D31: Montant Prévu | F31: Montant Versé | G31: Date Compta | I31: Facture n° | J31: Observations | M31: Retard Paiement | N31: Jours de retard
B32: 42069 | C32: =YEAR(B32) -> 2015 | D32: 50000 | F32: 50000 | G32: 42100 | I32: xxxx | M32: =IF(ISBLANK(B32),"",IF(AND(TODAY()>B32,D32-F32<>0),"Alerte Paiement","")) | N32: =IF(M32="","",TODAY()-B32)
B33: 42069 | C33: =YEAR(B33) -> 2015 | D33: 60000 | J33: Facture à faire | M33: =IF(ISBLANK(B33),"",IF(AND(TODAY()>B33,D33-F33<>0),"Alerte Paiement","")) -> Alerte Paiement | N33: =IF(M33="","",TODAY()-B33) -> 98
B34: 42369 | C34: =YEAR(B34) -> 2015 | D34: 80000 | J34: Facture à faire | M34: =IF(ISBLANK(B34),"",IF(AND(TODAY()>B34,D34-F34<>0),"Alerte Paiement","")) | N34: =IF(M34="","",TODAY()-B34)
B35: 42402 | C35: =YEAR(B35) -> 2016 | D35: 40000 | J35: Facture à faire | M35: =IF(ISBLANK(B35),"",IF(AND(TODAY()>B35,D35-F35<>0),"Alerte Paiement","")) | N35: =IF(M35="","",TODAY()-B35)
B36: 42861 | C36: =YEAR(B36) -> 2017 | D36: 30000 | J36: Facture à faire | M36: =IF(ISBLANK(B36),"",IF(AND(TODAY()>B36,D36-F36<>0),"Alerte Paiement","")) | N36: =IF(M36="","",TODAY()-B36)
C37: =YEAR(B37) -> 1900 | M37: =IF(ISBLANK(B37),"",IF(AND(TODAY()>B37,D37-F37<>0),"Alerte Paiement","")) | N37: =IF(M37="","",TODAY()-B37)
C38: =YEAR(B38) -> 1900 | M38: =IF(ISBLANK(B38),"",IF(AND(TODAY()>B38,D38-F38<>0),"Alerte Paiement","")) | N38: =IF(M38="","",TODAY()-B38)
C39: =YEAR(B39) -> 1900 | M39: =IF(ISBLANK(B39),"",IF(AND(TODAY()>B39,D39-F39<>0),"Alerte Paiement","")) | N39: =IF(M39="","",TODAY()-B39)
C40: =YEAR(B40) -> 1900 | M40: =IF(ISBLANK(B40),"",IF(AND(TODAY()>B40,D40-F40<>0),"Alerte Paiement","")) | N40: =IF(M40="","",TODAY()-B40)
C41: =YEAR(B41) -> 1900 | M41: =IF(ISBLANK(B41),"",IF(AND(TODAY()>B41,D41-F41<>0),"Alerte Paiement","")) | N41: =IF(M41="","",TODAY()-B41)
C42: =YEAR(B42) -> 1900 | M42: =IF(ISBLANK(B42),"",IF(AND(TODAY()>B42,D42-F42<>0),"Alerte Paiement","")) | N42: =IF(M42="","",TODAY()-B42)
B43: Montant Total | D43: =SUM(D32:D42) -> 260000 | F43: =SUM(F32:F42) -> 50000
B47: Rapports au bailleur
B49: Échéance | D49: Type de rapport | I49: Date d'envoi | J49: Observations | M49: Retard Rapport | N49: Jours de retard
B50: 42069 | C50: =YEAR(B50) -> 2015 | D50: Plan de rédaction du rapport + facture | I50: 42078 | M50: =IF(ISBLANK(B50),"",IF(AND(TODAY()>B50,I50<>""),"Alerte Rapport","")) -> Alerte Rapport | N50: =IF(M50="","",TODAY()-B50) -> 98
B51: 42100 | C51: =YEAR(B51) -> 2015 | D51: Remise du document projet et annexe | M51: =IF(ISBLANK(B51),"",IF(AND(TODAY()>B51,I51<>""),"Alerte Rapport","")) | N51: =IF(M51="","",TODAY()-B51)
B52: 42130 | C52: =YEAR(B52) -> 2015 | M52: =IF(ISBLANK(B52),"",IF(AND(TODAY()>B52,I52<>""),"Alerte Rapport","")) | N52: =IF(M52="","",TODAY()-B52)
B53: 42161 | C53: =YEAR(B53) -> 2015 | M53: =IF(ISBLANK(B53),"",IF(AND(TODAY()>B53,I53<>""),"Alerte Rapport","")) | N53: =IF(M53="","",TODAY()-B53)
B54: 41765 | C54: =YEAR(B54) -> 2014 | D54: Bilan final | M54: =IF(ISBLANK(B54),"",IF(AND(TODAY()>B54,I54<>""),"Alerte Rapport","")) | N54: =IF(M54="","",TODAY()-B54)
C55: =YEAR(B55) -> 1900 | M55: =IF(ISBLANK(B55),"",IF(AND(TODAY()>B55,I55<>""),"Alerte Rapport","")) | N55: =IF(M55="","",TODAY()-B55)
C56: =YEAR(B56) -> 1900 | M56: =IF(ISBLANK(B56),"",IF(AND(TODAY()>B56,I56<>""),"Alerte Rapport","")) | N56: =IF(M56="","",TODAY()-B56)
...

Sheet Base
A1: Cpte Tiers | B1: Cpte Recette | C1: Libellé Bailleur | D1: Type Bailleur | F1: Responsable Projet
A2: 0 | B2: 0 | C2: NF | D2: Convention Non Financière | F2: DIR-DGL
A3: 44103000 | B3: 74103000 | C3: CONSEILS GENERAUX DEPARTEMENTS | D3: Départements | F3: DIR-COM
A4: 44103100 | B4: 74103100 | C4: CONSEIL GENERAL du Rhône | D4: Départements | F4: OPS-FCA
A5: 44104000 | B5: 74104000 | C5: EUROPE | D5: International | F5: DIR-DOC
A6: 44104100 | B6: 74104100 | C6: INTERNATIONAL Hors Europe | D6: International | F6: DEF-COO
A7: 44152000 | B7: 74502000 | C7: ENTREPRISE | D7: Privé | F7: DOP-DEF
A8: 44159000 | B8: 74509000 | C8: PRIVE AUTRE | D8: Privé | F8: DEF-HPM
F9: DEF-IEP
F10: DEF-WAS
F11: DOPPAM
F12: DOP-PDL
F13: OPS-FCR
F14: SGX-INF
F15: OPS-COO
F16: OPS-CRB
F17: PDC-COO

Sheet Paramètres
A1: Fichier des paramètres
A3: Satuts
A4: Sollicité
A5: A l'étude
A6: Versement effectué
A7: Clos
A8: Acceptée
A12: Responsables de projets
A13: DIR-DGL
A14: DIR-COM
A15: OPS-FCA
A16: DIR-DOC
... A39: Région
