Workbook

Sheet Cours
A1: Nom du cours | B1: J0 | C1: J0+2 | D1: J0+6 | E1: J0+10 | F1: J0+15 | G1: J0+30 | H1: J0+45 | I1: J0+60
A2: Cisplatine | B2: 42009 | C2: =Devoirs[[#This Row],[J0]]+2 -> 42011 | D2: =Devoirs[[#This Row],[J0]]+6 -> 42015 | E2: =Devoirs[[#This Row],[J0]]+10 -> 42019 | F2: =Devoirs[[#This Row],[J0]]+15 -> 42024 | G2: =Devoirs[[#This Row],[J0]]+30 -> 42039 | H2: =Devoirs[[#This Row],[J0]]+45 -> 42054 | I2: =B2+60 -> 42069
A3: Cours 2 | B3: 42012 | C3: =Devoirs[[#This Row],[J0]]+2 -> 42014 | D3: =Devoirs[[#This Row],[J0]]+6 -> 42018 | E3: =Devoirs[[#This Row],[J0]]+10 -> 42022 | F3: =Devoirs[[#This Row],[J0]]+15 -> 42027 | G3: =Devoirs[[#This Row],[J0]]+30 -> 42042 | H3: =Devoirs[[#This Row],[J0]]+45 -> 42057 | I3: =B3+60 -> 42072
A4: Cours 3 | B4: 42013 | C4: =Devoirs[[#This Row],[J0]]+2 -> 42015 | D4: =Devoirs[[#This Row],[J0]]+6 -> 42019 | E4: =Devoirs[[#This Row],[J0]]+10 -> 42023 | F4: =Devoirs[[#This Row],[J0]]+15 -> 42028 | G4: =Devoirs[[#This Row],[J0]]+30 -> 42043 | H4: =Devoirs[[#This Row],[J0]]+45 -> 42058 | I4: =B4+60 -> 42073
A5: Cours 4 | B5: 42015 | C5: =Devoirs[[#This Row],[J0]]+2 -> 42017 | D5: =Devoirs[[#This Row],[J0]]+6 -> 42021 | E5: =Devoirs[[#This Row],[J0]]+10 -> 42025 | F5: =Devoirs[[#This Row],[J0]]+15 -> 42030 | G5: =Devoirs[[#This Row],[J0]]+30 -> 42045 | H5: =Devoirs[[#This Row],[J0]]+45 -> 42060 | I5: =B5+60 -> 42075
A6: Cours 5 | B6: 42106 | C6: =Devoirs[[#This Row],[J0]]+2 -> 42108 | D6: =Devoirs[[#This Row],[J0]]+6 -> 42112 | E6: =Devoirs[[#This Row],[J0]]+10 -> 42116 | F6: =Devoirs[[#This Row],[J0]]+15 -> 42121 | G6: =Devoirs[[#This Row],[J0]]+30 -> 42136 | H6: =Devoirs[[#This Row],[J0]]+45 -> 42151 | I6: =B6+60 -> 42166
A7: Cours 6 | B7: 42109 | C7: =Devoirs[[#This Row],[J0]]+2 -> 42111 | D7: =Devoirs[[#This Row],[J0]]+6 -> 42115 | E7: =Devoirs[[#This Row],[J0]]+10 -> 42119 | F7: =Devoirs[[#This Row],[J0]]+15 -> 42124 | G7: =Devoirs[[#This Row],[J0]]+30 -> 42139 | H7: =Devoirs[[#This Row],[J0]]+45 -> 42154 | I7: =B7+60 -> 42169
A8: Cours 7 | B8: 41381 | C8: =Devoirs[[#This Row],[J0]]+2 -> 41383 | D8: =Devoirs[[#This Row],[J0]]+6 -> 41387 | E8: =Devoirs[[#This Row],[J0]]+10 -> 41391 | F8: =Devoirs[[#This Row],[J0]]+15 -> 41396 | G8: =Devoirs[[#This Row],[J0]]+30 -> 41411 | H8: =Devoirs[[#This Row],[J0]]+45 -> 41426 | I8: =B8+60 -> 41441
A9: Cours 8 | B9: 0 | C9: =Devoirs[[#This Row],[J0]]+2 -> 2 | D9: =Devoirs[[#This Row],[J0]]+6 -> 6 | E9: =Devoirs[[#This Row],[J0]]+10 -> 10 | F9: =Devoirs[[#This Row],[J0]]+15 -> 15 | G9: =Devoirs[[#This Row],[J0]]+30 -> 30 | H9: =Devoirs[[#This Row],[J0]]+45 -> 45 | I9: =B9+60 -> 60
A10: Cours 9 | B10: 41388 | C10: =Devoirs[[#This Row],[J0]]+2 -> 41390 | D10: =Devoirs[[#This Row],[J0]]+6 -> 41394 | E10: =Devoirs[[#This Row],[J0]]+10 -> 41398 | F10: =Devoirs[[#This Row],[J0]]+15 -> 41403 | G10: =Devoirs[[#This Row],[J0]]+30 -> 41418 | H10: =Devoirs[[#This Row],[J0]]+45 -> 41433 | I10: =B10+60 -> 41448
A11: Cours 10 | B11: 41389 | C11: =Devoirs[[#This Row],[J0]]+2 -> 41391 | D11: =Devoirs[[#This Row],[J0]]+6 -> 41395 | E11: =Devoirs[[#This Row],[J0]]+10 -> 41399 | F11: =Devoirs[[#This Row],[J0]]+15 -> 41404 | G11: =Devoirs[[#This Row],[J0]]+30 -> 41419 | H11: =Devoirs[[#This Row],[J0]]+45 -> 41434 | I11: =B11+60 -> 41449
A12: Cours 11 | B12: 41393 | C12: =Devoirs[[#This Row],[J0]]+2 -> 41395 | D12: =Devoirs[[#This Row],[J0]]+6 -> 41399 | E12: =Devoirs[[#This Row],[J0]]+10 -> 41403 | F12: =Devoirs[[#This Row],[J0]]+15 -> 41408 | G12: =Devoirs[[#This Row],[J0]]+30 -> 41423 | H12: =Devoirs[[#This Row],[J0]]+45 -> 41438 | I12: =B12+60 -> 41453
A13: Cours 12 | B13: 41394 | C13: =Devoirs[[#This Row],[J0]]+2 -> 41396 | D13: =Devoirs[[#This Row],[J0]]+6 -> 41400 | E13: =Devoirs[[#This Row],[J0]]+10 -> 41404 | F13: =Devoirs[[#This Row],[J0]]+15 -> 41409 | G13: =Devoirs[[#This Row],[J0]]+30 -> 41424 | H13: =Devoirs[[#This Row],[J0]]+45 -> 41439 | I13: =B13+60 -> 41454
... A37: Cours 36 | B37: 42038 | C37: =Devoirs[[#This Row],[J0]]+2 -> 42040 | D37: =Devoirs[[#This Row],[J0]]+6 -> 42044 | E37: =Devoirs[[#This Row],[J0]]+10 -> 42048 | F37: =Devoirs[[#This Row],[J0]]+15 -> 42053 | G37: =Devoirs[[#This Row],[J0]]+30 -> 42068 | H37: =Devoirs[[#This Row],[J0]]+45 -> 42083 | I37: =B37+60 -> 42098

Sheet Hebdomadaire
B2: 2015 | C2: 5
B4: VUE HEBDOMADAIRE
B5: LUNDI | C5: MARDI | D5: MERCREDI | E5: JEUDI | F5: VENDREDI | G5: SAMEDI | H5: DIMANCHE
B6: =B7 -> 42030 | H6: =H7 -> 42036
B7: =(C2-1)*7+IF(WEEKDAY(DATE(B2,1,1),2)>4,7,0)+DATE(B2,1,1)-WEEKDAY(DATE(B2,1,1),2)+1 -> 42030 | C7: =B7+1 -> 42031 | D7: =C7+1 -> 42032 | E7: =D7+1 -> 42033 | F7: =E7+1 -> 42034 | G7: =F7+1 -> 42035 | H7: =G7+1 -> 42036
B8: LUNDI | C8: MARDI | D8: MERCREDI | E8: JEUDI | F8: VENDREDI | G8: SAMEDI | H8: DIMANCHE | I8: ACTIVITE ?
B9: =IF(COUNTIF(Cours!$B2:$H2,B$7),Cours!$A2,"") | C9: =IF(COUNTIF(Cours!$B2:$H2,C$7),Cours!$A2,"") | D9: =IF(COUNTIF(Cours!$B2:$H2,D$7),Cours!$A2,"") | E9: =IF(COUNTIF(Cours!$B2:$H2,E$7),Cours!$A2,"") | F9: =IF(COUNTIF(Cours!$B2:$H2,F$7),Cours!$A2,"") | G9: =IF(COUNTIF(Cours!$B2:$H2,G$7),Cours!$A2,"") | H9: =IF(COUNTIF(Cours!$B2:$H2,H$7),Cours!$A2,"") | I9: =7-COUNTIF(Tableau2[[#This Row],[LUNDI]:[DIMANCHE]],"") -> 0
B10: =IF(COUNTIF(Cours!$B3:$H3,B$7),Cours!$A3,"") | C10: =IF(COUNTIF(Cours!$B3:$H3,C$7),Cours!$A3,"") | D10: =IF(COUNTIF(Cours!$B3:$H3,D$7),Cours!$A3,"") | E10: =IF(COUNTIF(Cours!$B3:$H3,E$7),Cours!$A3,"") | F10: =IF(COUNTIF(Cours!$B3:$H3,F$7),Cours!$A3,"") | G10: =IF(COUNTIF(Cours!$B3:$H3,G$7),Cours!$A3,"") | H10: =IF(COUNTIF(Cours!$B3:$H3,H$7),Cours!$A3,"") | I10: =7-COUNTIF(Tableau2[[#This Row],[LUNDI]:[DIMANCHE]],"") -> 0
B11: =IF(COUNTIF(Cours!$B4:$H4,B$7),Cours!$A4,"") | C11: =IF(COUNTIF(Cours!$B4:$H4,C$7),Cours!$A4,"") | D11: =IF(COUNTIF(Cours!$B4:$H4,D$7),Cours!$A4,"") | E11: =IF(COUNTIF(Cours!$B4:$H4,E$7),Cours!$A4,"") | F11: =IF(COUNTIF(Cours!$B4:$H4,F$7),Cours!$A4,"") | G11: =IF(COUNTIF(Cours!$B4:$H4,G$7),Cours!$A4,"") | H11: =IF(COUNTIF(Cours!$B4:$H4,H$7),Cours!$A4,"") | I11: =7-COUNTIF(Tableau2[[#This Row],[LUNDI]:[DIMANCHE]],"") -> 0
B12: =IF(COUNTIF(Cours!$B5:$H5,B$7),Cours!$A5,"") -> Cours 4 | C12: =IF(COUNTIF(Cours!$B5:$H5,C$7),Cours!$A5,"") | D12: =IF(COUNTIF(Cours!$B5:$H5,D$7),Cours!$A5,"") | E12: =IF(COUNTIF(Cours!$B5:$H5,E$7),Cours!$A5,"") | F12: =IF(COUNTIF(Cours!$B5:$H5,F$7),Cours!$A5,"") | G12: =IF(COUNTIF(Cours!$B5:$H5,G$7),Cours!$A5,"") | H12: =IF(COUNTIF(Cours!$B5:$H5,H$7),Cours!$A5,"") | I12: =7-COUNTIF(Tableau2[[#This Row],[LUNDI]:[DIMANCHE]],"") -> 1
B13: =IF(COUNTIF(Cours!$B6:$H6,B$7),Cours!$A6,"") | C13: =IF(COUNTIF(Cours!$B6:$H6,C$7),Cours!$A6,"") | D13: =IF(COUNTIF(Cours!$B6:$H6,D$7),Cours!$A6,"") | E13: =IF(COUNTIF(Cours!$B6:$H6,E$7),Cours!$A6,"") | F13: =IF(COUNTIF(Cours!$B6:$H6,F$7),Cours!$A6,"") | G13: =IF(COUNTIF(Cours!$B6:$H6,G$7),Cours!$A6,"") | H13: =IF(COUNTIF(Cours!$B6:$H6,H$7),Cours!$A6,"") | I13: =7-COUNTIF(Tableau2[[#This Row],[LUNDI]:[DIMANCHE]],"") -> 0
B14: =IF(COUNTIF(Cours!$B7:$H7,B$7),Cours!$A7,"") | C14: =IF(COUNTIF(Cours!$B7:$H7,C$7),Cours!$A7,"") | D14: =IF(COUNTIF(Cours!$B7:$H7,D$7),Cours!$A7,"") | E14: =IF(COUNTIF(Cours!$B7:$H7,E$7),Cours!$A7,"") | F14: =IF(COUNTIF(Cours!$B7:$H7,F$7),Cours!$A7,"") | G14: =IF(COUNTIF(Cours!$B7:$H7,G$7),Cours!$A7,"") | H14: =IF(COUNTIF(Cours!$B7:$H7,H$7),Cours!$A7,"") | I14: =7-COUNTIF(Tableau2[[#This Row],[LUNDI]:[DIMANCHE]],"") -> 0
B15: =IF(COUNTIF(Cours!$B8:$H8,B$7),Cours!$A8,"") | C15: =IF(COUNTIF(Cours!$B8:$H8,C$7),Cours!$A8,"") | D15: =IF(COUNTIF(Cours!$B8:$H8,D$7),Cours!$A8,"") | E15: =IF(COUNTIF(Cours!$B8:$H8,E$7),Cours!$A8,"") | F15: =IF(COUNTIF(Cours!$B8:$H8,F$7),Cours!$A8,"") | G15: =IF(COUNTIF(Cours!$B8:$H8,G$7),Cours!$A8,"") | H15: =IF(COUNTIF(Cours!$B8:$H8,H$7),Cours!$A8,"") | I15: =7-COUNTIF(Tableau2[[#This Row],[LUNDI]:[DIMANCHE]],"") -> 0
B16: =IF(COUNTIF(Cours!$B9:$H9,B$7),Cours!$A9,"") | C16: =IF(COUNTIF(Cours!$B9:$H9,C$7),Cours!$A9,"") | D16: =IF(COUNTIF(Cours!$B9:$H9,D$7),Cours!$A9,"") | E16: =IF(COUNTIF(Cours!$B9:$H9,E$7),Cours!$A9,"") | F16: =IF(COUNTIF(Cours!$B9:$H9,F$7),Cours!$A9,"") | G16: =IF(COUNTIF(Cours!$B9:$H9,G$7),Cours!$A9,"") | H16: =IF(COUNTIF(Cours!$B9:$H9,H$7),Cours!$A9,"") | I16: =7-COUNTIF(Tableau2[[#This Row],[LUNDI]:[DIMANCHE]],"") -> 0
B17: =IF(COUNTIF(Cours!$B10:$H10,B$7),Cours!$A10,"") | C17: =IF(COUNTIF(Cours!$B10:$H10,C$7),Cours!$A10,"") | D17: =IF(COUNTIF(Cours!$B10:$H10,D$7),Cours!$A10,"") | E17: =IF(COUNTIF(Cours!$B10:$H10,E$7),Cours!$A10,"") | F17: =IF(COUNTIF(Cours!$B10:$H10,F$7),Cours!$A10,"") | G17: =IF(COUNTIF(Cours!$B10:$H10,G$7),Cours!$A10,"") | H17: =IF(COUNTIF(Cours!$B10:$H10,H$7),Cours!$A10,"") | I17: =7-COUNTIF(Tableau2[[#This Row],[LUNDI]:[DIMANCHE]],"") -> 0
B18: =IF(COUNTIF(Cours!$B11:$H11,B$7),Cours!$A11,"") | C18: =IF(COUNTIF(Cours!$B11:$H11,C$7),Cours!$A11,"") | D18: =IF(COUNTIF(Cours!$B11:$H11,D$7),Cours!$A11,"") | E18: =IF(COUNTIF(Cours!$B11:$H11,E$7),Cours!$A11,"") | F18: =IF(COUNTIF(Cours!$B11:$H11,F$7),Cours!$A11,"") | G18: =IF(COUNTIF(Cours!$B11:$H11,G$7),Cours!$A11,"") | H18: =IF(COUNTIF(Cours!$B11:$H11,H$7),Cours!$A11,"") | I18: =7-COUNTIF(Tableau2[[#This Row],[LUNDI]:[DIMANCHE]],"") -> 0
B19: =IF(COUNTIF(Cours!$B12:$H12,B$7),Cours!$A12,"") | C19: =IF(COUNTIF(Cours!$B12:$H12,C$7),Cours!$A12,"") | D19: =IF(COUNTIF(Cours!$B12:$H12,D$7),Cours!$A12,"") | E19: =IF(COUNTIF(Cours!$B12:$H12,E$7),Cours!$A12,"") | F19: =IF(COUNTIF(Cours!$B12:$H12,F$7),Cours!$A12,"") | G19: =IF(COUNTIF(Cours!$B12:$H12,G$7),Cours!$A12,"") | H19: =IF(COUNTIF(Cours!$B12:$H12,H$7),Cours!$A12,"") | I19: =7-COUNTIF(Tableau2[[#This Row],[LUNDI]:[DIMANCHE]],"") -> 0
B20: =IF(COUNTIF(Cours!$B13:$H13,B$7),Cours!$A13,"") | C20: =IF(COUNTIF(Cours!$B13:$H13,C$7),Cours!$A13,"") | D20: =IF(COUNTIF(Cours!$B13:$H13,D$7),Cours!$A13,"") | E20: =IF(COUNTIF(Cours!$B13:$H13,E$7),Cours!$A13,"") | F20: =IF(COUNTIF(Cours!$B13:$H13,F$7),Cours!$A13,"") | G20: =IF(COUNTIF(Cours!$B13:$H13,G$7),Cours!$A13,"") | H20: =IF(COUNTIF(Cours!$B13:$H13,H$7),Cours!$A13,"") | I20: =7-COUNTIF(Tableau2[[#This Row],[LUNDI]:[DIMANCHE]],"") -> 0
... B38: =IF(COUNTIF(Cours!$B31:$H31,B$7),Cours!$A31,"") | C38: =IF(COUNTIF(Cours!$B31:$H31,C$7),Cours!$A31,"") | D38: =IF(COUNTIF(Cours!$B31:$H31,D$7),Cours!$A31,"") -> Cours 30 | E38: =IF(COUNTIF(Cours!$B31:$H31,E$7),Cours!$A31,"") | F38: =IF(COUNTIF(Cours!$B31:$H31,F$7),Cours!$A31,"") -> Cours 30 | G38: =IF(COUNTIF(Cours!$B31:$H31,G$7),Cours!$A31,"") | H38: =IF(COUNTIF(Cours!$B31:$H31,H$7),Cours!$A31,"") | I38: =7-COUNTIF(Tableau2[[#This Row],[LUNDI]:[DIMANCHE]],"") -> 2
B39: =IF(COUNTIF(Cours!$B38:$H38,B$7),Cours!$A38,"") | C39: =IF(COUNTIF(Cours!$B38:$H38,C$7),Cours!$A38,"") | D39: =IF(COUNTIF(Cours!$B38:$H38,D$7),Cours!$A38,"") | E39: =IF(COUNTIF(Cours!$B38:$H38,E$7),Cours!$A38,"") | F39: =IF(COUNTIF(Cours!$B38:$H38,F$7),Cours!$A38,"") | G39: =IF(COUNTIF(Cours!$B38:$H38,G$7),Cours!$A38,"") | H39: =IF(COUNTIF(Cours!$B38:$H38,H$7),Cours!$A38,"") | I39: =7-COUNTIF(Tableau2[[#This Row],[LUNDI]:[DIMANCHE]],"") -> 0
B40: =IF(COUNTIF(Cours!$B39:$H39,B$7),Cours!$A39,"") | C40: =IF(COUNTIF(Cours!$B39:$H39,C$7),Cours!$A39,"") | D40: =IF(COUNTIF(Cours!$B39:$H39,D$7),Cours!$A39,"") | E40: =IF(COUNTIF(Cours!$B39:$H39,E$7),Cours!$A39,"") | F40: =IF(COUNTIF(Cours!$B39:$H39,F$7),Cours!$A39,"") | G40: =IF(COUNTIF(Cours!$B39:$H39,G$7),Cours!$A39,"") | H40: =IF(COUNTIF(Cours!$B39:$H39,H$7),Cours!$A39,"") | I40: =7-COUNTIF(Tableau2[[#This Row],[LUNDI]:[DIMANCHE]],"") -> 0
B41: =IF(COUNTIF(Cours!$B40:$H40,B$7),Cours!$A40,"") | C41: =IF(COUNTIF(Cours!$B40:$H40,C$7),Cours!$A40,"") | D41: =IF(COUNTIF(Cours!$B40:$H40,D$7),Cours!$A40,"") | E41: =IF(COUNTIF(Cours!$B40:$H40,E$7),Cours!$A40,"") | F41: =IF(COUNTIF(Cours!$B40:$H40,F$7),Cours!$A40,"") | G41: =IF(COUNTIF(Cours!$B40:$H40,G$7),Cours!$A40,"") | H41: =IF(COUNTIF(Cours!$B40:$H40,H$7),Cours!$A40,"") | I41: =7-COUNTIF(Tableau2[[#This Row],[LUNDI]:[DIMANCHE]],"") -> 0
