Workbook
Name Etendudemesure: Feuil2!$D$8:$D$12
Name note: Feuil2!$F$19:$F$28
Name note1: Feuil2!$F$20:$F$28

Sheet Feuil1
A5: Equipement de contrôle
E6: Date de vérification :
A7: Etendu de mesure : | C7: 0-200 | E7: Référence étalon : | G7: / /
A9: Preparation et contrôle
A10: Nettoyage sommaire avec chiffon doux | D10: Contrôle fonctionnel ( serrage vis, fonctionnement bouton, jeu,sortie des données sur PC) Mesure du zéro : Appliquer une force constante avec le pouce, faire une RAZ, relacher la pression --> la variation ne doit pas dépasser 0.01
A11: Contrôle visuel(affichage, numero d'identification)
A13: Contrôle de l'erreur de justesse
B15: Voir si dessus | C15: Bec de mesure exterieur Cale 10 mm | E15: Bec de mesure extérieur Cale 90 mm | G15: Jauge de profondeur Cale 10 mm | H15: Bec de mesure intérieur Bague 40mm
A16: Mesure | B16: Zéro (Bec joints) | C16: Bout de bec | D16: Plat de bec | E16: Bout de bec | F16: Plat de bec | G16: Bout de jauge | H16: Bout de bec | I16: Plat de bec
A17: 1 | B17: 0.01 | C17: 10.02 | D17: 10.03 | E17: 90.01 | F17: 90.01 | G17: 10.03 | H17: 40.01 | I17: 40.03
A18: 2 | B18: 0.01 | C18: 10.01 | D18: 10.02 | E18: 90.03 | F18: 90.02 | G18: 10.02 | H18: 40.02 | I18: 40.03
A19: 3 | B19: 0.01 | C19: 9.99 | D19: 9.98 | E19: 90.01 | F19: 90.03 | G19: 9.99 | H19: 40.01 | I19: 40
A20: 4 | B20: 0 | C20: 10.01 | D20: 9.99 | E20: 89.98 | F20: 89.97 | G20: 9.92 | H20: 40.03 | I20: 40.01
A21: Moyenne | B21: =AVERAGE(B17:B20) -> 0.0075 | C21: =AVERAGE(C17:C20) -> 10.0075 | D21: =AVERAGE(D17:D20) -> 10.005 | E21: =AVERAGE(E17:E20) -> 90.0075 | F21: =AVERAGE(F17:F20) -> 90.0075 | G21: =AVERAGE(G17:G20) -> 9.99 | H21: =AVERAGE(H17:H20) -> 40.0175 | I21: =AVERAGE(I17:I20) -> 40.0175
A22: Erreur de justesse | B22: =B21-0 -> 0.0075 | C22: =C21-10 -> 0.0075 | D22: =D21-10 -> 0.005 | E22: =E21-90 -> 0.0075 | F22: =F21-90 -> 0.0075 | G22: =G21-10 -> -0.01 | H22: =H21-40 -> 0.0175 | I22: =I21-40 -> 0.0175
A23: Erreur admissible | B23: =VLOOKUP(C7,Feuil2!D8:E12,2) -> 0.01 | C23: =VLOOKUP(C7,Feuil2!D8:F12,3) -> 0.02 | D23: =VLOOKUP(C7,Feuil2!D8:G12,4) -> 0.02 | E23: =VLOOKUP(C7,Feuil2!D8:H12,5) -> 0.02 | F23: =VLOOKUP(C7,Feuil2!D8:I12,6) -> 0.02 | G23: =VLOOKUP(C7,Feuil2!D8:J12,7) -> 0.02 | H23: =VLOOKUP(C7,Feuil2!D8:K12,8) -> 0.02 | I23: =VLOOKUP(C7,Feuil2!D8:L12,9) -> 0.02
A24: BILAN | B24: L'erreur de justesse est l'erreur globale résultant de toutes les causes pour chacun des résultats de mesure pris isolément. C'est donc l'aptitude de l'appareil à donner des résultats qui ne sont pas entachés d'erreur
A26: Contrôle de la fidelité
B28: Zéro | C28: Bec ext (10 mm) | E28: Bec exter (90mm) | G28: Tige 10mm | H28: Bec inter (40mm)
C29: Tête de bec | D29: Plat de bec | E29: Tête de bec | F29: Plat de bec | G29: Bout de tige | H29: Tête de bec | I29: Plat de bec
A30: Fidélité ± | B30: =(MAX(B17:B20)-MIN(B17:B20))/2 -> 0.005 | C30: =(MAX(C17:C20)-MIN(C17:C20))/2 -> 0.015 | D30: =(MAX(D17:D20)-MIN(D17:D20))/2 -> 0.025 | E30: =(MAX(E17:E20)-MIN(E17:E20))/2 -> 0.025 | F30: =(MAX(F17:F20)-MIN(F17:F20))/2 -> 0.03 | G30: =(MAX(G17:G20)-MIN(G17:G20))/2 -> 0.055 | H30: =(MAX(H17:H20)-MIN(H17:H20))/2 -> 0.01 | I30: =(MAX(I17:I20)-MIN(I17:I20))/2 -> 0.015
A31: Erreur admissible | B31: =VLOOKUP(C7,Feuil2!D8:E12,2) -> 0.01 | C31: =VLOOKUP(C7,Feuil2!D8:F12,3) -> 0.02 | D31: =VLOOKUP(C7,Feuil2!D8:G12,4) -> 0.02 | E31: =VLOOKUP(C7,Feuil2!D8:H12,5) -> 0.02 | F31: =VLOOKUP(C7,Feuil2!D8:I12,6) -> 0.02 | G31: =VLOOKUP(C7,Feuil2!D8:J12,7) -> 0.02 | H31: =VLOOKUP(C7,Feuil2!D8:K12,8) -> 0.02 | I31: =VLOOKUP(C7,Feuil2!D8:L12,9) -> 0.02
A32: BILAN | B32: La fidélité est l'aptitude d'un appareil de mesure à donner des mesures exemptes d'erreurs accidentelles. Si la majeure parti des valeurs sont correctes, on peut généraliser en certifiant que l'outil de mesure a une bonne fidélité.
A35: CONCLUSION
C37: Classe
A38: Erreur de justesse | D38: j'aimerais qu'il y ai ici le nombre de cellule rouge qui s'affiche en fonction des valeurs que je pourrais rentrer dans le futur a droite des mesure 1 2 3 4
A39: Erreur de fidélité
O44: Note sur 8 (nbr de case verte)
N45: Justesse | O45: 3
N46: Fidelité | O46: 4
N47: BILAN | O47: =((O46+O45)*20)/16 -> 8.75
L49: _ La note est conforme, l'outil de mesure est donc conforme à la normes DIN 862 et peu être utilisé. _ Si l'instrument n'est pas conforme aux spécifications d'étalonnage, il sera soit réparé et étalonné à nouveau, soit déclassé ou recyclé.

Sheet Feuil2
F5: Erreur admissible pour la justesse
E6: Zéro | F6: Bec ext (10 mm) | H6: Bec exter (90mm) | J6: Tige 10mm | K6: Bec inter (40mm)
F7: Tête de bec | G7: Plat de bec | H7: Tête de bec | I7: Plat de bec | J7: Bout de tige | K7: Tête de bec | L7: Plat de bec
D8: 0-150 | E8: 0.01 | F8: 0.02 | G8: 0.02 | H8: 0.02 | I8: 0.02 | J8: 0.02 | K8: 0.02 | L8: 0.02
D9: 0-200 | E9: 0.01 | F9: 0.02 | G9: 0.02 | H9: 0.02 | I9: 0.02 | J9: 0.02 | K9: 0.02 | L9: 0.02
D10: 0-300 | E10: 0.01 | F10: 0.03 | G10: 0.03 | H10: 0.03 | I10: 0.03 | J10: 0.02 | K10: 0.03 | L10: 0.03
D11: 0-500/1000 | E11: 0.01 | F11: 0.04 | G11: 0.04 | H11: 0.04 | I11: 0.04 | J11: 0.03 | K11: 0.04 | L11: 0.04
E12: 0.01 | F12: 0.05 | G12: 0.05 | H12: 0.05 | I12: 0.05 | J12: 0.03 | K12: 0.05 | L12: 0.05
F13: Erreur admissible fidélité
F19: Note
F20: 1
F21: 2
F22: 3
F23: 4
F24: 5
F25: 6
F26: 7
F27: 8

Sheet Feuil3
