Workbook

Sheet VISION SYNTHETIQUE
B1: IDENTITÉ | C1: NATURE EPI | D1: SITUATION commande renouvellement
A2: 1 | B2: Marc | C2: Gilet Haute Visibilité | D2: =Marc!$D$8 -> UTILISATION EN COURS
C3: Chaussure de sécurité | D3: =Marc!$D$8 -> UTILISATION EN COURS
C4: Veste + Pantalon | D4: =Marc!$D$8 -> UTILISATION EN COURS
C5: T-Shirt | D5: =Marc!$D$27 -> DATE COMMANDE DEPASSEE
C6: Impermable | D6: =Marc!$D$31 -> COMMANDE ALERTE 3
C7: Casque Antibruit | D7: =Marc!$D$36 -> COMMANDE ALERTE 2
A8: 2 | B8: Alain | C8: Gilet Haute Visibilité | D8: =Alain!$D$5 -> UTILISATION EN COURS
C9: Chaussure de sécurité | D9: =Alain!$D$11 -> COMMANDE ALERTE 4
C10: Veste + Pantalon | D10: =Alain!$D$17 -> UTILISATION EN COURS
C11: T-Shirt | D11: =Alain!$D$22 -> COMMANDE ALERTE 4
C12: Impermable | D12: =Alain!$D$26 -> UTILISATION EN COURS
C13: Casque Antibruit | D13: =Alain!$D$30 -> UTILISATION EN COURS
A14: 3 | B14: Cédric | C14: Gilet Haute Visibilité
C15: Chaussure de sécurité
C16: Veste + Pantalon
C17: T-Shirt
C18: Impermable
C19: Casque Antibruit

Sheet Marc
A1: SUIVI DOTATION EPI
A2: ANDEKE FETI Justin (Genre : M) | D2: Commande de renouvellement
A3: Date d'embauche dans la compagnie : | B3: Date de réception | C3: Date de renouvellement prévisionnelle | D3: Niveau d'alerte | E3: Nombre de jours restant avant expiration
A4: GILET HAUTE VISIBILITE
A5: Fréquence de renouvellement : 12 mois | B5: 40980 | C5: 41344 | D5: =IF(C5-TODAY()>0,IF(C5-TODAY()>120,"UTILISATION EN COURS",IF(C5-TODAY()>=90,"COMMANDE ALERTE 1",IF(C5-TODAY()>=60,"COMMANDE ALERTE 2",IF(C5-TODAY()>=30,"COMMANDE ALERTE 3","COMMANDE ALERTE 4")))),"DATE COMMANDE DEPASSEE") -> DATE COMMANDE DEPASSEE | E5: =C5-TODAY() -> -806
A6: Dotation par renouvellement : 2 | B6: 41342 | C6: 41706 | D6: =IF(C6-TODAY()>0,IF(C6-TODAY()>120,"UTILISATION EN COURS",IF(C6-TODAY()>=90,"COMMANDE ALERTE 1",IF(C6-TODAY()>=60,"COMMANDE ALERTE 2",IF(C6-TODAY()>=30,"COMMANDE ALERTE 3","COMMANDE ALERTE 4")))),"DATE COMMANDE DEPASSEE") -> DATE COMMANDE DEPASSEE | E6: =C6-TODAY() -> -444
A7: Taille : M | B7: 41704 | C7: 42068 | D7: =IF(C7-TODAY()>0,IF(C7-TODAY()>120,"UTILISATION EN COURS",IF(C7-TODAY()>=90,"COMMANDE ALERTE 1",IF(C7-TODAY()>=60,"COMMANDE ALERTE 2",IF(C7-TODAY()>=30,"COMMANDE ALERTE 3","COMMANDE ALERTE 4")))),"DATE COMMANDE DEPASSEE") -> DATE COMMANDE DEPASSEE | E7: =C7-TODAY() -> -82
B8: 42068 | C8: 42435 | D8: =IF(C8-TODAY()>0,IF(C8-TODAY()>120,"UTILISATION EN COURS",IF(C8-TODAY()>=90,"COMMANDE ALERTE 1",IF(C8-TODAY()>=60,"COMMANDE ALERTE 2",IF(C8-TODAY()>=30,"COMMANDE ALERTE 3","COMMANDE ALERTE 4")))),"DATE COMMANDE DEPASSEE") -> UTILISATION EN COURS | E8: =C8-TODAY() -> 285
A11: CHAUSSURES DE SECURITE
A12: Fréquence de renouvellement : 12 mois | B12: 41409 | C12: 41773 | D12: =IF(C12-TODAY()>0,IF(C12-TODAY()>120,"UTILISATION EN COURS",IF(C12-TODAY()>=90,"COMMANDE ALERTE 1",IF(C12-TODAY()>=60,"COMMANDE ALERTE 2",IF(C12-TODAY()>=30,"COMMANDE ALERTE 3","COMMANDE ALERTE 4")))),"DATE COMMANDE DEPASSEE") -> DATE COMMANDE DEPASSEE | E12: =E15 -> 0
A13: Dotation par renouvellement : 1 | B13: 41711 | C13: 42075 | D13: =IF(C13-TODAY()>0,IF(C13-TODAY()>120,"UTILISATION EN COURS",IF(C13-TODAY()>=90,"COMMANDE ALERTE 1",IF(C13-TODAY()>=60,"COMMANDE ALERTE 2",IF(C13-TODAY()>=30,"COMMANDE ALERTE 3","COMMANDE ALERTE 4")))),"DATE COMMANDE DEPASSEE") -> DATE COMMANDE DEPASSEE | E13: =C13-TODAY() -> -75
A14: Pointure : 43 | B14: 42075 | C14: 42440 | D14: =IF(C14-TODAY()>0,IF(C14-TODAY()>120,"UTILISATION EN COURS",IF(C14-TODAY()>=90,"COMMANDE ALERTE 1",IF(C14-TODAY()>=60,"COMMANDE ALERTE 2",IF(C14-TODAY()>=30,"COMMANDE ALERTE 3","COMMANDE ALERTE 4")))),"DATE COMMANDE DEPASSEE") -> UTILISATION EN COURS
A19: VESTE + PANTALON
A20: Fréquence de renouvellement : 12 mois | B20: 41338 | C20: 41702 | D20: =IF(C20-TODAY()>0,IF(C20-TODAY()>120,"UTILISATION EN COURS",IF(C20-TODAY()>=90,"COMMANDE ALERTE 1",IF(C20-TODAY()>=60,"COMMANDE ALERTE 2",IF(C20-TODAY()>=30,"COMMANDE ALERTE 3","COMMANDE ALERTE 4")))),"DATE COMMANDE DEPASSEE") -> DATE COMMANDE DEPASSEE
A21: Dotation par renouvellement : 1 | B21: 41701 | C21: 42065 | D21: =IF(C12-TODAY()>0,IF(C12-TODAY()>120,"UTILISATION EN COURS",IF(C12-TODAY()>=90,"COMMANDE ALERTE 1",IF(C12-TODAY()>=60,"COMMANDE ALERTE 2",IF(C12-TODAY()>=30,"COMMANDE ALERTE 3","COMMANDE ALERTE 4")))),"DATE COMMANDE DEPASSEE") -> DATE COMMANDE DEPASSEE
A22: Pointure : 43 | B22: 42064 | C22: 42428 | D22: =IF(C22-TODAY()>0,IF(C22-TODAY()>120,"UTILISATION EN COURS",IF(C22-TODAY()>=90,"COMMANDE ALERTE 1",IF(C22-TODAY()>=60,"COMMANDE ALERTE 2",IF(C22-TODAY()>=30,"COMMANDE ALERTE 3","COMMANDE ALERTE 4")))),"DATE COMMANDE DEPASSEE") -> UTILISATION EN COURS
A24: T-SHIRT
A25: Fréquence de renouvellement : 12 mois | B25: 41548 | C25: 41973 | D25: =IF(C25-TODAY()>0,IF(C25-TODAY()>120,"UTILISATION EN COURS",IF(C25-TODAY()>=90,"COMMANDE ALERTE 1",IF(C25-TODAY()>=60,"COMMANDE ALERTE 2",IF(C25-TODAY()>=30,"COMMANDE ALERTE 3","COMMANDE ALERTE 4")))),"DATE COMMANDE DEPASSEE") -> DATE COMMANDE DEPASSEE
A26: Dotation par renouvellement : 2 | B26: 41971 | C26: 42335 | D26: =IF(C26-TODAY()>0,IF(C26-TODAY()>120,"UTILISATION EN COURS",IF(C26-TODAY()>=90,"COMMANDE ALERTE 1",IF(C26-TODAY()>=60,"COMMANDE ALERTE 2",IF(C26-TODAY()>=30,"COMMANDE ALERTE 3","COMMANDE ALERTE 4")))),"DATE COMMANDE DEPASSEE") -> UTILISATION EN COURS
A27: Taille : M | D27: =IF(C27-TODAY()>0,IF(C27-TODAY()>120,"UTILISATION EN COURS",IF(C27-TODAY()>=90,"COMMANDE ALERTE 1",IF(C27-TODAY()>=60,"COMMANDE ALERTE 2",IF(C27-TODAY()>=30,"COMMANDE ALERTE 3","COMMANDE ALERTE 4")))),"DATE COMMANDE DEPASSEE") -> DATE COMMANDE DEPASSEE
A29: IMPERMEABLE
A30: Fréquence de renouvellement : 24 mois | B30: 41506 | C30: 41870 | D30: =IF(C30-TODAY()>0,IF(C30-TODAY()>120,"UTILISATION EN COURS",IF(C30-TODAY()>=90,"COMMANDE ALERTE 1",IF(C30-TODAY()>=60,"COMMANDE ALERTE 2",IF(C30-TODAY()>=30,"COMMANDE ALERTE 3","COMMANDE ALERTE 4")))),"DATE COMMANDE DEPASSEE") -> DATE COMMANDE DEPASSEE
A31: Dotation par renouvellement : 1 | B31: 41868 | C31: 42201 | D31: =IF(C31-TODAY()>0,IF(C31-TODAY()>120,"UTILISATION EN COURS",IF(C31-TODAY()>=90,"COMMANDE ALERTE 1",IF(C31-TODAY()>=60,"COMMANDE ALERTE 2",IF(C31-TODAY()>=30,"COMMANDE ALERTE 3","COMMANDE ALERTE 4")))),"DATE COMMANDE DEPASSEE") -> COMMANDE ALERTE 3
A32: Taille : 43
A34: CASQUE ANTIBRUIT
A35: Fréquence de renouvellement : 36 mois | B35: 41557 | C35: 41921 | D35: =IF(C35-TODAY()>0,IF(C35-TODAY()>120,"UTILISATION EN COURS",IF(C35-TODAY()>=90,"COMMANDE ALERTE 1",IF(C35-TODAY()>=60,"COMMANDE ALERTE 2",IF(C35-TODAY()>=30,"COMMANDE ALERTE 3","COMMANDE ALERTE 4")))),"DATE COMMANDE DEPASSEE") -> DATE COMMANDE DEPASSEE
A36: Dotation par renouvellement : 1 | B36: 41920 | C36: 42223 | D36: =IF(C36-TODAY()>0,IF(C36-TODAY()>120,"UTILISATION EN COURS",IF(C36-TODAY()>=90,"COMMANDE ALERTE 1",IF(C36-TODAY()>=60,"COMMANDE ALERTE 2",IF(C36-TODAY()>=30,"COMMANDE ALERTE 3","COMMANDE ALERTE 4")))),"DATE COMMANDE DEPASSEE") -> COMMANDE ALERTE 2

Sheet Alain
A1: SUIVI DOTATION EPI
A2: ANDEKE FETI Justin (Genre : M) | D2: Commande de renouvellement
A3: Date d'embauche dans la compagnie : | B3: Date de réception | C3: Date de renouvellement prévisionnelle | D3: Niveau d'alerte | E3: Nombre de jours restant avant expiration
A4: GILET HAUTE VISIBILITE
A5: Fréquence de renouvellement : 12 mois | B5: 42075 | C5: 42288 | D5: =IF(C5-TODAY()>0,IF(C5-TODAY()>120,"UTILISATION EN COURS",IF(C5-TODAY()>=90,"COMMANDE ALERTE 1",IF(C5-TODAY()>=60,"COMMANDE ALERTE 2",IF(C5-TODAY()>=30,"COMMANDE ALERTE 3","COMMANDE ALERTE 4")))),"DATE COMMANDE DEPASSEE") -> UTILISATION EN COURS | E5: =C5-TODAY() -> 138
A6: Dotation par renouvellement : 2
A7: Taille : M
A9: CHAUSSURES DE SECURITE
A10: Fréquence de renouvellement : 12 mois | B10: 41409 | C10: 41773 | D10: =IF(C10-TODAY()>0,IF(C10-TODAY()>120,"UTILISATION EN COURS",IF(C10-TODAY()>=90,"COMMANDE ALERTE 1",IF(C10-TODAY()>=60,"COMMANDE ALERTE 2",IF(C10-TODAY()>=30,"COMMANDE ALERTE 3","COMMANDE ALERTE 4")))),"DATE COMMANDE DEPASSEE") -> DATE COMMANDE DEPASSEE | E10: =C10-TODAY() -> -377
A11: Dotation par renouvellement : 1 | B11: 41789 | C11: 42155 | D11: =IF(C11-TODAY()>0,IF(C11-TODAY()>120,"UTILISATION EN COURS",IF(C11-TODAY()>=90,"COMMANDE ALERTE 1",IF(C11-TODAY()>=60,"COMMANDE ALERTE 2",IF(C11-TODAY()>=30,"COMMANDE ALERTE 3","COMMANDE ALERTE 4")))),"DATE COMMANDE DEPASSEE") -> COMMANDE ALERTE 4 | E11: =C11-TODAY() -> 5
A12: Pointure : 43
A14: VESTE + PANTALON
A15: Fréquence de renouvellement : 12 mois | B15: 40988 | C15: 41717 | D15: =IF(C15-TODAY()>0,IF(C15-TODAY()>120,"UTILISATION EN COURS",IF(C15-TODAY()>=90,"COMMANDE ALERTE 1",IF(C15-TODAY()>=60,"COMMANDE ALERTE 2",IF(C15-TODAY()>=30,"COMMANDE ALERTE 3","COMMANDE ALERTE 4")))),"DATE COMMANDE DEPASSEE") -> DATE COMMANDE DEPASSEE | E15: =C15-TODAY() -> -433
A16: Dotation par renouvellement : 1 | B16: 41716 | C16: 42080 | D16: =IF(C16-TODAY()>0,IF(C16-TODAY()>120,"UTILISATION EN COURS",IF(C16-TODAY()>=90,"COMMANDE ALERTE 1",IF(C16-TODAY()>=60,"COMMANDE ALERTE 2",IF(C16-TODAY()>=30,"COMMANDE ALERTE 3","COMMANDE ALERTE 4")))),"DATE COMMANDE DEPASSEE") -> DATE COMMANDE DEPASSEE | E16: =C16-TODAY() -> -70
A17: Pointure : 43 | B17: 42079 | C17: 42444 | D17: =IF(C17-TODAY()>0,IF(C17-TODAY()>120,"UTILISATION EN COURS",IF(C17-TODAY()>=90,"COMMANDE ALERTE 1",IF(C17-TODAY()>=60,"COMMANDE ALERTE 2",IF(C17-TODAY()>=30,"COMMANDE ALERTE 3","COMMANDE ALERTE 4")))),"DATE COMMANDE DEPASSEE") -> UTILISATION EN COURS | E17: =C17-TODAY() -> 294
A19: T-SHIRT
A20: Fréquence de renouvellement : 12 mois | B20: 40928 | C20: 41352 | D20: =IF(C20-TODAY()>0,IF(C20-TODAY()>120,"UTILISATION EN COURS",IF(C20-TODAY()>=90,"COMMANDE ALERTE 1",IF(C20-TODAY()>=60,"COMMANDE ALERTE 2",IF(C20-TODAY()>=30,"COMMANDE ALERTE 3","COMMANDE ALERTE 4")))),"DATE COMMANDE DEPASSEE") -> DATE COMMANDE DEPASSEE | E20: =C20-TODAY() -> -798
A21: Dotation par renouvellement : 2 | B21: 41351 | C21: 41715 | D21: =IF(C21-TODAY()>0,IF(C21-TODAY()>120,"UTILISATION EN COURS",IF(C21-TODAY()>=90,"COMMANDE ALERTE 1",IF(C21-TODAY()>=60,"COMMANDE ALERTE 2",IF(C21-TODAY()>=30,"COMMANDE ALERTE 3","COMMANDE ALERTE 4")))),"DATE COMMANDE DEPASSEE") -> DATE COMMANDE DEPASSEE | E21: =C21-TODAY() -> -435
A22: Taille : 43 | B22: 41806 | C22: 42170 | D22: =IF(C22-TODAY()>0,IF(C22-TODAY()>120,"UTILISATION EN COURS",IF(C22-TODAY()>=90,"COMMANDE ALERTE 1",IF(C22-TODAY()>=60,"COMMANDE ALERTE 2",IF(C22-TODAY()>=30,"COMMANDE ALERTE 3","COMMANDE ALERTE 4")))),"DATE COMMANDE DEPASSEE") -> COMMANDE ALERTE 4 | E22: =C22-TODAY() -> 20
A24: IMPERMEABLE
A25: Fréquence de renouvellement : 24 mois | B25: 40928 | C25: 41717 | D25: =IF(C25-TODAY()>0,IF(C25-TODAY()>120,"UTILISATION EN COURS",IF(C25-TODAY()>=90,"COMMANDE ALERTE 1",IF(C25-TODAY()>=60,"COMMANDE ALERTE 2",IF(C25-TODAY()>=30,"COMMANDE ALERTE 3","COMMANDE ALERTE 4")))),"DATE COMMANDE DEPASSEE") -> DATE COMMANDE DEPASSEE
A26: Dotation par renouvellement : 1 | B26: 41716 | C26: 42446 | D26: =IF(C26-TODAY()>0,IF(C26-TODAY()>120,"UTILISATION EN COURS",IF(C26-TODAY()>=90,"COMMANDE ALERTE 1",IF(C26-TODAY()>=60,"COMMANDE ALERTE 2",IF(C26-TODAY()>=30,"COMMANDE ALERTE 3","COMMANDE ALERTE 4")))),"DATE COMMANDE DEPASSEE") -> UTILISATION EN COURS
A27: Taille : 43
A29: CASQUE ANTIBRUIT
A30: Fréquence de renouvellement : 36 mois | B30: 41294 | C30: 42813 | D30: =IF(C30-TODAY()>0,IF(C30-TODAY()>120,"UTILISATION EN COURS",IF(C30-TODAY()>=90,"COMMANDE ALERTE 1",IF(C30-TODAY()>=60,"COMMANDE ALERTE 2",IF(C30-TODAY()>=30,"COMMANDE ALERTE 3","COMMANDE ALERTE 4")))),"DATE COMMANDE DEPASSEE") -> UTILISATION EN COURS | E30: =C30-TODAY() -> 663
A31: Dotation par renouvellement : 1

Sheet Cédric
A1: SUIVI DOTATION EPI
A2: ANDEKE FETI Justin (Genre : M) | D2: Commande de renouvellement
A3: Date d'embauche dans la compagnie : | B3: Date de réception | C3: Date de renouvellement prévisionnelle | D3: Niveau d'alerte | E3: Nombre de jours restant avant expiration
A4: GILET HAUTE VISIBILITE
A5: Fréquence de renouvellement : 12 mois | B5: 42075 | C5: 42288 | D5: =IF(C5-TODAY()>0,IF(C5-TODAY()>120,"UTILISATION EN COURS",IF(C5-TODAY()>=90,"COMMANDE ALERTE 1",IF(C5-TODAY()>=60,"COMMANDE ALERTE 2",IF(C5-TODAY()>=30,"COMMANDE ALERTE 3","COMMANDE ALERTE 4")))),"DATE COMMANDE DEPASSEE") -> UTILISATION EN COURS | E5: =C5-TODAY() -> 138
A6: Dotation par renouvellement : 2
A7: Taille : M
A9: CHAUSSURES DE SECURITE
A10: Fréquence de renouvellement : 12 mois | B10: 42139 | C10: 42504 | D10: =IF(C10-TODAY()>0,IF(C10-TODAY()>120,"UTILISATION EN COURS",IF(C10-TODAY()>=90,"COMMANDE ALERTE 1",IF(C10-TODAY()>=60,"COMMANDE ALERTE 2",IF(C10-TODAY()>=30,"COMMANDE ALERTE 3","COMMANDE ALERTE 4")))),"DATE COMMANDE DEPASSEE") -> UTILISATION EN COURS | E10: =C10-TODAY() -> 354
A11: Dotation par renouvellement : 1
A12: Pointure : 43
A14: VESTE + PANTALON
A15: Fréquence de renouvellement : 12 mois
A16: Dotation par renouvellement : 1
A17: Pointure : 43
A19: T-SHIRT
A20: Fréquence de renouvellement : 12 mois
A21: Dotation par renouvellement : 2
A22: Taille : 43
A24: IMPERMEABLE
A25: Fréquence de renouvellement : 24 mois
... A31: Dotation par renouvellement : 1

Sheet Feuil3
