Workbook

Sheet DONNEES
A1: place | B1: pts | C1: nom-prénom | D1: Pays | E1: Date de naissance | F1: lieu | G1: date | H1: Saison | I1: type | J1: arme | K1: Classement | L1: Ind/Equipe | M1: Catégorie
A2: 1 | B2: 64 | C2: ITALY | D2: ITA | F2: San Francisco | G2: 41930 | H2: 2014/2015 | I2: CM | J2: FH | K2: =IF(A2=1,"1",IF(A2=2,"2",IF(A2=3,"3",IF(A2=4,"4",IF(A2<=8,"T8",IF(A2<=16,"T16",IF(A2<=32,"T32",IF(A2<=64,"T64",IF(A2<=128,"T128","T256"))))))))) -> 1 | L2: Equipe | M2: Senior
A3: 2 | B3: 52 | C3: RUSSIA | D3: RUS | F3: San Francisco | G3: 41930 | H3: 2014/2015 | I3: CM | J3: FH | K3: =IF(A3=1,"1",IF(A3=2,"2",IF(A3=3,"3",IF(A3=4,"4",IF(A3<=8,"T8",IF(A3<=16,"T16",IF(A3<=32,"T32",IF(A3<=64,"T64",IF(A3<=128,"T128","T256"))))))))) -> 2 | L3: Equipe | M3: Senior
A4: 3 | B4: 40 | C4: GERMANY | D4: GER | F4: San Francisco | G4: 41930 | H4: 2014/2015 | I4: CM | J4: FH | K4: =IF(A4=1,"1",IF(A4=2,"2",IF(A4=3,"3",IF(A4=4,"4",IF(A4<=8,"T8",IF(A4<=16,"T16",IF(A4<=32,"T32",IF(A4<=64,"T64",IF(A4<=128,"T128","T256"))))))))) -> 3 | L4: Equipe | M4: Senior
A5: 4 | B5: 36 | C5: JAPAN | D5: JPN | F5: San Francisco | G5: 41930 | H5: 2014/2015 | I5: CM | J5: FH | K5: =IF(A5=1,"1",IF(A5=2,"2",IF(A5=3,"3",IF(A5=4,"4",IF(A5<=8,"T8",IF(A5<=16,"T16",IF(A5<=32,"T32",IF(A5<=64,"T64",IF(A5<=128,"T128","T256"))))))))) -> 4 | L5: Equipe | M5: Senior
A6: 5 | B6: 32 | C6: KOREA | D6: KOR | F6: San Francisco | G6: 41930 | H6: 2014/2015 | I6: CM | J6: FH | K6: =IF(A6=1,"1",IF(A6=2,"2",IF(A6=3,"3",IF(A6=4,"4",IF(A6<=8,"T8",IF(A6<=16,"T16",IF(A6<=32,"T32",IF(A6<=64,"T64",IF(A6<=128,"T128","T256"))))))))) -> T8 | L6: Equipe | M6: Senior
A7: 7 | B7: 28 | C7: FRANCE | D7: FRA | F7: San Francisco | G7: 41930 | H7: 2014/2015 | I7: CM | J7: FH | K7: =IF(A7=1,"1",IF(A7=2,"2",IF(A7=3,"3",IF(A7=4,"4",IF(A7<=8,"T8",IF(A7<=16,"T16",IF(A7<=32,"T32",IF(A7<=64,"T64",IF(A7<=128,"T128","T256"))))))))) -> T8 | L7: Equipe | M7: Senior
A8: 8 | B8: 26 | C8: CANADA | D8: CAN | F8: San Francisco | G8: 41930 | H8: 2014/2015 | I8: CM | J8: FH | K8: =IF(A8=1,"1",IF(A8=2,"2",IF(A8=3,"3",IF(A8=4,"4",IF(A8<=8,"T8",IF(A8<=16,"T16",IF(A8<=32,"T32",IF(A8<=64,"T64",IF(A8<=128,"T128","T256"))))))))) -> T8 | L8: Equipe | M8: Senior
A9: 9 | B9: 25 | C9: CHINA | D9: CHN | F9: San Francisco | G9: 41930 | H9: 2014/2015 | I9: CM | J9: FH | K9: =IF(A9=1,"1",IF(A9=2,"2",IF(A9=3,"3",IF(A9=4,"4",IF(A9<=8,"T8",IF(A9<=16,"T16",IF(A9<=32,"T32",IF(A9<=64,"T64",IF(A9<=128,"T128","T256"))))))))) -> T16 | L9: Equipe | M9: Senior
A10: 10 | B10: 24 | C10: POLAND | D10: POL | F10: San Francisco | G10: 41930 | H10: 2014/2015 | I10: CM | J10: FH | K10: =IF(A10=1,"1",IF(A10=2,"2",IF(A10=3,"3",IF(A10=4,"4",IF(A10<=8,"T8",IF(A10<=16,"T16",IF(A10<=32,"T32",IF(A10<=64,"T64",IF(A10<=128,"T128","T256"))))))))) -> T16 | L10: Equipe | M10: Senior
A11: 11 | B11: 23 | C11: UKRAINE | D11: UKR | F11: San Francisco | G11: 41930 | H11: 2014/2015 | I11: CM | J11: FH | K11: =IF(A11=1,"1",IF(A11=2,"2",IF(A11=3,"3",IF(A11=4,"4",IF(A11<=8,"T8",IF(A11<=16,"T16",IF(A11<=32,"T32",IF(A11<=64,"T64",IF(A11<=128,"T128","T256"))))))))) -> T16 | L11: Equipe | M11: Senior
A12: 12 | B12: 22 | C12: EGYPT | D12: EGY | F12: San Francisco | G12: 41930 | H12: 2014/2015 | I12: CM | J12: FH | K12: =IF(A12=1,"1",IF(A12=2,"2",IF(A12=3,"3",IF(A12=4,"4",IF(A12<=8,"T8",IF(A12<=16,"T16",IF(A12<=32,"T32",IF(A12<=64,"T64",IF(A12<=128,"T128","T256"))))))))) -> T16 | L12: Equipe | M12: Senior
A13: 13 | B13: 21 | C13: GREAT BRITAIN | D13: GBR | F13: San Francisco | G13: 41930 | H13: 2014/2015 | I13: CM | J13: FH | K13: =IF(A13=1,"1",IF(A13=2,"2",IF(A13=3,"3",IF(A13=4,"4",IF(A13<=8,"T8",IF(A13<=16,"T16",IF(A13<=32,"T32",IF(A13<=64,"T64",IF(A13<=128,"T128","T256"))))))))) -> T16 | L13: Equipe | M13: Senior
... A475: 20 | B475: 8 | C475: TUNISIA | D475: TUN | F475: Gand | G475: 42057 | H475: 2014/2015 | I475: CM | J475: SD | K475: =IF(A475=1,"1",IF(A475=2,"2",IF(A475=3,"3",IF(A475=4,"4",IF(A475<=8,"T8",IF(A475<=16,"T16",IF(A475<=32,"T32",IF(A475<=64,"T64",IF(A475<=128,"T128","T256"))))))))) -> T32 | L475: Equipe | M475: Senior
A476: 1 | B476: 64 | C476: HUNGARY | D476: HUN | F476: Buenos Aires | H476: 2011/2012 | I476: CM | J476: EH | K476: =IF(A476=1,"1",IF(A476=2,"2",IF(A476=3,"3",IF(A476=4,"4",IF(A476<=8,"T8",IF(A476<=16,"T16",IF(A476<=32,"T32",IF(A476<=64,"T64",IF(A476<=128,"T128","T256"))))))))) -> 1 | L476: Equipe | M476: Senior
A477: 2 | B477: 52 | C477: CANADA | D477: CAN | F477: Buenos Aires | H477: 2011/2012 | I477: CM | J477: EH | K477: =IF(A477=1,"1",IF(A477=2,"2",IF(A477=3,"3",IF(A477=4,"4",IF(A477<=8,"T8",IF(A477<=16,"T16",IF(A477<=32,"T32",IF(A477<=64,"T64",IF(A477<=128,"T128","T256"))))))))) -> 2 | L477: Equipe | M477: Senior
A478: 3 | B478: 40 | C478: SWITZERLAND | D478: SUI | F478: Buenos Aires | H478: 2011/2012 | I478: CM | J478: EH | K478: =IF(A478=1,"1",IF(A478=2,"2",IF(A478=3,"3",IF(A478=4,"4",IF(A478<=8,"T8",IF(A478<=16,"T16",IF(A478<=32,"T32",IF(A478<=64,"T64",IF(A478<=128,"T128","T256"))))))))) -> 3 | L478: Equipe | M478: Senior
A479: 4 | B479: 36 | C479: USA | D479: USA | F479: Buenos Aires | H479: 2011/2012 | I479: CM | J479: EH | K479: =IF(A479=1,"1",IF(A479=2,"2",IF(A479=3,"3",IF(A479=4,"4",IF(A479<=8,"T8",IF(A479<=16,"T16",IF(A479<=32,"T32",IF(A479<=64,"T64",IF(A479<=128,"T128","T256"))))))))) -> 4 | L479: Equipe | M479: Senior
A480: 5 | B480: 32 | C480: POLAND | D480: POL | F480: Buenos Aires | H480: 2011/2012 | I480: CM | J480: EH | K480: =IF(A480=1,"1",IF(A480=2,"2",IF(A480=3,"3",IF(A480=4,"4",IF(A480<=8,"T8",IF(A480<=16,"T16",IF(A480<=32,"T32",IF(A480<=64,"T64",IF(A480<=128,"T128","T256"))))))))) -> T8 | L480: Equipe | M480: Senior
A481: 6 | B481: 30 | C481: CHILE | D481: CHI | F481: Buenos Aires | H481: 2011/2012 | I481: CM | J481: EH | K481: =IF(A481=1,"1",IF(A481=2,"2",IF(A481=3,"3",IF(A481=4,"4",IF(A481<=8,"T8",IF(A481<=16,"T16",IF(A481<=32,"T32",IF(A481<=64,"T64",IF(A481<=128,"T128","T256"))))))))) -> T8 | L481: Equipe | M481: Senior
A482: 7 | B482: 28 | C482: BRAZIL | D482: BRA | F482: Buenos Aires | H482: 2011/2012 | I482: CM | J482: EH | K482: =IF(A482=1,"1",IF(A482=2,"2",IF(A482=3,"3",IF(A482=4,"4",IF(A482<=8,"T8",IF(A482<=16,"T16",IF(A482<=32,"T32",IF(A482<=64,"T64",IF(A482<=128,"T128","T256"))))))))) -> T8 | L482: Equipe | M482: Senior
A483: 8 | B483: 26 | C483: ARGENTINA | D483: ARG | F483: Buenos Aires | H483: 2011/2012 | I483: CM | J483: EH | K483: =IF(A483=1,"1",IF(A483=2,"2",IF(A483=3,"3",IF(A483=4,"4",IF(A483<=8,"T8",IF(A483<=16,"T16",IF(A483<=32,"T32",IF(A483<=64,"T64",IF(A483<=128,"T128","T256"))))))))) -> T8 | L483: Equipe | M483: Senior
A484: 1 | B484: 64 | C484: SWITZERLAND | D484: SUI | F484: Heidenheim | H484: 2011/2012 | I484: CM | J484: EH | K484: =IF(A484=1,"1",IF(A484=2,"2",IF(A484=3,"3",IF(A484=4,"4",IF(A484<=8,"T8",IF(A484<=16,"T16",IF(A484<=32,"T32",IF(A484<=64,"T64",IF(A484<=128,"T128","T256"))))))))) -> 1 | L484: Equipe | M484: Senior
A485: 2 | B485: 52 | C485: ITALY | D485: ITA | F485: Heidenheim | H485: 2011/2012 | I485: CM | J485: EH | K485: =IF(A485=1,"1",IF(A485=2,"2",IF(A485=3,"3",IF(A485=4,"4",IF(A485<=8,"T8",IF(A485<=16,"T16",IF(A485<=32,"T32",IF(A485<=64,"T64",IF(A485<=128,"T128","T256"))))))))) -> 2 | L485: Equipe | M485: Senior
A486: 3 | B486: 40 | C486: CHINA | D486: CHN | F486: Heidenheim | H486: 2011/2012 | I486: CM | J486: EH | K486: =IF(A486=1,"1",IF(A486=2,"2",IF(A486=3,"3",IF(A486=4,"4",IF(A486<=8,"T8",IF(A486<=16,"T16",IF(A486<=32,"T32",IF(A486<=64,"T64",IF(A486<=128,"T128","T256"))))))))) -> 3 | L486: Equipe | M486: Senior
A487: 4 | B487: 36 | C487: RUSSIA | D487: RUS | F487: Heidenheim | H487: 2011/2012 | I487: CM | J487: EH | K487: =IF(A487=1,"1",IF(A487=2,"2",IF(A487=3,"3",IF(A487=4,"4",IF(A487<=8,"T8",IF(A487<=16,"T16",IF(A487<=32,"T32",IF(A487<=64,"T64",IF(A487<=128,"T128","T256"))))))))) -> 4 | L487: Equipe | M487: Senior
... A591: 38 | B591: 0 | C591: SERBIA | D591: SR | F591: Budapest | H591: 2012/2013 | I591: CHM | J591: EH | K591: =IF(A591=1,"1",IF(A591=2,"2",IF(A591=3,"3",IF(A591=4,"4",IF(A591<=8,"T8",IF(A591<=16,"T16",IF(A591<=32,"T32",IF(A591<=64,"T64",IF(A591<=128,"T128","T256"))))))))) -> T64 | L591: Equipe | M591: Senior
A592: 1 | B592: 64 | C592: USA | D592: USA | F592: Santiago | G592: 42111 | H592: 2014/2015 | I592: CHZ | J592: SD | K592: =IF(A592=1,"1",IF(A592=2,"2",IF(A592=3,"3",IF(A592=4,"4",IF(A592<=8,"T8",IF(A592<=16,"T16",IF(A592<=32,"T32",IF(A592<=64,"T64",IF(A592<=128,"T128","T256"))))))))) -> 1 | L592: Equipe | M592: Senior
A593: 2 | B593: 52 | C593: BRAZIL | D593: BRA | F593: Santiago | G593: 42111 | H593: 2014/2015 | I593: CHZ | J593: SD | K593: =IF(A593=1,"1",IF(A593=2,"2",IF(A593=3,"3",IF(A593=4,"4",IF(A593<=8,"T8",IF(A593<=16,"T16",IF(A593<=32,"T32",IF(A593<=64,"T64",IF(A593<=128,"T128","T256"))))))))) -> 2 | L593: Equipe | M593: Senior
A594: 3 | B594: 40 | C594: CANADA | D594: CAN | F594: Santiago | G594: 42111 | H594: 2014/2015 | I594: CHZ | J594: SD | K594: =IF(A594=1,"1",IF(A594=2,"2",IF(A594=3,"3",IF(A594=4,"4",IF(A594<=8,"T8",IF(A594<=16,"T16",IF(A594<=32,"T32",IF(A594<=64,"T64",IF(A594<=128,"T128","T256"))))))))) -> 3 | L594: Equipe | M594: Senior
A595: 4 | B595: 36 | C595: MEXICO | D595: MEX | F595: Santiago | G595: 42111 | H595: 2014/2015 | I595: CHZ | J595: SD | K595: =IF(A595=1,"1",IF(A595=2,"2",IF(A595=3,"3",IF(A595=4,"4",IF(A595<=8,"T8",IF(A595<=16,"T16",IF(A595<=32,"T32",IF(A595<=64,"T64",IF(A595<=128,"T128","T256"))))))))) -> 4 | L595: Equipe | M595: Senior
A596: 5 | B596: 32 | C596: CHILE | D596: CHI | F596: Santiago | G596: 42111 | H596: 2014/2015 | I596: CHZ | J596: SD | K596: =IF(A596=1,"1",IF(A596=2,"2",IF(A596=3,"3",IF(A596=4,"4",IF(A596<=8,"T8",IF(A596<=16,"T16",IF(A596<=32,"T32",IF(A596<=64,"T64",IF(A596<=128,"T128","T256"))))))))) -> T8 | L596: Equipe | M596: Senior
A597: 6 | B597: 30 | C597: VENEZUELA | D597: VEN | F597: Santiago | G597: 42111 | H597: 2014/2015 | I597: CHZ | J597: SD | K597: =IF(A597=1,"1",IF(A597=2,"2",IF(A597=3,"3",IF(A597=4,"4",IF(A597<=8,"T8",IF(A597<=16,"T16",IF(A597<=32,"T32",IF(A597<=64,"T64",IF(A597<=128,"T128","T256"))))))))) -> T8 | L597: Equipe | M597: Senior
A598: 7 | B598: 28 | C598: COLOMBIA | D598: COL | F598: Santiago | G598: 42111 | H598: 2014/2015 | I598: CHZ | J598: SD | K598: =IF(A598=1,"1",IF(A598=2,"2",IF(A598=3,"3",IF(A598=4,"4",IF(A598<=8,"T8",IF(A598<=16,"T16",IF(A598<=32,"T32",IF(A598<=64,"T64",IF(A598<=128,"T128","T256"))))))))) -> T8 | L598: Equipe | M598: Senior
A599: 8 | B599: 26 | C599: PUERTO RICO | D599: PUR | F599: Santiago | G599: 42111 | H599: 2014/2015 | I599: CHZ | J599: SD | K599: =IF(A599=1,"1",IF(A599=2,"2",IF(A599=3,"3",IF(A599=4,"4",IF(A599<=8,"T8",IF(A599<=16,"T16",IF(A599<=32,"T32",IF(A599<=64,"T64",IF(A599<=128,"T128","T256"))))))))) -> T8 | L599: Equipe | M599: Senior
A600: 9 | B600: 25 | C600: ARGENTINA | D600: ARG | F600: Santiago | G600: 42111 | H600: 2014/2015 | I600: CHZ | J600: SD | K600: =IF(A600=1,"1",IF(A600=2,"2",IF(A600=3,"3",IF(A600=4,"4",IF(A600<=8,"T8",IF(A600<=16,"T16",IF(A600<=32,"T32",IF(A600<=64,"T64",IF(A600<=128,"T128","T256"))))))))) -> T16 | L600: Equipe | M600: Senior
A601: 10 | B601: 24 | C601: CUBA | D601: CUB | F601: Santiago | G601: 42111 | H601: 2014/2015 | I601: CHZ | J601: SD | K601: =IF(A601=1,"1",IF(A601=2,"2",IF(A601=3,"3",IF(A601=4,"4",IF(A601<=8,"T8",IF(A601<=16,"T16",IF(A601<=32,"T32",IF(A601<=64,"T64",IF(A601<=128,"T128","T256"))))))))) -> T16 | L601: Equipe | M601: Senior
A602: 11 | B602: 23 | C602: GUATEMALA | D602: GUA | F602: Santiago | G602: 42111 | H602: 2014/2015 | I602: CHZ | J602: SD | K602: =IF(A602=1,"1",IF(A602=2,"2",IF(A602=3,"3",IF(A602=4,"4",IF(A602<=8,"T8",IF(A602<=16,"T16",IF(A602<=32,"T32",IF(A602<=64,"T64",IF(A602<=128,"T128","T256"))))))))) -> T16 | L602: Equipe | M602: Senior
A603: 12 | B603: 22 | C603: EL SALVADOR | D603: ESA | F603: Santiago | G603: 42111 | H603: 2014/2015 | I603: CHZ | J603: SD | K603: =IF(A603=1,"1",IF(A603=2,"2",IF(A603=3,"3",IF(A603=4,"4",IF(A603<=8,"T8",IF(A603<=16,"T16",IF(A603<=32,"T32",IF(A603<=64,"T64",IF(A603<=128,"T128","T256"))))))))) -> T16 | L603: Equipe | M603: Senior
... A811: 22 | B811: 8 | C811: TURKEY | D811: TUR | F811: Madrid | G811: 42127 | H811: 2014/2015 | I811: CM | J811: SH | K811: =IF(A811=1,"1",IF(A811=2,"2",IF(A811=3,"3",IF(A811=4,"4",IF(A811<=8,"T8",IF(A811<=16,"T16",IF(A811<=32,"T32",IF(A811<=64,"T64",IF(A811<=128,"T128","T256"))))))))) -> T32 | L811: Equipe | M811: Senior
B813: =SUBTOTAL(9,B592:B656) -> 2158

Sheet TCD
C1: Saison | D1: 2014/2015
C2: arme | D2: ED
C4: Somme de pts | D4: Étiquettes de colonnes
D5: CM | I5: CHZ | J5: Total général
A6: RANG | B6: POINTS | C6: Étiquettes de lignes | D6: Legnano | E6: Xuzhou | F6: Barcelone | G6: Buenos Aires | H6: Johannesburg | I6: Santiago
A7: =RANK(B7,$B$7:$B$43,0) -> 1 | B7: =SUMPRODUCT((D7:H7)*(D7:H7>=LARGE(D7:H7,4)))+I7 -> 208 | C7: ITA | D7: 40 | E7: 52 | F7: 52 | G7: 64 | H7: 36 | I7: 0 | J7: 244
A8: =RANK(B8,$B$7:$B$43,0) -> 2 | B8: =SUMPRODUCT((D8:H8)*(D8:H8>=LARGE(D8:H8,4)))+I8 -> 196 | C8: ROU | D8: 52 | E8: 24 | F8: 40 | G8: 52 | H8: 52 | I8: 0 | J8: 220
A9: =RANK(B9,$B$7:$B$43,0) -> 3 | B9: =SUMPRODUCT((D9:H9)*(D9:H9>=LARGE(D9:H9,4)))+I9 -> 190 | C9: CHN | D9: 30 | E9: 64 | F9: 32 | G9: 24 | H9: 64 | I9: 0 | J9: 214
A10: =RANK(B10,$B$7:$B$43,0) -> 4 | B10: =SUMPRODUCT((D10:H10)*(D10:H10>=LARGE(D10:H10,4)))+I10 -> 169 | C10: USA | D10: 24 | E10: 28 | F10: 23 | G10: 21 | H10: 30 | I10: 64 | J10: 190
A11: =RANK(B11,$B$7:$B$43,0) -> 5 | B11: =SUMPRODUCT((D11:H11)*(D11:H11>=LARGE(D11:H11,4)))+I11 -> 153 | C11: SWE | D11: 22 | E11: 40 | F11: 64 | G11: 23 | H11: 26 | I11: 0 | J11: 175
A12: =RANK(B12,$B$7:$B$43,0) -> 7 | B12: =SUMPRODUCT((D12:H12)*(D12:H12>=LARGE(D12:H12,4)))+I12 -> 140 | C12: RUS | D12: 32 | E12: 36 | F12: 36 | G12: 36 | H12: 28 | I12: 0 | J12: 168
A13: =RANK(B13,$B$7:$B$43,0) -> 6 | B13: =SUMPRODUCT((D13:H13)*(D13:H13>=LARGE(D13:H13,4)))+I13 -> 147 | C13: EST | D13: 64 | E13: 26 | F13: 25 | G13: 32 | H13: 21 | I13: 0 | J13: 168
A14: =RANK(B14,$B$7:$B$43,0) -> 8 | B14: =SUMPRODUCT((D14:H14)*(D14:H14>=LARGE(D14:H14,4)))+I14 -> 132 | C14: FRA | D14: 36 | E14: 19 | F14: 30 | G14: 26 | H14: 40 | I14: 0 | J14: 151
A15: =RANK(B15,$B$7:$B$43,0) -> 9 | B15: =SUMPRODUCT((D15:H15)*(D15:H15>=LARGE(D15:H15,4)))+I15 -> 120 | C15: GER | D15: 25 | E15: 30 | F15: 22 | G15: 40 | H15: 25 | I15: 0 | J15: 142
A16: =RANK(B16,$B$7:$B$43,0) -> 12 | B16: =SUMPRODUCT((D16:H16)*(D16:H16>=LARGE(D16:H16,4)))+I16 -> 111 | C16: UKR | D16: 28 | E16: 21 | F16: 26 | G16: 25 | H16: 32 | I16: 0 | J16: 132
A17: =RANK(B17,$B$7:$B$43,0) -> 13 | B17: =SUMPRODUCT((D17:H17)*(D17:H17>=LARGE(D17:H17,4)))+I17 -> 100 | C17: KOR | D17: 23 | E17: 25 | F17: 24 | G17: 28 | H17: 22 | I17: 0 | J17: 122
A18: =RANK(B18,$B$7:$B$43,0) -> 9 | B18: =SUMPRODUCT((D18:H18)*(D18:H18>=LARGE(D18:H18,4)))+I18 -> 120 | C18: HUN | D18: 21 | E18: 32 | F18: 21 | G18: 22 | H18: 24 | I18: 0 | J18: 120
... A43: =RANK(B43,$B$7:$B$43,0) -> 33 | B43: =SUMPRODUCT((D43:H43)*(D43:H43>=LARGE(D43:H43,4)))+I43 -> 8 | C43: TPE | D43: 0 | E43: 0 | F43: 0 | G43: 8 | H43: 0 | I43: 0 | J43: 8
C44: Total général | D44: 520 | E44: 512 | F44: 544 | G44: 536 | H44: 528 | I44: 423 | J44: 3063

Sheet CLMT
B3: RANG | C3: PAYS | D3: COUPE DU MONDE (CM) | I3: CHAMPIONNAT DE ZONE | M3: CHPT DU MONDE | N3: POINTS
I4: CHAM | J4: CHE | K4: CHAS | L4: CHAF
D5: Legnano | E5: Xuzhou | F5: Barcelone | G5: Buenos Aires | H5: Johannesburg | I5: Santiago | J5: MONTREUX | K5: SEOUL | L5: LE CAIRE | M5: MOSCOU
B6: =RANK(N6,$N$6:$N$42,0) -> 1 | C6: ITA | D6: 40 | E6: 52 | F6: 52 | G6: 64 | H6: 36 | I6: 0 | N6: =SUMPRODUCT((D6:H6)*(D6:H6>=LARGE(D6:H6,4)))+SUM(I6:L6)+M6 -> 208
B7: =RANK(N7,$N$6:$N$42,0) -> 2 | C7: ROU | D7: 52 | E7: 24 | F7: 40 | G7: 52 | H7: 52 | I7: 0 | N7: =SUMPRODUCT((D7:H7)*(D7:H7>=LARGE(D7:H7,4)))+SUM(I7:L7)+M7 -> 196
B8: =RANK(N8,$N$6:$N$42,0) -> 3 | C8: CHN | D8: 30 | E8: 64 | F8: 32 | G8: 24 | H8: 64 | I8: 0 | N8: =SUMPRODUCT((D8:H8)*(D8:H8>=LARGE(D8:H8,4)))+SUM(I8:L8)+M8 -> 190
B9: =RANK(N9,$N$6:$N$42,0) -> 4 | C9: USA | D9: 24 | E9: 28 | F9: 23 | G9: 21 | H9: 30 | I9: 64 | N9: =SUMPRODUCT((D9:H9)*(D9:H9>=LARGE(D9:H9,4)))+SUM(I9:L9)+M9 -> 169
B10: =RANK(N10,$N$6:$N$42,0) -> 5 | C10: SWE | D10: 22 | E10: 40 | F10: 64 | G10: 23 | H10: 26 | I10: 0 | N10: =SUMPRODUCT((D10:H10)*(D10:H10>=LARGE(D10:H10,4)))+SUM(I10:L10)+M10 -> 153
B11: =RANK(N11,$N$6:$N$42,0) -> 6 | C11: EST | D11: 64 | E11: 26 | F11: 25 | G11: 32 | H11: 21 | I11: 0 | N11: =SUMPRODUCT((D11:H11)*(D11:H11>=LARGE(D11:H11,4)))+SUM(I11:L11)+M11 -> 147
B12: =RANK(N12,$N$6:$N$42,0) -> 7 | C12: RUS | D12: 32 | E12: 36 | F12: 36 | G12: 36 | H12: 28 | I12: 0 | N12: =SUMPRODUCT((D12:H12)*(D12:H12>=LARGE(D12:H12,4)))+SUM(I12:L12)+M12 -> 140
B13: =RANK(N13,$N$6:$N$42,0) -> 8 | C13: FRA | D13: 36 | E13: 19 | F13: 30 | G13: 26 | H13: 40 | I13: 0 | N13: =SUMPRODUCT((D13:H13)*(D13:H13>=LARGE(D13:H13,4)))+SUM(I13:L13)+M13 -> 132
B14: =RANK(N14,$N$6:$N$42,0) -> 9 | C14: GER | D14: 25 | E14: 30 | F14: 22 | G14: 40 | H14: 25 | I14: 0 | N14: =SUMPRODUCT((D14:H14)*(D14:H14>=LARGE(D14:H14,4)))+SUM(I14:L14)+M14 -> 120
B15: =RANK(N15,$N$6:$N$42,0) -> 9 | C15: HUN | D15: 21 | E15: 32 | F15: 21 | G15: 22 | H15: 24 | I15: 0 | N15: =SUMPRODUCT((D15:H15)*(D15:H15>=LARGE(D15:H15,4)))+SUM(I15:L15)+M15 -> 120
B16: =RANK(N16,$N$6:$N$42,0) -> 11 | C16: VEN | D16: 19 | E16: 0 | F16: 20 | G16: 19 | H16: 8 | I16: 52 | N16: =SUMPRODUCT((D16:H16)*(D16:H16>=LARGE(D16:H16,4)))+SUM(I16:L16)+M16 -> 118
B17: =RANK(N17,$N$6:$N$42,0) -> 12 | C17: UKR | D17: 28 | E17: 21 | F17: 26 | G17: 25 | H17: 32 | I17: 0 | N17: =SUMPRODUCT((D17:H17)*(D17:H17>=LARGE(D17:H17,4)))+SUM(I17:L17)+M17 -> 111
... B42: =RANK(N42,$N$6:$N$42,0) -> 33 | C42: TPE | D42: 0 | E42: 0 | F42: 0 | G42: 8 | H42: 0 | I42: 0 | N42: =SUMPRODUCT((D42:H42)*(D42:H42>=LARGE(D42:H42,4)))+SUM(I42:L42)+M42 -> 8

Sheet CLMT (2)
A3: Saison | E3: COUPE DU MONDE (CM) | J3: CHAMPIONNAT DE ZONE | N3: CHPT DU MONDE
A4: 2014/2015 | J4: CHAM | K4: CHE | L4: CHAS | M4: CHAF
C6: RANG | D6: PAYS | E6: Legnano | F6: Xuzhou | G6: Barcelone | H6: Buenos Aires | I6: Johannesburg | J6: Santiago | K6: MONTREUX | L6: SEOUL | M6: LE CAIRE | N6: MOSCOU | O6: POINTS
C7: =RANK(O7,$O$7:$O$43,0) -> 5 | D7: ITA | E7: =SUMPRODUCT((Tableau1[Pays]='CLMT (2)'!$D7)*(Tableau1[lieu]='CLMT (2)'!E$6)*(Tableau1[Saison]='CLMT (2)'!$A$4)*Tableau1[pts]) -> 40 | F7: =SUMPRODUCT((Tableau1[Pays]='CLMT (2)'!$D7)*(Tableau1[lieu]='CLMT (2)'!F$6)*(Tableau1[Saison]='CLMT (2)'!$A$4)*Tableau1[pts]) -> 52 | G7: =SUMPRODUCT((Tableau1[Pays]='CLMT (2)'!$D7)*(Tableau1[lieu]='CLMT (2)'!G$6)*(Tableau1[Saison]='CLMT (2)'!$A$4)*Tableau1[pts]) -> 52 | H7: =SUMPRODUCT((Tableau1[Pays]='CLMT (2)'!$D7)*(Tableau1[lieu]='CLMT (2)'!H$6)*(Tableau1[Saison]='CLMT (2)'!$A$4)*Tableau1[pts]) -> 64 | I7: =SUMPRODUCT((Tableau1[Pays]='CLMT (2)'!$D7)*(Tableau1[lieu]='CLMT (2)'!I$6)*(Tableau1[Saison]='CLMT (2)'!$A$4)*Tableau1[pts]) -> 36 | J7: =SUMPRODUCT((Tableau1[Pays]='CLMT (2)'!$D7)*(Tableau1[lieu]='CLMT (2)'!J$6)*(Tableau1[Saison]='CLMT (2)'!$A$4)*Tableau1[pts]) -> 0 | K7: =SUMPRODUCT((Tableau1[Pays]='CLMT (2)'!$D7)*(Tableau1[lieu]='CLMT (2)'!K$6)*(Tableau1[Saison]='CLMT (2)'!$A$4)*Tableau1[pts]) -> 0 | L7: =SUMPRODUCT((Tableau1[Pays]='CLMT (2)'!$D7)*(Tableau1[lieu]='CLMT (2)'!L$6)*(Tableau1[Saison]='CLMT (2)'!$A$4)*Tableau1[pts]) -> 0 | ... N7: =SUMPRODUCT((Tableau1[Pays]='CLMT (2)'!$D7)*(Tableau1[lieu]='CLMT (2)'!N$6)*(Tableau1[Saison]='CLMT (2)'!$A$4)*Tableau1[pts]) -> 0 | O7: =SUMPRODUCT((E7:I7)*(E7:I7>=LARGE(E7:I7,4)))+SUM(J7:N7) -> 208
C8: =RANK(O8,$O$7:$O$43,0) -> 6 | D8: ROU | E8: =SUMPRODUCT((Tableau1[Pays]='CLMT (2)'!$D8)*(Tableau1[lieu]='CLMT (2)'!E$6)*(Tableau1[Saison]='CLMT (2)'!$A$4)*Tableau1[pts]) -> 52 | F8: =SUMPRODUCT((Tableau1[Pays]='CLMT (2)'!$D8)*(Tableau1[lieu]='CLMT (2)'!F$6)*(Tableau1[Saison]='CLMT (2)'!$A$4)*Tableau1[pts]) -> 24 | G8: =SUMPRODUCT((Tableau1[Pays]='CLMT (2)'!$D8)*(Tableau1[lieu]='CLMT (2)'!G$6)*(Tableau1[Saison]='CLMT (2)'!$A$4)*Tableau1[pts]) -> 40 | H8: =SUMPRODUCT((Tableau1[Pays]='CLMT (2)'!$D8)*(Tableau1[lieu]='CLMT (2)'!H$6)*(Tableau1[Saison]='CLMT (2)'!$A$4)*Tableau1[pts]) -> 52 | I8: =SUMPRODUCT((Tableau1[Pays]='CLMT (2)'!$D8)*(Tableau1[lieu]='CLMT (2)'!I$6)*(Tableau1[Saison]='CLMT (2)'!$A$4)*Tableau1[pts]) -> 52 | J8: =SUMPRODUCT((Tableau1[Pays]='CLMT (2)'!$D8)*(Tableau1[lieu]='CLMT (2)'!J$6)*(Tableau1[Saison]='CLMT (2)'!$A$4)*Tableau1[pts]) -> 0 | K8: =SUMPRODUCT((Tableau1[Pays]='CLMT (2)'!$D8)*(Tableau1[lieu]='CLMT (2)'!K$6)*(Tableau1[Saison]='CLMT (2)'!$A$4)*Tableau1[pts]) -> 0 | L8: =SUMPRODUCT((Tableau1[Pays]='CLMT (2)'!$D8)*(Tableau1[lieu]='CLMT (2)'!L$6)*(Tableau1[Saison]='CLMT (2)'!$A$4)*Tableau1[pts]) -> 0 | ... N8: =SUMPRODUCT((Tableau1[Pays]='CLMT (2)'!$D8)*(Tableau1[lieu]='CLMT (2)'!N$6)*(Tableau1[Saison]='CLMT (2)'!$A$4)*Tableau1[pts]) -> 0 | O8: =SUMPRODUCT((E8:I8)*(E8:I8>=LARGE(E8:I8,4)))+SUM(J8:N8) -> 196
C9: =RANK(O9,$O$7:$O$43,0) -> 8 | D9: CHN | E9: =SUMPRODUCT((Tableau1[Pays]='CLMT (2)'!$D9)*(Tableau1[lieu]='CLMT (2)'!E$6)*(Tableau1[Saison]='CLMT (2)'!$A$4)*Tableau1[pts]) -> 30 | F9: =SUMPRODUCT((Tableau1[Pays]='CLMT (2)'!$D9)*(Tableau1[lieu]='CLMT (2)'!F$6)*(Tableau1[Saison]='CLMT (2)'!$A$4)*Tableau1[pts]) -> 64 | G9: =SUMPRODUCT((Tableau1[Pays]='CLMT (2)'!$D9)*(Tableau1[lieu]='CLMT (2)'!G$6)*(Tableau1[Saison]='CLMT (2)'!$A$4)*Tableau1[pts]) -> 32 | H9: =SUMPRODUCT((Tableau1[Pays]='CLMT (2)'!$D9)*(Tableau1[lieu]='CLMT (2)'!H$6)*(Tableau1[Saison]='CLMT (2)'!$A$4)*Tableau1[pts]) -> 24 | I9: =SUMPRODUCT((Tableau1[Pays]='CLMT (2)'!$D9)*(Tableau1[lieu]='CLMT (2)'!I$6)*(Tableau1[Saison]='CLMT (2)'!$A$4)*Tableau1[pts]) -> 64 | J9: =SUMPRODUCT((Tableau1[Pays]='CLMT (2)'!$D9)*(Tableau1[lieu]='CLMT (2)'!J$6)*(Tableau1[Saison]='CLMT (2)'!$A$4)*Tableau1[pts]) -> 0 | K9: =SUMPRODUCT((Tableau1[Pays]='CLMT (2)'!$D9)*(Tableau1[lieu]='CLMT (2)'!K$6)*(Tableau1[Saison]='CLMT (2)'!$A$4)*Tableau1[pts]) -> 0 | L9: =SUMPRODUCT((Tableau1[Pays]='CLMT (2)'!$D9)*(Tableau1[lieu]='CLMT (2)'!L$6)*(Tableau1[Saison]='CLMT (2)'!$A$4)*Tableau1[pts]) -> 0 | ... N9: =SUMPRODUCT((Tableau1[Pays]='CLMT (2)'!$D9)*(Tableau1[lieu]='CLMT (2)'!N$6)*(Tableau1[Saison]='CLMT (2)'!$A$4)*Tableau1[pts]) -> 0 | O9: =SUMPRODUCT((E9:I9)*(E9:I9>=LARGE(E9:I9,4)))+SUM(J9:N9) -> 190
C10: =RANK(O10,$O$7:$O$43,0) -> 1 | D10: USA | E10: =SUMPRODUCT((Tableau1[Pays]='CLMT (2)'!$D10)*(Tableau1[lieu]='CLMT (2)'!E$6)*(Tableau1[Saison]='CLMT (2)'!$A$4)*Tableau1[pts]) -> 24 | F10: =SUMPRODUCT((Tableau1[Pays]='CLMT (2)'!$D10)*(Tableau1[lieu]='CLMT (2)'!F$6)*(Tableau1[Saison]='CLMT (2)'!$A$4)*Tableau1[pts]) -> 28 | G10: =SUMPRODUCT((Tableau1[Pays]='CLMT (2)'!$D10)*(Tableau1[lieu]='CLMT (2)'!G$6)*(Tableau1[Saison]='CLMT (2)'!$A$4)*Tableau1[pts]) -> 23 | H10: =SUMPRODUCT((Tableau1[Pays]='CLMT (2)'!$D10)*(Tableau1[lieu]='CLMT (2)'!H$6)*(Tableau1[Saison]='CLMT (2)'!$A$4)*Tableau1[pts]) -> 21 | I10: =SUMPRODUCT((Tableau1[Pays]='CLMT (2)'!$D10)*(Tableau1[lieu]='CLMT (2)'!I$6)*(Tableau1[Saison]='CLMT (2)'!$A$4)*Tableau1[pts]) -> 30 | J10: =SUMPRODUCT((Tableau1[Pays]='CLMT (2)'!$D10)*(Tableau1[lieu]='CLMT (2)'!J$6)*(Tableau1[Saison]='CLMT (2)'!$A$4)*Tableau1[pts]) -> 384 | K10: =SUMPRODUCT((Tableau1[Pays]='CLMT (2)'!$D10)*(Tableau1[lieu]='CLMT (2)'!K$6)*(Tableau1[Saison]='CLMT (2)'!$A$4)*Tableau1[pts]) -> 0 | L10: =SUMPRODUCT((Tableau1[Pays]='CLMT (2)'!$D10)*(Tableau1[lieu]='CLMT (2)'!L$6)*(Tableau1[Saison]='CLMT (2)'!$A$4)*Tableau1[pts]) -> 0 | ... N10: =SUMPRODUCT((Tableau1[Pays]='CLMT (2)'!$D10)*(Tableau1[lieu]='CLMT (2)'!N$6)*(Tableau1[Saison]='CLMT (2)'!$A$4)*Tableau1[pts]) -> 0 | O10: =SUMPRODUCT((E10:I10)*(E10:I10>=LARGE(E10:I10,4)))+SUM(J10:N10) -> 489
C11: =RANK(O11,$O$7:$O$43,0) -> 12 | D11: SWE | E11: =SUMPRODUCT((Tableau1[Pays]='CLMT (2)'!$D11)*(Tableau1[lieu]='CLMT (2)'!E$6)*(Tableau1[Saison]='CLMT (2)'!$A$4)*Tableau1[pts]) -> 22 | F11: =SUMPRODUCT((Tableau1[Pays]='CLMT (2)'!$D11)*(Tableau1[lieu]='CLMT (2)'!F$6)*(Tableau1[Saison]='CLMT (2)'!$A$4)*Tableau1[pts]) -> 40 | G11: =SUMPRODUCT((Tableau1[Pays]='CLMT (2)'!$D11)*(Tableau1[lieu]='CLMT (2)'!G$6)*(Tableau1[Saison]='CLMT (2)'!$A$4)*Tableau1[pts]) -> 64 | H11: =SUMPRODUCT((Tableau1[Pays]='CLMT (2)'!$D11)*(Tableau1[lieu]='CLMT (2)'!H$6)*(Tableau1[Saison]='CLMT (2)'!$A$4)*Tableau1[pts]) -> 23 | I11: =SUMPRODUCT((Tableau1[Pays]='CLMT (2)'!$D11)*(Tableau1[lieu]='CLMT (2)'!I$6)*(Tableau1[Saison]='CLMT (2)'!$A$4)*Tableau1[pts]) -> 26 | J11: =SUMPRODUCT((Tableau1[Pays]='CLMT (2)'!$D11)*(Tableau1[lieu]='CLMT (2)'!J$6)*(Tableau1[Saison]='CLMT (2)'!$A$4)*Tableau1[pts]) -> 0 | K11: =SUMPRODUCT((Tableau1[Pays]='CLMT (2)'!$D11)*(Tableau1[lieu]='CLMT (2)'!K$6)*(Tableau1[Saison]='CLMT (2)'!$A$4)*Tableau1[pts]) -> 0 | L11: =SUMPRODUCT((Tableau1[Pays]='CLMT (2)'!$D11)*(Tableau1[lieu]='CLMT (2)'!L$6)*(Tableau1[Saison]='CLMT (2)'!$A$4)*Tableau1[pts]) -> 0 | ... N11: =SUMPRODUCT((Tableau1[Pays]='CLMT (2)'!$D11)*(Tableau1[lieu]='CLMT (2)'!N$6)*(Tableau1[Saison]='CLMT (2)'!$A$4)*Tableau1[pts]) -> 0 | O11: =SUMPRODUCT((E11:I11)*(E11:I11>=LARGE(E11:I11,4)))+SUM(J11:N11) -> 153
C12: =RANK(O12,$O$7:$O$43,0) -> 15 | D12: EST | E12: =SUMPRODUCT((Tableau1[Pays]='CLMT (2)'!$D12)*(Tableau1[lieu]='CLMT (2)'!E$6)*(Tableau1[Saison]='CLMT (2)'!$A$4)*Tableau1[pts]) -> 64 | F12: =SUMPRODUCT((Tableau1[Pays]='CLMT (2)'!$D12)*(Tableau1[lieu]='CLMT (2)'!F$6)*(Tableau1[Saison]='CLMT (2)'!$A$4)*Tableau1[pts]) -> 26 | G12: =SUMPRODUCT((Tableau1[Pays]='CLMT (2)'!$D12)*(Tableau1[lieu]='CLMT (2)'!G$6)*(Tableau1[Saison]='CLMT (2)'!$A$4)*Tableau1[pts]) -> 25 | H12: =SUMPRODUCT((Tableau1[Pays]='CLMT (2)'!$D12)*(Tableau1[lieu]='CLMT (2)'!H$6)*(Tableau1[Saison]='CLMT (2)'!$A$4)*Tableau1[pts]) -> 32 | I12: =SUMPRODUCT((Tableau1[Pays]='CLMT (2)'!$D12)*(Tableau1[lieu]='CLMT (2)'!I$6)*(Tableau1[Saison]='CLMT (2)'!$A$4)*Tableau1[pts]) -> 21 | J12: =SUMPRODUCT((Tableau1[Pays]='CLMT (2)'!$D12)*(Tableau1[lieu]='CLMT (2)'!J$6)*(Tableau1[Saison]='CLMT (2)'!$A$4)*Tableau1[pts]) -> 0 | K12: =SUMPRODUCT((Tableau1[Pays]='CLMT (2)'!$D12)*(Tableau1[lieu]='CLMT (2)'!K$6)*(Tableau1[Saison]='CLMT (2)'!$A$4)*Tableau1[pts]) -> 0 | L12: =SUMPRODUCT((Tableau1[Pays]='CLMT (2)'!$D12)*(Tableau1[lieu]='CLMT (2)'!L$6)*(Tableau1[Saison]='CLMT (2)'!$A$4)*Tableau1[pts]) -> 0 | ... N12: =SUMPRODUCT((Tableau1[Pays]='CLMT (2)'!$D12)*(Tableau1[lieu]='CLMT (2)'!N$6)*(Tableau1[Saison]='CLMT (2)'!$A$4)*Tableau1[pts]) -> 0 | O12: =SUMPRODUCT((E12:I12)*(E12:I12>=LARGE(E12:I12,4)))+SUM(J12:N12) -> 147
C13: =RANK(O13,$O$7:$O$43,0) -> 16 | D13: RUS | E13: =SUMPRODUCT((Tableau1[Pays]='CLMT (2)'!$D13)*(Tableau1[lieu]='CLMT (2)'!E$6)*(Tableau1[Saison]='CLMT (2)'!$A$4)*Tableau1[pts]) -> 32 | F13: =SUMPRODUCT((Tableau1[Pays]='CLMT (2)'!$D13)*(Tableau1[lieu]='CLMT (2)'!F$6)*(Tableau1[Saison]='CLMT (2)'!$A$4)*Tableau1[pts]) -> 36 | G13: =SUMPRODUCT((Tableau1[Pays]='CLMT (2)'!$D13)*(Tableau1[lieu]='CLMT (2)'!G$6)*(Tableau1[Saison]='CLMT (2)'!$A$4)*Tableau1[pts]) -> 36 | H13: =SUMPRODUCT((Tableau1[Pays]='CLMT (2)'!$D13)*(Tableau1[lieu]='CLMT (2)'!H$6)*(Tableau1[Saison]='CLMT (2)'!$A$4)*Tableau1[pts]) -> 36 | I13: =SUMPRODUCT((Tableau1[Pays]='CLMT (2)'!$D13)*(Tableau1[lieu]='CLMT (2)'!I$6)*(Tableau1[Saison]='CLMT (2)'!$A$4)*Tableau1[pts]) -> 28 | J13: =SUMPRODUCT((Tableau1[Pays]='CLMT (2)'!$D13)*(Tableau1[lieu]='CLMT (2)'!J$6)*(Tableau1[Saison]='CLMT (2)'!$A$4)*Tableau1[pts]) -> 0 | K13: =SUMPRODUCT((Tableau1[Pays]='CLMT (2)'!$D13)*(Tableau1[lieu]='CLMT (2)'!K$6)*(Tableau1[Saison]='CLMT (2)'!$A$4)*Tableau1[pts]) -> 0 | L13: =SUMPRODUCT((Tableau1[Pays]='CLMT (2)'!$D13)*(Tableau1[lieu]='CLMT (2)'!L$6)*(Tableau1[Saison]='CLMT (2)'!$A$4)*Tableau1[pts]) -> 0 | ... N13: =SUMPRODUCT((Tableau1[Pays]='CLMT (2)'!$D13)*(Tableau1[lieu]='CLMT (2)'!N$6)*(Tableau1[Saison]='CLMT (2)'!$A$4)*Tableau1[pts]) -> 0 | O13: =SUMPRODUCT((E13:I13)*(E13:I13>=LARGE(E13:I13,4)))+SUM(J13:N13) -> 140
C14: =RANK(O14,$O$7:$O$43,0) -> 17 | D14: FRA | E14: =SUMPRODUCT((Tableau1[Pays]='CLMT (2)'!$D14)*(Tableau1[lieu]='CLMT (2)'!E$6)*(Tableau1[Saison]='CLMT (2)'!$A$4)*Tableau1[pts]) -> 36 | F14: =SUMPRODUCT((Tableau1[Pays]='CLMT (2)'!$D14)*(Tableau1[lieu]='CLMT (2)'!F$6)*(Tableau1[Saison]='CLMT (2)'!$A$4)*Tableau1[pts]) -> 19 | G14: =SUMPRODUCT((Tableau1[Pays]='CLMT (2)'!$D14)*(Tableau1[lieu]='CLMT (2)'!G$6)*(Tableau1[Saison]='CLMT (2)'!$A$4)*Tableau1[pts]) -> 30 | H14: =SUMPRODUCT((Tableau1[Pays]='CLMT (2)'!$D14)*(Tableau1[lieu]='CLMT (2)'!H$6)*(Tableau1[Saison]='CLMT (2)'!$A$4)*Tableau1[pts]) -> 26 | I14: =SUMPRODUCT((Tableau1[Pays]='CLMT (2)'!$D14)*(Tableau1[lieu]='CLMT (2)'!I$6)*(Tableau1[Saison]='CLMT (2)'!$A$4)*Tableau1[pts]) -> 40 | J14: =SUMPRODUCT((Tableau1[Pays]='CLMT (2)'!$D14)*(Tableau1[lieu]='CLMT (2)'!J$6)*(Tableau1[Saison]='CLMT (2)'!$A$4)*Tableau1[pts]) -> 0 | K14: =SUMPRODUCT((Tableau1[Pays]='CLMT (2)'!$D14)*(Tableau1[lieu]='CLMT (2)'!K$6)*(Tableau1[Saison]='CLMT (2)'!$A$4)*Tableau1[pts]) -> 0 | L14: =SUMPRODUCT((Tableau1[Pays]='CLMT (2)'!$D14)*(Tableau1[lieu]='CLMT (2)'!L$6)*(Tableau1[Saison]='CLMT (2)'!$A$4)*Tableau1[pts]) -> 0 | ... N14: =SUMPRODUCT((Tableau1[Pays]='CLMT (2)'!$D14)*(Tableau1[lieu]='CLMT (2)'!N$6)*(Tableau1[Saison]='CLMT (2)'!$A$4)*Tableau1[pts]) -> 0 | O14: =SUMPRODUCT((E14:I14)*(E14:I14>=LARGE(E14:I14,4)))+SUM(J14:N14) -> 132
C15: =RANK(O15,$O$7:$O$43,0) -> 18 | D15: GER | E15: =SUMPRODUCT((Tableau1[Pays]='CLMT (2)'!$D15)*(Tableau1[lieu]='CLMT (2)'!E$6)*(Tableau1[Saison]='CLMT (2)'!$A$4)*Tableau1[pts]) -> 25 | F15: =SUMPRODUCT((Tableau1[Pays]='CLMT (2)'!$D15)*(Tableau1[lieu]='CLMT (2)'!F$6)*(Tableau1[Saison]='CLMT (2)'!$A$4)*Tableau1[pts]) -> 30 | G15: =SUMPRODUCT((Tableau1[Pays]='CLMT (2)'!$D15)*(Tableau1[lieu]='CLMT (2)'!G$6)*(Tableau1[Saison]='CLMT (2)'!$A$4)*Tableau1[pts]) -> 22 | H15: =SUMPRODUCT((Tableau1[Pays]='CLMT (2)'!$D15)*(Tableau1[lieu]='CLMT (2)'!H$6)*(Tableau1[Saison]='CLMT (2)'!$A$4)*Tableau1[pts]) -> 40 | I15: =SUMPRODUCT((Tableau1[Pays]='CLMT (2)'!$D15)*(Tableau1[lieu]='CLMT (2)'!I$6)*(Tableau1[Saison]='CLMT (2)'!$A$4)*Tableau1[pts]) -> 25 | J15: =SUMPRODUCT((Tableau1[Pays]='CLMT (2)'!$D15)*(Tableau1[lieu]='CLMT (2)'!J$6)*(Tableau1[Saison]='CLMT (2)'!$A$4)*Tableau1[pts]) -> 0 | K15: =SUMPRODUCT((Tableau1[Pays]='CLMT (2)'!$D15)*(Tableau1[lieu]='CLMT (2)'!K$6)*(Tableau1[Saison]='CLMT (2)'!$A$4)*Tableau1[pts]) -> 0 | L15: =SUMPRODUCT((Tableau1[Pays]='CLMT (2)'!$D15)*(Tableau1[lieu]='CLMT (2)'!L$6)*(Tableau1[Saison]='CLMT (2)'!$A$4)*Tableau1[pts]) -> 0 | ... N15: =SUMPRODUCT((Tableau1[Pays]='CLMT (2)'!$D15)*(Tableau1[lieu]='CLMT (2)'!N$6)*(Tableau1[Saison]='CLMT (2)'!$A$4)*Tableau1[pts]) -> 0 | O15: =SUMPRODUCT((E15:I15)*(E15:I15>=LARGE(E15:I15,4)))+SUM(J15:N15) -> 120
C16: =RANK(O16,$O$7:$O$43,0) -> 18 | D16: HUN | E16: =SUMPRODUCT((Tableau1[Pays]='CLMT (2)'!$D16)*(Tableau1[lieu]='CLMT (2)'!E$6)*(Tableau1[Saison]='CLMT (2)'!$A$4)*Tableau1[pts]) -> 21 | F16: =SUMPRODUCT((Tableau1[Pays]='CLMT (2)'!$D16)*(Tableau1[lieu]='CLMT (2)'!F$6)*(Tableau1[Saison]='CLMT (2)'!$A$4)*Tableau1[pts]) -> 32 | G16: =SUMPRODUCT((Tableau1[Pays]='CLMT (2)'!$D16)*(Tableau1[lieu]='CLMT (2)'!G$6)*(Tableau1[Saison]='CLMT (2)'!$A$4)*Tableau1[pts]) -> 21 | H16: =SUMPRODUCT((Tableau1[Pays]='CLMT (2)'!$D16)*(Tableau1[lieu]='CLMT (2)'!H$6)*(Tableau1[Saison]='CLMT (2)'!$A$4)*Tableau1[pts]) -> 22 | I16: =SUMPRODUCT((Tableau1[Pays]='CLMT (2)'!$D16)*(Tableau1[lieu]='CLMT (2)'!I$6)*(Tableau1[Saison]='CLMT (2)'!$A$4)*Tableau1[pts]) -> 24 | J16: =SUMPRODUCT((Tableau1[Pays]='CLMT (2)'!$D16)*(Tableau1[lieu]='CLMT (2)'!J$6)*(Tableau1[Saison]='CLMT (2)'!$A$4)*Tableau1[pts]) -> 0 | K16: =SUMPRODUCT((Tableau1[Pays]='CLMT (2)'!$D16)*(Tableau1[lieu]='CLMT (2)'!K$6)*(Tableau1[Saison]='CLMT (2)'!$A$4)*Tableau1[pts]) -> 0 | L16: =SUMPRODUCT((Tableau1[Pays]='CLMT (2)'!$D16)*(Tableau1[lieu]='CLMT (2)'!L$6)*(Tableau1[Saison]='CLMT (2)'!$A$4)*Tableau1[pts]) -> 0 | ... N16: =SUMPRODUCT((Tableau1[Pays]='CLMT (2)'!$D16)*(Tableau1[lieu]='CLMT (2)'!N$6)*(Tableau1[Saison]='CLMT (2)'!$A$4)*Tableau1[pts]) -> 0 | O16: =SUMPRODUCT((E16:I16)*(E16:I16>=LARGE(E16:I16,4)))+SUM(J16:N16) -> 120
C17: =RANK(O17,$O$7:$O$43,0) -> 3 | D17: VEN | E17: =SUMPRODUCT((Tableau1[Pays]='CLMT (2)'!$D17)*(Tableau1[lieu]='CLMT (2)'!E$6)*(Tableau1[Saison]='CLMT (2)'!$A$4)*Tableau1[pts]) -> 19 | F17: =SUMPRODUCT((Tableau1[Pays]='CLMT (2)'!$D17)*(Tableau1[lieu]='CLMT (2)'!F$6)*(Tableau1[Saison]='CLMT (2)'!$A$4)*Tableau1[pts]) -> 0 | G17: =SUMPRODUCT((Tableau1[Pays]='CLMT (2)'!$D17)*(Tableau1[lieu]='CLMT (2)'!G$6)*(Tableau1[Saison]='CLMT (2)'!$A$4)*Tableau1[pts]) -> 20 | H17: =SUMPRODUCT((Tableau1[Pays]='CLMT (2)'!$D17)*(Tableau1[lieu]='CLMT (2)'!H$6)*(Tableau1[Saison]='CLMT (2)'!$A$4)*Tableau1[pts]) -> 19 | I17: =SUMPRODUCT((Tableau1[Pays]='CLMT (2)'!$D17)*(Tableau1[lieu]='CLMT (2)'!I$6)*(Tableau1[Saison]='CLMT (2)'!$A$4)*Tableau1[pts]) -> 8 | J17: =SUMPRODUCT((Tableau1[Pays]='CLMT (2)'!$D17)*(Tableau1[lieu]='CLMT (2)'!J$6)*(Tableau1[Saison]='CLMT (2)'!$A$4)*Tableau1[pts]) -> 244 | K17: =SUMPRODUCT((Tableau1[Pays]='CLMT (2)'!$D17)*(Tableau1[lieu]='CLMT (2)'!K$6)*(Tableau1[Saison]='CLMT (2)'!$A$4)*Tableau1[pts]) -> 0 | L17: =SUMPRODUCT((Tableau1[Pays]='CLMT (2)'!$D17)*(Tableau1[lieu]='CLMT (2)'!L$6)*(Tableau1[Saison]='CLMT (2)'!$A$4)*Tableau1[pts]) -> 0 | ... N17: =SUMPRODUCT((Tableau1[Pays]='CLMT (2)'!$D17)*(Tableau1[lieu]='CLMT (2)'!N$6)*(Tableau1[Saison]='CLMT (2)'!$A$4)*Tableau1[pts]) -> 0 | O17: =SUMPRODUCT((E17:I17)*(E17:I17>=LARGE(E17:I17,4)))+SUM(J17:N17) -> 310
C18: =RANK(O18,$O$7:$O$43,0) -> 20 | D18: UKR | E18: =SUMPRODUCT((Tableau1[Pays]='CLMT (2)'!$D18)*(Tableau1[lieu]='CLMT (2)'!E$6)*(Tableau1[Saison]='CLMT (2)'!$A$4)*Tableau1[pts]) -> 28 | F18: =SUMPRODUCT((Tableau1[Pays]='CLMT (2)'!$D18)*(Tableau1[lieu]='CLMT (2)'!F$6)*(Tableau1[Saison]='CLMT (2)'!$A$4)*Tableau1[pts]) -> 21 | G18: =SUMPRODUCT((Tableau1[Pays]='CLMT (2)'!$D18)*(Tableau1[lieu]='CLMT (2)'!G$6)*(Tableau1[Saison]='CLMT (2)'!$A$4)*Tableau1[pts]) -> 26 | H18: =SUMPRODUCT((Tableau1[Pays]='CLMT (2)'!$D18)*(Tableau1[lieu]='CLMT (2)'!H$6)*(Tableau1[Saison]='CLMT (2)'!$A$4)*Tableau1[pts]) -> 25 | I18: =SUMPRODUCT((Tableau1[Pays]='CLMT (2)'!$D18)*(Tableau1[lieu]='CLMT (2)'!I$6)*(Tableau1[Saison]='CLMT (2)'!$A$4)*Tableau1[pts]) -> 32 | J18: =SUMPRODUCT((Tableau1[Pays]='CLMT (2)'!$D18)*(Tableau1[lieu]='CLMT (2)'!J$6)*(Tableau1[Saison]='CLMT (2)'!$A$4)*Tableau1[pts]) -> 0 | K18: =SUMPRODUCT((Tableau1[Pays]='CLMT (2)'!$D18)*(Tableau1[lieu]='CLMT (2)'!K$6)*(Tableau1[Saison]='CLMT (2)'!$A$4)*Tableau1[pts]) -> 0 | L18: =SUMPRODUCT((Tableau1[Pays]='CLMT (2)'!$D18)*(Tableau1[lieu]='CLMT (2)'!L$6)*(Tableau1[Saison]='CLMT (2)'!$A$4)*Tableau1[pts]) -> 0 | ... N18: =SUMPRODUCT((Tableau1[Pays]='CLMT (2)'!$D18)*(Tableau1[lieu]='CLMT (2)'!N$6)*(Tableau1[Saison]='CLMT (2)'!$A$4)*Tableau1[pts]) -> 0 | O18: =SUMPRODUCT((E18:I18)*(E18:I18>=LARGE(E18:I18,4)))+SUM(J18:N18) -> 111
... C43: =RANK(O43,$O$7:$O$43,0) -> 34 | D43: TPE | E43: =SUMPRODUCT((Tableau1[Pays]='CLMT (2)'!$D43)*(Tableau1[lieu]='CLMT (2)'!E$6)*(Tableau1[Saison]='CLMT (2)'!$A$4)*Tableau1[pts]) -> 0 | F43: =SUMPRODUCT((Tableau1[Pays]='CLMT (2)'!$D43)*(Tableau1[lieu]='CLMT (2)'!F$6)*(Tableau1[Saison]='CLMT (2)'!$A$4)*Tableau1[pts]) -> 0 | G43: =SUMPRODUCT((Tableau1[Pays]='CLMT (2)'!$D43)*(Tableau1[lieu]='CLMT (2)'!G$6)*(Tableau1[Saison]='CLMT (2)'!$A$4)*Tableau1[pts]) -> 0 | H43: =SUMPRODUCT((Tableau1[Pays]='CLMT (2)'!$D43)*(Tableau1[lieu]='CLMT (2)'!H$6)*(Tableau1[Saison]='CLMT (2)'!$A$4)*Tableau1[pts]) -> 8 | I43: =SUMPRODUCT((Tableau1[Pays]='CLMT (2)'!$D43)*(Tableau1[lieu]='CLMT (2)'!I$6)*(Tableau1[Saison]='CLMT (2)'!$A$4)*Tableau1[pts]) -> 0 | J43: =SUMPRODUCT((Tableau1[Pays]='CLMT (2)'!$D43)*(Tableau1[lieu]='CLMT (2)'!J$6)*(Tableau1[Saison]='CLMT (2)'!$A$4)*Tableau1[pts]) -> 0 | K43: =SUMPRODUCT((Tableau1[Pays]='CLMT (2)'!$D43)*(Tableau1[lieu]='CLMT (2)'!K$6)*(Tableau1[Saison]='CLMT (2)'!$A$4)*Tableau1[pts]) -> 0 | L43: =SUMPRODUCT((Tableau1[Pays]='CLMT (2)'!$D43)*(Tableau1[lieu]='CLMT (2)'!L$6)*(Tableau1[Saison]='CLMT (2)'!$A$4)*Tableau1[pts]) -> 0 | ... N43: =SUMPRODUCT((Tableau1[Pays]='CLMT (2)'!$D43)*(Tableau1[lieu]='CLMT (2)'!N$6)*(Tableau1[Saison]='CLMT (2)'!$A$4)*Tableau1[pts]) -> 0 | O43: =SUMPRODUCT((E43:I43)*(E43:I43>=LARGE(E43:I43,4)))+SUM(J43:N43) -> 8
