Workbook
Name DonnéesExternes_1: Feuil2!#REF!
Name DonnéesExternes_2: Feuil2!#REF!
Name DonnéesExternes_3: Feuil2!#REF!

Sheet Feuil1
B1: Rencontre | J1: Résultat
B2: Sampdoria - Napoli | J2: =IF(ISERROR(VLOOKUP($B2,Feuil2!$C:$E,3,0)),"",(VLOOKUP($B2,Feuil2!$C:$E,3,0))) -> Finished 2-4
B3: Bochum - Hamburger SV | J3: =IF(ISERROR(VLOOKUP($B3,Feuil2!$C:$E,3,0)),"",(VLOOKUP($B3,Feuil2!$C:$E,3,0)))
B4: Jong Ajax Amsterdam - Go Ahead Eagles | J4: =IF(ISERROR(VLOOKUP($B4,Feuil2!$C:$E,3,0)),"",(VLOOKUP($B4,Feuil2!$C:$E,3,0))) -> Finished 5-1
B5: Grenoble - Le Havre | J5: =IF(ISERROR(VLOOKUP($B5,Feuil2!$C:$E,3,0)),"",(VLOOKUP($B5,Feuil2!$C:$E,3,0)))
B6: Aswan FC - Ismaily | J6: =IF(ISERROR(VLOOKUP($B6,Feuil2!$C:$E,3,0)),"",(VLOOKUP($B6,Feuil2!$C:$E,3,0)))
B7: Pescara - Cosenza | J7: =IF(ISERROR(VLOOKUP($B7,Feuil2!$C:$E,3,0)),"",(VLOOKUP($B7,Feuil2!$C:$E,3,0))) -> Finished 2-1
B8: Sao Paulo - Novorizontino | J8: =IF(ISERROR(VLOOKUP($B8,Feuil2!$C:$E,3,0)),"",(VLOOKUP($B8,Feuil2!$C:$E,3,0)))
B9: Resende - Flamengo | J9: =IF(ISERROR(VLOOKUP($B9,Feuil2!$C:$E,3,0)),"",(VLOOKUP($B9,Feuil2!$C:$E,3,0)))
B10: Jong FC Utrecht - FC Dordrecht | J10: =IF(ISERROR(VLOOKUP($B10,Feuil2!$C:$E,3,0)),"",(VLOOKUP($B10,Feuil2!$C:$E,3,0)))
B11: Patronato - Arsenal de Sarandi | J11: =IF(ISERROR(VLOOKUP($B11,Feuil2!$C:$E,3,0)),"",(VLOOKUP($B11,Feuil2!$C:$E,3,0)))
B12: Denizlispor - Goztepe | J12: =IF(ISERROR(VLOOKUP($B12,Feuil2!$C:$E,3,0)),"",(VLOOKUP($B12,Feuil2!$C:$E,3,0))) -> Finished 1-1
B13: El Entag El Harby - Al Ittihad (EGY) | J13: =IF(ISERROR(VLOOKUP($B13,Feuil2!$C:$E,3,0)),"",(VLOOKUP($B13,Feuil2!$C:$E,3,0)))
... B22: Covilha - Oliveirense | J22: =IF(ISERROR(VLOOKUP($B22,Feuil2!$C:$E,3,0)),"",(VLOOKUP($B22,Feuil2!$C:$E,3,0)))
B23: Belouizdad - Bordj Bou Arreridj
B24: ENPPI - Al Mokawloon
B25: Botafogo SP - Mirassol
B26: Doxa Dramas - Apollon Smirnis
B27: Sambenedettese - Fermana | O27: OU
B28: Hapoel Bnei Lod - Maccabi Petach Tikva
B29: Macae - Cabofriense
B30: La Serena - Antofagasta
B31: Hapoel Kfar Kana - Hapoel Herzliya
B32: Rionegro - Santa Fe
B33: Alianza Petrolera - Deportivo Pasto
B34: Beitar Tel Aviv Ramla - Hapoel Akko | O34: OU
B35: Ironi Ramat Hasharon - Hapoel Umm Al Fahm
B36: Liverpool - Shrewsbury
B37: Nantes - Paris St-G
B38: Lille - Rennes
B39: Monaco - Angers
B40: Granada - Valencia
B41: Benfica - Famalicao | O41: OU
B42: Derby - Northampton
B43: Oxford Utd - Newcastle
B44: Birmingham - Coventry
B45: Cardiff - Reading
B46: Eintracht Frankfurt - RB Leipzig
B47: AGF - Hacken
B48: Tranmere - Doncaster
B49: Werder Bremen - Dortmund
B50: Auxerre - Clermont
B51: Stabaek - Banik Ostrava
B52: Orleans - Rodez
B53: Kaiserslautern - Fortuna Dusseldorf
... B73: Nacional Potosi - Melgar

Sheet Feuil2
A1: KS Bylis Ballsh | C1: KS Bylis Ballsh - KS Vllaznia Shkoder | E1: Finished 2-2 | F1: KS Vllaznia Shkoder
A2: KF Laci | C2: KF Laci - Skenderbeu Korce | E2: Finished 1-0 | F2: Skenderbeu Korce
A3: Belouizdad | C3: Belouizdad - Bordj Bou Arreridj | E3: Finished 4-0 | F3: Bordj Bou Arreridj
A4: Belouizdad U21 | C4: Belouizdad U21 - CABB Arreridj U21 | E4: Finished 0-0 | F4: CABB Arreridj U21
A5: Talleres De Cordoba | C5: Talleres De Cordoba - Boca Juniors | E5: Finished 1-2 | F5: Boca Juniors
A6: Patronato Parana | C6: Patronato Parana - Arsenal de Sarandi | E6: Finished 2-2 | F6: Arsenal de Sarandi
A7: Weymouth Wales | C7: Weymouth Wales - UWI Blackbirds | E7: Full Time 1-0 | F7: UWI Blackbirds
A8: Anderlecht U21 | C8: Anderlecht U21 - Standard Liege U21 | E8: Finished 3-0 | F8: Standard Liege U21
A9: Club Brugge U21 | C9: Club Brugge U21 - KV Mechelen U21 | E9: Finished 1-0 | F9: KV Mechelen U21
A10: Racing Genk U21 | C10: Racing Genk U21 - KAA Gent U21 | E10: Finished 1-1 | F10: KAA Gent U21
A11: Zulte Waregem U21 | C11: Zulte Waregem U21 - Waasland Beveren U21 | E11: Finished 1-3 | F11: Waasland Beveren U21
A12: Royal Antwerp U21 | C12: Royal Antwerp U21 - Eupen U21 | F12: Eupen U21
A13: Royal Charleroi U21 | C13: Royal Charleroi U21 - Royal Excelsior Virton U21 Reserves | E13: Finished 3-0 | F13: Royal Excelsior Virton U21 Reserves
A14: Lokeren U21 | C14: Lokeren U21 - Westerlo U21 | E14: Finished 2-1 | F14: Westerlo U21
A15: Oostende U21 | C15: Oostende U21 - Beerschot Wilrijk U21 | E15: Finished 0-1 | F15: Beerschot Wilrijk U21
A16: Oud-Heverlee Leuven U21 | C16: Oud-Heverlee Leuven U21 - Sint-Truidense U21 | E16: Finished 4-2 | F16: Sint-Truidense U21
A17: Union Saint Gilloise U21 Reserves | C17: Union Saint Gilloise U21 Reserves - Lommel U21 | E17: Finished 4-2 | F17: Lommel U21
A18: Roeselare U21 | C18: Roeselare U21 - Mouscron Peruwelz U21 | E18: Finished 0-1 | F18: Mouscron Peruwelz U21
A19: Municipal Vinto | C19: Municipal Vinto - Guabira Montero | E19: Finished 2-0 | F19: Guabira Montero
A20: Macae Esporte RJ | C20: Macae Esporte RJ - Cabofriense RJ | E20: Finished 1-0 | F20: Cabofriense RJ
A21: Volta Redonda RJ | C21: Volta Redonda RJ - Portuguesa RJ | E21: Finished 2-0 | F21: Portuguesa RJ
A22: Inter Limeira SP | C22: Inter Limeira SP - Ponte Preta SP | E22: Finished 2-1 | F22: Ponte Preta SP
A23: Waterhouse | C23: Waterhouse - Don Bosco | E23: Finished 3-0 | F23: Don Bosco
A24: Deportes Iquique | C24: Deportes Iquique - Everton Vina del Mar | E24: Finished 2-2 | F24: Everton Vina del Mar
... A53: Doxa Dramas | C53: Doxa Dramas - Apollon Smyrnis | E53: Finished 0-1 | F53: Apollon Smyrnis
A54: Real Espana | C54: Real Espana - CD Platense | F54: CD Platense
A55: KR Reykjavik | C55: KR Reykjavik - Valur Reykjavik | E55: Finished 2-0 | F55: Valur Reykjavik
A56: FK Radnik Bijeljina | C56: FK Radnik Bijeljina - Kolubara | E56: Finished 2-1 | F56: Kolubara
A57: Samtredia | C57: Samtredia - Metalurgi Rustavi | E57: Full Time 2-0 | F57: Metalurgi Rustavi
A58: Rubin Kazan | C58: Rubin Kazan - Odense BK | E58: Finished 0-1 | F58: Odense BK
A59: ND Gorica | C59: ND Gorica - Javor Ivanjica | E59: Finished 3-2 | F59: Javor Ivanjica
A60: Orebro | C60: Orebro - Viktoria Plzen | E60: Finished 0-3 | F60: Viktoria Plzen
A61: Tambov | C61: Tambov - Slovacko | E61: Finished 0-3 | F61: Slovacko
A62: Gazovik Orenburg | C62: Gazovik Orenburg - Esbjerg | E62: Finished 1-0 | F62: Esbjerg
A63: Zaglebie Sosnowiec | C63: Zaglebie Sosnowiec - FK Krupa | E63: Finished 1-1 | F63: FK Krupa
A64: IFK Norrkoping FK | C64: IFK Norrkoping FK - FC Copenhagen | E64: Finished (pen.) 1-0 | F64: FC Copenhagen
A65: FC Astana | C65: FC Astana - Brondby IF | E65: Finished 2-1 | F65: Brondby IF
A66: Ypiranga RS | C66: Ypiranga RS - Uniao Frederiquense RS | E66: Full Time 1-0 | F66: Uniao Frederiquense RS
... A70: Choka Talesh | C70: Choka Talesh - Melli Hafari | E70: Full Time 2-0 | F70: Melli Hafari
A71: Naft Gachsaran | C71: Naft Gachsaran - Mes Shahre Babak | F71: Mes Shahre Babak
A72: Naft Omidiyeh | C72: Naft Omidiyeh - Sardar Bukan | E72: Full Time 2-1 | F72: Sardar Bukan
A73: PAS Hamedan FC | C73: PAS Hamedan FC - Shohada Razakan | E73: Full Time 2-1 | F73: Shohada Razakan
A74: Shahrdari Mahshahr | C74: Shahrdari Mahshahr - Iran Javan Bushehr | E74: Full Time 0-0 | F74: Iran Javan Bushehr
A75: Shahrdari Bam | C75: Shahrdari Bam - Shohada Babolsar | F75: Shohada Babolsar
A76: Hapoel Kafr Kanna | C76: Hapoel Kafr Kanna - Hapoel Herzliya | E76: Finished 1-2 | F76: Hapoel Herzliya
A77: Ironi Nesher | C77: Ironi Nesher - Hapoel Sandala Gilboa | E77: Full Time 8-0 | F77: Hapoel Sandala Gilboa
A78: Beitar Tel Aviv Bat Yam | C78: Beitar Tel Aviv Bat Yam - Hapoel Acre | E78: Finished 2-1 | F78: Hapoel Acre
A79: Hapoel Bnei Lod | C79: Hapoel Bnei Lod - Maccabi Petach Tikva | E79: Finished 2-0 | F79: Maccabi Petach Tikva
A80: Hapoel Irony Nir Ramat Hasharon | C80: Hapoel Irony Nir Ramat Hasharon - Hapoel Um El Fahem | E80: Finished 1-3 | F80: Hapoel Um El Fahem
A81: Maccabi Tel Aviv | C81: Maccabi Tel Aviv - Hapoel Raanana | E81: Finished 2-1 | F81: Hapoel Raanana
A82: Sampdoria U19 | C82: Sampdoria U19 - Chievo U19 | E82: Finished 2-2 | F82: Chievo U19
A83: Sambenedettese | C83: Sambenedettese - Unione Sportiva Fermana | E83: Finished 0-1 | F83: Unione Sportiva Fermana
A84: Sampdoria | C84: Sampdoria - Napoli | E84: Finished 2-4 | F84: Napoli
A85: Pescara | C85: Pescara - Cosenza | E85: Finished 2-1 | F85: Cosenza
A86: Bassam | C86: Bassam - Racing Abidjan | E86: Finished 1-3 | F86: Racing Abidjan
A87: Africa Sports | C87: Africa Sports - WAC Adjame | E87: Finished 2-2 | F87: WAC Adjame
... A93: Jong Groningen | C93: Jong Groningen - Jong Willem II Tilburg | E93: Finished 4-1 | F93: Jong Willem II Tilburg
A94: Jong RKC Waalwijk | C94: Jong RKC Waalwijk - Jong PEC Zwolle | F94: Jong PEC Zwolle
A95: Jong Vitesse-AGOVV | C95: Jong Vitesse-AGOVV - Jong Fortuna Sittard | F95: Jong Fortuna Sittard
A96: Jong FC Eindhoven | C96: Jong FC Eindhoven - Jong Twente Enschede | F96: Jong Twente Enschede
A97: Jong Excelsior | C97: Jong Excelsior - Jong Den Bosch | F97: Jong Den Bosch
A98: Jong Heracles Almelo | C98: Jong Heracles Almelo - Jong VVV-Venlo-Helmond Sport | F98: Jong VVV-Venlo-Helmond Sport
A99: Jong De Graafschap | C99: Jong De Graafschap - Jong Cambuur-Leeuwarden | F99: Jong Cambuur-Leeuwarden
A100: Jong NAC Breda | C100: Jong NAC Breda - Jong NEC Nijmegen | F100: Jong NEC Nijmegen
A101: Managua FC | C101: Managua FC - Chinandega | E101: Finished 1-0 | F101: Chinandega
A102: Al-Hilal Gaza | C102: Al-Hilal Gaza - Ittihad Khan Yunis | E102: Full Time 0-0 | F102: Ittihad Khan Yunis
A103: Al-Hilal Gaza | C103: Al-Hilal Gaza - Al Ahli Hanoun | F103: Al Ahli Hanoun
A104: Nacional Asuncion | C104: Nacional Asuncion - Libertad Asuncion | E104: Finished 1-2 | F104: Libertad Asuncion
A105: Real Garcilaso | C105: Real Garcilaso - Binacional | E105: Finished 0-2 | F105: Binacional
A106: Sporting Covilha | C106: Sporting Covilha - Oliveirense | E106: Finished 1-0 | F106: Oliveirense
A107: CSMS Iasi | C107: CSMS Iasi - Viitorul Constanta | E107: Finished 1-2 | F107: Viitorul Constanta
A108: Istanbulspor | C108: Istanbulspor - Umraniyespor | E108: Finished 2-1 | F108: Umraniyespor
A109: Denizlispor | C109: Denizlispor - Goztepe | E109: Finished 1-1 | F109: Goztepe
A110: Uganda Police FC | C110: Uganda Police FC - SC Villa | E110: Finished 2-2 | F110: SC Villa
A111: Zamora FC | C111: Zamora FC - Trujillanos Valera | E111: Finished 2-0 | F111: Trujillanos Valera
A112: ES Setif | C112: ES Setif - USM Alger | E112: Finished 3-1 | F112: USM Alger
A113: Biskra U21 | C113: Biskra U21 - JS Kabylie U21 | E113: Finished 1-3 | F113: JS Kabylie U21
A114: Na Hussein Dey U21 | C114: Na Hussein Dey U21 - ASO Chlef U21 | E114: Finished 0-1 | F114: ASO Chlef U21
A115: MC Oran U21 | C115: MC Oran U21 - ES Setif U21 | E115: Finished 0-1 | F115: ES Setif U21
... A117: USM Alger U21 | C117: USM Alger U21 - CS Constantine U21 | E117: Finished 0-1 | F117: CS Constantine U21
A118: As Khroub U21 | C118: As Khroub U21 - DRB Tadjenant U21 | F118: DRB Tadjenant U21
A119: El Harrach U21 | C119: El Harrach U21 - RC Relizane U21 | F119: RC Relizane U21
A120: MC Saida U21 | C120: MC Saida U21 - OM Arzew U21 | F120: OM Arzew U21
A121: ASM Oran U21 | C121: ASM Oran U21 - JSM Bejaia U21 | F121: JSM Bejaia U21
A122: USM Annaba U21 | C122: USM Annaba U21 - RC Arba U21 | F122: RC Arba U21
A123: MO Bejaia U21 | C123: MO Bejaia U21 - Olympique Medea U21 | F123: Olympique Medea U21
A124: Newells Old Boys | C124: Newells Old Boys - San Lorenzo | E124: Finished 1-0 | F124: San Lorenzo
A125: Kortrijk U21 | C125: Kortrijk U21 - Cercle Brugge U21 | E125: Finished 3-5 | F125: Cercle Brugge U21
A126: Resende RJ | C126: Resende RJ - Flamengo RJ | E126: Finished 1-3 | F126: Flamengo RJ
A127: Tubarao | C127: Tubarao - Juventus SC | E127: Finished 2-1 | F127: Juventus SC
A128: Gremio RS | C128: Gremio RS - Esportivo RS | E128: Finished 5-0 | F128: Esportivo RS
A129: Moto Club MA | C129: Moto Club MA - Pinheiro U20 | E129: Finished 3-1 | F129: Pinheiro U20
A130: CS Paraibano | C130: CS Paraibano - Perilima | E130: Finished 1-0 | F130: Perilima
A131: Sao Paulo SP | C131: Sao Paulo SP - Novorizontino SP | E131: Finished 1-1 | F131: Novorizontino SP
A132: Botafogo SP | C132: Botafogo SP - Mirassol SP | E132: Finished 0-6 | F132: Mirassol SP
A133: Sport Club do Recife | C133: Sport Club do Recife - Retro Brasil | E133: Finished 1-1 | F133: Retro Brasil
A134: Universidad de Chile | C134: Universidad de Chile - Internacional RS | E134: Finished 0-0 | F134: Internacional RS
A135: Coquimbo Unido | C135: Coquimbo Unido - Aragua | E135: Finished 3-0 | F135: Aragua
... A145: Hungerford | C145: Hungerford - Dorking Wanderers | E145: Finished 0-1 | F145: Dorking Wanderers
A146: United of Manchester | C146: United of Manchester - Irlam | F146: Irlam
...
