Workbook

Sheet Feuil1
H1: NIVEAU
C2: NOM | H2: E
C3: JULIE | H3: E
C4: BERNARD | H4: E
C5: SANDRINE | H5: E
C6: GERARD | H6: E
C7: AMANDINE | H7: E

Sheet Feuil2
A1: D A T E | B1: NOM | N1: Numéro | P1: Niveau | Q1: Dernière date | R1: Date Q < a date A et N <=3 et N <> 0 | S1: Trouve la date la plus récente de R | T1: Date S est egal a date A | U1: Niveau de Feuil1 colonne H | V1: Niveau de U est t'il >= a niveau Feuil1 colonne H | W1: Calcul final V=Vrai et T=Vrai
A2: 44083 | B2: JULIE | N2: 7 | P2: D | Q2: {=LARGE(($B$2:$B$200=B2)*($A$2:$A$200),1)} -> 44083 | R2: =IF(AND(A2<Q2,N2<=3,N2<>0),A2,FALSE) -> FALSE | S2: {=LARGE(($B$2:$B$200=B2)*($R$2:$R$200),1)} -> 44050 | T2: =IF(A2=S2,TRUE,FALSE) -> FALSE | U2: =IF(ISNA(VLOOKUP(B2,Feuil1!$C$2:$H$200,6)),"",(VLOOKUP(B2,Feuil1!$C$2:$H$200,6))) -> E | V2: =IF(U2>=P2,TRUE,FALSE) -> TRUE | W2: =IF(AND(T2=TRUE,V2=TRUE),TRUE, FALSE) -> FALSE
A3: 44073 | B3: JULIE | N3: 8 | P3: E | Q3: {=LARGE(($B$2:$B$200=B3)*($A$2:$A$200),1)} -> 44083 | R3: =IF(AND(A3<Q3,N3<=3,N3<>0),A3,FALSE) -> FALSE | S3: {=LARGE(($B$2:$B$200=B3)*($R$2:$R$200),1)} -> 44050 | T3: =IF(A3=S3,TRUE,FALSE) -> FALSE | U3: =IF(ISNA(VLOOKUP(B3,Feuil1!$C$2:$H$200,6)),"",(VLOOKUP(B3,Feuil1!$C$2:$H$200,6))) -> E | V3: =IF(U3>=P3,TRUE,FALSE) -> TRUE | W3: =IF(AND(T3=TRUE,V3=TRUE),TRUE, FALSE) -> FALSE
A4: 44050 | B4: JULIE | N4: 1 | P4: H | Q4: {=LARGE(($B$2:$B$200=B4)*($A$2:$A$200),1)} -> 44083 | R4: =IF(AND(A4<Q4,N4<=3,N4<>0),A4,FALSE) -> 44050 | S4: {=LARGE(($B$2:$B$200=B4)*($R$2:$R$200),1)} -> 44050 | T4: =IF(A4=S4,TRUE,FALSE) -> TRUE | U4: =IF(ISNA(VLOOKUP(B4,Feuil1!$C$2:$H$200,6)),"",(VLOOKUP(B4,Feuil1!$C$2:$H$200,6))) -> E | V4: =IF(U4>=P4,TRUE,FALSE) -> FALSE | W4: =IF(AND(T4=TRUE,V4=TRUE),TRUE, FALSE) -> FALSE
A5: 44045 | B5: JULIE | N5: 3 | P5: F | Q5: {=LARGE(($B$2:$B$200=B5)*($A$2:$A$200),1)} -> 44083 | R5: =IF(AND(A5<Q5,N5<=3,N5<>0),A5,FALSE) -> 44045 | S5: {=LARGE(($B$2:$B$200=B5)*($R$2:$R$200),1)} -> 44050 | T5: =IF(A5=S5,TRUE,FALSE) -> FALSE | U5: =IF(ISNA(VLOOKUP(B5,Feuil1!$C$2:$H$200,6)),"",(VLOOKUP(B5,Feuil1!$C$2:$H$200,6))) -> E | V5: =IF(U5>=P5,TRUE,FALSE) -> FALSE | W5: =IF(AND(T5=TRUE,V5=TRUE),TRUE, FALSE) -> FALSE
A6: 44035 | B6: JULIE | N6: 0 | P6: H | Q6: {=LARGE(($B$2:$B$200=B6)*($A$2:$A$200),1)} -> 44083 | R6: =IF(AND(A6<Q6,N6<=3,N6<>0),A6,FALSE) -> FALSE | S6: {=LARGE(($B$2:$B$200=B6)*($R$2:$R$200),1)} -> 44050 | T6: =IF(A6=S6,TRUE,FALSE) -> FALSE | U6: =IF(ISNA(VLOOKUP(B6,Feuil1!$C$2:$H$200,6)),"",(VLOOKUP(B6,Feuil1!$C$2:$H$200,6))) -> E | V6: =IF(U6>=P6,TRUE,FALSE) -> FALSE | W6: =IF(AND(T6=TRUE,V6=TRUE),TRUE, FALSE) -> FALSE
A7: 44024 | B7: JULIE | N7: 3 | P7: F | Q7: {=LARGE(($B$2:$B$200=B7)*($A$2:$A$200),1)} -> 44083 | R7: =IF(AND(A7<Q7,N7<=3,N7<>0),A7,FALSE) -> 44024 | S7: {=LARGE(($B$2:$B$200=B7)*($R$2:$R$200),1)} -> 44050 | T7: =IF(A7=S7,TRUE,FALSE) -> FALSE | U7: =IF(ISNA(VLOOKUP(B7,Feuil1!$C$2:$H$200,6)),"",(VLOOKUP(B7,Feuil1!$C$2:$H$200,6))) -> E | V7: =IF(U7>=P7,TRUE,FALSE) -> FALSE | W7: =IF(AND(T7=TRUE,V7=TRUE),TRUE, FALSE) -> FALSE
A8: 44018 | B8: JULIE | N8: 5 | P8: H | Q8: {=LARGE(($B$2:$B$200=B8)*($A$2:$A$200),1)} -> 44083 | R8: =IF(AND(A8<Q8,N8<=3,N8<>0),A8,FALSE) -> FALSE | S8: {=LARGE(($B$2:$B$200=B8)*($R$2:$R$200),1)} -> 44050 | T8: =IF(A8=S8,TRUE,FALSE) -> FALSE | U8: =IF(ISNA(VLOOKUP(B8,Feuil1!$C$2:$H$200,6)),"",(VLOOKUP(B8,Feuil1!$C$2:$H$200,6))) -> E | V8: =IF(U8>=P8,TRUE,FALSE) -> FALSE | W8: =IF(AND(T8=TRUE,V8=TRUE),TRUE, FALSE) -> FALSE
A9: 43198 | B9: JULIE | N9: 7 | P9: F | Q9: {=LARGE(($B$2:$B$200=B9)*($A$2:$A$200),1)} -> 44083 | R9: =IF(AND(A9<Q9,N9<=3,N9<>0),A9,FALSE) -> FALSE | S9: {=LARGE(($B$2:$B$200=B9)*($R$2:$R$200),1)} -> 44050 | T9: =IF(A9=S9,TRUE,FALSE) -> FALSE | U9: =IF(ISNA(VLOOKUP(B9,Feuil1!$C$2:$H$200,6)),"",(VLOOKUP(B9,Feuil1!$C$2:$H$200,6))) -> E | V9: =IF(U9>=P9,TRUE,FALSE) -> FALSE | W9: =IF(AND(T9=TRUE,V9=TRUE),TRUE, FALSE) -> FALSE
A10: 43163 | B10: JULIE | N10: 1 | P10: E | Q10: {=LARGE(($B$2:$B$200=B10)*($A$2:$A$200),1)} -> 44083 | R10: =IF(AND(A10<Q10,N10<=3,N10<>0),A10,FALSE) -> 43163 | S10: {=LARGE(($B$2:$B$200=B10)*($R$2:$R$200),1)} -> 44050 | T10: =IF(A10=S10,TRUE,FALSE) -> FALSE | U10: =IF(ISNA(VLOOKUP(B10,Feuil1!$C$2:$H$200,6)),"",(VLOOKUP(B10,Feuil1!$C$2:$H$200,6))) -> E | V10: =IF(U10>=P10,TRUE,FALSE) -> TRUE | W10: =IF(AND(T10=TRUE,V10=TRUE),TRUE, FALSE) -> FALSE
A11: 43081 | B11: JULIE | N11: 8 | P11: F | Q11: {=LARGE(($B$2:$B$200=B11)*($A$2:$A$200),1)} -> 44083 | R11: =IF(AND(A11<Q11,N11<=3,N11<>0),A11,FALSE) -> FALSE | S11: {=LARGE(($B$2:$B$200=B11)*($R$2:$R$200),1)} -> 44050 | T11: =IF(A11=S11,TRUE,FALSE) -> FALSE | U11: =IF(ISNA(VLOOKUP(B11,Feuil1!$C$2:$H$200,6)),"",(VLOOKUP(B11,Feuil1!$C$2:$H$200,6))) -> E | V11: =IF(U11>=P11,TRUE,FALSE) -> FALSE | W11: =IF(AND(T11=TRUE,V11=TRUE),TRUE, FALSE) -> FALSE
A12: 43058 | B12: JULIE | N12: 2 | P12: D | Q12: {=LARGE(($B$2:$B$200=B12)*($A$2:$A$200),1)} -> 44083 | R12: =IF(AND(A12<Q12,N12<=3,N12<>0),A12,FALSE) -> 43058 | S12: {=LARGE(($B$2:$B$200=B12)*($R$2:$R$200),1)} -> 44050 | T12: =IF(A12=S12,TRUE,FALSE) -> FALSE | U12: =IF(ISNA(VLOOKUP(B12,Feuil1!$C$2:$H$200,6)),"",(VLOOKUP(B12,Feuil1!$C$2:$H$200,6))) -> E | V12: =IF(U12>=P12,TRUE,FALSE) -> TRUE | W12: =IF(AND(T12=TRUE,V12=TRUE),TRUE, FALSE) -> FALSE
A13: 43040 | B13: JULIE | N13: 3 | P13: F | Q13: {=LARGE(($B$2:$B$200=B13)*($A$2:$A$200),1)} -> 44083 | R13: =IF(AND(A13<Q13,N13<=3,N13<>0),A13,FALSE) -> 43040 | S13: {=LARGE(($B$2:$B$200=B13)*($R$2:$R$200),1)} -> 44050 | T13: =IF(A13=S13,TRUE,FALSE) -> FALSE | U13: =IF(ISNA(VLOOKUP(B13,Feuil1!$C$2:$H$200,6)),"",(VLOOKUP(B13,Feuil1!$C$2:$H$200,6))) -> E | V13: =IF(U13>=P13,TRUE,FALSE) -> FALSE | W13: =IF(AND(T13=TRUE,V13=TRUE),TRUE, FALSE) -> FALSE
... A24: 44007 | B24: BERNARD | N24: 2 | P24: F | Q24: {=LARGE(($B$2:$B$200=B24)*($A$2:$A$200),1)} -> 44083 | R24: =IF(AND(A24<Q24,N24<=3,N24<>0),A24,FALSE) -> 44007 | S24: {=LARGE(($B$2:$B$200=B24)*($R$2:$R$200),1)} -> 44065 | T24: =IF(A24=S24,TRUE,FALSE) -> FALSE | U24: =IF(ISNA(VLOOKUP(B24,Feuil1!$C$2:$H$200,6)),"",(VLOOKUP(B24,Feuil1!$C$2:$H$200,6))) -> E | V24: =IF(U24>=P24,TRUE,FALSE) -> FALSE | W24: =IF(AND(T24=TRUE,V24=TRUE),TRUE, FALSE) -> FALSE
A25: 44080 | B25: SANDRINE | N25: - | P25: G | Q25: {=LARGE(($B$2:$B$200=B25)*($A$2:$A$200),1)} -> 44080 | R25: =IF(AND(A25<Q25,N25<=3,N25<>0),A25,FALSE) -> FALSE | S25: {=LARGE(($B$2:$B$200=B25)*($R$2:$R$200),1)} -> 43821 | T25: =IF(A25=S25,TRUE,FALSE) -> FALSE | U25: =IF(ISNA(VLOOKUP(B25,Feuil1!$C$2:$H$200,6)),"",(VLOOKUP(B25,Feuil1!$C$2:$H$200,6))) -> E | V25: =IF(U25>=P25,TRUE,FALSE) -> FALSE | W25: =IF(AND(T25=TRUE,V25=TRUE),TRUE, FALSE) -> FALSE
A26: 44062 | B26: SANDRINE | N26: 4 | P26: G | Q26: {=LARGE(($B$2:$B$200=B26)*($A$2:$A$200),1)} -> 44080 | R26: =IF(AND(A26<Q26,N26<=3,N26<>0),A26,FALSE) -> FALSE | S26: {=LARGE(($B$2:$B$200=B26)*($R$2:$R$200),1)} -> 43821 | T26: =IF(A26=S26,TRUE,FALSE) -> FALSE | U26: =IF(ISNA(VLOOKUP(B26,Feuil1!$C$2:$H$200,6)),"",(VLOOKUP(B26,Feuil1!$C$2:$H$200,6))) -> E | V26: =IF(U26>=P26,TRUE,FALSE) -> FALSE | W26: =IF(AND(T26=TRUE,V26=TRUE),TRUE, FALSE) -> FALSE
A27: 44058 | B27: SANDRINE | N27: - | P27: D | Q27: {=LARGE(($B$2:$B$200=B27)*($A$2:$A$200),1)} -> 44080 | R27: =IF(AND(A27<Q27,N27<=3,N27<>0),A27,FALSE) -> FALSE | S27: {=LARGE(($B$2:$B$200=B27)*($R$2:$R$200),1)} -> 43821 | T27: =IF(A27=S27,TRUE,FALSE) -> FALSE | U27: =IF(ISNA(VLOOKUP(B27,Feuil1!$C$2:$H$200,6)),"",(VLOOKUP(B27,Feuil1!$C$2:$H$200,6))) -> E | V27: =IF(U27>=P27,TRUE,FALSE) -> TRUE | W27: =IF(AND(T27=TRUE,V27=TRUE),TRUE, FALSE) -> FALSE
A28: 44050 | B28: SANDRINE | N28: - | P28: D | Q28: {=LARGE(($B$2:$B$200=B28)*($A$2:$A$200),1)} -> 44080 | R28: =IF(AND(A28<Q28,N28<=3,N28<>0),A28,FALSE) -> FALSE | S28: {=LARGE(($B$2:$B$200=B28)*($R$2:$R$200),1)} -> 43821 | T28: =IF(A28=S28,TRUE,FALSE) -> FALSE | U28: =IF(ISNA(VLOOKUP(B28,Feuil1!$C$2:$H$200,6)),"",(VLOOKUP(B28,Feuil1!$C$2:$H$200,6))) -> E | V28: =IF(U28>=P28,TRUE,FALSE) -> TRUE | W28: =IF(AND(T28=TRUE,V28=TRUE),TRUE, FALSE) -> FALSE
A29: 44045 | B29: SANDRINE | N29: - | P29: D | Q29: {=LARGE(($B$2:$B$200=B29)*($A$2:$A$200),1)} -> 44080 | R29: =IF(AND(A29<Q29,N29<=3,N29<>0),A29,FALSE) -> FALSE | S29: {=LARGE(($B$2:$B$200=B29)*($R$2:$R$200),1)} -> 43821 | T29: =IF(A29=S29,TRUE,FALSE) -> FALSE | U29: =IF(ISNA(VLOOKUP(B29,Feuil1!$C$2:$H$200,6)),"",(VLOOKUP(B29,Feuil1!$C$2:$H$200,6))) -> E | V29: =IF(U29>=P29,TRUE,FALSE) -> TRUE | W29: =IF(AND(T29=TRUE,V29=TRUE),TRUE, FALSE) -> FALSE
A30: 44003 | B30: SANDRINE | N30: 9 | P30: H | Q30: {=LARGE(($B$2:$B$200=B30)*($A$2:$A$200),1)} -> 44080 | R30: =IF(AND(A30<Q30,N30<=3,N30<>0),A30,FALSE) -> FALSE | S30: {=LARGE(($B$2:$B$200=B30)*($R$2:$R$200),1)} -> 43821 | T30: =IF(A30=S30,TRUE,FALSE) -> FALSE | U30: =IF(ISNA(VLOOKUP(B30,Feuil1!$C$2:$H$200,6)),"",(VLOOKUP(B30,Feuil1!$C$2:$H$200,6))) -> E | V30: =IF(U30>=P30,TRUE,FALSE) -> FALSE | W30: =IF(AND(T30=TRUE,V30=TRUE),TRUE, FALSE) -> FALSE
A31: 43992 | B31: SANDRINE | N31: 9 | P31: H | Q31: {=LARGE(($B$2:$B$200=B31)*($A$2:$A$200),1)} -> 44080 | R31: =IF(AND(A31<Q31,N31<=3,N31<>0),A31,FALSE) -> FALSE | S31: {=LARGE(($B$2:$B$200=B31)*($R$2:$R$200),1)} -> 43821 | T31: =IF(A31=S31,TRUE,FALSE) -> FALSE | U31: =IF(ISNA(VLOOKUP(B31,Feuil1!$C$2:$H$200,6)),"",(VLOOKUP(B31,Feuil1!$C$2:$H$200,6))) -> E | V31: =IF(U31>=P31,TRUE,FALSE) -> FALSE | W31: =IF(AND(T31=TRUE,V31=TRUE),TRUE, FALSE) -> FALSE
A32: 43977 | B32: SANDRINE | N32: 6 | P32: F | Q32: {=LARGE(($B$2:$B$200=B32)*($A$2:$A$200),1)} -> 44080 | R32: =IF(AND(A32<Q32,N32<=3,N32<>0),A32,FALSE) -> FALSE | S32: {=LARGE(($B$2:$B$200=B32)*($R$2:$R$200),1)} -> 43821 | T32: =IF(A32=S32,TRUE,FALSE) -> FALSE | U32: =IF(ISNA(VLOOKUP(B32,Feuil1!$C$2:$H$200,6)),"",(VLOOKUP(B32,Feuil1!$C$2:$H$200,6))) -> E | V32: =IF(U32>=P32,TRUE,FALSE) -> FALSE | W32: =IF(AND(T32=TRUE,V32=TRUE),TRUE, FALSE) -> FALSE
A33: 43869 | B33: SANDRINE | N33: 0 | P33: F | Q33: {=LARGE(($B$2:$B$200=B33)*($A$2:$A$200),1)} -> 44080 | R33: =IF(AND(A33<Q33,N33<=3,N33<>0),A33,FALSE) -> FALSE | S33: {=LARGE(($B$2:$B$200=B33)*($R$2:$R$200),1)} -> 43821 | T33: =IF(A33=S33,TRUE,FALSE) -> FALSE | U33: =IF(ISNA(VLOOKUP(B33,Feuil1!$C$2:$H$200,6)),"",(VLOOKUP(B33,Feuil1!$C$2:$H$200,6))) -> E | V33: =IF(U33>=P33,TRUE,FALSE) -> FALSE | W33: =IF(AND(T33=TRUE,V33=TRUE),TRUE, FALSE) -> FALSE
A34: 43864 | B34: SANDRINE | N34: 0 | P34: F | Q34: {=LARGE(($B$2:$B$200=B34)*($A$2:$A$200),1)} -> 44080 | R34: =IF(AND(A34<Q34,N34<=3,N34<>0),A34,FALSE) -> FALSE | S34: {=LARGE(($B$2:$B$200=B34)*($R$2:$R$200),1)} -> 43821 | T34: =IF(A34=S34,TRUE,FALSE) -> FALSE | U34: =IF(ISNA(VLOOKUP(B34,Feuil1!$C$2:$H$200,6)),"",(VLOOKUP(B34,Feuil1!$C$2:$H$200,6))) -> E | V34: =IF(U34>=P34,TRUE,FALSE) -> FALSE | W34: =IF(AND(T34=TRUE,V34=TRUE),TRUE, FALSE) -> FALSE
A35: 43849 | B35: SANDRINE | N35: 7 | P35: F | Q35: {=LARGE(($B$2:$B$200=B35)*($A$2:$A$200),1)} -> 44080 | R35: =IF(AND(A35<Q35,N35<=3,N35<>0),A35,FALSE) -> FALSE | S35: {=LARGE(($B$2:$B$200=B35)*($R$2:$R$200),1)} -> 43821 | T35: =IF(A35=S35,TRUE,FALSE) -> FALSE | U35: =IF(ISNA(VLOOKUP(B35,Feuil1!$C$2:$H$200,6)),"",(VLOOKUP(B35,Feuil1!$C$2:$H$200,6))) -> E | V35: =IF(U35>=P35,TRUE,FALSE) -> FALSE | W35: =IF(AND(T35=TRUE,V35=TRUE),TRUE, FALSE) -> FALSE
A36: 43836 | B36: SANDRINE | N36: 5 | P36: G | Q36: {=LARGE(($B$2:$B$200=B36)*($A$2:$A$200),1)} -> 44080 | R36: =IF(AND(A36<Q36,N36<=3,N36<>0),A36,FALSE) -> FALSE | S36: {=LARGE(($B$2:$B$200=B36)*($R$2:$R$200),1)} -> 43821 | T36: =IF(A36=S36,TRUE,FALSE) -> FALSE | U36: =IF(ISNA(VLOOKUP(B36,Feuil1!$C$2:$H$200,6)),"",(VLOOKUP(B36,Feuil1!$C$2:$H$200,6))) -> E | V36: =IF(U36>=P36,TRUE,FALSE) -> FALSE | W36: =IF(AND(T36=TRUE,V36=TRUE),TRUE, FALSE) -> FALSE
A37: 43827 | B37: SANDRINE | N37: 4 | P37: D | Q37: {=LARGE(($B$2:$B$200=B37)*($A$2:$A$200),1)} -> 44080 | R37: =IF(AND(A37<Q37,N37<=3,N37<>0),A37,FALSE) -> FALSE | S37: {=LARGE(($B$2:$B$200=B37)*($R$2:$R$200),1)} -> 43821 | T37: =IF(A37=S37,TRUE,FALSE) -> FALSE | U37: =IF(ISNA(VLOOKUP(B37,Feuil1!$C$2:$H$200,6)),"",(VLOOKUP(B37,Feuil1!$C$2:$H$200,6))) -> E | V37: =IF(U37>=P37,TRUE,FALSE) -> TRUE | W37: =IF(AND(T37=TRUE,V37=TRUE),TRUE, FALSE) -> FALSE
A38: 43821 | B38: SANDRINE | N38: 1 | P38: E | Q38: {=LARGE(($B$2:$B$200=B38)*($A$2:$A$200),1)} -> 44080 | R38: =IF(AND(A38<Q38,N38<=3,N38<>0),A38,FALSE) -> 43821 | S38: {=LARGE(($B$2:$B$200=B38)*($R$2:$R$200),1)} -> 43821 | T38: =IF(A38=S38,TRUE,FALSE) -> TRUE | U38: =IF(ISNA(VLOOKUP(B38,Feuil1!$C$2:$H$200,6)),"",(VLOOKUP(B38,Feuil1!$C$2:$H$200,6))) -> E | V38: =IF(U38>=P38,TRUE,FALSE) -> TRUE | W38: =IF(AND(T38=TRUE,V38=TRUE),TRUE, FALSE) -> TRUE
A39: 43807 | B39: SANDRINE | N39: 2 | P39: E | Q39: {=LARGE(($B$2:$B$200=B39)*($A$2:$A$200),1)} -> 44080 | R39: =IF(AND(A39<Q39,N39<=3,N39<>0),A39,FALSE) -> 43807 | S39: {=LARGE(($B$2:$B$200=B39)*($R$2:$R$200),1)} -> 43821 | T39: =IF(A39=S39,TRUE,FALSE) -> FALSE | U39: =IF(ISNA(VLOOKUP(B39,Feuil1!$C$2:$H$200,6)),"",(VLOOKUP(B39,Feuil1!$C$2:$H$200,6))) -> E | V39: =IF(U39>=P39,TRUE,FALSE) -> TRUE | W39: =IF(AND(T39=TRUE,V39=TRUE),TRUE, FALSE) -> FALSE
A40: 43778 | B40: SANDRINE | N40: 7 | P40: F | Q40: {=LARGE(($B$2:$B$200=B40)*($A$2:$A$200),1)} -> 44080 | R40: =IF(AND(A40<Q40,N40<=3,N40<>0),A40,FALSE) -> FALSE | S40: {=LARGE(($B$2:$B$200=B40)*($R$2:$R$200),1)} -> 43821 | T40: =IF(A40=S40,TRUE,FALSE) -> FALSE | U40: =IF(ISNA(VLOOKUP(B40,Feuil1!$C$2:$H$200,6)),"",(VLOOKUP(B40,Feuil1!$C$2:$H$200,6))) -> E | V40: =IF(U40>=P40,TRUE,FALSE) -> FALSE | W40: =IF(AND(T40=TRUE,V40=TRUE),TRUE, FALSE) -> FALSE
A41: 43766 | B41: SANDRINE | N41: 3 | P41: F | Q41: {=LARGE(($B$2:$B$200=B41)*($A$2:$A$200),1)} -> 44080 | R41: =IF(AND(A41<Q41,N41<=3,N41<>0),A41,FALSE) -> 43766 | S41: {=LARGE(($B$2:$B$200=B41)*($R$2:$R$200),1)} -> 43821 | T41: =IF(A41=S41,TRUE,FALSE) -> FALSE | U41: =IF(ISNA(VLOOKUP(B41,Feuil1!$C$2:$H$200,6)),"",(VLOOKUP(B41,Feuil1!$C$2:$H$200,6))) -> E | V41: =IF(U41>=P41,TRUE,FALSE) -> FALSE | W41: =IF(AND(T41=TRUE,V41=TRUE),TRUE, FALSE) -> FALSE
... A45: 44080 | B45: GERARD | N45: 9 | P45: F | Q45: {=LARGE(($B$2:$B$200=B45)*($A$2:$A$200),1)} -> 44080 | R45: =IF(AND(A45<Q45,N45<=3,N45<>0),A45,FALSE) -> FALSE | S45: {=LARGE(($B$2:$B$200=B45)*($R$2:$R$200),1)} -> 43554 | T45: =IF(A45=S45,TRUE,FALSE) -> FALSE | U45: =IF(ISNA(VLOOKUP(B45,Feuil1!$C$2:$H$200,6)),"",(VLOOKUP(B45,Feuil1!$C$2:$H$200,6))) -> E | V45: =IF(U45>=P45,TRUE,FALSE) -> FALSE | W45: =IF(AND(T45=TRUE,V45=TRUE),TRUE, FALSE) -> FALSE
A46: 44067 | B46: GERARD | N46: - | P46: G | Q46: {=LARGE(($B$2:$B$200=B46)*($A$2:$A$200),1)} -> 44080 | R46: =IF(AND(A46<Q46,N46<=3,N46<>0),A46,FALSE) -> FALSE | S46: {=LARGE(($B$2:$B$200=B46)*($R$2:$R$200),1)} -> 43554 | T46: =IF(A46=S46,TRUE,FALSE) -> FALSE | U46: =IF(ISNA(VLOOKUP(B46,Feuil1!$C$2:$H$200,6)),"",(VLOOKUP(B46,Feuil1!$C$2:$H$200,6))) -> E | V46: =IF(U46>=P46,TRUE,FALSE) -> FALSE | W46: =IF(AND(T46=TRUE,V46=TRUE),TRUE, FALSE) -> FALSE
A47: 44058 | B47: GERARD | N47: - | P47: F | Q47: {=LARGE(($B$2:$B$200=B47)*($A$2:$A$200),1)} -> 44080 | R47: =IF(AND(A47<Q47,N47<=3,N47<>0),A47,FALSE) -> FALSE | S47: {=LARGE(($B$2:$B$200=B47)*($R$2:$R$200),1)} -> 43554 | T47: =IF(A47=S47,TRUE,FALSE) -> FALSE | U47: =IF(ISNA(VLOOKUP(B47,Feuil1!$C$2:$H$200,6)),"",(VLOOKUP(B47,Feuil1!$C$2:$H$200,6))) -> E | V47: =IF(U47>=P47,TRUE,FALSE) -> FALSE | W47: =IF(AND(T47=TRUE,V47=TRUE),TRUE, FALSE) -> FALSE
A48: 44044 | B48: GERARD | N48: 6 | P48: D | Q48: {=LARGE(($B$2:$B$200=B48)*($A$2:$A$200),1)} -> 44080 | R48: =IF(AND(A48<Q48,N48<=3,N48<>0),A48,FALSE) -> FALSE | S48: {=LARGE(($B$2:$B$200=B48)*($R$2:$R$200),1)} -> 43554 | T48: =IF(A48=S48,TRUE,FALSE) -> FALSE | U48: =IF(ISNA(VLOOKUP(B48,Feuil1!$C$2:$H$200,6)),"",(VLOOKUP(B48,Feuil1!$C$2:$H$200,6))) -> E | V48: =IF(U48>=P48,TRUE,FALSE) -> TRUE | W48: =IF(AND(T48=TRUE,V48=TRUE),TRUE, FALSE) -> FALSE
A49: 44036 | B49: GERARD | N49: 9 | P49: E | Q49: {=LARGE(($B$2:$B$200=B49)*($A$2:$A$200),1)} -> 44080 | R49: =IF(AND(A49<Q49,N49<=3,N49<>0),A49,FALSE) -> FALSE | S49: {=LARGE(($B$2:$B$200=B49)*($R$2:$R$200),1)} -> 43554 | T49: =IF(A49=S49,TRUE,FALSE) -> FALSE | U49: =IF(ISNA(VLOOKUP(B49,Feuil1!$C$2:$H$200,6)),"",(VLOOKUP(B49,Feuil1!$C$2:$H$200,6))) -> E | V49: =IF(U49>=P49,TRUE,FALSE) -> TRUE | W49: =IF(AND(T49=TRUE,V49=TRUE),TRUE, FALSE) -> FALSE
A50: 44026 | B50: GERARD | N50: 7 | P50: E | Q50: {=LARGE(($B$2:$B$200=B50)*($A$2:$A$200),1)} -> 44080 | R50: =IF(AND(A50<Q50,N50<=3,N50<>0),A50,FALSE) -> FALSE | S50: {=LARGE(($B$2:$B$200=B50)*($R$2:$R$200),1)} -> 43554 | T50: =IF(A50=S50,TRUE,FALSE) -> FALSE | U50: =IF(ISNA(VLOOKUP(B50,Feuil1!$C$2:$H$200,6)),"",(VLOOKUP(B50,Feuil1!$C$2:$H$200,6))) -> E | V50: =IF(U50>=P50,TRUE,FALSE) -> TRUE | W50: =IF(AND(T50=TRUE,V50=TRUE),TRUE, FALSE) -> FALSE
A51: 44017 | B51: GERARD | N51: 6 | P51: E | Q51: {=LARGE(($B$2:$B$200=B51)*($A$2:$A$200),1)} -> 44080 | R51: =IF(AND(A51<Q51,N51<=3,N51<>0),A51,FALSE) -> FALSE | S51: {=LARGE(($B$2:$B$200=B51)*($R$2:$R$200),1)} -> 43554 | T51: =IF(A51=S51,TRUE,FALSE) -> FALSE | U51: =IF(ISNA(VLOOKUP(B51,Feuil1!$C$2:$H$200,6)),"",(VLOOKUP(B51,Feuil1!$C$2:$H$200,6))) -> E | V51: =IF(U51>=P51,TRUE,FALSE) -> TRUE | W51: =IF(AND(T51=TRUE,V51=TRUE),TRUE, FALSE) -> FALSE
A52: 43999 | B52: GERARD | N52: 7 | P52: D | Q52: {=LARGE(($B$2:$B$200=B52)*($A$2:$A$200),1)} -> 44080 | R52: =IF(AND(A52<Q52,N52<=3,N52<>0),A52,FALSE) -> FALSE | S52: {=LARGE(($B$2:$B$200=B52)*($R$2:$R$200),1)} -> 43554 | T52: =IF(A52=S52,TRUE,FALSE) -> FALSE | U52: =IF(ISNA(VLOOKUP(B52,Feuil1!$C$2:$H$200,6)),"",(VLOOKUP(B52,Feuil1!$C$2:$H$200,6))) -> E | V52: =IF(U52>=P52,TRUE,FALSE) -> TRUE | W52: =IF(AND(T52=TRUE,V52=TRUE),TRUE, FALSE) -> FALSE
A53: 43988 | B53: GERARD | N53: 9 | P53: E | Q53: {=LARGE(($B$2:$B$200=B53)*($A$2:$A$200),1)} -> 44080 | R53: =IF(AND(A53<Q53,N53<=3,N53<>0),A53,FALSE) -> FALSE | S53: {=LARGE(($B$2:$B$200=B53)*($R$2:$R$200),1)} -> 43554 | T53: =IF(A53=S53,TRUE,FALSE) -> FALSE | U53: =IF(ISNA(VLOOKUP(B53,Feuil1!$C$2:$H$200,6)),"",(VLOOKUP(B53,Feuil1!$C$2:$H$200,6))) -> E | V53: =IF(U53>=P53,TRUE,FALSE) -> TRUE | W53: =IF(AND(T53=TRUE,V53=TRUE),TRUE, FALSE) -> FALSE
...

Sheet Feuil3
