Workbook
Name Crit.Frequence: Données!$A$20:$A$23
Name Crit.Gravite: Données!$A$13:$A$16
Name Crit.Maitrise: Données!$A$27:$A$30
Name Crit.Priorite: Données!$A$34:$A$37
Name Frequence: #REF!
Name Gravite: #REF!
Name Probabilite: #REF!
Name Zone: #REF!
Name ZoneDeTravail: #REF!

Sheet DU
A6: UNITE DE TRAVAIL | B6: ACTIVITE | C6: SITUATION DANGEREUSE | D6: LESIONS EVNTUELLES | E6: GRAVITE | F6: FREQUENCE | G6: MESURE DE PREVENTION EXISTANTE | H6: MAITRISE DU RISQUE | I6: COTATION | J6: NIVEAU DU RISQUE | K6: MESURE DE PREVENTION A METTRE EN ŒUVRE | L6: DELAIS | M6: Valeur Gravite | N6: Valeur Frequence | O6: Valeur Maitrise
E7: Accident avec arrêt | F7: Possible, fréquent, quotidien | H7: Signalisation, consigne, EPI | I7: =M7*N7/O7 -> 5 | J7: ? | M7: =VLOOKUP(Tableau1[[#This Row],[GRAVITE]],Données!$A$13:$D$16,4,FALSE) -> 5 | N7: =VLOOKUP(Tableau1[[#This Row],[FREQUENCE]],Données!$A$20:$D$23,4,FALSE) -> 10 | O7: =VLOOKUP(Tableau1[[#This Row],[MAITRISE DU RISQUE]],Données!$A$27:$D$30,4,FALSE) -> 10
E8: Accident grave avec séquelles | F8: Permanent, très probable | H8: Protection collective, réduction à l'exposition | I8: =M8*N8/O8 -> 10 | J8: ? | M8: =VLOOKUP(Tableau1[[#This Row],[GRAVITE]],Données!$A$13:$D$16,4,FALSE) -> 10 | N8: =VLOOKUP(Tableau1[[#This Row],[FREQUENCE]],Données!$A$20:$D$23,4,FALSE) -> 50 | O8: =VLOOKUP(Tableau1[[#This Row],[MAITRISE DU RISQUE]],Données!$A$27:$D$30,4,FALSE) -> 50
E9: Accident avec arrêt | F9: Possible, fréquent, quotidien | H9: Pas de mesure de prévention | I9: =M9*N9/O9 -> 50 | J9: Mon problème est dans cette colonne | M9: =VLOOKUP(Tableau1[[#This Row],[GRAVITE]],Données!$A$13:$D$16,4,FALSE) -> 5 | N9: =VLOOKUP(Tableau1[[#This Row],[FREQUENCE]],Données!$A$20:$D$23,4,FALSE) -> 10 | O9: =VLOOKUP(Tableau1[[#This Row],[MAITRISE DU RISQUE]],Données!$A$27:$D$30,4,FALSE) -> 1
E10: Accident grave avec séquelles | F10: Possible, fréquent, quotidien | H10: Pas de mesure de prévention | I10: =M10*N10/O10 -> 100 | J10: Phrase associé ?? | M10: =VLOOKUP(Tableau1[[#This Row],[GRAVITE]],Données!$A$13:$D$16,4,FALSE) -> 10 | N10: =VLOOKUP(Tableau1[[#This Row],[FREQUENCE]],Données!$A$20:$D$23,4,FALSE) -> 10 | O10: =VLOOKUP(Tableau1[[#This Row],[MAITRISE DU RISQUE]],Données!$A$27:$D$30,4,FALSE) -> 1
I11: =M11*N11/O11 -> #N/A | M11: =VLOOKUP(Tableau1[[#This Row],[GRAVITE]],Données!$A$13:$D$16,4,FALSE) -> #N/A | N11: =VLOOKUP(Tableau1[[#This Row],[FREQUENCE]],Données!$A$20:$D$23,4,FALSE) -> #N/A | O11: =VLOOKUP(Tableau1[[#This Row],[MAITRISE DU RISQUE]],Données!$A$27:$D$30,4,FALSE) -> #N/A
I12: =M12*N12/O12 -> #N/A | M12: =VLOOKUP(Tableau1[[#This Row],[GRAVITE]],Données!$A$13:$D$16,4,FALSE) -> #N/A | N12: =VLOOKUP(Tableau1[[#This Row],[FREQUENCE]],Données!$A$20:$D$23,4,FALSE) -> #N/A | O12: =VLOOKUP(Tableau1[[#This Row],[MAITRISE DU RISQUE]],Données!$A$27:$D$30,4,FALSE) -> #N/A
I13: =M13*N13/O13 -> #N/A | M13: =VLOOKUP(Tableau1[[#This Row],[GRAVITE]],Données!$A$13:$D$16,4,FALSE) -> #N/A | N13: =VLOOKUP(Tableau1[[#This Row],[FREQUENCE]],Données!$A$20:$D$23,4,FALSE) -> #N/A | O13: =VLOOKUP(Tableau1[[#This Row],[MAITRISE DU RISQUE]],Données!$A$27:$D$30,4,FALSE) -> #N/A
I14: =M14*N14/O14 -> #N/A | M14: =VLOOKUP(Tableau1[[#This Row],[GRAVITE]],Données!$A$13:$D$16,4,FALSE) -> #N/A | N14: =VLOOKUP(Tableau1[[#This Row],[FREQUENCE]],Données!$A$20:$D$23,4,FALSE) -> #N/A | O14: =VLOOKUP(Tableau1[[#This Row],[MAITRISE DU RISQUE]],Données!$A$27:$D$30,4,FALSE) -> #N/A
I15: =M15*N15/O15 -> #N/A | M15: =VLOOKUP(Tableau1[[#This Row],[GRAVITE]],Données!$A$13:$D$16,4,FALSE) -> #N/A | N15: =VLOOKUP(Tableau1[[#This Row],[FREQUENCE]],Données!$A$20:$D$23,4,FALSE) -> #N/A | O15: =VLOOKUP(Tableau1[[#This Row],[MAITRISE DU RISQUE]],Données!$A$27:$D$30,4,FALSE) -> #N/A
I16: =M16*N16/O16 -> #N/A | M16: =VLOOKUP(Tableau1[[#This Row],[GRAVITE]],Données!$A$13:$D$16,4,FALSE) -> #N/A | N16: =VLOOKUP(Tableau1[[#This Row],[FREQUENCE]],Données!$A$20:$D$23,4,FALSE) -> #N/A | O16: =VLOOKUP(Tableau1[[#This Row],[MAITRISE DU RISQUE]],Données!$A$27:$D$30,4,FALSE) -> #N/A
I17: =M17*N17/O17 -> #N/A | M17: =VLOOKUP(Tableau1[[#This Row],[GRAVITE]],Données!$A$13:$D$16,4,FALSE) -> #N/A | N17: =VLOOKUP(Tableau1[[#This Row],[FREQUENCE]],Données!$A$20:$D$23,4,FALSE) -> #N/A | O17: =VLOOKUP(Tableau1[[#This Row],[MAITRISE DU RISQUE]],Données!$A$27:$D$30,4,FALSE) -> #N/A
I18: =M18*N18/O18 -> #N/A | M18: =VLOOKUP(Tableau1[[#This Row],[GRAVITE]],Données!$A$13:$D$16,4,FALSE) -> #N/A | N18: =VLOOKUP(Tableau1[[#This Row],[FREQUENCE]],Données!$A$20:$D$23,4,FALSE) -> #N/A | O18: =VLOOKUP(Tableau1[[#This Row],[MAITRISE DU RISQUE]],Données!$A$27:$D$30,4,FALSE) -> #N/A
I19: =M19*N19/O19 -> #N/A | M19: =VLOOKUP(Tableau1[[#This Row],[GRAVITE]],Données!$A$13:$D$16,4,FALSE) -> #N/A | N19: =VLOOKUP(Tableau1[[#This Row],[FREQUENCE]],Données!$A$20:$D$23,4,FALSE) -> #N/A | O19: =VLOOKUP(Tableau1[[#This Row],[MAITRISE DU RISQUE]],Données!$A$27:$D$30,4,FALSE) -> #N/A
I20: =M20*N20/O20 -> #N/A | M20: =VLOOKUP(Tableau1[[#This Row],[GRAVITE]],Données!$A$13:$D$16,4,FALSE) -> #N/A | N20: =VLOOKUP(Tableau1[[#This Row],[FREQUENCE]],Données!$A$20:$D$23,4,FALSE) -> #N/A | O20: =VLOOKUP(Tableau1[[#This Row],[MAITRISE DU RISQUE]],Données!$A$27:$D$30,4,FALSE) -> #N/A
I21: =M21*N21/O21 -> #N/A | M21: =VLOOKUP(Tableau1[[#This Row],[GRAVITE]],Données!$A$13:$D$16,4,FALSE) -> #N/A | N21: =VLOOKUP(Tableau1[[#This Row],[FREQUENCE]],Données!$A$20:$D$23,4,FALSE) -> #N/A | O21: =VLOOKUP(Tableau1[[#This Row],[MAITRISE DU RISQUE]],Données!$A$27:$D$30,4,FALSE) -> #N/A
I23: Comment associer le résulat "Cotation" à une phrase "Niveau de risque" ?
I25: Les phrases "Niveau de risque" sont dans l'onglet "Données" avec les caractéristiques

Sheet Données
A1: NE RIEN MODIFIER AU SEIN DE CETTE PAGE !!
A5: Voir M.BUCHE Maxence pour des modifications
A6: ESPACE RESERVE !!
A11: Critères de Gravité
H12: OK | I12: Accueil / Administration
A13: Accident bénin sans arrêt | D13: 1 | H13: OK | I13: Archive commercial
A14: Accident avec arrêt | D14: 5 | H14: OK | I14: Découpe de produit verrier
A15: Accident grave avec séquelles | D15: 10 | I15: Découpe des croisillions
A16: Accident mortel ou séquelle lourdes | D16: 50 | H16: OK | I16: Façonnage / Gravure
H17: OK | I17: Pliage intercalaire
A18: Critères de Fréquence | H18: OK | I18: Quai de chargement
I19: Quai de déchargement
A20: Improbable, jamais arrivé | D20: 1 | H20: OK | I20: Stockage alcool à brûler
A21: Peu probable, occasionnel | D21: 5 | H21: OK | I21: Stockage déchets
A22: Possible, fréquent, quotidien | D22: 10 | H22: OK | I22: Vitrage isolant
A23: Permanent, très probable | D23: 50 | H23: OK | I23: Allée en direction du façonnage
A25: Critères de Maitrise des risques
A27: Pas de mesure de prévention | D27: 1
A28: Signalisation, consigne, EPI | D28: 10
A29: Protection collective, réduction à l'exposition | D29: 50
A30: Maitrise totale, auto-contrôle | D30: 100
A32: Critères de Priorité
G33: Tableau "niveau des risques"
A34: Risque controlé, non-significatif | D34: <=5
A35: Risque secondaire | D35: [6;25]
A36: Risque important | D36: [26;50]
A37: Risque prioritaire | D37: >50
