Workbook

Sheet BDD
A1: Nom | B1: Attention | C1: Adresse | D1: Complément | E1: Code postal | F1: Ville
A2: EXEMPLE1 | C2: tagada | E2: 44000 | F2: NANTES
A3: EXEMPLE2 | B3: A l'attention de Mme Tsoin | C3: Tsointsoin | E3: 35000 | F3: RENNES
A4: EXEMPLE3 | C4: badaboum | D4: motoculteur | E4: 35000 | F4: RENNES

Sheet Etiquettes
B1: =IF(ROUND(ROW()/10,0)=ROW()/10, (ROW()/10)+2, 0) -> 0 | C1: =BDD!A2 -> EXEMPLE1
B2: =IF(ROUND(ROW()/10,0)=ROW()/10, (ROW()/10)+2, 0) -> 0 | C2: =VLOOKUP(C1,BDD!$1:$1048576,2,FALSE) -> 0
B3: =IF(ROUND(ROW()/10,0)=ROW()/10, (ROW()/10)+2, 0) -> 0 | C3: =VLOOKUP(C1,BDD!$1:$1048576,3,FALSE) -> tagada
B4: =IF(ROUND(ROW()/10,0)=ROW()/10, (ROW()/10)+2, 0) -> 0 | C4: =VLOOKUP(C1,BDD!$1:$1048576,4,FALSE) -> 0
B5: =IF(ROUND(ROW()/10,0)=ROW()/10, (ROW()/10)+2, 0) -> 0 | C5: =VLOOKUP(C1,BDD!$1:$1048576,5,FALSE)&" "&VLOOKUP(C1,BDD!$1:$1048576,6,FALSE) -> 44000 NANTES
B6: =IF(ROUND(ROW()/10,0)=ROW()/10, (ROW()/10)+2, 0) -> 0
B7: =IF(ROUND(ROW()/10,0)=ROW()/10, (ROW()/10)+2, 0) -> 0
B8: =IF(ROUND(ROW()/10,0)=ROW()/10, (ROW()/10)+2, 0) -> 0
B9: =IF(ROUND(ROW()/10,0)=ROW()/10, (ROW()/10)+2, 0) -> 0
A10: =ROW() -> 10 | B10: =IF(ROUND(ROW()/10,0)=ROW()/10, (ROW()/10)+2, 0) -> 3 | C10: =BDD!A3 -> EXEMPLE2 | E10: =BDD!A3
A11: =A10/10 -> 1 | B11: =IF(ROUND(ROW()/10,0)=ROW()/10, (ROW()/10)+2, 0) -> 0 | C11: =VLOOKUP(C10,BDD!$1:$1048576,2,FALSE) -> A l'attention de Mme Tsoin
A12: =A11+2 -> 3 | B12: =IF(ROUND(ROW()/10,0)=ROW()/10, (ROW()/10)+2, 0) -> 0 | C12: =VLOOKUP(C10,BDD!$1:$1048576,3,FALSE) -> Tsointsoin
B13: =IF(ROUND(ROW()/10,0)=ROW()/10, (ROW()/10)+2, 0) -> 0 | C13: =VLOOKUP(C10,BDD!$1:$1048576,4,FALSE) -> 0
B14: =IF(ROUND(ROW()/10,0)=ROW()/10, (ROW()/10)+2, 0) -> 0 | C14: =VLOOKUP(C10,BDD!$1:$1048576,5,FALSE)&" "&VLOOKUP(C10,BDD!$1:$1048576,6,FALSE) -> 35000 RENNES
B15: =IF(ROUND(ROW()/10,0)=ROW()/10, (ROW()/10)+2, 0) -> 0
B16: =IF(ROUND(ROW()/10,0)=ROW()/10, (ROW()/10)+2, 0) -> 0
B17: =IF(ROUND(ROW()/10,0)=ROW()/10, (ROW()/10)+2, 0) -> 0
B18: =IF(ROUND(ROW()/10,0)=ROW()/10, (ROW()/10)+2, 0) -> 0
B19: =IF(ROUND(ROW()/10,0)=ROW()/10, (ROW()/10)+2, 0) -> 0
A20: =ROW() -> 20 | B20: =IF(ROUND(ROW()/10,0)=ROW()/10, (ROW()/10)+2, 0) -> 4 | C20: =BDD!A4 -> EXEMPLE3 | E20: =BDD!A4
A21: =A20/10 -> 2 | B21: =IF(ROUND(ROW()/10,0)=ROW()/10, (ROW()/10)+2, 0) -> 0 | C21: =VLOOKUP(C20,BDD!$1:$1048576,2,FALSE) -> 0
A22: =A21+2 -> 4 | B22: =IF(ROUND(ROW()/10,0)=ROW()/10, (ROW()/10)+2, 0) -> 0 | C22: =VLOOKUP(C20,BDD!$1:$1048576,3,FALSE) -> badaboum
B23: =IF(ROUND(ROW()/10,0)=ROW()/10, (ROW()/10)+2, 0) -> 0 | C23: =VLOOKUP(C20,BDD!$1:$1048576,4,FALSE) -> motoculteur
B24: =IF(ROUND(ROW()/10,0)=ROW()/10, (ROW()/10)+2, 0) -> 0 | C24: =VLOOKUP(C20,BDD!$1:$1048576,5,FALSE)&" "&VLOOKUP(C20,BDD!$1:$1048576,6,FALSE) -> 35000 RENNES
B25: =IF(ROUND(ROW()/10,0)=ROW()/10, (ROW()/10)+2, 0) -> 0
B26: =IF(ROUND(ROW()/10,0)=ROW()/10, (ROW()/10)+2, 0) -> 0
B27: =IF(ROUND(ROW()/10,0)=ROW()/10, (ROW()/10)+2, 0) -> 0
B28: =IF(ROUND(ROW()/10,0)=ROW()/10, (ROW()/10)+2, 0) -> 0
B29: =IF(ROUND(ROW()/10,0)=ROW()/10, (ROW()/10)+2, 0) -> 0
B30: =IF(ROUND(ROW()/10,0)=ROW()/10, (ROW()/10)+2, 0) -> 5
B31: =IF(ROUND(ROW()/10,0)=ROW()/10, (ROW()/10)+2, 0) -> 0
B32: =IF(ROUND(ROW()/10,0)=ROW()/10, (ROW()/10)+2, 0) -> 0
