Workbook
Name CalcGrille: IFERROR(calculs!$A1/SUMPRODUCT( (#REF!=calculs!$B1)*(Activités[DATE]<=calculs!A$30)*((#REF!>=calculs!A$30)+(LEN(#REF!)=0)*(Activités[DATE]=calculs!A$30)) ),NA())
Name CalcGrille: IFERROR(calculs!$A1/SUMPRODUCT( (#REF!=calculs!$B1)*(Activités[DATE]<=calculs!A$30)*((#REF!>=calculs!A$30)+(LEN(#REF!)=0)*(Activités[DATE]=calculs!A$30)) ),NA())
Name DateDébut: calculs!$D$9
Name FenêtreDateDébut: calculs!$D$6
Name FenêtreDécalage: calculs!$D$7
Name FenêtreJours: calculs!$D$10
Name liste_des_publications: listes!$A$2:$A$9
Name RailsJour: FenêtreDateDébut+ROW('Chronologie du projet'!$1:$25)-1
Name RailsJour: FenêtreDateDébut+ROW('Chronologie du projet'!$1:$25)-1

Sheet Chronologie du projet
B1: CHRONOLOGIE DES PUBLICATIONS
B20: ENTRER LA DATE DE DÉBUT : | C20: 42122
B22: ACTIVITÉ récurrentes | C22: DATE | E22: ÉVÉNEMENTS spéciaux | F22: DATE
B23: Cyber contact | C23: 42131 | E23: Diffusion vidéo ORIGINE | F23: 42145
B24: Cyber contact | C24: 42145 | E24: Reconnaissance TD | F24: 42136
B25: Cyber contact | C25: 42159 | E25: Cloture CU | F25: 42143
B26: Cyber contact | C26: 42173
B27: Cyber contact | C27: 42208
B28: Cyber contact | C28: 42222
B29: Cyber contact | C29: 42236
B30: Cyber contact | C30: 42257
B31: Cyber contact | C31: 42271
B32: Cyber contact | C32: 42285
B33: Cyber contact | C33: 42299
B34: Cyber contact | C34: 42313
B35: Cyber contact | C35: 42327
B36: Cyber contact | C36: 42348
B38: Magazine contact | C38: 42126
... B51: Le Fil | C51: 42131
B52: Le Fil
B53: Le Fil
B54: Le Fil
B55: Le Fil
B56: Le Fil
B57: Le Fil
B58: Le Fil
B59: Le Fil
B60: Le Fil
B61: Le Fil
B62: Le Fil
B63: Le Fil
... B75: Le Fil

Sheet calculs
A1: *** Cette feuille doit rester masquée ***
A2: PARAMÈTRES _ NE PAS TOUCHER
C3: Aujourd’hui : | D3: =TODAY() -> 42122
D4: 5
C6: Calcul fenêtre de début | D6: =DateDébut+FenêtreDécalage -> 42122
C7: Décalage | D7: 0
B9: Tel qu'indiqué dans la barre de défilement | C9: Début | D9: ='Chronologie du projet'!C20 -> 42122
B10: Longueur de l'axe (30 jours = 1 mois) | C10: Fenêtre | D10: 30
A12: DESIGN DU GRAPHIQUE_CALENDRIER_NE PAS TOUCHER
D13: =D30 -> 42122 | E13: =E30 -> 42123 | F13: =F30 -> 42124 | G13: =G30 -> 42125 | H13: =H30 -> 42126 | I13: =I30 -> 42127 | J13: =J30 -> 42128 | K13: =K30 -> 42129 | ... AG13: =AG30 -> 42151
B14: affichage du jour en gris | C14: Aujourd’hui | D14: =IF(D13=$D$3,5,NA()) -> 5 | E14: =IF(E13=$D$3,5,NA()) -> #N/A | F14: =IF(F13=$D$3,5,NA()) -> #N/A | G14: =IF(G13=$D$3,5,NA()) -> #N/A | H14: =IF(H13=$D$3,5,NA()) -> #N/A | I14: =IF(I13=$D$3,5,NA()) -> #N/A | J14: =IF(J13=$D$3,5,NA()) -> #N/A | K14: =IF(K13=$D$3,5,NA()) -> #N/A | ... AG14: =IF(AG13=$D$3,5,NA()) -> #N/A
B15: Affichage de la barre du mois en bas | C15: =DATE(YEAR(MIN(D13:AG13)),MONTH(MIN(D13:AG13)),1) -> 42095 | D15: =IF(MEDIAN($C15,D$13,EOMONTH($C15,0))=D$13,0.5,NA()) -> 0.5 | E15: =IF(MEDIAN($C15,E$13,EOMONTH($C15,0))=E$13,0.5,NA()) -> 0.5 | F15: =IF(MEDIAN($C15,F$13,EOMONTH($C15,0))=F$13,0.5,NA()) -> 0.5 | G15: =IF(MEDIAN($C15,G$13,EOMONTH($C15,0))=G$13,0.5,NA()) -> #N/A | H15: =IF(MEDIAN($C15,H$13,EOMONTH($C15,0))=H$13,0.5,NA()) -> #N/A | I15: =IF(MEDIAN($C15,I$13,EOMONTH($C15,0))=I$13,0.5,NA()) -> #N/A | J15: =IF(MEDIAN($C15,J$13,EOMONTH($C15,0))=J$13,0.5,NA()) -> #N/A | K15: =IF(MEDIAN($C15,K$13,EOMONTH($C15,0))=K$13,0.5,NA()) -> #N/A | ... AG15: =IF(MEDIAN($C15,AG$13,EOMONTH($C15,0))=AG$13,0.5,NA()) -> #N/A
B16: Affichage de la barre du mois en haut | C16: =TEXT(C15,"mmm aaaa") & " -Bande supérieure" -> avr 2015 -Bande supérieure | D16: =D15+$B$31+1 -> 11.5 | E16: =E15+$B$31+1 -> 11.5 | F16: =F15+$B$31+1 -> 11.5 | G16: =G15+$B$31+1 -> #N/A | H16: =H15+$B$31+1 -> #N/A | I16: =I15+$B$31+1 -> #N/A | J16: =J15+$B$31+1 -> #N/A | K16: =K15+$B$31+1 -> #N/A | ... AG16: =AG15+$B$31+1 -> #N/A
B17: Affichage de la barre du mois en bas | C17: =EOMONTH(C15,0)+1 -> 42125 | D17: =IF(MEDIAN($C17,D$13,EOMONTH($C17,0))=D$13,0.5,NA()) -> #N/A | E17: =IF(MEDIAN($C17,E$13,EOMONTH($C17,0))=E$13,0.5,NA()) -> #N/A | F17: =IF(MEDIAN($C17,F$13,EOMONTH($C17,0))=F$13,0.5,NA()) -> #N/A | G17: =IF(MEDIAN($C17,G$13,EOMONTH($C17,0))=G$13,0.5,NA()) -> 0.5 | H17: =IF(MEDIAN($C17,H$13,EOMONTH($C17,0))=H$13,0.5,NA()) -> 0.5 | I17: =IF(MEDIAN($C17,I$13,EOMONTH($C17,0))=I$13,0.5,NA()) -> 0.5 | J17: =IF(MEDIAN($C17,J$13,EOMONTH($C17,0))=J$13,0.5,NA()) -> 0.5 | K17: =IF(MEDIAN($C17,K$13,EOMONTH($C17,0))=K$13,0.5,NA()) -> 0.5 | ... AG17: =IF(MEDIAN($C17,AG$13,EOMONTH($C17,0))=AG$13,0.5,NA()) -> 0.5
B18: Affichage de la barre du mois en haut | C18: =TEXT(C17,"mmm aaaa") & " -Bande supérieure" -> mai 2015 -Bande supérieure | D18: =D17+$B$31+1 -> #N/A | E18: =E17+$B$31+1 -> #N/A | F18: =F17+$B$31+1 -> #N/A | G18: =G17+$B$31+1 -> 11.5 | H18: =H17+$B$31+1 -> 11.5 | I18: =I17+$B$31+1 -> 11.5 | J18: =J17+$B$31+1 -> 11.5 | K18: =K17+$B$31+1 -> 11.5 | ... AG18: =AG17+$B$31+1 -> 11.5
B19: Affichage du mois en texte | C19: =C15+1 -> 42096 | D19: =IF(MEDIAN($C19,D$13)=D$13,0.5,NA()) -> #N/A | E19: =IF(MEDIAN($C19,E$13)=E$13,0.5,NA()) -> #N/A | F19: =IF(MEDIAN($C19,F$13)=F$13,0.5,NA()) -> #N/A | G19: =IF(MEDIAN($C19,G$13)=G$13,0.5,NA()) -> #N/A | H19: =IF(MEDIAN($C19,H$13)=H$13,0.5,NA()) -> #N/A | I19: =IF(MEDIAN($C19,I$13)=I$13,0.5,NA()) -> #N/A | J19: =IF(MEDIAN($C19,J$13)=J$13,0.5,NA()) -> #N/A | K19: =IF(MEDIAN($C19,K$13)=K$13,0.5,NA()) -> #N/A | ... AG19: =IF(MEDIAN($C19,AG$13)=AG$13,0.5,NA()) -> #N/A
B20: Affichage du mois en texte | C20: =C17+1 -> 42126 | D20: =IF(MEDIAN($C20,D$13)=D$13,0.5,NA()) -> #N/A | E20: =IF(MEDIAN($C20,E$13)=E$13,0.5,NA()) -> #N/A | F20: =IF(MEDIAN($C20,F$13)=F$13,0.5,NA()) -> #N/A | G20: =IF(MEDIAN($C20,G$13)=G$13,0.5,NA()) -> #N/A | H20: =IF(MEDIAN($C20,H$13)=H$13,0.5,NA()) -> 0.5 | I20: =IF(MEDIAN($C20,I$13)=I$13,0.5,NA()) -> #N/A | J20: =IF(MEDIAN($C20,J$13)=J$13,0.5,NA()) -> #N/A | K20: =IF(MEDIAN($C20,K$13)=K$13,0.5,NA()) -> #N/A | ... AG20: =IF(MEDIAN($C20,AG$13)=AG$13,0.5,NA()) -> #N/A
B21: Hauteur étiquettes de texte des jours | D21: 2.3 | E21: =D21 -> 2.3 | F21: =E21 -> 2.3 | G21: =F21 -> 2.3 | H21: =G21 -> 2.3 | I21: =H21 -> 2.3 | J21: =I21 -> 2.3 | K21: =J21 -> 2.3 | L21: =K21 -> 2.3 | ... AG21: =AF21 -> 2.3
B22: Étiquette des jours | C22: 3 | D22: =LEFT(UPPER(TEXT(D13,"jjj")),$C22) -> MAR | E22: =LEFT(UPPER(TEXT(E13,"jjj")),$C22) -> MER | F22: =LEFT(UPPER(TEXT(F13,"jjj")),$C22) -> JEU | G22: =LEFT(UPPER(TEXT(G13,"jjj")),$C22) -> VEN | H22: =LEFT(UPPER(TEXT(H13,"jjj")),$C22) -> SAM | I22: =LEFT(UPPER(TEXT(I13,"jjj")),$C22) -> DIM | J22: =LEFT(UPPER(TEXT(J13,"jjj")),$C22) -> LUN | K22: =LEFT(UPPER(TEXT(K13,"jjj")),$C22) -> MAR | ... AG22: =LEFT(UPPER(TEXT(AG13,"jjj")),$C22) -> MER
B23: Hauteur pour la ligne pointillés des jours | D23: 1.3 | E23: =D23 -> 1.3 | F23: =E23 -> 1.3 | G23: =F23 -> 1.3 | H23: =G23 -> 1.3 | I23: =H23 -> 1.3 | J23: =I23 -> 1.3 | K23: =J23 -> 1.3 | L23: =K23 -> 1.3 | ... AG23: =AF23 -> 1.3
B24: Les jours | D24: =TEXT(D13,"jj") -> 28 | E24: =TEXT(E13,"jj") -> 29 | F24: =TEXT(F13,"jj") -> 30 | G24: =TEXT(G13,"jj") -> 01 | H24: =TEXT(H13,"jj") -> 02 | I24: =TEXT(I13,"jj") -> 03 | J24: =TEXT(J13,"jj") -> 04 | K24: =TEXT(K13,"jj") -> 05 | ... AG24: =TEXT(AG13,"jj") -> 27
A27: AFFICHAGE DES DONNÉES _ VOIR AUDE_!!! FONCTION MATRICIELLE!!!
B29: ACTIVITÉS RÉCURRENTES
B30: hauteur sur le graphe | C30: Activité | D30: =FenêtreDateDébut -> 42122 | E30: =D30+1 -> 42123 | F30: =E30+1 -> 42124 | G30: =F30+1 -> 42125 | H30: =G30+1 -> 42126 | I30: =H30+1 -> 42127 | J30: =I30+1 -> 42128 | K30: =J30+1 -> 42129 | L30: =K30+1 -> 42130 | ... AG30: =AF30+1 -> 42151
B31: 10 | C31: =listes!A2 -> Cyber contact | D31: =IF('Chronologie du projet'!$C$23:$C$36=D$30,$B$31,NA()) -> #N/A | E31: {=IF('Chronologie du projet'!$C$23:$C$36=E30,$B$31,NA())} -> #N/A | F31: {=IF('Chronologie du projet'!$C$23:$C$36=F30,$B$31,NA())} -> #N/A | G31: {=IF('Chronologie du projet'!$C$23:$C$36=G30,$B$31,NA())} -> #N/A | H31: {=IF('Chronologie du projet'!$C$23:$C$36=H30,$B$31,NA())} -> #N/A | I31: {=IF('Chronologie du projet'!$C$23:$C$36=I30,$B$31,NA())} -> #N/A | J31: {=IF('Chronologie du projet'!$C$23:$C$36=J30,$B$31,NA())} -> #N/A | K31: {=IF('Chronologie du projet'!$C$23:$C$36=K30,$B$31,NA())} -> #N/A | L31: {=IF('Chronologie du projet'!$C$23:$C$36=L30,$B$31,NA())} -> #N/A | ... AG31: {=IF('Chronologie du projet'!$C$23:$C$36=AG30,$B$31,NA())} -> #N/A
B32: =B31-1 -> 9 | C32: =listes!A3 -> Flash-Grande campagne | D32: {=IF('Chronologie du projet'!$C$41:$C$47=D$30,$B$32,NA())} -> #N/A | E32: {=IF('Chronologie du projet'!$C$41:$C$47=E$30,$B$32,NA())} -> #N/A | F32: {=IF('Chronologie du projet'!$C$41:$C$47=F$30,$B$32,NA())} -> #N/A | G32: {=IF('Chronologie du projet'!$C$41:$C$47=G$30,$B$32,NA())} -> #N/A | H32: {=IF('Chronologie du projet'!$C$41:$C$47=H$30,$B$32,NA())} -> #N/A | I32: {=IF('Chronologie du projet'!$C$41:$C$47=I$30,$B$32,NA())} -> #N/A | J32: {=IF('Chronologie du projet'!$C$41:$C$47=J$30,$B$32,NA())} -> #N/A | K32: {=IF('Chronologie du projet'!$C$41:$C$47=K$30,$B$32,NA())} -> #N/A | ... AG32: {=IF('Chronologie du projet'!$C$41:$C$47=AG$30,$B$32,NA())} -> #N/A
B33: =B32-1 -> 8 | C33: =listes!A4 -> Le Fil | D33: {=IF('Chronologie du projet'!$C$49:$C$75=D$30,$B$33,NA())} -> #N/A | E33: {=IF('Chronologie du projet'!$C$49:$C$75=E$30,$B$33,NA())} -> #N/A | F33: {=IF('Chronologie du projet'!$C$49:$C$75=F$30,$B$33,NA())} -> #N/A | G33: {=IF('Chronologie du projet'!$C$49:$C$75=G$30,$B$33,NA())} -> #N/A | H33: {=IF('Chronologie du projet'!$C$49:$C$75=H$30,$B$33,NA())} -> #N/A | I33: {=IF('Chronologie du projet'!$C$49:$C$75=I$30,$B$33,NA())} -> #N/A | J33: {=IF('Chronologie du projet'!$C$49:$C$75=J$30,$B$33,NA())} -> #N/A | K33: {=IF('Chronologie du projet'!$C$49:$C$75=K$30,$B$33,NA())} -> #N/A | ... AG33: {=IF('Chronologie du projet'!$C$49:$C$75=AG$30,$B$33,NA())} -> #N/A
B34: =B33-1 -> 7 | C34: =listes!A5 -> Magazine contact | D34: {=IF('Chronologie du projet'!$C$38:$C$39=D$30,$B$34,NA())} -> #N/A | E34: {=IF('Chronologie du projet'!$C$38:$C$39=E$30,$B$34,NA())} -> #N/A | F34: {=IF('Chronologie du projet'!$C$38:$C$39=F$30,$B$34,NA())} -> #N/A | G34: {=IF('Chronologie du projet'!$C$38:$C$39=G$30,$B$34,NA())} -> #N/A | H34: {=IF('Chronologie du projet'!$C$38:$C$39=H$30,$B$34,NA())} -> 7 | I34: {=IF('Chronologie du projet'!$C$38:$C$39=I$30,$B$34,NA())} -> #N/A | J34: {=IF('Chronologie du projet'!$C$38:$C$39=J$30,$B$34,NA())} -> #N/A | K34: {=IF('Chronologie du projet'!$C$38:$C$39=K$30,$B$34,NA())} -> #N/A | ... AG34: {=IF('Chronologie du projet'!$C$38:$C$39=AG$30,$B$34,NA())} -> #N/A
B35: =B34-1 -> 6 | C35: =listes!A6 -> Médias sociaux UL | D35: {=IF('Chronologie du projet'!$C$41:$C$47=D$30,$B$32,NA())} -> #N/A
B36: =B35-1 -> 5 | C36: =listes!A7 -> site web UL | D36: {=IF('Chronologie du projet'!$C$41:$C$47=D$30,$B$32,NA())} -> #N/A
B37: =B36-1 -> 4 | C37: =listes!A8 -> site web facultés et services | D37: {=IF('Chronologie du projet'!$C$41:$C$47=D$30,$B$32,NA())} -> #N/A
B38: =B37-1 -> 3 | C38: =listes!A9 -> site web FUL | D38: {=IF('Chronologie du projet'!$C$41:$C$47=D$30,$B$32,NA())} -> #N/A
B43: hauteur sur le graphe | C43: Activité | D43: =FenêtreDateDébut -> 42122 | E43: =D43+1 -> 42123 | F43: =E43+1 -> 42124 | G43: =F43+1 -> 42125 | H43: =G43+1 -> 42126 | I43: =H43+1 -> 42127 | J43: =I43+1 -> 42128 | K43: =J43+1 -> 42129 | L43: =K43+1 -> 42130 | ... AG43: =AF43+1 -> 42151
B44: 3 | C44: ='Chronologie du projet'!E23 -> Diffusion vidéo ORIGINE | D44: =IF('Chronologie du projet'!$F$23=calculs!D$43,$B$44,NA()) -> #N/A | E44: =IF('Chronologie du projet'!$F$23=calculs!E$43,$B$44,NA()) -> #N/A | F44: =IF('Chronologie du projet'!$F$23=calculs!F$43,$B$44,NA()) -> #N/A | G44: =IF('Chronologie du projet'!$F$23=calculs!G$43,$B$44,NA()) -> #N/A | H44: =IF('Chronologie du projet'!$F$23=calculs!H$43,$B$44,NA()) -> #N/A | I44: =IF('Chronologie du projet'!$F$23=calculs!I$43,$B$44,NA()) -> #N/A | J44: =IF('Chronologie du projet'!$F$23=calculs!J$43,$B$44,NA()) -> #N/A | K44: =IF('Chronologie du projet'!$F$23=calculs!K$43,$B$44,NA()) -> #N/A | ... AG44: =IF('Chronologie du projet'!$F$23=calculs!AG$43,$B$44,NA()) -> #N/A
C45: ='Chronologie du projet'!E24 -> Reconnaissance TD | D45: =IF('Chronologie du projet'!$F$24=calculs!D$43,$B$44,NA()) -> #N/A | E45: =IF('Chronologie du projet'!$F$24=calculs!E$43,$B$44,NA()) -> #N/A | F45: =IF('Chronologie du projet'!$F$24=calculs!F$43,$B$44,NA()) -> #N/A | G45: =IF('Chronologie du projet'!$F$24=calculs!G$43,$B$44,NA()) -> #N/A | H45: =IF('Chronologie du projet'!$F$24=calculs!H$43,$B$44,NA()) -> #N/A | I45: =IF('Chronologie du projet'!$F$24=calculs!I$43,$B$44,NA()) -> #N/A | J45: =IF('Chronologie du projet'!$F$24=calculs!J$43,$B$44,NA()) -> #N/A | K45: =IF('Chronologie du projet'!$F$24=calculs!K$43,$B$44,NA()) -> #N/A | ... AG45: =IF('Chronologie du projet'!$F$24=calculs!AG$43,$B$44,NA()) -> #N/A
C46: ='Chronologie du projet'!E25 -> Cloture CU | D46: =IF('Chronologie du projet'!$F$25=calculs!D$43,$B$44,NA()) -> #N/A | E46: =IF('Chronologie du projet'!$F$25=calculs!E$43,$B$44,NA()) -> #N/A | F46: =IF('Chronologie du projet'!$F$25=calculs!F$43,$B$44,NA()) -> #N/A | G46: =IF('Chronologie du projet'!$F$25=calculs!G$43,$B$44,NA()) -> #N/A | H46: =IF('Chronologie du projet'!$F$25=calculs!H$43,$B$44,NA()) -> #N/A | I46: =IF('Chronologie du projet'!$F$25=calculs!I$43,$B$44,NA()) -> #N/A | J46: =IF('Chronologie du projet'!$F$25=calculs!J$43,$B$44,NA()) -> #N/A | K46: =IF('Chronologie du projet'!$F$25=calculs!K$43,$B$44,NA()) -> #N/A | ... AG46: =IF('Chronologie du projet'!$F$25=calculs!AG$43,$B$44,NA()) -> #N/A
C47: ='Chronologie du projet'!E26 -> 0 | D47: =IF('Chronologie du projet'!$F$26=calculs!D$43,$B$44,NA()) -> #N/A | E47: =IF('Chronologie du projet'!$F$26=calculs!E$43,$B$44,NA()) -> #N/A | F47: =IF('Chronologie du projet'!$F$26=calculs!F$43,$B$44,NA()) -> #N/A | G47: =IF('Chronologie du projet'!$F$26=calculs!G$43,$B$44,NA()) -> #N/A | H47: =IF('Chronologie du projet'!$F$26=calculs!H$43,$B$44,NA()) -> #N/A | I47: =IF('Chronologie du projet'!$F$26=calculs!I$43,$B$44,NA()) -> #N/A | J47: =IF('Chronologie du projet'!$F$26=calculs!J$43,$B$44,NA()) -> #N/A | K47: =IF('Chronologie du projet'!$F$26=calculs!K$43,$B$44,NA()) -> #N/A | ... AG47: =IF('Chronologie du projet'!$F$26=calculs!AG$43,$B$44,NA()) -> #N/A
C48: ='Chronologie du projet'!E27 -> 0 | D48: =IF('Chronologie du projet'!$F$27=calculs!D$43,$B$44,NA()) -> #N/A | E48: =IF('Chronologie du projet'!$F$27=calculs!E$43,$B$44,NA()) -> #N/A | F48: =IF('Chronologie du projet'!$F$27=calculs!F$43,$B$44,NA()) -> #N/A | G48: =IF('Chronologie du projet'!$F$27=calculs!G$43,$B$44,NA()) -> #N/A | H48: =IF('Chronologie du projet'!$F$27=calculs!H$43,$B$44,NA()) -> #N/A | I48: =IF('Chronologie du projet'!$F$27=calculs!I$43,$B$44,NA()) -> #N/A | J48: =IF('Chronologie du projet'!$F$27=calculs!J$43,$B$44,NA()) -> #N/A | K48: =IF('Chronologie du projet'!$F$27=calculs!K$43,$B$44,NA()) -> #N/A | ... AG48: =IF('Chronologie du projet'!$F$27=calculs!AG$43,$B$44,NA()) -> #N/A
C49: ='Chronologie du projet'!E28 -> 0 | D49: =IF('Chronologie du projet'!$F$28=calculs!D$43,$B$44,NA()) -> #N/A | E49: =IF('Chronologie du projet'!$F$28=calculs!E$43,$B$44,NA()) -> #N/A | F49: =IF('Chronologie du projet'!$F$28=calculs!F$43,$B$44,NA()) -> #N/A | G49: =IF('Chronologie du projet'!$F$28=calculs!G$43,$B$44,NA()) -> #N/A | H49: =IF('Chronologie du projet'!$F$28=calculs!H$43,$B$44,NA()) -> #N/A | I49: =IF('Chronologie du projet'!$F$28=calculs!I$43,$B$44,NA()) -> #N/A | J49: =IF('Chronologie du projet'!$F$28=calculs!J$43,$B$44,NA()) -> #N/A | K49: =IF('Chronologie du projet'!$F$28=calculs!K$43,$B$44,NA()) -> #N/A | ... AG49: =IF('Chronologie du projet'!$F$28=calculs!AG$43,$B$44,NA()) -> #N/A
C50: ='Chronologie du projet'!E29 -> 0 | D50: =IF('Chronologie du projet'!$F$29=calculs!D$43,$B$44,NA()) -> #N/A | E50: =IF('Chronologie du projet'!$F$29=calculs!E$43,$B$44,NA()) -> #N/A | F50: =IF('Chronologie du projet'!$F$29=calculs!F$43,$B$44,NA()) -> #N/A | G50: =IF('Chronologie du projet'!$F$29=calculs!G$43,$B$44,NA()) -> #N/A | H50: =IF('Chronologie du projet'!$F$29=calculs!H$43,$B$44,NA()) -> #N/A | I50: =IF('Chronologie du projet'!$F$29=calculs!I$43,$B$44,NA()) -> #N/A | J50: =IF('Chronologie du projet'!$F$29=calculs!J$43,$B$44,NA()) -> #N/A | K50: =IF('Chronologie du projet'!$F$29=calculs!K$43,$B$44,NA()) -> #N/A | ... AG50: =IF('Chronologie du projet'!$F$29=calculs!AG$43,$B$44,NA()) -> #N/A
...

Sheet listes
A1: liste des publications possibles
A2: Cyber contact
A3: Flash-Grande campagne
A4: Le Fil
A5: Magazine contact
A6: Médias sociaux UL
A7: site web UL
A8: site web facultés et services
A9: site web FUL
