Workbook

Sheet Feuil1
A1: Nom Activité | B1: Date début | C1: Date fin | D1: Ressources | E1: 42736 | F1: 42767 | G1: 42795
A2: Activité A | B2: 42736 | C2: 43108 | D2: 3 | E2: 10 | F2: 10 | G2: 10
A3: Activité B | B3: 42795 | C3: 43168 | D3: 2 | E3: 20 | F3: 20 | G3: 20
A4: Activité C | B4: 42856 | C4: 43229 | D4: 5 | E4: 100 | F4: 100 | G4: 0
A5: Activité D | B5: 42887 | C5: 43260 | D5: 1 | E5: 50 | F5: 50 | G5: 50

Sheet Feuil2
A1: Nom Activité | B1: Date début | C1: Date fin | D1: Ressources | E1: =Feuil1!E1 -> 42736 | F1: =Feuil1!F1 -> 42767 | G1: =Feuil1!G1 -> 42795
A2: Activité A | B2: 42736 | C2: 43108 | D2: 3 | E2: =Feuil1!E2 -> 10 | F2: =Feuil1!F2 -> 10 | G2: =Feuil1!G2 -> 10
A3: =A2 -> Activité A | B3: =B2 -> 42736 | C3: =C2 -> 43108 | D3: Monsieur A | E3: 3 | F3: 3 | G3: 3
A4: =A3 -> Activité A | B4: =B3 -> 42736 | C4: =C3 -> 43108 | D4: Monsieur B | E4: 3 | F4: 3 | G4: 3
A5: =A4 -> Activité A | B5: =B4 -> 42736 | C5: =C4 -> 43108 | D5: Monsieur C | E5: 4 | F5: 4 | G5: 4
A6: Activité B | B6: 42795 | C6: 43168 | D6: 2 | E6: 0 | F6: 0 | G6: =Feuil1!G3 -> 20
A7: =A6 -> Activité B | B7: =B6 -> 42795 | C7: =C6 -> 43168 | D7: Monsieur B | G7: 10
A8: =A7 -> Activité B | B8: =B7 -> 42795 | C8: =C7 -> 43168 | D8: Monsieur C | G8: 10
A9: Activité C | B9: 42767 | C9: 43140 | D9: 3 | E9: 0 | F9: =Feuil1!F4 -> 100 | G9: =Feuil1!G4 -> 0
A10: Activité C | B10: 42856 | C10: 43229 | D10: Monsieur A | F10: 70
A11: Activité C | B11: 42856 | C11: 43229 | D11: Monsieur B | F11: 20
A12: Activité C | B12: 42856 | C12: 43229 | D12: Monsieur C | F12: 10
A13: Activité D | B13: 42736 | C13: 43260 | D13: 1 | E13: =Feuil1!E5 -> 50 | F13: =Feuil1!F5 -> 50 | G13: =Feuil1!G5 -> 50
A14: Activité D | B14: 42887 | C14: 43260 | D14: Monsieur A | E14: 50 | F14: 50 | G14: 50

Sheet Effectif
A1: Monsieur A
A2: Monsieur B
A3: Monsieur C
