Workbook

Sheet Bottes
A1: Taille | B1: Numéro | C1: Disponible | D1: Date de prêt | E1: Etat | F1: Date de retour | G1: Etat
A2: 46 | B2: B1 | C2: =IF(D2>1,0,1) -> 0 | D2: 40721 | E2: bon état | I2: neuf
A3: 40 | B3: B2 | C3: =IF(D3>1,0,1) -> 0 | D3: 40742 | E3: neuf | I3: bon état
B4: B3 | C4: 0 | D4: 40734 | E4: neuf | I4: état moyen
A5: 43 | B5: B4 | C5: =IF(D5>1,0,1) -> 0 | D5: 40553 | E5: neuf | I5: usé
A6: 41 | B6: B5 | C6: =IF(D6>1,0,1) -> 0 | D6: 40567 | E6: neuf
A7: 45 | B7: B6 | C7: =IF(D7>1,0,1) -> 0 | D7: 40728 | E7: neuf
A8: 40 | B8: B7 | C8: =IF(D8>1,0,1) -> 0 | D8: 40679 | E8: neuf
A9: 45 | B9: B8 | C9: =IF(D9>1,0,1) -> 0 | D9: 40785 | E9: neuf
B10: B9 | C10: =IF(D10>1,0,1) -> 0 | D10: 40560 | E10: neuf
A11: 42 | B11: B10 | C11: 1 | D11: 40667 | E11: bon état | F11: 40806 | G11: bon état
A12: 43 | B12: B11 | C12: =IF(D12>1,0,1) -> 0 | D12: 40812 | E12: neuf
A13: 45 | B13: B12 | C13: 0 | D13: 40819 | E13: neuf
A14: 43 | B14: B13 | C14: 0 | D14: 40238 | E14: neuf
A15: 43 | B15: B14 | C15: 0 | D15: 40830 | E15: neuf
B16: B15 | C16: =IF(D16>1,0,1) -> 1
B17: B16 | C17: =IF(D17>1,0,1) -> 1
B18: B17 | C18: =IF(D18>1,0,1) -> 1
B19: B18 | C19: =IF(D19>1,0,1) -> 1
B20: B19 | C20: =IF(D20>1,0,1) -> 1
B21: B20 | C21: =IF(D21>1,0,1) -> 1
B22: B21 | C22: =IF(D22>1,0,1) -> 1
B23: B22 | C23: =IF(D23>1,0,1) -> 1
B24: B23 | C24: =IF(D24>1,0,1) -> 1
B25: B24 | C25: =IF(D25>1,0,1) -> 1
B26: B25 | C26: =IF(D26>1,0,1) -> 1
C31: =SUM(C2:C30) -> 12

Sheet Chaussures sécu
A1: Taille | B1: Numéro | C1: Disponible | D1: Date de prêt | E1: Etat | F1: Date de retour | G1: Etat
A2: 45 | B2: S1 | C2: 0 | D2: 40785 | E2: état moyen | I2: neuf
A3: 40 | B3: S2 | C3: 0 | D3: 40809 | E3: neuf | I3: bon état
A4: 41 | B4: S3 | C4: 0 | D4: 40820 | E4: neuf | I4: état moyen
A5: 43 | B5: S4 | C5: 0 | D5: 40826 | E5: neuf | I5: usé
A6: 43 | B6: S5 | C6: 0 | D6: 40830 | E6: neuf
B7: S6
B8: S7
B9: S8
B10: S9
B11: S10
B12: S11
B13: S12
B14: S13
B15: S14
B16: S15
B17: S16
B18: S17
... B26: S25

Sheet Combinaison
A1: Taille | B1: Numéro | C1: Disponible | D1: Date de prêt | E1: Etat | F1: Date de retour | G1: Etat
A2: L | B2: C1 | C2: 0 | D2: 40721 | E2: neuf | I2: neuf
A3: XL | B3: C2 | C3: 0 | D3: 40742 | E3: neuf | I3: bon état
A4: T5 | B4: C3 | C4: 0 | D4: 40734 | E4: neuf | I4: état moyen
A5: T2 | B5: C4 | C5: 0 | D5: 40553 | E5: bon état | I5: usé
A6: T2 | B6: C5 | C6: 0 | D6: 40567 | E6: bon état
A7: T6 | B7: C6 | C7: 0 | D7: 40728 | E7: bon état
A8: T1 | B8: C7 | C8: 0 | D8: 40679 | E8: neuf
A9: T3 | B9: C8 | C9: 0 | D9: 40785 | E9: neuf
A10: T2 | B10: C9 | C10: 1 | F10: 40806 | G10: bon état
A11: ? | B11: C10 | C11: 1 | F11: 40805 | G11: bon état
A12: T4 | B12: C11 | C12: 0 | D12: 40830 | E12: bon état
A13: T3 | B13: C12 | C13: 1 | G13: bon état
A14: T6 | B14: C13 | D14: 40816 | E14: neuf | H14: s'en occuper
A15: ? | B15: C14 | C15: 0 | D15: 40238 | E15: neuf
B16: C15
B17: C16
B18: C17
B19: C18
B20: C19
B21: C20
B22: C21
B23: C22
B24: C23
B25: C24
B26: C25

Sheet Salariés
A1: Bénéficiaires | B1: Tailles pieds | C1: Bottes | H1: Chaussures de sécurité | M1: Tailles combi | N1: Combinaisons
C2: réf. | D2: Date du prêt | E2: état | F2: Date retour | G2: état | H2: réf. | I2: Date du prêt | J2: état | K2: Date retour | L2: état | N2: réf. | O2: Date du prêt | P2: état | Q2: Date de retour | R2: état | T2: neuf
A3: A | D3: 40633 | E3: neuf | F3: 40806 | G3: bon état | H3: perso | M3: T2 | N3: C9 | O3: 40633 | P3: neuf | Q3: 40806 | R3: bon état | S3: sorti le 23/09 | T3: bon état
A4: B | D4: 40553 | T4: état moyen
A5: C | B5: 44 | C5: B3 | D5: 40734 | M5: T5 | N5: =Combinaison!B4 -> C3 | O5: 40734 | P5: neuf | T5: usé
A6: D | D6: 40406 | E6: neuf
A7: E | B7: 43 | C7: B11 | D7: 40812 | E7: neuf | H7: perso
A8: F | B8: 42-43 | C8: B14 | D8: 40830 | E8: neuf | H8: S5 | I8: 40830 | J8: neuf | M8: T4 | N8: C11 | O8: 40830 | P8: bon état
A9: G | D9: 40231
A10: H | B10: 43 | C10: B13 | D10: 40238 | E10: neuf | H10: S4 | I10: 40826 | J10: neuf | M10: ? | N10: C14 | O10: 40238 | P10: neuf
A11: I | B11: 45 | C11: B6 | D11: 40729 | E11: neuf | H11: perso | M11: T6 | N11: C6 | O11: 40729 | P11: neuf
A12: J | B12: 41 | C12: B5 | D12: 40567 | E12: neuf | H12: S3 | I12: 40820 | J12: neuf | M12: T2 | N12: C5 | O12: 40567 | P12: neuf
A13: K | B13: 45 | C13: B12 | D13: 40818 | E13: neuf | H13: perso | M13: T6 | N13: C13 | O13: 40816 | P13: neuf
A14: L | B14: 46 | C14: B1 | D14: 40721 | E14: neuf | H14: perso | M14: TL | N14: C1 | O14: 40721
A15: M | B15: 40 | C15: B2 | D15: 40742 | E15: neuf | M15: TXL | N15: C2 | O15: 40742
A16: N | B16: 45 | C16: B8 | D16: 40785 | E16: neuf | H16: S1 | I16: 40785 | J16: bon état | M16: T3 | N16: C8 | O16: 40785
A17: O | B17: 43 | C17: B4 | D17: 40553 | E17: neuf | H17: perso | M17: T2 | N17: C4 | O17: 40553
A18: P
A19: Q | D19: 40133
A20: R | D20: 40105
A21: S | C21: B9 | D21: 40560 | E21: neuf
A22: T | B22: 40 | C22: B7 | D22: 40679 | H22: S2 | I22: 40679 | J22: neuf | M22: T1 | N22: C7 | O22: 40679 | P22: neuf
A23: U | B23: 42 | C23: =Bottes!B11 -> B10 | D23: 40087 | E23: neuf | F23: 40805 | G23: bon état | H23: perso | M23: ? | N23: C10 | O23: 40087 | P23: bon état | Q23: 40805 | R23: bon état | S23: sorti le 20/09
A24: GASTON | B24: 44 | C24: =Bottes!B11 -> B10 | D24: =IF(C24=Bottes!B11,Bottes!D11,"") -> 40667 | E24: =IF(C24=Bottes!B11,Bottes!E11,"") -> bon état
