Workbook

Sheet Récap
A1: Récap | C1: Carottes | D1: Salades | E1: Pomme de terre
B2: Totaux | C2: =SUM(C3:C8) -> 187 | D2: =SUM(D3:D8) -> 247 | E2: =SUM(E3:E8) -> 63
A3: Janvier 2015 | B3: =SUM(C3:E3) -> 182 | C3: =HLOOKUP(C$1,'Janvier 2015'!$D$2:$F$3,2,FALSE) -> 145 | D3: =HLOOKUP(D$1,'Janvier 2015'!$D$2:$F$3,2,FALSE) -> 17 | E3: =HLOOKUP(E$1,'Janvier 2015'!$D$2:$F$3,2,FALSE) -> 20
A4: Février 2015 | B4: =SUM(C4:E4) -> 315 | C4: =HLOOKUP(C$1,'Février 2015'!$D$2:$F$3,2,FALSE) -> 42 | D4: =HLOOKUP(D$1,'Février 2015'!$D$2:$F$3,2,FALSE) -> 230 | E4: =HLOOKUP(E$1,'Février 2015'!$D$2:$F$3,2,FALSE) -> 43
A5: Mars 2015 | B5: =SUM(C5:E5) -> 0
A6: Avril 2015 | B6: =SUM(C6:E6) -> 0
A7: Mai 2015 | B7: =SUM(C7:E7) -> 0
A8: Juin 2015 | B8: =SUM(C8:E8) -> 0

Sheet Janvier 2015
D2: Carottes | E2: Salades | F2: Pomme de terre
C3: Totaux | D3: =SUM(D4:D16) -> 145 | E3: =SUM(E4:E16) -> 17 | F3: =SUM(F4:F16) -> 20
A4: 1 | B4: Carottes | C4: 100 | D4: =IF(D$2=$B4,$C4,0) -> 100 | E4: =IF(E$2=$B4,$C4,0) -> 0 | F4: =IF(F$2=$B4,$C4,0) -> 0
A5: 2 | B5: Pomme de terre | C5: 20 | D5: =IF(D$2=$B5,$C5,0) -> 0 | E5: =IF(E$2=$B5,$C5,0) -> 0 | F5: =IF(F$2=$B5,$C5,0) -> 20
A6: 5 | B6: Carottes | C6: 45 | D6: =IF(D$2=$B6,$C6,0) -> 45 | E6: =IF(E$2=$B6,$C6,0) -> 0 | F6: =IF(F$2=$B6,$C6,0) -> 0
A7: 7 | B7: salades | C7: 17 | D7: =IF(D$2=$B7,$C7,0) -> 0 | E7: =IF(E$2=$B7,$C7,0) -> 17 | F7: =IF(F$2=$B7,$C7,0) -> 0

Sheet Février 2015
D2: Carottes | E2: Salades | F2: Pomme de terre
C3: Totaux | D3: =SUM(D4:D16) -> 42 | E3: =SUM(E4:E16) -> 230 | F3: =SUM(F4:F16) -> 43
A4: 1 | B4: Carottes | C4: 25 | D4: =IF(D$2=$B4,$C4,0) -> 25 | E4: =IF(E$2=$B4,$C4,0) -> 0 | F4: =IF(F$2=$B4,$C4,0) -> 0
A5: 2 | B5: Pomme de terre | C5: 43 | D5: =IF(D$2=$B5,$C5,0) -> 0 | E5: =IF(E$2=$B5,$C5,0) -> 0 | F5: =IF(F$2=$B5,$C5,0) -> 43
A6: 5 | B6: Carottes | C6: 17 | D6: =IF(D$2=$B6,$C6,0) -> 17 | E6: =IF(E$2=$B6,$C6,0) -> 0 | F6: =IF(F$2=$B6,$C6,0) -> 0
A7: 7 | B7: salades | C7: 230 | D7: =IF(D$2=$B7,$C7,0) -> 0 | E7: =IF(E$2=$B7,$C7,0) -> 230 | F7: =IF(F$2=$B7,$C7,0) -> 0
