Workbook

Sheet Feuil1
A5: Imp | B5: N° position | G5: Désignation des ouvrages | H5: U | I5: Q | J5: PU HT | K5: TOTAL HT
B7: 1 | G7: LOT X
A9: x | B9: 1 | C9: 1 | G9: Description de l'ouvrage …....... | H9: m2 | I9: 30 | J9: 100 | K9: =J9*I9 -> 3000
A10: x | B10: 1 | C10: 2 | G10: Description de l'ouvrage …....... | H10: m2 | I10: 20 | J10: 50 | K10: =J10*I10 -> 1000
B11: 1 | C11: 3 | G11: Description de l'ouvrage …....... | H11: m2 | I11: 1 | J11: 30 | K11: =J11*I11 -> 30
G13: Sous-total 1 HT | K13: =K9+K10+K11 -> 4030

Sheet Imp
B5: N° position | G5: Désignation des ouvrages | H5: U | I5: Q | J5: PU HT | K5: TOTAL HT
B7: 1 | G7: LOT X
B8: {=IFERROR(INDEX(Feuil1!B$8:B$12,SMALL(IF(Feuil1!$A$8:$A$12="x",ROW(Feuil1!$A$8:$A$12)-7),ROWS($1:1))),"")} -> 1 | C8: {=IFERROR(INDEX(Feuil1!C$8:C$12,SMALL(IF(Feuil1!$A$8:$A$12="x",ROW(Feuil1!$A$8:$A$12)-7),ROWS($1:1))),"")} -> 1 | D8: {=IFERROR(INDEX(Feuil1!D$8:D$12,SMALL(IF(Feuil1!$A$8:$A$12="x",ROW(Feuil1!$A$8:$A$12)-7),ROWS($1:1))),"")} -> 0 | E8: {=IFERROR(INDEX(Feuil1!E$8:E$12,SMALL(IF(Feuil1!$A$8:$A$12="x",ROW(Feuil1!$A$8:$A$12)-7),ROWS($1:1))),"")} -> 0 | F8: {=IFERROR(INDEX(Feuil1!F$8:F$12,SMALL(IF(Feuil1!$A$8:$A$12="x",ROW(Feuil1!$A$8:$A$12)-7),ROWS($1:1))),"")} -> 0 | G8: {=IFERROR(INDEX(Feuil1!G$8:G$12,SMALL(IF(Feuil1!$A$8:$A$12="x",ROW(Feuil1!$A$8:$A$12)-7),ROWS($1:1))),"")} -> Description de l'ouvrage …....... | H8: {=IFERROR(INDEX(Feuil1!H$8:H$12,SMALL(IF(Feuil1!$A$8:$A$12="x",ROW(Feuil1!$A$8:$A$12)-7),ROWS($1:1))),"")} -> m2 | I8: {=IFERROR(INDEX(Feuil1!I$8:I$12,SMALL(IF(Feuil1!$A$8:$A$12="x",ROW(Feuil1!$A$8:$A$12)-7),ROWS($1:1))),"")} -> 30 | ... K8: {=IFERROR(INDEX(Feuil1!K$8:K$12,SMALL(IF(Feuil1!$A$8:$A$12="x",ROW(Feuil1!$A$8:$A$12)-7),ROWS($1:1))),"")} -> 3000
B9: {=IFERROR(INDEX(Feuil1!B$8:B$12,SMALL(IF(Feuil1!$A$8:$A$12="x",ROW(Feuil1!$A$8:$A$12)-7),ROWS($1:2))),"")} -> 1 | C9: {=IFERROR(INDEX(Feuil1!C$8:C$12,SMALL(IF(Feuil1!$A$8:$A$12="x",ROW(Feuil1!$A$8:$A$12)-7),ROWS($1:2))),"")} -> 2 | D9: {=IFERROR(INDEX(Feuil1!D$8:D$12,SMALL(IF(Feuil1!$A$8:$A$12="x",ROW(Feuil1!$A$8:$A$12)-7),ROWS($1:2))),"")} -> 0 | E9: {=IFERROR(INDEX(Feuil1!E$8:E$12,SMALL(IF(Feuil1!$A$8:$A$12="x",ROW(Feuil1!$A$8:$A$12)-7),ROWS($1:2))),"")} -> 0 | F9: {=IFERROR(INDEX(Feuil1!F$8:F$12,SMALL(IF(Feuil1!$A$8:$A$12="x",ROW(Feuil1!$A$8:$A$12)-7),ROWS($1:2))),"")} -> 0 | G9: {=IFERROR(INDEX(Feuil1!G$8:G$12,SMALL(IF(Feuil1!$A$8:$A$12="x",ROW(Feuil1!$A$8:$A$12)-7),ROWS($1:2))),"")} -> Description de l'ouvrage …....... | H9: {=IFERROR(INDEX(Feuil1!H$8:H$12,SMALL(IF(Feuil1!$A$8:$A$12="x",ROW(Feuil1!$A$8:$A$12)-7),ROWS($1:2))),"")} -> m2 | I9: {=IFERROR(INDEX(Feuil1!I$8:I$12,SMALL(IF(Feuil1!$A$8:$A$12="x",ROW(Feuil1!$A$8:$A$12)-7),ROWS($1:2))),"")} -> 20 | ... K9: {=IFERROR(INDEX(Feuil1!K$8:K$12,SMALL(IF(Feuil1!$A$8:$A$12="x",ROW(Feuil1!$A$8:$A$12)-7),ROWS($1:2))),"")} -> 1000
B10: {=IFERROR(INDEX(Feuil1!B$8:B$12,SMALL(IF(Feuil1!$A$8:$A$12="x",ROW(Feuil1!$A$8:$A$12)-7),ROWS($1:3))),"")} | C10: {=IFERROR(INDEX(Feuil1!C$8:C$12,SMALL(IF(Feuil1!$A$8:$A$12="x",ROW(Feuil1!$A$8:$A$12)-7),ROWS($1:3))),"")} | D10: {=IFERROR(INDEX(Feuil1!D$8:D$12,SMALL(IF(Feuil1!$A$8:$A$12="x",ROW(Feuil1!$A$8:$A$12)-7),ROWS($1:3))),"")} | E10: {=IFERROR(INDEX(Feuil1!E$8:E$12,SMALL(IF(Feuil1!$A$8:$A$12="x",ROW(Feuil1!$A$8:$A$12)-7),ROWS($1:3))),"")} | F10: {=IFERROR(INDEX(Feuil1!F$8:F$12,SMALL(IF(Feuil1!$A$8:$A$12="x",ROW(Feuil1!$A$8:$A$12)-7),ROWS($1:3))),"")} | G10: {=IFERROR(INDEX(Feuil1!G$8:G$12,SMALL(IF(Feuil1!$A$8:$A$12="x",ROW(Feuil1!$A$8:$A$12)-7),ROWS($1:3))),"")} | H10: {=IFERROR(INDEX(Feuil1!H$8:H$12,SMALL(IF(Feuil1!$A$8:$A$12="x",ROW(Feuil1!$A$8:$A$12)-7),ROWS($1:3))),"")} | I10: {=IFERROR(INDEX(Feuil1!I$8:I$12,SMALL(IF(Feuil1!$A$8:$A$12="x",ROW(Feuil1!$A$8:$A$12)-7),ROWS($1:3))),"")} | ... K10: {=IFERROR(INDEX(Feuil1!K$8:K$12,SMALL(IF(Feuil1!$A$8:$A$12="x",ROW(Feuil1!$A$8:$A$12)-7),ROWS($1:3))),"")}
B11: {=IFERROR(INDEX(Feuil1!B$8:B$12,SMALL(IF(Feuil1!$A$8:$A$12="x",ROW(Feuil1!$A$8:$A$12)-7),ROWS($1:4))),"")} | C11: {=IFERROR(INDEX(Feuil1!C$8:C$12,SMALL(IF(Feuil1!$A$8:$A$12="x",ROW(Feuil1!$A$8:$A$12)-7),ROWS($1:4))),"")} | D11: {=IFERROR(INDEX(Feuil1!D$8:D$12,SMALL(IF(Feuil1!$A$8:$A$12="x",ROW(Feuil1!$A$8:$A$12)-7),ROWS($1:4))),"")} | E11: {=IFERROR(INDEX(Feuil1!E$8:E$12,SMALL(IF(Feuil1!$A$8:$A$12="x",ROW(Feuil1!$A$8:$A$12)-7),ROWS($1:4))),"")} | F11: {=IFERROR(INDEX(Feuil1!F$8:F$12,SMALL(IF(Feuil1!$A$8:$A$12="x",ROW(Feuil1!$A$8:$A$12)-7),ROWS($1:4))),"")} | G11: {=IFERROR(INDEX(Feuil1!G$8:G$12,SMALL(IF(Feuil1!$A$8:$A$12="x",ROW(Feuil1!$A$8:$A$12)-7),ROWS($1:4))),"")} | H11: {=IFERROR(INDEX(Feuil1!H$8:H$12,SMALL(IF(Feuil1!$A$8:$A$12="x",ROW(Feuil1!$A$8:$A$12)-7),ROWS($1:4))),"")} | I11: {=IFERROR(INDEX(Feuil1!I$8:I$12,SMALL(IF(Feuil1!$A$8:$A$12="x",ROW(Feuil1!$A$8:$A$12)-7),ROWS($1:4))),"")} | ... K11: {=IFERROR(INDEX(Feuil1!K$8:K$12,SMALL(IF(Feuil1!$A$8:$A$12="x",ROW(Feuil1!$A$8:$A$12)-7),ROWS($1:4))),"")}
B12: {=IFERROR(INDEX(Feuil1!B$8:B$12,SMALL(IF(Feuil1!$A$8:$A$12="x",ROW(Feuil1!$A$8:$A$12)-7),ROWS($1:5))),"")} | C12: {=IFERROR(INDEX(Feuil1!C$8:C$12,SMALL(IF(Feuil1!$A$8:$A$12="x",ROW(Feuil1!$A$8:$A$12)-7),ROWS($1:5))),"")} | D12: {=IFERROR(INDEX(Feuil1!D$8:D$12,SMALL(IF(Feuil1!$A$8:$A$12="x",ROW(Feuil1!$A$8:$A$12)-7),ROWS($1:5))),"")} | E12: {=IFERROR(INDEX(Feuil1!E$8:E$12,SMALL(IF(Feuil1!$A$8:$A$12="x",ROW(Feuil1!$A$8:$A$12)-7),ROWS($1:5))),"")} | F12: {=IFERROR(INDEX(Feuil1!F$8:F$12,SMALL(IF(Feuil1!$A$8:$A$12="x",ROW(Feuil1!$A$8:$A$12)-7),ROWS($1:5))),"")} | G12: {=IFERROR(INDEX(Feuil1!G$8:G$12,SMALL(IF(Feuil1!$A$8:$A$12="x",ROW(Feuil1!$A$8:$A$12)-7),ROWS($1:5))),"")} | H12: {=IFERROR(INDEX(Feuil1!H$8:H$12,SMALL(IF(Feuil1!$A$8:$A$12="x",ROW(Feuil1!$A$8:$A$12)-7),ROWS($1:5))),"")} | I12: {=IFERROR(INDEX(Feuil1!I$8:I$12,SMALL(IF(Feuil1!$A$8:$A$12="x",ROW(Feuil1!$A$8:$A$12)-7),ROWS($1:5))),"")} | ... K12: {=IFERROR(INDEX(Feuil1!K$8:K$12,SMALL(IF(Feuil1!$A$8:$A$12="x",ROW(Feuil1!$A$8:$A$12)-7),ROWS($1:5))),"")}
G13: Sous-total 1 HT | K13: =SUM(K8:K12) -> 4000
