Workbook
Name liste_fruit: ITEMS!$I$5:$I$23
Name liste_mobilier: ITEMS!$J$5:$J$22
Name liste_volaille: ITEMS!$K$5:$K$23

Sheet ITEMS
A4: CATEGORIES | B4: NOMS | C4: PRIX | I4: liste_fruit | J4: liste_mobilier | K4: liste_volaille
A5: FRUIT | B5: MANGUE | C5: 100 | I5: {=IFERROR(IFERROR(INDEX(tab_realisations[NOMS],SMALL(IF(ITEMS!$A$5:$A$23="fruit",ROW(tab_realisations[NOMS])-4),ROWS($1:1))),""),"")} -> MANGUE | J5: {=IFERROR(IFERROR(INDEX(tab_realisations[NOMS],SMALL(IF(ITEMS!$A$5:$A$23="mobilier",ROW(tab_realisations[NOMS])-4),ROWS($1:1))),""),"")} -> CHAISE | K5: {=IFERROR(IFERROR(INDEX(tab_realisations[NOMS],SMALL(IF(ITEMS!$A$5:$A$23="volaille",ROW(tab_realisations[NOMS])-4),ROWS($1:1))),""),"")} -> CAILLE
A6: VOLAILLE | B6: CAILLE | C6: 3000 | I6: {=IFERROR(IFERROR(INDEX(tab_realisations[NOMS],SMALL(IF(ITEMS!$A$5:$A$23="fruit",ROW(tab_realisations[NOMS])-4),ROWS($1:2))),""),"")} -> ORANGE | J6: {=IFERROR(IFERROR(INDEX(tab_realisations[NOMS],SMALL(IF(ITEMS!$A$5:$A$23="mobilier",ROW(tab_realisations[NOMS])-4),ROWS($1:2))),""),"")} -> TABLE | K6: {=IFERROR(IFERROR(INDEX(tab_realisations[NOMS],SMALL(IF(ITEMS!$A$5:$A$23="volaille",ROW(tab_realisations[NOMS])-4),ROWS($1:2))),""),"")} -> POULE
A7: MOBILIER | B7: CHAISE | C7: 45600 | I7: {=IFERROR(IFERROR(INDEX(tab_realisations[NOMS],SMALL(IF(ITEMS!$A$5:$A$23="fruit",ROW(tab_realisations[NOMS])-4),ROWS($1:3))),""),"")} -> PAPAYE | J7: {=IFERROR(IFERROR(INDEX(tab_realisations[NOMS],SMALL(IF(ITEMS!$A$5:$A$23="mobilier",ROW(tab_realisations[NOMS])-4),ROWS($1:3))),""),"")} -> FAUTEIL | K7: {=IFERROR(IFERROR(INDEX(tab_realisations[NOMS],SMALL(IF(ITEMS!$A$5:$A$23="volaille",ROW(tab_realisations[NOMS])-4),ROWS($1:3))),""),"")} -> COQ
A8: MOBILIER | B8: TABLE | C8: 98000 | I8: {=IFERROR(IFERROR(INDEX(tab_realisations[NOMS],SMALL(IF(ITEMS!$A$5:$A$23="fruit",ROW(tab_realisations[NOMS])-4),ROWS($1:4))),""),"")} -> MANDARINE | J8: {=IFERROR(IFERROR(INDEX(tab_realisations[NOMS],SMALL(IF(ITEMS!$A$5:$A$23="mobilier",ROW(tab_realisations[NOMS])-4),ROWS($1:4))),""),"")} -> DIVAN | K8: {=IFERROR(IFERROR(INDEX(tab_realisations[NOMS],SMALL(IF(ITEMS!$A$5:$A$23="volaille",ROW(tab_realisations[NOMS])-4),ROWS($1:4))),""),"")} -> PERDRIX
A9: MOBILIER | B9: FAUTEIL | C9: 125000 | I9: {=IFERROR(IFERROR(INDEX(tab_realisations[NOMS],SMALL(IF(ITEMS!$A$5:$A$23="fruit",ROW(tab_realisations[NOMS])-4),ROWS($1:5))),""),"")} -> GOYAVE | J9: {=IFERROR(IFERROR(INDEX(tab_realisations[NOMS],SMALL(IF(ITEMS!$A$5:$A$23="mobilier",ROW(tab_realisations[NOMS])-4),ROWS($1:5))),""),"")} -> MOQUETTE | K9: {=IFERROR(IFERROR(INDEX(tab_realisations[NOMS],SMALL(IF(ITEMS!$A$5:$A$23="volaille",ROW(tab_realisations[NOMS])-4),ROWS($1:5))),""),"")} -> DINDE
A10: MOBILIER | B10: DIVAN | C10: 125000 | I10: {=IFERROR(IFERROR(INDEX(tab_realisations[NOMS],SMALL(IF(ITEMS!$A$5:$A$23="fruit",ROW(tab_realisations[NOMS])-4),ROWS($1:6))),""),"")} -> RAISIN | J10: {=IFERROR(IFERROR(INDEX(tab_realisations[NOMS],SMALL(IF(ITEMS!$A$5:$A$23="mobilier",ROW(tab_realisations[NOMS])-4),ROWS($1:6))),""),"")} -> GUERIDON | K10: {=IFERROR(IFERROR(INDEX(tab_realisations[NOMS],SMALL(IF(ITEMS!$A$5:$A$23="volaille",ROW(tab_realisations[NOMS])-4),ROWS($1:6))),""),"")} -> CANARD
A11: MOBILIER | B11: MOQUETTE | C11: 54000 | I11: {=IFERROR(IFERROR(INDEX(tab_realisations[NOMS],SMALL(IF(ITEMS!$A$5:$A$23="fruit",ROW(tab_realisations[NOMS])-4),ROWS($1:7))),""),"")} -> TANGOR | J11: {=IFERROR(IFERROR(INDEX(tab_realisations[NOMS],SMALL(IF(ITEMS!$A$5:$A$23="mobilier",ROW(tab_realisations[NOMS])-4),ROWS($1:7))),""),"")} | K11: {=IFERROR(IFERROR(INDEX(tab_realisations[NOMS],SMALL(IF(ITEMS!$A$5:$A$23="volaille",ROW(tab_realisations[NOMS])-4),ROWS($1:7))),""),"")}
A12: MOBILIER | B12: GUERIDON | C12: 62000 | I12: {=IFERROR(IFERROR(INDEX(tab_realisations[NOMS],SMALL(IF(ITEMS!$A$5:$A$23="fruit",ROW(tab_realisations[NOMS])-4),ROWS($1:8))),""),"")} | J12: {=IFERROR(IFERROR(INDEX(tab_realisations[NOMS],SMALL(IF(ITEMS!$A$5:$A$23="mobilier",ROW(tab_realisations[NOMS])-4),ROWS($1:8))),""),"")} | K12: {=IFERROR(IFERROR(INDEX(tab_realisations[NOMS],SMALL(IF(ITEMS!$A$5:$A$23="volaille",ROW(tab_realisations[NOMS])-4),ROWS($1:8))),""),"")}
A13: FRUIT | B13: ORANGE | C13: 50 | I13: {=IFERROR(IFERROR(INDEX(tab_realisations[NOMS],SMALL(IF(ITEMS!$A$5:$A$23="fruit",ROW(tab_realisations[NOMS])-4),ROWS($1:9))),""),"")} | J13: {=IFERROR(IFERROR(INDEX(tab_realisations[NOMS],SMALL(IF(ITEMS!$A$5:$A$23="mobilier",ROW(tab_realisations[NOMS])-4),ROWS($1:9))),""),"")} | K13: {=IFERROR(IFERROR(INDEX(tab_realisations[NOMS],SMALL(IF(ITEMS!$A$5:$A$23="volaille",ROW(tab_realisations[NOMS])-4),ROWS($1:9))),""),"")}
A14: FRUIT | B14: PAPAYE | C14: 800 | I14: {=IFERROR(IFERROR(INDEX(tab_realisations[NOMS],SMALL(IF(ITEMS!$A$5:$A$23="fruit",ROW(tab_realisations[NOMS])-4),ROWS($1:10))),""),"")} | J14: {=IFERROR(IFERROR(INDEX(tab_realisations[NOMS],SMALL(IF(ITEMS!$A$5:$A$23="mobilier",ROW(tab_realisations[NOMS])-4),ROWS($1:10))),""),"")} | K14: {=IFERROR(IFERROR(INDEX(tab_realisations[NOMS],SMALL(IF(ITEMS!$A$5:$A$23="volaille",ROW(tab_realisations[NOMS])-4),ROWS($1:10))),""),"")}
A15: FRUIT | B15: MANDARINE | C15: 50 | I15: {=IFERROR(IFERROR(INDEX(tab_realisations[NOMS],SMALL(IF(ITEMS!$A$5:$A$23="fruit",ROW(tab_realisations[NOMS])-4),ROWS($1:11))),""),"")} | J15: {=IFERROR(IFERROR(INDEX(tab_realisations[NOMS],SMALL(IF(ITEMS!$A$5:$A$23="mobilier",ROW(tab_realisations[NOMS])-4),ROWS($1:11))),""),"")} | K15: {=IFERROR(IFERROR(INDEX(tab_realisations[NOMS],SMALL(IF(ITEMS!$A$5:$A$23="volaille",ROW(tab_realisations[NOMS])-4),ROWS($1:11))),""),"")}
A16: FRUIT | B16: GOYAVE | C16: 250 | I16: {=IFERROR(IFERROR(INDEX(tab_realisations[NOMS],SMALL(IF(ITEMS!$A$5:$A$23="fruit",ROW(tab_realisations[NOMS])-4),ROWS($1:12))),""),"")} | J16: {=IFERROR(IFERROR(INDEX(tab_realisations[NOMS],SMALL(IF(ITEMS!$A$5:$A$23="mobilier",ROW(tab_realisations[NOMS])-4),ROWS($1:12))),""),"")} | K16: {=IFERROR(IFERROR(INDEX(tab_realisations[NOMS],SMALL(IF(ITEMS!$A$5:$A$23="volaille",ROW(tab_realisations[NOMS])-4),ROWS($1:12))),""),"")}
A17: FRUIT | B17: RAISIN | C17: 1500 | I17: {=IFERROR(IFERROR(INDEX(tab_realisations[NOMS],SMALL(IF(ITEMS!$A$5:$A$23="fruit",ROW(tab_realisations[NOMS])-4),ROWS($1:13))),""),"")} | J17: {=IFERROR(IFERROR(INDEX(tab_realisations[NOMS],SMALL(IF(ITEMS!$A$5:$A$23="mobilier",ROW(tab_realisations[NOMS])-4),ROWS($1:13))),""),"")} | K17: {=IFERROR(IFERROR(INDEX(tab_realisations[NOMS],SMALL(IF(ITEMS!$A$5:$A$23="volaille",ROW(tab_realisations[NOMS])-4),ROWS($1:13))),""),"")}
A18: FRUIT | B18: TANGOR | C18: 250 | I18: {=IFERROR(IFERROR(INDEX(tab_realisations[NOMS],SMALL(IF(ITEMS!$A$5:$A$23="fruit",ROW(tab_realisations[NOMS])-4),ROWS($1:14))),""),"")} | J18: {=IFERROR(IFERROR(INDEX(tab_realisations[NOMS],SMALL(IF(ITEMS!$A$5:$A$23="mobilier",ROW(tab_realisations[NOMS])-4),ROWS($1:14))),""),"")} | K18: {=IFERROR(IFERROR(INDEX(tab_realisations[NOMS],SMALL(IF(ITEMS!$A$5:$A$23="volaille",ROW(tab_realisations[NOMS])-4),ROWS($1:14))),""),"")}
A19: VOLAILLE | B19: POULE | C19: 4000 | I19: {=IFERROR(IFERROR(INDEX(tab_realisations[NOMS],SMALL(IF(ITEMS!$A$5:$A$23="fruit",ROW(tab_realisations[NOMS])-4),ROWS($1:15))),""),"")} | J19: {=IFERROR(IFERROR(INDEX(tab_realisations[NOMS],SMALL(IF(ITEMS!$A$5:$A$23="mobilier",ROW(tab_realisations[NOMS])-4),ROWS($1:15))),""),"")} | K19: {=IFERROR(IFERROR(INDEX(tab_realisations[NOMS],SMALL(IF(ITEMS!$A$5:$A$23="volaille",ROW(tab_realisations[NOMS])-4),ROWS($1:15))),""),"")}
A20: VOLAILLE | B20: COQ | C20: 4500 | I20: {=IFERROR(IFERROR(INDEX(tab_realisations[NOMS],SMALL(IF(ITEMS!$A$5:$A$23="fruit",ROW(tab_realisations[NOMS])-4),ROWS($1:16))),""),"")} | J20: {=IFERROR(IFERROR(INDEX(tab_realisations[NOMS],SMALL(IF(ITEMS!$A$5:$A$23="mobilier",ROW(tab_realisations[NOMS])-4),ROWS($1:16))),""),"")} | K20: {=IFERROR(IFERROR(INDEX(tab_realisations[NOMS],SMALL(IF(ITEMS!$A$5:$A$23="volaille",ROW(tab_realisations[NOMS])-4),ROWS($1:16))),""),"")}
A21: VOLAILLE | B21: PERDRIX | C21: 8000 | I21: {=IFERROR(IFERROR(INDEX(tab_realisations[NOMS],SMALL(IF(ITEMS!$A$5:$A$23="fruit",ROW(tab_realisations[NOMS])-4),ROWS($1:17))),""),"")} | J21: {=IFERROR(IFERROR(INDEX(tab_realisations[NOMS],SMALL(IF(ITEMS!$A$5:$A$23="mobilier",ROW(tab_realisations[NOMS])-4),ROWS($1:17))),""),"")} | K21: {=IFERROR(IFERROR(INDEX(tab_realisations[NOMS],SMALL(IF(ITEMS!$A$5:$A$23="volaille",ROW(tab_realisations[NOMS])-4),ROWS($1:17))),""),"")}
A22: VOLAILLE | B22: DINDE | C22: 45000 | I22: {=IFERROR(IFERROR(INDEX(tab_realisations[NOMS],SMALL(IF(ITEMS!$A$5:$A$23="fruit",ROW(tab_realisations[NOMS])-4),ROWS($1:18))),""),"")} | J22: {=IFERROR(IFERROR(INDEX(tab_realisations[NOMS],SMALL(IF(ITEMS!$A$5:$A$23="mobilier",ROW(tab_realisations[NOMS])-4),ROWS($1:18))),""),"")} | K22: {=IFERROR(IFERROR(INDEX(tab_realisations[NOMS],SMALL(IF(ITEMS!$A$5:$A$23="volaille",ROW(tab_realisations[NOMS])-4),ROWS($1:18))),""),"")}
A23: VOLAILLE | B23: CANARD | C23: 12500 | I23: {=IFERROR(IFERROR(INDEX(tab_realisations[NOMS],SMALL(IF(ITEMS!$A$5:$A$23="fruit",ROW(tab_realisations[NOMS])-4),ROWS($1:19))),""),"")} | J23: {=IFERROR(IFERROR(INDEX(tab_realisations[NOMS],SMALL(IF(ITEMS!$A$5:$A$23="mobilier",ROW(tab_realisations[NOMS])-4),ROWS($1:19))),""),"")} | K23: {=IFERROR(IFERROR(INDEX(tab_realisations[NOMS],SMALL(IF(ITEMS!$A$5:$A$23="volaille",ROW(tab_realisations[NOMS])-4),ROWS($1:19))),""),"")}

Sheet REALISATIONS
A3: CATEGORIES | B3: NOMS | C3: QTE | D3: SITUATION
A4: volaille | B4: CAILLE
D14: =INDIRECT("liste"&"_"&A4)
