Workbook
Name cfdtpc: 'Collège n°1'!$K$15:$K$18
Name cfecgtpc: 'Collège n°1'!$F$31:$F$34
Name cftcpc: 'Collège n°1'!$E$27:$E$30
Name cgtpc: 'Collège n°1'!$K$19:$K$22
Name fopc: 'Collège n°1'!$K$23:$K$26

Sheet Collège n°1
A1: Outil IRP / Calcul de représentativité
A3: Dénomination du collège éléctoral | G3: 1er collège
A4: Composition précise du collège | G4: Ouvriers, Salariés
A6: Nombre de sièges titulaires à pourvoir | G6: 3 | J6: Contrôle de quorum | K6: =G8/2 -> 61.5 | L6: Le quorum n'est atteint que si le nombre de suffrages valablement exprimés est supérieur à la moitié des inscrits
K7: =G12 -> 76
A8: Nombre d'élécteurs au scrutin | G8: 123
A9: Nombre total de votants | G9: 88
A10: Nombre total de votes nuls* | G10: 12
A12: Nombre total de votes valablement exprimés | G12: =G9-G10 -> 76
B14: CFDT | C14: CGT | D14: FO | E14: CFTC | F14: CFE-CGT | G14: Nombre de ratures sur le nom du candidat | J14: % de ratures correspondant | M14: Eligibilité
A15: ROGER Jérémy | B15: 34 | H15: 0 | K15: 54 | M15: =IF($H15<>"",IF(OR(COUNTIF(cfdtpc,"<10")=COUNTA(OFFSET(cfdtpc,0,-10,4,1)),COUNTIF(cfdtpc,">10")=COUNTA(OFFSET(cfdtpc,0,-10,4,1)),AND($K15<10,$K15<>"",COUNTIF(cfdtpc,">10")<>SUM($E$37:$E$41))),"Eligible","Non Eligible"),"") -> Non Eligible
A16: GUERLET Sébastien | B16: 31 | H16: 0 | K16: 1 | M16: =IF($H16<>"",IF(OR(COUNTIF(cfdtpc,"<10")=COUNTA(OFFSET(cfdtpc,0,-10,4,1)),COUNTIF(cfdtpc,">10")=COUNTA(OFFSET(cfdtpc,0,-10,4,1)),AND($K16<10,$K16<>"",COUNTIF(cfdtpc,">10")<>SUM($E$37:$E$41))),"Eligible","Non Eligible"),"") -> Eligible
A17: VERSTRAETER Mathieu | B17: 31 | H17: 21 | K17: =IF(ISNUMBER($H17),IFERROR(ROUND((H17/$C$37)*100,2),""),"") -> 21.88 | M17: =IF($H17<>"",IF(OR(COUNTIF(cfdtpc,"<10")=COUNTA(OFFSET(cfdtpc,0,-10,4,1)),COUNTIF(cfdtpc,">10")=COUNTA(OFFSET(cfdtpc,0,-10,4,1)),AND($K17<10,$K17<>"",COUNTIF(cfdtpc,">10")<>SUM($E$37:$E$41))),"Eligible","Non Eligible"),"") -> Non Eligible
K18: =IF(ISNUMBER($H18),IFERROR(ROUND((H18/$C$37)*100,2),""),"") | M18: =IF($H18<>"",IF(OR(COUNTIF(cfdtpc,"<10")=COUNTA(OFFSET(cfdtpc,0,-10,4,1)),COUNTIF(cfdtpc,">10")=COUNTA(OFFSET(cfdtpc,0,-10,4,1)),AND($K18<10,$K18<>"",COUNTIF(cfdtpc,">10")<>SUM($E$37:$E$41))),"Eligible","Non Eligible"),"")
A19: LONGO Antonio | C19: 16 | H19: 0 | K19: =IF(ISNUMBER($H19),IFERROR(ROUND((H19/$C$37)*100,2),""),"") -> 0 | M19: =IF($H19<>"",IF(OR(COUNTIF(cgtpc,"<10")=COUNTA(OFFSET(cgtpc,0,-10,4,1)),COUNTIF(cgtpc,">10")=COUNTA(OFFSET(cgtpc,0,-10,4,1)),AND($K19<10,$K19<>"",COUNTIF(cgtpc,">10")<>SUM($E$37:$E$41))),"Eligible","non Eligible"),"") -> Eligible
A20: CHANARD Jean-Christophe | C20: 17 | H20: 0 | K20: =IF(ISNUMBER($H20),IFERROR(ROUND((H20/$C$37)*100,2),""),"") -> 0 | M20: =IF($H20<>"",IF(OR(COUNTIF(cgtpc,"<10")=COUNTA(OFFSET(cgtpc,0,-10,4,1)),COUNTIF(cgtpc,">10")=COUNTA(OFFSET(cgtpc,0,-10,4,1)),AND($K20<10,$K20<>"",COUNTIF(cgtpc,">10")<>SUM($E$37:$E$41))),"Eligible","non Eligible"),"") -> Eligible
K21: =IF(ISNUMBER($H21),IFERROR(ROUND((H21/$C$37)*100,2),""),"") | M21: =IF($H21<>"",IF(OR(COUNTIF(cgtpc,"<10")=COUNTA(OFFSET(cgtpc,0,-10,4,1)),COUNTIF(cgtpc,">10")=COUNTA(OFFSET(cgtpc,0,-10,4,1)),AND($K21<10,$K21<>"",COUNTIF(cgtpc,">10")<>SUM($E$37:$E$41))),"Eligible","non Eligible"),"")
K22: =IF(ISNUMBER($H22),IFERROR(ROUND((H22/$C$37)*100,2),""),"") | M22: =IF($H22<>"",IF(OR(COUNTIF(cgtpc,"<10")=COUNTA(OFFSET(cgtpc,0,-10,4,1)),COUNTIF(cgtpc,">10")=COUNTA(OFFSET(cgtpc,0,-10,4,1)),AND($K22<10,$K22<>"",COUNTIF(cgtpc,">10")<>SUM($E$37:$E$41))),"Eligible","non Eligible"),"")
A23: YEKHLEF Mohamed | D23: 23 | K23: =IF(ISNUMBER($H23),IFERROR(ROUND((H23/$C$37)*100,2),""),"") | M23: =IF($H23<>"",IF(OR(COUNTIF(fopc,"<10")=COUNTA(OFFSET(fopc,0,-10,4,1)),COUNTIF(fopc,">10")=COUNTA(OFFSET(fopc,0,-10,4,1)),AND($K23<10,$K23<>"",COUNTIF(fopc,">10")<>SUM($E$37:$E$41))),"Eligible","non Eligible"),"")
A24: NILI Mohamed | D24: 22 | K24: =IF(ISNUMBER($H24),IFERROR(ROUND((H24/$C$37)*100,2),""),"") | M24: =IF($H24<>"",IF(OR(COUNTIF(fopc,"<10")=COUNTA(OFFSET(fopc,0,-10,4,1)),COUNTIF(fopc,">10")=COUNTA(OFFSET(fopc,0,-10,4,1)),AND($K24<10,$K24<>"",COUNTIF(fopc,">10")<>SUM($E$37:$E$41))),"Eligible","non Eligible"),"")
A25: FOURNIER JOHN | D25: 21 | K25: =IF(ISNUMBER($H25),IFERROR(ROUND((H25/$C$37)*100,2),""),"") | M25: =IF($H25<>"",IF(OR(COUNTIF(fopc,"<10")=COUNTA(OFFSET(fopc,0,-10,4,1)),COUNTIF(fopc,">10")=COUNTA(OFFSET(fopc,0,-10,4,1)),AND($K25<10,$K25<>"",COUNTIF(fopc,">10")<>SUM($E$37:$E$41))),"Eligible","non Eligible"),"")
K26: =IF(ISNUMBER($H26),IFERROR(ROUND((H26/$C$37)*100,2),""),"") | M26: =IF($H26<>"",IF(OR(COUNTIF(fopc,"<10")=COUNTA(OFFSET(fopc,0,-10,4,1)),COUNTIF(fopc,">10")=COUNTA(OFFSET(fopc,0,-10,4,1)),AND($K26<10,$K26<>"",COUNTIF(fopc,">10")<>SUM($E$37:$E$41))),"Eligible","non Eligible"),"")
K27: =IF(ISNUMBER($H27),IFERROR(ROUND((H27/$C$37)*100,2),""),"") | M27: =IF($H27<>"",IF(OR(COUNTIF(cftcpc,"<10")=COUNTA(OFFSET(cftcpc,0,-10,4,1)),COUNTIF(cftcpc,">10")=COUNTA(OFFSET(cftcpc,0,-10,4,1)),AND($K27<10,$K27<>"",COUNTIF(cftcpc,">10")<>SUM($E$37:$E$41))),"Eligible","non Eligible"),"")
K28: =IF(ISNUMBER($H28),IFERROR(ROUND((H28/$C$37)*100,2),""),"") | M28: =IF($H28<>"",IF(OR(COUNTIF(cftcpc,"<10")=COUNTA(OFFSET(cftcpc,0,-10,4,1)),COUNTIF(cftcpc,">10")=COUNTA(OFFSET(cftcpc,0,-10,4,1)),AND($K28<10,$K28<>"",COUNTIF(cftcpc,">10")<>SUM($E$37:$E$41))),"Eligible","non Eligible"),"")
K29: =IF(ISNUMBER($H29),IFERROR(ROUND((H29/$C$37)*100,2),""),"") | M29: =IF($H29<>"",IF(OR(COUNTIF(cftcpc,"<10")=COUNTA(OFFSET(cftcpc,0,-10,4,1)),COUNTIF(cftcpc,">10")=COUNTA(OFFSET(cftcpc,0,-10,4,1)),AND($K29<10,$K29<>"",COUNTIF(cftcpc,">10")<>SUM($E$37:$E$41))),"Eligible","non Eligible"),"")
K30: =IF(ISNUMBER($H30),IFERROR(ROUND((H30/$C$37)*100,2),""),"") | M30: =IF($H30<>"",IF(OR(COUNTIF(cftcpc,"<10")=COUNTA(OFFSET(cftcpc,0,-10,4,1)),COUNTIF(cftcpc,">10")=COUNTA(OFFSET(cftcpc,0,-10,4,1)),AND($K30<10,$K30<>"",COUNTIF(cftcpc,">10")<>SUM($E$37:$E$41))),"Eligible","non Eligible"),"")
K31: =IF(ISNUMBER($H31),IFERROR(ROUND((H31/$C$37)*100,2),""),"") | M31: =IF($H31<>"",IF(OR(COUNTIF(cfecgtpc,"<10")=COUNTA(OFFSET(cfecgtpc,0,-10,4,1)),COUNTIF(cfecgtpc,">10")=COUNTA(OFFSET(cfecgtpc,0,-10,4,1)),AND($K31<10,$K31<>"",COUNTIF(cfecgtpc,">10")<>SUM($E$37:$E$41))),"Eligible","non Eligible"),"")
K32: =IF(ISNUMBER($H32),IFERROR(ROUND((H32/$C$37)*100,2),""),"") | M32: =IF($H32<>"",IF(OR(COUNTIF(cfecgtpc,"<10")=COUNTA(OFFSET(cfecgtpc,0,-10,4,1)),COUNTIF(cfecgtpc,">10")=COUNTA(OFFSET(cfecgtpc,0,-10,4,1)),AND($K32<10,$K32<>"",COUNTIF(cfecgtpc,">10")<>SUM($E$37:$E$41))),"Eligible","non Eligible"),"")
K33: =IF(ISNUMBER($H33),IFERROR(ROUND((H33/$C$37)*100,2),""),"") | M33: =IF($H33<>"",IF(OR(COUNTIF(cfecgtpc,"<10")=COUNTA(OFFSET(cfecgtpc,0,-10,4,1)),COUNTIF(cfecgtpc,">10")=COUNTA(OFFSET(cfecgtpc,0,-10,4,1)),AND($K33<10,$K33<>"",COUNTIF(cfecgtpc,">10")<>SUM($E$37:$E$41))),"Eligible","non Eligible"),"")
K34: =IF(ISNUMBER($H34),IFERROR(ROUND((H34/$C$37)*100,2),""),"") | M34: =IF($H34<>"",IF(OR(COUNTIF(cfecgtpc,"<10")=COUNTA(OFFSET(cfecgtpc,0,-10,4,1)),COUNTIF(cfecgtpc,">10")=COUNTA(OFFSET(cfecgtpc,0,-10,4,1)),AND($K34<10,$K34<>"",COUNTIF(cfecgtpc,">10")<>SUM($E$37:$E$41))),"Eligible","non Eligible"),"")
A36: Listes en présence | C36: Total des voix recueillies | E36: Nombre de candidats | G36: Moyenne des voix | I36: Pourcentage
A37: =B14 -> CFDT | C37: =SUM(B15:B18) -> 96 | E37: 3 | G37: =ROUND(C37/E37,2) -> 32 | I37: =C37/$G$43 -> 0.49230769
A38: =C14 -> CGT | C38: =SUM(C19:C22) -> 33 | E38: 2 | G38: =ROUND(C38/E38,2) -> 16.5 | I38: =C38/$G$43 -> 0.16923077
A39: =D14 -> FO | C39: =SUM(D23:D26) -> 66 | E39: 3 | G39: =ROUND(C39/E39,2) -> 22 | I39: =C39/$G$43 -> 0.33846154
A40: CFTC | C40: =SUM(E27:E30) -> 0 | E40: 0 | G40: 0 | I40: =C40/$G$43 -> 0
A41: CFE-CGT | C41: =SUM(F31:F34) -> 0 | E41: 0 | G41: 0 | I41: =C41/$G$43 -> 0
A43: Total de suffrages exprimés | G43: =SUM(B15:D33) -> 195
N44: Dérouler J37 en cas de changement de configuration des cellules "Total des voix" et "Nombre de candidats" ou réinscrire 0 dans "Moyenne des voix" si pas de candidats
A45: Calcul du quotient éléctoral | G45: =ROUND(G12/G6,2) -> 25.33
A47: Attributions des sièges à la représentation proportionnelle
...

Sheet Collège n°2
A1: Outil IRP / Calcul de représentativité
A3: Dénomination du collège éléctoral | G3: 2nd collège
A4: Composition précise du collège | G4: Techniciens, agents de maîtrise, ingénieurs et cadres
A6: Nombre de sièges titulaires à pourvoir | G6: 1 | J6: Contrôle de quorum | K6: =G8/2 -> 12.5
K7: =G12 -> 11
A8: Nombre d'élécteurs au scrutin | G8: 25
A9: Nombre total de votants | G9: 14
A10: Nombre total de votes nuls* | G10: 3 | I10: Le quorum n'est atteint que si le nombre de suffrages valablement exprimés est supérieur à la moitié des inscrits
A12: Nombre total de votes valablement exprimés | G12: =G9-G10 -> 11
B14: CFDT | C14: CGT | D14: FO | E14: CFTC | F14: CFE-CGT | G14: Nombre de ratures sur le nom du candidat | J14: % de ratures correspondant
A15: CORNIERE Florence | B15: 11 | K15: =ROUND((H15/C37)*100,2) -> 0
K16: =ROUND((H16/C37)*100,2) -> 0
K17: =ROUND((H17/C37)*100,2) -> 0
K18: =ROUND((H18/C37)*100,2) -> 0
K19: =ROUND((H19/C38)*100,2) -> #DIV/0!
K20: =ROUND((H20/C38)*100,2) -> #DIV/0!
K21: =ROUND((H21/C38)*100,2) -> #DIV/0!
K22: =ROUND((H22/C38)*100,2) -> #DIV/0!
K23: =ROUND((H23/C39)*100,2) -> #DIV/0!
K24: =ROUND((H24/C39)*100,2) -> #DIV/0!
K25: =ROUND((H25/C39)*100,2) -> #DIV/0!
K26: =ROUND((H26/C39)*100,2) -> #DIV/0!
K27: =ROUND((H27/C40)*100,2) -> #DIV/0!
K28: =ROUND((H28/C40)*100,2) -> #DIV/0!
K29: =ROUND((H29/C40)*100,2) -> #DIV/0!
K30: =ROUND((H30/C40)*100,2) -> #DIV/0!
K31: =ROUND((H31/C41)*100,2) -> #DIV/0!
K32: =ROUND((H32/C41)*100,2) -> #DIV/0!
K33: =ROUND((H33/C41)*100,2) -> #DIV/0!
K34: =ROUND((H34/C41)*100,2) -> #DIV/0!
A36: Listes en présence | C36: Total des voix receuillies | E36: Nombre de candidats | H36: Moyenne des voix
A37: =B14 -> CFDT | C37: =SUM(B15:B18) -> 11 | E37: 3 | H37: =ROUND(C37/E37,2) -> 3.67 | K37: Dérouler J37 en cas de changement de configuration des cellules "Total des voix" et "Nombre de candidats" ou réinscrire 0 dans "Moyenne des voix" si pas de candidats
A38: =C14 -> CGT | C38: =SUM(C19:C22) -> 0 | E38: 2 | H38: =ROUND(C38/E38,2) -> 0
A39: =D14 -> FO | C39: =SUM(D23:D26) -> 0 | E39: 3 | H39: =ROUND(C39/E39,2) -> 0
A40: CFTC | C40: =SUM(E27:E30) -> 0 | E40: 0 | H40: 0
A41: CFE-CGT | C41: =SUM(F31:F34) -> 0 | E41: 0 | H41: 0
A43: Total de suffrages exprimés | G43: =SUM(B15:D33) -> 11
A45: Calcul du quotient éléctoral | G45: =ROUND(G12/G6,2) -> 11
A47: Attributions des sièges à la représentation proportionnelle
A48: Application du quotient éléctoral à la moyenne des voix obtenues par les listes en présence | E48: Attribution de sièges - Représentation proportionnelle
...

Sheet Collège n°3
A1: Outil IRP / Calcul de représentativité
A3: Dénomination du collège éléctoral | G3: 3ème collège
A4: Composition précise du collège | G4: Ingénieurs et cadres
A6: Nombre de sièges titulaires à pourvoir | G6: 1 | J6: Contrôle de quorum | K6: =G8/2 -> 18.5
K7: =G12 -> 22
A8: Nombre d'élécteurs au scrutin | G8: 37
A9: Nombre total de votants | G9: 26
A10: Nombre total de votes nuls* | G10: 4 | I10: Le quorum n'est atteint que si le nombre de suffrages valablement exprimés est supérieur à la moitié des inscrits
A12: Nombre total de votes valablement exprimés | G12: =G9-G10 -> 22 | N12: Ordre si tous les candidats ont un nombre de ratures inférieur à 10% | P12: Ordre si tous les candidats ont un nombre de ratures supérieur à 10% | R12: Ordre si certains candidats ont un nombre de rature supérieur à 10%
B14: CFDT | C14: CGT | D14: FO | E14: CFTC | F14: CFE-CGT | G14: Nombre de ratures sur le nom du candidat | J14: % de ratures correspondant
A15: QUONIAM Vincent | B15: 22 | H15: 5 | K15: 9 | M15: =RANK(B15,B15:B18) -> 3 | N15: =IF(K15<10,(IF(B15=MAXA(B15:B18),"éligible","non éligible")),"non éligible") -> non éligible | P15: =IF(K15>=10,(IF(B15=MAXA(B15:B18),"éligible","non éligible")),"non éligible") -> non éligible | R15: =IF(K15<10,"éligible","non éligible") -> éligible
A16: BILLAUX Adrien | B16: 25 | K16: 12 | M16: =RANK(B16,B15:B18) -> 1 | N16: =IF(K16<10,(IF(B16=MAXA(B15:B18),"éligible","non éligible")),"non éligible") -> non éligible | P16: =IF(K16>=10,(IF(B16=MAXA(B15:B18),"éligible","non éligible")),"non éligible") -> éligible | R16: =IF(K16<10,"éligible","non éligible") -> non éligible
A17: DUPONT Jean | B17: 23 | K17: 9 | M17: =RANK(B17,B15:B18) -> 2 | N17: =IF(K17<10,(IF(B17=MAXA(B15:B18),"éligible","non éligible")),"non éligible") -> non éligible | P17: =IF(K17>=10,(IF(B17=MAXA(B15:B18),"éligible","non éligible")),"non éligible") -> non éligible | R17: =IF(K17<10,"éligible","non éligible") -> éligible
A18: DURAND Rémi | B18: 21 | K18: 12 | M18: =RANK(B18,B15:B18) -> 4 | N18: =IF(K18<10,(IF(B18=MAXA(B15:B18),"éligible","non éligible")),"non éligible") -> non éligible | P18: =IF(K18>=10,(IF(B18=MAXA(B15:B18),"éligible","non éligible")),"non éligible") -> non éligible | R18: =IF(K18<10,"éligible","non éligible") -> non éligible
K19: =ROUND((H19/C38)*100,2) -> #DIV/0!
K20: =ROUND((H20/C38)*100,2) -> #DIV/0!
K21: =ROUND((H21/C38)*100,2) -> #DIV/0!
K22: =ROUND((H22/C38)*100,2) -> #DIV/0!
K23: =ROUND((H23/C39)*100,2) -> #DIV/0!
K24: =ROUND((H24/C39)*100,2) -> #DIV/0!
K25: =ROUND((H25/C39)*100,2) -> #DIV/0!
K26: =ROUND((H26/C39)*100,2) -> #DIV/0!
K27: =ROUND((H27/C40)*100,2) -> #DIV/0!
K28: =ROUND((H28/C40)*100,2) -> #DIV/0!
K29: =ROUND((H29/C40)*100,2) -> #DIV/0!
K30: =ROUND((H30/C40)*100,2) -> #DIV/0!
K31: =ROUND((H31/C41)*100,2) -> #DIV/0!
K32: =ROUND((H32/C41)*100,2) -> #DIV/0!
K33: =ROUND((H33/C41)*100,2) -> #DIV/0!
K34: =ROUND((H34/C41)*100,2) -> #DIV/0!
A36: Listes en présence | C36: Total des voix receuillies | E36: Nombre de candidats | H36: Moyenne des voix
A37: =B14 -> CFDT | C37: =SUM(B15:B18) -> 91 | E37: 3 | H37: =ROUND(C37/E37,2) -> 30.33 | K37: Dérouler J37 en cas de changement de configuration des cellules "Total des voix" et "Nombre de candidats" ou réinscrire 0 dans "Moyenne des voix" si pas de candidats
A38: =C14 -> CGT | C38: =SUM(C19:C22) -> 0 | E38: 2 | H38: =ROUND(C38/E38,2) -> 0
A39: =D14 -> FO | C39: =SUM(D23:D26) -> 0 | E39: 3 | H39: =ROUND(C39/E39,2) -> 0
A40: CFTC | C40: =SUM(E27:E30) -> 0 | E40: 0 | H40: 0
A41: CFE-CGT | C41: =SUM(F31:F34) -> 0 | E41: 0 | H41: 0
A43: Total de suffrages exprimés | G43: =SUM(B15:D33) -> 91
A45: Calcul du quotient éléctoral | G45: =ROUND(G12/G6,2) -> 22
A47: Attributions des sièges à la représentation proportionnelle
A48: Application du quotient éléctoral à la moyenne des voix obtenues par les listes en présence | E48: Attribution de sièges - Représentation proportionnelle
...

Sheet Representativité des syndicats 
A1: Outil IRP / Représentativité des syndicats
A3: Nombre de collèges ayant participé au scrutin | G3: 3
A5: Nombre d'élécteurs au scrutin (tous collèges réunis) | G5: ='Collège n°1'!G8+'Collège n°2'!G8+'Collège n°3'!G8 -> 185
A6: Nombre total d'électeurs | G6: ='Collège n°1'!G9+'Collège n°2'!G9+'Collège n°3'!G9 -> 128
A7: Nombre total de votes nuls | G7: ='Collège n°1'!G10+'Collège n°2'!G10+'Collège n°3'!G10 -> 19
A9: Nombre total de votes valablement exprimés | G9: =G6-G7 -> 109
A11: Nombre total de suffrages exprimés (tous collèges réunis) | G11: ='Collège n°1'!G43+'Collège n°2'!G43+'Collège n°3'!G43 -> 297
C13: Listes en présence | F13: Total des voix receuillies
C14: CFDT | F14: ='Collège n°1'!C37+'Collège n°2'!C37+'Collège n°3'!C37 -> 198
C15: CGT | F15: ='Collège n°1'!C38+'Collège n°2'!C38+'Collège n°3'!C38 -> 33
C16: FO | F16: ='Collège n°1'!C39+'Collège n°2'!C39+'Collège n°3'!C39 -> 66
C17: CFTC | F17: ='Collège n°1'!C40+'Collège n°2'!C40+'Collège n°3'!C40 -> 0
C18: CFE-CGT | F18: ='Collège n°1'!C41+'Collège n°2'!C41+'Collège n°3'!C41 -> 0
C19: Appréciation de la representativité des syndicats dans l'entreprise
C20: Listes en présence | E20: Total des voix receuillies | G20: % des voix receuillies et representativité
C21: =C14 -> CFDT | E21: =F14 -> 198 | G21: =ROUND((E21/G11)*100,2) -> 66.67
C22: =C15 -> CGT | E22: =F15 -> 33 | G22: =ROUND((E22/G11)*100,2) -> 11.11
C23: =C16 -> FO | E23: =F16 -> 66 | G23: =ROUND((E23/G11)*100,2) -> 22.22
C24: =C17 -> CFTC | E24: =F17 -> 0 | G24: =ROUND((E24/G11)*100,2) -> 0
C25: =C18 -> CFE-CGT | E25: =F18 -> 0 | G25: =ROUND((E25/G11)*100,2) -> 0

Sheet Feuil1
