Workbook
Name cfdtpc: 'Collège n°1'!$K$15:$K$18
Name cfecgtpc: 'Collège n°1'!$F$31:$F$34
Name cftcpc: 'Collège n°1'!$E$27:$E$30
Name cgtpc: 'Collège n°1'!$K$19:$K$22
Name fopc: 'Collège n°1'!$K$23:$K$26

Sheet Collège n°1
A1: Outil IRP / Calcul de représentativité
A3: Dénomination du collège éléctoral | G3: 1er collège
A4: Composition précise du collège | G4: Ouvriers, Salariés
A6: Nombre de sièges titulaires à pourvoir | G6: 3 | J6: Contrôle de quorum | K6: =G8/2 -> 61.5 | L6: Le quorum n'est atteint que si le nombre de suffrages valablement exprimés est supérieur à la moitié des inscrits
K7: =G12 -> 76
A8: Nombre d'élécteurs au scrutin | G8: 123
A9: Nombre total de votants | G9: 88
A10: Nombre total de votes nuls* | G10: 12
A12: Nombre total de votes valablement exprimés | G12: =G9-G10 -> 76
B14: CFDT | C14: CGT | D14: FO | E14: CFTC | F14: CFE-CGT | G14: Nombre de ratures sur le nom du candidat | J14: % de ratures correspondant | M14: Eligibilité
A15: ROGER Jérémy | B15: 34 | H15: 0 | K15: 54 | M15: =IF($H15<>"",IF(OR(COUNTIF(cfdtpc,"<10")=COUNTA(OFFSET(cfdtpc,0,-10,4,1)),COUNTIF(cfdtpc,">10")=COUNTA(OFFSET(cfdtpc,0,-10,4,1)),AND($K15<10,$K15<>"",COUNTIF(cfdtpc,">10")<>SUM($E$37:$E$41))),"Eligible","Non Eligible"),"") -> Non Eligible
A16: GUERLET Sébastien | B16: 31 | H16: 0 | K16: 1 | M16: =IF($H16<>"",IF(OR(COUNTIF(cfdtpc,"<10")=COUNTA(OFFSET(cfdtpc,0,-10,4,1)),COUNTIF(cfdtpc,">10")=COUNTA(OFFSET(cfdtpc,0,-10,4,1)),AND($K16<10,$K16<>"",COUNTIF(cfdtpc,">10")<>SUM($E$37:$E$41))),"Eligible","Non Eligible"),"") -> Eligible
A17: VERSTRAETER Mathieu | B17: 31 | H17: 21 | K17: =IF(ISNUMBER($H17),IFERROR(ROUND((H17/$C$37)*100,2),""),"") -> 21.88 | M17: =IF($H17<>"",IF(OR(COUNTIF(cfdtpc,"<10")=COUNTA(OFFSET(cfdtpc,0,-10,4,1)),COUNTIF(cfdtpc,">10")=COUNTA(OFFSET(cfdtpc,0,-10,4,1)),AND($K17<10,$K17<>"",COUNTIF(cfdtpc,">10")<>SUM($E$37:$E$41))),"Eligible","Non Eligible"),"") -> Non Eligible
K18: =IF(ISNUMBER($H18),IFERROR(ROUND((H18/$C$37)*100,2),""),"") | M18: =IF($H18<>"",IF(OR(COUNTIF(cfdtpc,"<10")=COUNTA(OFFSET(cfdtpc,0,-10,4,1)),COUNTIF(cfdtpc,">10")=COUNTA(OFFSET(cfdtpc,0,-10,4,1)),AND($K18<10,$K18<>"",COUNTIF(cfdtpc,">10")<>SUM($E$37:$E$41))),"Eligible","Non Eligible"),"")
A19: LONGO Antonio | C19: 16 | H19: 0 | K19: =IF(ISNUMBER($H19),IFERROR(ROUND((H19/$C$37)*100,2),""),"") -> 0 | M19: =IF($H19<>"",IF(OR(COUNTIF(cgtpc,"<10")=COUNTA(OFFSET(cgtpc,0,-10,4,1)),COUNTIF(cgtpc,">10")=COUNTA(OFFSET(cgtpc,0,-10,4,1)),AND($K19<10,$K19<>"",COUNTIF(cgtpc,">10")<>SUM($E$37:$E$41))),"Eligible","non Eligible"),"") -> Eligible
A20: CHANARD Jean-Christophe | C20: 17 | H20: 0 | K20: =IF(ISNUMBER($H20),IFERROR(ROUND((H20/$C$37)*100,2),""),"") -> 0 | M20: =IF($H20<>"",IF(OR(COUNTIF(cgtpc,"<10")=COUNTA(OFFSET(cgtpc,0,-10,4,1)),COUNTIF(cgtpc,">10")=COUNTA(OFFSET(cgtpc,0,-10,4,1)),AND($K20<10,$K20<>"",COUNTIF(cgtpc,">10")<>SUM($E$37:$E$41))),"Eligible","non Eligible"),"") -> Eligible
K21: =IF(ISNUMBER($H21),IFERROR(ROUND((H21/$C$37)*100,2),""),"") | M21: =IF($H21<>"",IF(OR(COUNTIF(cgtpc,"<10")=COUNTA(OFFSET(cgtpc,0,-10,4,1)),COUNTIF(cgtpc,">10")=COUNTA(OFFSET(cgtpc,0,-10,4,1)),AND($K21<10,$K21<>"",COUNTIF(cgtpc,">10")<>SUM($E$37:$E$41))),"Eligible","non Eligible"),"")
K22: =IF(ISNUMBER($H22),IFERROR(ROUND((H22/$C$37)*100,2),""),"") | M22: =IF($H22<>"",IF(OR(COUNTIF(cgtpc,"<10")=COUNTA(OFFSET(cgtpc,0,-10,4,1)),COUNTIF(cgtpc,">10")=COUNTA(OFFSET(cgtpc,0,-10,4,1)),AND($K22<10,$K22<>"",COUNTIF(cgtpc,">10")<>SUM($E$37:$E$41))),"Eligible","non Eligible"),"")
A23: YEKHLEF Mohamed | D23: 23 | K23: =IF(ISNUMBER($H23),IFERROR(ROUND((H23/$C$37)*100,2),""),"") | M23: =IF($H23<>"",IF(OR(COUNTIF(fopc,"<10")=COUNTA(OFFSET(fopc,0,-10,4,1)),COUNTIF(fopc,">10")=COUNTA(OFFSET(fopc,0,-10,4,1)),AND($K23<10,$K23<>"",COUNTIF(fopc,">10")<>SUM($E$37:$E$41))),"Eligible","non Eligible"),"")
A24: NILI Mohamed | D24: 22 | K24: =IF(ISNUMBER($H24),IFERROR(ROUND((H24/$C$37)*100,2),""),"") | M24: =IF($H24<>"",IF(OR(COUNTIF(fopc,"<10")=COUNTA(OFFSET(fopc,0,-10,4,1)),COUNTIF(fopc,">10")=COUNTA(OFFSET(fopc,0,-10,4,1)),AND($K24<10,$K24<>"",COUNTIF(fopc,">10")<>SUM($E$37:$E$41))),"Eligible","non Eligible"),"")
A25: FOURNIER JOHN | D25: 21 | K25: =IF(ISNUMBER($H25),IFERROR(ROUND((H25/$C$37)*100,2),""),"") | M25: =IF($H25<>"",IF(OR(COUNTIF(fopc,"<10")=COUNTA(OFFSET(fopc,0,-10,4,1)),COUNTIF(fopc,">10")=COUNTA(OFFSET(fopc,0,-10,4,1)),AND($K25<10,$K25<>"",COUNTIF(fopc,">10")<>SUM($E$37:$E$41))),"Eligible","non Eligible"),"")
K26: =IF(ISNUMBER($H26),IFERROR(ROUND((H26/$C$37)*100,2),""),"") | M26: =IF($H26<>"",IF(OR(COUNTIF(fopc,"<10")=COUNTA(OFFSET(fopc,0,-10,4,1)),COUNTIF(fopc,">10")=COUNTA(OFFSET(fopc,0,-10,4,1)),AND($K26<10,$K26<>"",COUNTIF(fopc,">10")<>SUM($E$37:$E$41))),"Eligible","non Eligible"),"")
K27: =IF(ISNUMBER($H27),IFERROR(ROUND((H27/$C$37)*100,2),""),"") | M27: =IF($H27<>"",IF(OR(COUNTIF(cftcpc,"<10")=COUNTA(OFFSET(cftcpc,0,-10,4,1)),COUNTIF(cftcpc,">10")=COUNTA(OFFSET(cftcpc,0,-10,4,1)),AND($K27<10,$K27<>"",COUNTIF(cftcpc,">10")<>SUM($E$37:$E$41))),"Eligible","non Eligible"),"")
K28: =IF(ISNUMBER($H28),IFERROR(ROUND((H28/$C$37)*100,2),""),"") | M28: =IF($H28<>"",IF(OR(COUNTIF(cftcpc,"<10")=COUNTA(OFFSET(cftcpc,0,-10,4,1)),COUNTIF(cftcpc,">10")=COUNTA(OFFSET(cftcpc,0,-10,4,1)),AND($K28<10,$K28<>"",COUNTIF(cftcpc,">10")<>SUM($E$37:$E$41))),"Eligible","non Eligible"),"")
K29: =IF(ISNUMBER($H29),IFERROR(ROUND((H29/$C$37)*100,2),""),"") | M29: =IF($H29<>"",IF(OR(COUNTIF(cftcpc,"<10")=COUNTA(OFFSET(cftcpc,0,-10,4,1)),COUNTIF(cftcpc,">10")=COUNTA(OFFSET(cftcpc,0,-10,4,1)),AND($K29<10,$K29<>"",COUNTIF(cftcpc,">10")<>SUM($E$37:$E$41))),"Eligible","non Eligible"),"")
K30: =IF(ISNUMBER($H30),IFERROR(ROUND((H30/$C$37)*100,2),""),"") | M30: =IF($H30<>"",IF(OR(COUNTIF(cftcpc,"<10")=COUNTA(OFFSET(cftcpc,0,-10,4,1)),COUNTIF(cftcpc,">10")=COUNTA(OFFSET(cftcpc,0,-10,4,1)),AND($K30<10,$K30<>"",COUNTIF(cftcpc,">10")<>SUM($E$37:$E$41))),"Eligible","non Eligible"),"")
K31: =IF(ISNUMBER($H31),IFERROR(ROUND((H31/$C$37)*100,2),""),"") | M31: =IF($H31<>"",IF(OR(COUNTIF(cfecgtpc,"<10")=COUNTA(OFFSET(cfecgtpc,0,-10,4,1)),COUNTIF(cfecgtpc,">10")=COUNTA(OFFSET(cfecgtpc,0,-10,4,1)),AND($K31<10,$K31<>"",COUNTIF(cfecgtpc,">10")<>SUM($E$37:$E$41))),"Eligible","non Eligible"),"")
K32: =IF(ISNUMBER($H32),IFERROR(ROUND((H32/$C$37)*100,2),""),"") | M32: =IF($H32<>"",IF(OR(COUNTIF(cfecgtpc,"<10")=COUNTA(OFFSET(cfecgtpc,0,-10,4,1)),COUNTIF(cfecgtpc,">10")=COUNTA(OFFSET(cfecgtpc,0,-10,4,1)),AND($K32<10,$K32<>"",COUNTIF(cfecgtpc,">10")<>SUM($E$37:$E$41))),"Eligible","non Eligible"),"")
K33: =IF(ISNUMBER($H33),IFERROR(ROUND((H33/$C$37)*100,2),""),"") | M33: =IF($H33<>"",IF(OR(COUNTIF(cfecgtpc,"<10")=COUNTA(OFFSET(cfecgtpc,0,-10,4,1)),COUNTIF(cfecgtpc,">10")=COUNTA(OFFSET(cfecgtpc,0,-10,4,1)),AND($K33<10,$K33<>"",COUNTIF(cfecgtpc,">10")<>SUM($E$37:$E$41))),"Eligible","non Eligible"),"")
K34: =IF(ISNUMBER($H34),IFERROR(ROUND((H34/$C$37)*100,2),""),"") | M34: =IF($H34<>"",IF(OR(COUNTIF(cfecgtpc,"<10")=COUNTA(OFFSET(cfecgtpc,0,-10,4,1)),COUNTIF(cfecgtpc,">10")=COUNTA(OFFSET(cfecgtpc,0,-10,4,1)),AND($K34<10,$K34<>"",COUNTIF(cfecgtpc,">10")<>SUM($E$37:$E$41))),"Eligible","non Eligible"),"")
A36: Listes en présence | C36: Total des voix recueillies | E36: Nombre de candidats | G36: Moyenne des voix | I36: Pourcentage
A37: =B14 -> CFDT | C37: =SUM(B15:B18) -> 96 | E37: 3 | G37: =ROUND(C37/E37,2) -> 32 | I37: =C37/$G$43 -> 0.49230769
A38: =C14 -> CGT | C38: =SUM(C19:C22) -> 33 | E38: 2 | G38: =ROUND(C38/E38,2) -> 16.5 | I38: =C38/$G$43 -> 0.16923077
A39: =D14 -> FO | C39: =SUM(D23:D26) -> 66 | E39: 3 | G39: =ROUND(C39/E39,2) -> 22 | I39: =C39/$G$43 -> 0.33846154
A40: CFTC | C40: =SUM(E27:E30) -> 0 | E40: 0 | G40: 0 | I40: =C40/$G$43 -> 0
A41: CFE-CGT | C41: =SUM(F31:F34) -> 0 | E41: 0 | G41: 0 | I41: =C41/$G$43 -> 0
A43: Total de suffrages exprimés | G43: =SUM(B15:D33) -> 195
N44: Dérouler J37 en cas de changement de configuration des cellules "Total des voix" et "Nombre de candidats" ou réinscrire 0 dans "Moyenne des voix" si pas de candidats
A45: Calcul du quotient éléctoral | G45: =ROUND(G12/G6,2) -> 25.33
A47: Attributions des sièges à la représentation proportionnelle
A48: Application du quotient éléctoral à la moyenne des voix obtenues par les listes en présence | E48: Attribution de sièges - Représentation proportionnelle
A50: =A37 -> CFDT | C50: =ROUND(G37/G45,2) -> 1.26 | E50: =IF(C50>=1,ROUNDDOWN(C50,),IF(C50<1,"0")) -> 1 | J50: Candidat(s) éligible(s)
A51: =A38 -> CGT | C51: =ROUND(G38/G45,2) -> 0.65 | E51: =IF(C51>=1,ROUNDDOWN(C51,),IF(C51<1,"0")) -> 0 | J51: Candidat(s) éligible(s)
A52: =A39 -> FO | C52: =ROUND(G39/G45,2) -> 0.87 | E52: =IF(C52>=1,ROUNDDOWN(C52,),IF(C52<1,"0")) -> 0 | J52: Candidat(s) éligible(s)
A53: CFTC | C53: =ROUND(G40/G45,2) -> 0 | E53: =IF(C53>=1,ROUNDDOWN(C53,),IF(C53<1,"0")) -> 0 | J53: Candidat(s) éligible(s)
A54: CFE-CGT | C54: =ROUND(G41/G45,2) -> 0 | E54: =IF(C54>=1,ROUNDDOWN(C54,),IF(C54<1,"0")) -> 0 | J54: Candidat(s) éligible(s)
A56: Nombre de sièges restant à attribuer à la plus forte moyenne | H56: =G6-SUM(E50:H54) -> 2
A58: Attribution des sièges restant à la plus forte moyenne
A60: 1er siège restant à attribuer
D62: Voix (moyenne) | E62: Sièges déjà attribués | H62: Sièges à attribuer | J62: Plus fort reste
A63: =A37 -> CFDT | D63: =G37 -> 32 | E63: =E50 -> 1 | H63: 1 | J63: =ROUND(D63/(E63+H63),2) -> 16
A64: =A38 -> CGT | D64: =G38 -> 16.5 | E64: =E51 -> 0 | H64: 1 | J64: =ROUND(D64/(E64+H64),2) -> 16.5
A65: =A39 -> FO | D65: =G39 -> 22 | E65: =E52 -> 0 | H65: 1 | J65: =ROUND(D65/(E65+H65),2) -> 22
A66: CFTC | D66: =G40 -> 0 | E66: =E53 -> 0 | H66: 1 | J66: =ROUND(D66/(E66+H66),2) -> 0
A67: CFE-CGT | D67: =G41 -> 0 | E67: =E54 -> 0 | H67: 1 | J67: =ROUND(D67/(E67+H67),2) -> 0
A69: C'est la liste | E69: =IF(J63=MAXA(J63:K67),A63,IF(J64=MAXA(J63:K67),A64,IF(J65=MAXA(J63:K67),A65,IF(J66=MAXA(J63:K67),A66,IF(J67=MAXA(J63:K67),A67,0))))) -> FO | G69: qui obtient la plus forte moyenne | M69: candidat éligible
A71: Nouvelle répartition des sièges après plus fort reste 1
D72: Voix | E72: Sièges déjà attribués | H72: 1er siège attribué | J72: Sièges attribués
E73: (proportionelle) | H73: (plus fort reste 1) | J73: (proportionnelle + plus fort reste)
A74: =A37 -> CFDT | D74: =G37 -> 32 | E74: =E50 -> 1 | H74: =IF(J63=MAXA(J63:K67),1,0) -> 0 | J74: =E74+H74 -> 1
A75: =A38 -> CGT | D75: =G38 -> 16.5 | E75: =E51 -> 0 | H75: =IF(J64=MAXA(J63:K67),1,0) -> 0 | J75: =E75+H75 -> 0
A76: =A39 -> FO | D76: =G39 -> 22 | E76: =E52 -> 0 | H76: =IF(J65=MAXA(J63:K67),1,0) -> 1 | J76: =E76+H76 -> 1
A77: =A40 -> CFTC | D77: =G40 -> 0 | E77: =E53 -> 0 | H77: =IF(J66=MAXA(J63:K67),1,0) -> 0 | J77: =E77+H77 -> 0
A78: =A41 -> CFE-CGT | D78: =G41 -> 0 | E78: =E54 -> 0 | H78: =IF(J67=MAXA(J63:K67),1,0) -> 0 | J78: =E78+H78 -> 0
A80: Nombre de sièges restant à attribuer | H80: =H56-1 -> 1
A82: 2nd siège restant à attribuer
D84: Voix (moyenne) | E84: Sièges déjà attribués | H84: Sièges à attribuer | J84: Plus fort reste
A85: =A37 -> CFDT | D85: =G37 -> 32 | E85: =J74 -> 1 | H85: 1 | J85: =ROUND(D85/(E85+H85),2) -> 16
A86: =A38 -> CGT | D86: =G38 -> 16.5 | E86: =J75 -> 0 | H86: 1 | J86: =ROUND(D86/(E86+H86),2) -> 16.5
A87: =A39 -> FO | D87: =G39 -> 22 | E87: =J76 -> 1 | H87: 1 | J87: =ROUND(D87/(E87+H87),2) -> 11
A88: =A40 -> CFTC | D88: =G40 -> 0 | E88: =J77 -> 0 | H88: 1 | J88: =ROUND(D88/(E88+H88),2) -> 0
A89: =A41 -> CFE-CGT | D89: =G41 -> 0 | E89: =J78 -> 0 | H89: 1 | J89: =ROUND(D89/(E89+H89),2) -> 0
A91: C'est la liste | E91: =IF(J85=MAXA(J85:K89),A85,IF(J86=MAXA(J85:K89),A86,IF(J87=MAXA(J85:K89),A87,IF(J88=MAXA(J85:K89),A88,IF(J89=MAXA(J85:K89),A89,0))))) -> CGT | G91: qui obtient la plus forte moyenne | M91: candidat éligible
A93: Nouvelle répartition des sièges après plus fort reste 2
D94: Voix | E94: Sièges déjà attribués | H94: 2nd siège attribué | J94: Sièges attribués
E95: (proportionnelle + pro) | H95: (plus fort reste 2) | J95: (proportionnelle + plus fort reste)
A96: =A37 -> CFDT | D96: =G37 -> 32 | E96: =E85 -> 1 | H96: =IF(J85=MAXA(J85:K89),1,0) -> 0 | J96: =E96+H96 -> 1
A97: =A38 -> CGT | D97: =G38 -> 16.5 | E97: =E86 -> 0 | H97: =IF(J86=MAXA(J85:K89),1,0) -> 1 | J97: =E97+H97 -> 1
A98: =A39 -> FO | D98: =G39 -> 22 | E98: =E87 -> 1 | H98: =IF(J87=MAXA(J85:K89),1,0) -> 0 | J98: =E98+H98 -> 1
A99: =A40 -> CFTC | D99: =G40 -> 0 | E99: =E88 -> 0 | H99: =IF(J88=MAXA(J85:K89),1,0) -> 0 | J99: =E99+H99 -> 0
A100: =A41 -> CFE-CGT | D100: =G41 -> 0 | E100: =E89 -> 0 | H100: =IF(J89=MAXA(J85:K89),1,0) -> 0 | J100: =E100+H100 -> 0
A102: Nombre de siège restant à attribuer | H102: =H80-1 -> 0
A104: 3ème siège restant à attribuer
D106: Voix (moyenne) | E106: Sièges déjà attribués | H106: Siège à attribuer | J106: Plus fort reste
A107: =A37 -> CFDT | D107: =G37 -> 32 | E107: =J96 -> 1 | H107: 1 | J107: =ROUND(D107/(E107+H107),2) -> 16
A108: =A38 -> CGT | D108: =G38 -> 16.5 | E108: =J97 -> 1 | H108: 1 | J108: =ROUND(D108/(E108+H108),2) -> 8.25
A109: =A39 -> FO | D109: =G39 -> 22 | E109: =J98 -> 1 | H109: 1 | J109: =ROUND(D109/(E109+H109),2) -> 11
A110: =A40 -> CFTC | D110: =G40 -> 0 | E110: =J99 -> 0 | H110: 1 | J110: =ROUND(D110/(E110+H110),2) -> 0
A111: =A41 -> CFE-CGT | D111: =G41 -> 0 | E111: =J100 -> 0 | H111: 1 | J111: =ROUND(D111/(E111+H111),2) -> 0
A113: C'est la liste | E113: =IF(J107=MAXA(J107:K111),A107,IF(J108=MAXA(J107:K111),A108,IF(J109=MAXA(J107:K111),A109,IF(J110=MAXA(J107:K111),A110,IF(J111=MAXA(J107:K111),A111,0))))) -> CFDT | G113: qui obtient la plus forte moyenne | M113: candidat éligible
A115: Nouvelle répartition des sièges après plus fort reste 3
D116: Voix | E116: Sièges déjà attribués | H116: 3ème siège attribué | J116: Sièges attribués
E117: (proportionnelle + pro) | H117: (plus fort reste 3) | J117: (proportionnelle + plus fort reste)
A118: =A37 -> CFDT | D118: =G37 -> 32 | E118: =E50 -> 1 | H118: =IF(J107=MAXA(J107:K111),1,0) -> 1 | J118: =E118+H118 -> 2
A119: =A38 -> CGT | D119: =G38 -> 16.5 | E119: =H97 -> 1 | H119: =IF(J108=MAXA(J107:K111),1,0) -> 0 | J119: =E119+H119 -> 1
A120: =A39 -> FO | D120: =G39 -> 22 | E120: =E87 -> 1 | H120: =IF(J109=MAXA(J107:K111),1,0) -> 0 | J120: =E120+H120 -> 1
A121: =A40 -> CFTC | D121: =G40 -> 0 | E121: =E88 -> 0 | H121: =IF(J110=MAXA(J107:K111),1,0) -> 0 | J121: =E121+H121 -> 0
A122: =A41 -> CFE-CGT | D122: =G41 -> 0 | E122: =E89 -> 0 | H122: =IF(J111=MAXA(J107:K111),1,0) -> 0 | J122: =E122+H122 -> 0
A124: Nombre de siège restant à attribuer | H124: =H102-1 -> -1

Sheet Collège n°2
A1: Outil IRP / Calcul de représentativité
A3: Dénomination du collège éléctoral | G3: 2nd collège
A4: Composition précise du collège | G4: Techniciens, agents de maîtrise, ingénieurs et cadres
A6: Nombre de sièges titulaires à pourvoir | G6: 1 | J6: Contrôle de quorum | K6: =G8/2 -> 12.5
K7: =G12 -> 11
A8: Nombre d'élécteurs au scrutin | G8: 25
A9: Nombre total de votants | G9: 14
A10: Nombre total de votes nuls* | G10: 3 | I10: Le quorum n'est atteint que si le nombre de suffrages valablement exprimés est supérieur à la moitié des inscrits
A12: Nombre total de votes valablement exprimés | G12: =G9-G10 -> 11
B14: CFDT | C14: CGT | D14: FO | E14: CFTC | F14: CFE-CGT | G14: Nombre de ratures sur le nom du candidat | J14: % de ratures correspondant
A15: CORNIERE Florence | B15: 11 | K15: =ROUND((H15/C37)*100,2) -> 0
K16: =ROUND((H16/C37)*100,2) -> 0
K17: =ROUND((H17/C37)*100,2) -> 0
K18: =ROUND((H18/C37)*100,2) -> 0
K19: =ROUND((H19/C38)*100,2) -> #DIV/0!
K20: =ROUND((H20/C38)*100,2) -> #DIV/0!
K21: =ROUND((H21/C38)*100,2) -> #DIV/0!
K22: =ROUND((H22/C38)*100,2) -> #DIV/0!
K23: =ROUND((H23/C39)*100,2) -> #DIV/0!
K24: =ROUND((H24/C39)*100,2) -> #DIV/0!
K25: =ROUND((H25/C39)*100,2) -> #DIV/0!
K26: =ROUND((H26/C39)*100,2) -> #DIV/0!
K27: =ROUND((H27/C40)*100,2) -> #DIV/0!
K28: =ROUND((H28/C40)*100,2) -> #DIV/0!
K29: =ROUND((H29/C40)*100,2) -> #DIV/0!
K30: =ROUND((H30/C40)*100,2) -> #DIV/0!
K31: =ROUND((H31/C41)*100,2) -> #DIV/0!
K32: =ROUND((H32/C41)*100,2) -> #DIV/0!
K33: =ROUND((H33/C41)*100,2) -> #DIV/0!
K34: =ROUND((H34/C41)*100,2) -> #DIV/0!
A36: Listes en présence | C36: Total des voix receuillies | E36: Nombre de candidats | H36: Moyenne des voix
A37: =B14 -> CFDT | C37: =SUM(B15:B18) -> 11 | E37: 3 | H37: =ROUND(C37/E37,2) -> 3.67 | K37: Dérouler J37 en cas de changement de configuration des cellules "Total des voix" et "Nombre de candidats" ou réinscrire 0 dans "Moyenne des voix" si pas de candidats
A38: =C14 -> CGT | C38: =SUM(C19:C22) -> 0 | E38: 2 | H38: =ROUND(C38/E38,2) -> 0
A39: =D14 -> FO | C39: =SUM(D23:D26) -> 0 | E39: 3 | H39: =ROUND(C39/E39,2) -> 0
A40: CFTC | C40: =SUM(E27:E30) -> 0 | E40: 0 | H40: 0
A41: CFE-CGT | C41: =SUM(F31:F34) -> 0 | E41: 0 | H41: 0
A43: Total de suffrages exprimés | G43: =SUM(B15:D33) -> 11
A45: Calcul du quotient éléctoral | G45: =ROUND(G12/G6,2) -> 11
A47: Attributions des sièges à la représentation proportionnelle
A48: Application du quotient éléctoral à la moyenne des voix obtenues par les listes en présence | E48: Attribution de sièges - Représentation proportionnelle
A50: =A37 -> CFDT | C50: =ROUND(H37/G45,2) -> 0.33 | E50: =IF(C50>=1,ROUNDDOWN(C50,),IF(C50<1,"0")) -> 0 | J50: Candidat(s) éligible(s)
A51: =A38 -> CGT | C51: =ROUND(H38/G45,2) -> 0 | E51: =IF(C51>=1,ROUNDDOWN(C51,),IF(C51<1,"0")) -> 0 | J51: Candidat(s) éligible(s)
A52: =A39 -> FO | C52: =ROUND(H39/G45,2) -> 0 | E52: =IF(C52>=1,ROUNDDOWN(C52,),IF(C52<1,"0")) -> 0 | J52: Candidat(s) éligible(s)
A53: CFTC | C53: =ROUND(H40/G45,2) -> 0 | E53: =IF(C53>=1,ROUNDDOWN(C53,),IF(C53<1,"0")) -> 0 | J53: Candidat(s) éligible(s)
A54: CFE-CGT | C54: =ROUND(H41/G45,2) -> 0 | E54: =IF(C54>=1,ROUNDDOWN(C54,),IF(C54<1,"0")) -> 0 | J54: Candidat(s) éligible(s)
A56: Nombre de sièges restant à attribuer à la plus forte moyenne | H56: =G6-SUM(E50:H54) -> 1
A58: Attribution des sièges restant à la plus forte moyenne
A60: 1er siège restant à attribuer
D62: Voix (moyenne) | E62: Sièges déjà attribués | H62: Sièges à attribuer | J62: Plus fort reste
A63: =A37 -> CFDT | D63: =H37 -> 3.67 | E63: =E50 -> 0 | H63: 1 | J63: =ROUND(D63/(E63+H63),2) -> 3.67
A64: =A38 -> CGT | D64: =H38 -> 0 | E64: =E51 -> 0 | H64: 1 | J64: =ROUND(D64/(E64+H64),2) -> 0
A65: =A39 -> FO | D65: =H39 -> 0 | E65: =E52 -> 0 | H65: 1 | J65: =ROUND(D65/(E65+H65),2) -> 0
A66: CFTC | D66: =H40 -> 0 | E66: =E53 -> 0 | H66: 1 | J66: =ROUND(D66/(E66+H66),2) -> 0
A67: CFE-CGT | D67: =H41 -> 0 | E67: =E54 -> 0 | H67: 1 | J67: =ROUND(D67/(E67+H67),2) -> 0
A69: C'est la liste | E69: =IF(J63=MAXA(J63:K67),A63,IF(J64=MAXA(J63:K67),A64,IF(J65=MAXA(J63:K67),A65,IF(J66=MAXA(J63:K67),A66,IF(J67=MAXA(J63:K67),A67,0))))) -> CFDT | G69: qui obtient la plus forte moyenne | M69: candidat éligible
A71: Nouvelle répartition des sièges après plus fort reste 1
D72: Voix | E72: Sièges déjà attribués | H72: 1er siège attribué | J72: Sièges attribués
E73: (proportionelle) | H73: (plus fort reste 1) | J73: (proportionnelle + plus fort reste)
A74: =A37 -> CFDT | D74: =H37 -> 3.67 | E74: =E50 -> 0 | H74: =IF(J63=MAXA(J63:K67),1,0) -> 1 | J74: =E74+H74 -> 1
A75: =A38 -> CGT | D75: =H38 -> 0 | E75: =E51 -> 0 | H75: =IF(J64=MAXA(J63:K67),1,0) -> 0 | J75: =E75+H75 -> 0
A76: =A39 -> FO | D76: =H39 -> 0 | E76: =E52 -> 0 | H76: =IF(J65=MAXA(J63:K67),1,0) -> 0 | J76: =E76+H76 -> 0
A77: =A40 -> CFTC | D77: =H40 -> 0 | E77: =E53 -> 0 | H77: =IF(J66=MAXA(J63:K67),1,0) -> 0 | J77: =E77+H77 -> 0
A78: =A41 -> CFE-CGT | D78: =H41 -> 0 | E78: =E54 -> 0 | H78: =IF(J67=MAXA(J63:K67),1,0) -> 0 | J78: =E78+H78 -> 0
A80: Nombre de sièges restant à attribuer | H80: =H56-1 -> 0
A82: 2nd siège restant à attribuer
D84: Voix (moyenne) | E84: Sièges déjà attribués | H84: Sièges à attribuer | J84: Plus fort reste
A85: =A37 -> CFDT | D85: =H37 -> 3.67 | E85: =J74 -> 1 | H85: 1 | J85: =ROUND(D85/(E85+H85),2) -> 1.84
A86: =A38 -> CGT | D86: =H38 -> 0 | E86: =J75 -> 0 | H86: 1 | J86: =ROUND(D86/(E86+H86),2) -> 0
A87: =A39 -> FO | D87: =H39 -> 0 | E87: =J76 -> 0 | H87: 1 | J87: =ROUND(D87/(E87+H87),2) -> 0
A88: =A40 -> CFTC | D88: =H40 -> 0 | E88: =J77 -> 0 | H88: 1 | J88: =ROUND(D88/(E88+H88),2) -> 0
A89: =A41 -> CFE-CGT | D89: =H41 -> 0 | E89: =J78 -> 0 | H89: 1 | J89: =ROUND(D89/(E89+H89),2) -> 0
A91: C'est la liste | E91: =IF(J85=MAXA(J85:K89),A85,IF(J86=MAXA(J85:K89),A86,IF(J87=MAXA(J85:K89),A87,IF(J88=MAXA(J85:K89),A88,IF(J89=MAXA(J85:K89),A89,0))))) -> CFDT | G91: qui obtient la plus forte moyenne | M91: candidat éligible
A93: Nouvelle répartition des sièges après plus fort reste 2
D94: Voix | E94: Sièges déjà attribués | H94: 2nd siège attribué | J94: Sièges attribués
E95: (proportionnelle + pro) | H95: (plus fort reste 2) | J95: (proportionnelle + plus fort reste)
A96: =A37 -> CFDT | D96: =H37 -> 3.67 | E96: =E85 -> 1 | H96: =IF(J85=MAXA(J85:K89),1,0) -> 1 | J96: =E96+H96 -> 2
A97: =A38 -> CGT | D97: =H38 -> 0 | E97: =E86 -> 0 | H97: =IF(J86=MAXA(J85:K89),1,0) -> 0 | J97: =E97+H97 -> 0
A98: =A39 -> FO | D98: =H39 -> 0 | E98: =E87 -> 0 | H98: =IF(J87=MAXA(J85:K89),1,0) -> 0 | J98: =E98+H98 -> 0
A99: =A40 -> CFTC | D99: =H40 -> 0 | E99: =E88 -> 0 | H99: =IF(J88=MAXA(J85:K89),1,0) -> 0 | J99: =E99+H99 -> 0
A100: =A41 -> CFE-CGT | D100: =H41 -> 0 | E100: =E89 -> 0 | H100: =IF(J89=MAXA(J85:K89),1,0) -> 0 | J100: =E100+H100 -> 0
A102: Nombre de siège restant à attribuer | H102: =H80-1 -> -1
A104: 3ème siège restant à attribuer
D106: Voix (moyenne) | E106: Sièges déjà attribués | H106: Siège à attribuer | J106: Plus fort reste
A107: =A37 -> CFDT | D107: =H37 -> 3.67 | E107: =J96 -> 2 | H107: 1 | J107: =ROUND(D107/(E107+H107),2) -> 1.22
A108: =A38 -> CGT | D108: =H38 -> 0 | E108: =J97 -> 0 | H108: 1 | J108: =ROUND(D108/(E108+H108),2) -> 0
A109: =A39 -> FO | D109: =H39 -> 0 | E109: =J98 -> 0 | H109: 1 | J109: =ROUND(D109/(E109+H109),2) -> 0
A110: =A40 -> CFTC | D110: =H40 -> 0 | E110: =J99 -> 0 | H110: 1 | J110: =ROUND(D110/(E110+H110),2) -> 0
A111: =A41 -> CFE-CGT | D111: =H41 -> 0 | E111: =J100 -> 0 | H111: 1 | J111: =ROUND(D111/(E111+H111),2) -> 0
A113: C'est la liste | E113: =IF(J107=MAXA(J107:K111),A107,IF(J108=MAXA(J107:K111),A108,IF(J109=MAXA(J107:K111),A109,IF(J110=MAXA(J107:K111),A110,IF(J111=MAXA(J107:K111),A111,0))))) -> CFDT | G113: qui obtient la plus forte moyenne | M113: candidat éligible
A115: Nouvelle répartition des sièges après plus fort reste 3
D116: Voix | E116: Sièges déjà attribués | H116: 3ème siège attribué | J116: Sièges attribués
E117: (proportionnelle + pro) | H117: (plus fort reste 3) | J117: (proportionnelle + plus fort reste)
A118: =A37 -> CFDT | D118: =H37 -> 3.67 | E118: =E50 -> 0 | H118: =IF(J107=MAXA(J107:K111),1,0) -> 1 | J118: =E118+H118 -> 1
A119: =A38 -> CGT | D119: =H38 -> 0 | E119: =H97 -> 0 | H119: =IF(J108=MAXA(J107:K111),1,0) -> 0 | J119: =E119+H119 -> 0
A120: =A39 -> FO | D120: =H39 -> 0 | E120: =E87 -> 0 | H120: =IF(J109=MAXA(J107:K111),1,0) -> 0 | J120: =E120+H120 -> 0
A121: =A40 -> CFTC | D121: =H40 -> 0 | E121: =E88 -> 0 | H121: =IF(J110=MAXA(J107:K111),1,0) -> 0 | J121: =E121+H121 -> 0
A122: =A41 -> CFE-CGT | D122: =H41 -> 0 | E122: =E89 -> 0 | H122: =IF(J111=MAXA(J107:K111),1,0) -> 0 | J122: =E122+H122 -> 0
A124: Nombre de siège restant à attribuer | H124: =H102-1 -> -2

Sheet Collège n°3
A1: Outil IRP / Calcul de représentativité
A3: Dénomination du collège éléctoral | G3: 3ème collège
A4: Composition précise du collège | G4: Ingénieurs et cadres
A6: Nombre de sièges titulaires à pourvoir | G6: 1 | J6: Contrôle de quorum | K6: =G8/2 -> 18.5
K7: =G12 -> 22
A8: Nombre d'élécteurs au scrutin | G8: 37
A9: Nombre total de votants | G9: 26
A10: Nombre total de votes nuls* | G10: 4 | I10: Le quorum n'est atteint que si le nombre de suffrages valablement exprimés est supérieur à la moitié des inscrits
A12: Nombre total de votes valablement exprimés | G12: =G9-G10 -> 22 | N12: Ordre si tous les candidats ont un nombre de ratures inférieur à 10% | P12: Ordre si tous les candidats ont un nombre de ratures supérieur à 10% | R12: Ordre si certains candidats ont un nombre de rature supérieur à 10%
B14: CFDT | C14: CGT | D14: FO | E14: CFTC | F14: CFE-CGT | G14: Nombre de ratures sur le nom du candidat | J14: % de ratures correspondant
A15: QUONIAM Vincent | B15: 22 | H15: 5 | K15: 9 | M15: =RANK(B15,B15:B18) -> 3 | N15: =IF(K15<10,(IF(B15=MAXA(B15:B18),"éligible","non éligible")),"non éligible") -> non éligible | P15: =IF(K15>=10,(IF(B15=MAXA(B15:B18),"éligible","non éligible")),"non éligible") -> non éligible | R15: =IF(K15<10,"éligible","non éligible") -> éligible
A16: BILLAUX Adrien | B16: 25 | K16: 12 | M16: =RANK(B16,B15:B18) -> 1 | N16: =IF(K16<10,(IF(B16=MAXA(B15:B18),"éligible","non éligible")),"non éligible") -> non éligible | P16: =IF(K16>=10,(IF(B16=MAXA(B15:B18),"éligible","non éligible")),"non éligible") -> éligible | R16: =IF(K16<10,"éligible","non éligible") -> non éligible
A17: DUPONT Jean | B17: 23 | K17: 9 | M17: =RANK(B17,B15:B18) -> 2 | N17: =IF(K17<10,(IF(B17=MAXA(B15:B18),"éligible","non éligible")),"non éligible") -> non éligible | P17: =IF(K17>=10,(IF(B17=MAXA(B15:B18),"éligible","non éligible")),"non éligible") -> non éligible | R17: =IF(K17<10,"éligible","non éligible") -> éligible
A18: DURAND Rémi | B18: 21 | K18: 12 | M18: =RANK(B18,B15:B18) -> 4 | N18: =IF(K18<10,(IF(B18=MAXA(B15:B18),"éligible","non éligible")),"non éligible") -> non éligible | P18: =IF(K18>=10,(IF(B18=MAXA(B15:B18),"éligible","non éligible")),"non éligible") -> non éligible | R18: =IF(K18<10,"éligible","non éligible") -> non éligible
K19: =ROUND((H19/C38)*100,2) -> #DIV/0!
K20: =ROUND((H20/C38)*100,2) -> #DIV/0!
K21: =ROUND((H21/C38)*100,2) -> #DIV/0!
K22: =ROUND((H22/C38)*100,2) -> #DIV/0!
K23: =ROUND((H23/C39)*100,2) -> #DIV/0!
K24: =ROUND((H24/C39)*100,2) -> #DIV/0!
K25: =ROUND((H25/C39)*100,2) -> #DIV/0!
K26: =ROUND((H26/C39)*100,2) -> #DIV/0!
K27: =ROUND((H27/C40)*100,2) -> #DIV/0!
K28: =ROUND((H28/C40)*100,2) -> #DIV/0!
K29: =ROUND((H29/C40)*100,2) -> #DIV/0!
K30: =ROUND((H30/C40)*100,2) -> #DIV/0!
K31: =ROUND((H31/C41)*100,2) -> #DIV/0!
K32: =ROUND((H32/C41)*100,2) -> #DIV/0!
K33: =ROUND((H33/C41)*100,2) -> #DIV/0!
K34: =ROUND((H34/C41)*100,2) -> #DIV/0!
A36: Listes en présence | C36: Total des voix receuillies | E36: Nombre de candidats | H36: Moyenne des voix
A37: =B14 -> CFDT | C37: =SUM(B15:B18) -> 91 | E37: 3 | H37: =ROUND(C37/E37,2) -> 30.33 | K37: Dérouler J37 en cas de changement de configuration des cellules "Total des voix" et "Nombre de candidats" ou réinscrire 0 dans "Moyenne des voix" si pas de candidats
A38: =C14 -> CGT | C38: =SUM(C19:C22) -> 0 | E38: 2 | H38: =ROUND(C38/E38,2) -> 0
A39: =D14 -> FO | C39: =SUM(D23:D26) -> 0 | E39: 3 | H39: =ROUND(C39/E39,2) -> 0
A40: CFTC | C40: =SUM(E27:E30) -> 0 | E40: 0 | H40: 0
A41: CFE-CGT | C41: =SUM(F31:F34) -> 0 | E41: 0 | H41: 0
A43: Total de suffrages exprimés | G43: =SUM(B15:D33) -> 91
A45: Calcul du quotient éléctoral | G45: =ROUND(G12/G6,2) -> 22
A47: Attributions des sièges à la représentation proportionnelle
A48: Application du quotient éléctoral à la moyenne des voix obtenues par les listes en présence | E48: Attribution de sièges - Représentation proportionnelle
A50: =A37 -> CFDT | C50: =ROUND(H37/G45,2) -> 1.38 | E50: =IF(C50>=1,ROUNDDOWN(C50,),IF(C50<1,"0")) -> 1 | J50: Candidat(s) éligible(s)
A51: =A38 -> CGT | C51: =ROUND(H38/G45,2) -> 0 | E51: =IF(C51>=1,ROUNDDOWN(C51,),IF(C51<1,"0")) -> 0 | J51: Candidat(s) éligible(s)
A52: =A39 -> FO | C52: =ROUND(H39/G45,2) -> 0 | E52: =IF(C52>=1,ROUNDDOWN(C52,),IF(C52<1,"0")) -> 0 | J52: Candidat(s) éligible(s)
A53: CFTC | C53: =ROUND(H40/G45,2) -> 0 | E53: =IF(C53>=1,ROUNDDOWN(C53,),IF(C53<1,"0")) -> 0 | J53: Candidat(s) éligible(s)
A54: CFE-CGT | C54: =ROUND(H41/G45,2) -> 0 | E54: =IF(C54>=1,ROUNDDOWN(C54,),IF(C54<1,"0")) -> 0 | J54: Candidat(s) éligible(s)
A56: Nombre de sièges restant à attribuer à la plus forte moyenne | H56: =G6-SUM(E50:H54) -> 0
A58: Attribution des sièges restant à la plus forte moyenne
A60: 1er siège restant à attribuer
D62: Voix (moyenne) | E62: Sièges déjà attribués | H62: Sièges à attribuer | J62: Plus fort reste
A63: =A37 -> CFDT | D63: =H37 -> 30.33 | E63: =E50 -> 1 | H63: 1 | J63: =ROUND(D63/(E63+H63),2) -> 15.17
A64: =A38 -> CGT | D64: =H38 -> 0 | E64: =E51 -> 0 | H64: 1 | J64: =ROUND(D64/(E64+H64),2) -> 0
A65: =A39 -> FO | D65: =H39 -> 0 | E65: =E52 -> 0 | H65: 1 | J65: =ROUND(D65/(E65+H65),2) -> 0
A66: CFTC | D66: =H40 -> 0 | E66: =E53 -> 0 | H66: 1 | J66: =ROUND(D66/(E66+H66),2) -> 0
A67: CFE-CGT | D67: =H41 -> 0 | E67: =E54 -> 0 | H67: 1 | J67: =ROUND(D67/(E67+H67),2) -> 0
A69: C'est la liste | E69: =IF(J63=MAXA(J63:K67),A63,IF(J64=MAXA(J63:K67),A64,IF(J65=MAXA(J63:K67),A65,IF(J66=MAXA(J63:K67),A66,IF(J67=MAXA(J63:K67),A67,0))))) -> CFDT | G69: qui obtient la plus forte moyenne | M69: candidat éligible
A71: Nouvelle répartition des sièges après plus fort reste 1
D72: Voix | E72: Sièges déjà attribués | H72: 1er siège attribué | J72: Sièges attribués
E73: (proportionelle) | H73: (plus fort reste 1) | J73: (proportionnelle + plus fort reste)
A74: =A37 -> CFDT | D74: =H37 -> 30.33 | E74: =E50 -> 1 | H74: =IF(J63=MAXA(J63:K67),1,0) -> 1 | J74: =E74+H74 -> 2
A75: =A38 -> CGT | D75: =H38 -> 0 | E75: =E51 -> 0 | H75: =IF(J64=MAXA(J63:K67),1,0) -> 0 | J75: =E75+H75 -> 0
A76: =A39 -> FO | D76: =H39 -> 0 | E76: =E52 -> 0 | H76: =IF(J65=MAXA(J63:K67),1,0) -> 0 | J76: =E76+H76 -> 0
A77: =A40 -> CFTC | D77: =H40 -> 0 | E77: =E53 -> 0 | H77: =IF(J66=MAXA(J63:K67),1,0) -> 0 | J77: =E77+H77 -> 0
A78: =A41 -> CFE-CGT | D78: =H41 -> 0 | E78: =E54 -> 0 | H78: =IF(J67=MAXA(J63:K67),1,0) -> 0 | J78: =E78+H78 -> 0
A80: Nombre de sièges restant à attribuer | H80: =H56-1 -> -1
A82: 2nd siège restant à attribuer
D84: Voix (moyenne) | E84: Sièges déjà attribués | H84: Sièges à attribuer | J84: Plus fort reste
A85: =A37 -> CFDT | D85: =H37 -> 30.33 | E85: =J74 -> 2 | H85: 1 | J85: =ROUND(D85/(E85+H85),2) -> 10.11
A86: =A38 -> CGT | D86: =H38 -> 0 | E86: =J75 -> 0 | H86: 1 | J86: =ROUND(D86/(E86+H86),2) -> 0
A87: =A39 -> FO | D87: =H39 -> 0 | E87: =J76 -> 0 | H87: 1 | J87: =ROUND(D87/(E87+H87),2) -> 0
A88: =A40 -> CFTC | D88: =H40 -> 0 | E88: =J77 -> 0 | H88: 1 | J88: =ROUND(D88/(E88+H88),2) -> 0
A89: =A41 -> CFE-CGT | D89: =H41 -> 0 | E89: =J78 -> 0 | H89: 1 | J89: =ROUND(D89/(E89+H89),2) -> 0
A91: C'est la liste | E91: =IF(J85=MAXA(J85:K89),A85,IF(J86=MAXA(J85:K89),A86,IF(J87=MAXA(J85:K89),A87,IF(J88=MAXA(J85:K89),A88,IF(J89=MAXA(J85:K89),A89,0))))) -> CFDT | G91: qui obtient la plus forte moyenne | M91: candidat éligible
A93: Nouvelle répartition des sièges après plus fort reste 2
D94: Voix | E94: Sièges déjà attribués | H94: 2nd siège attribué | J94: Sièges attribués
E95: (proportionnelle + pro) | H95: (plus fort reste 2) | J95: (proportionnelle + plus fort reste)
A96: =A37 -> CFDT | D96: =H37 -> 30.33 | E96: =E85 -> 2 | H96: =IF(J85=MAXA(J85:K89),1,0) -> 1 | J96: =E96+H96 -> 3
A97: =A38 -> CGT | D97: =H38 -> 0 | E97: =E86 -> 0 | H97: =IF(J86=MAXA(J85:K89),1,0) -> 0 | J97: =E97+H97 -> 0
A98: =A39 -> FO | D98: =H39 -> 0 | E98: =E87 -> 0 | H98: =IF(J87=MAXA(J85:K89),1,0) -> 0 | J98: =E98+H98 -> 0
A99: =A40 -> CFTC | D99: =H40 -> 0 | E99: =E88 -> 0 | H99: =IF(J88=MAXA(J85:K89),1,0) -> 0 | J99: =E99+H99 -> 0
A100: =A41 -> CFE-CGT | D100: =H41 -> 0 | E100: =E89 -> 0 | H100: =IF(J89=MAXA(J85:K89),1,0) -> 0 | J100: =E100+H100 -> 0
A102: Nombre de siège restant à attribuer | H102: =H80-1 -> -2
A104: 3ème siège restant à attribuer
D106: Voix (moyenne) | E106: Sièges déjà attribués | H106: Siège à attribuer | J106: Plus fort reste
A107: =A37 -> CFDT | D107: =H37 -> 30.33 | E107: =J96 -> 3 | H107: 1 | J107: =ROUND(D107/(E107+H107),2) -> 7.58
A108: =A38 -> CGT | D108: =H38 -> 0 | E108: =J97 -> 0 | H108: 1 | J108: =ROUND(D108/(E108+H108),2) -> 0
A109: =A39 -> FO | D109: =H39 -> 0 | E109: =J98 -> 0 | H109: 1 | J109: =ROUND(D109/(E109+H109),2) -> 0
A110: =A40 -> CFTC | D110: =H40 -> 0 | E110: =J99 -> 0 | H110: 1 | J110: =ROUND(D110/(E110+H110),2) -> 0
A111: =A41 -> CFE-CGT | D111: =H41 -> 0 | E111: =J100 -> 0 | H111: 1 | J111: =ROUND(D111/(E111+H111),2) -> 0
A113: C'est la liste | E113: =IF(J107=MAXA(J107:K111),A107,IF(J108=MAXA(J107:K111),A108,IF(J109=MAXA(J107:K111),A109,IF(J110=MAXA(J107:K111),A110,IF(J111=MAXA(J107:K111),A111,0))))) -> CFDT | G113: qui obtient la plus forte moyenne | M113: candidat éligible
A115: Nouvelle répartition des sièges après plus fort reste 3
D116: Voix | E116: Sièges déjà attribués | H116: 3ème siège attribué | J116: Sièges attribués
E117: (proportionnelle + pro) | H117: (plus fort reste 3) | J117: (proportionnelle + plus fort reste)
A118: =A37 -> CFDT | D118: =H37 -> 30.33 | E118: =E50 -> 1 | H118: =IF(J107=MAXA(J107:K111),1,0) -> 1 | J118: =E118+H118 -> 2
A119: =A38 -> CGT | D119: =H38 -> 0 | E119: =H97 -> 0 | H119: =IF(J108=MAXA(J107:K111),1,0) -> 0 | J119: =E119+H119 -> 0
A120: =A39 -> FO | D120: =H39 -> 0 | E120: =E87 -> 0 | H120: =IF(J109=MAXA(J107:K111),1,0) -> 0 | J120: =E120+H120 -> 0
A121: =A40 -> CFTC | D121: =H40 -> 0 | E121: =E88 -> 0 | H121: =IF(J110=MAXA(J107:K111),1,0) -> 0 | J121: =E121+H121 -> 0
A122: =A41 -> CFE-CGT | D122: =H41 -> 0 | E122: =E89 -> 0 | H122: =IF(J111=MAXA(J107:K111),1,0) -> 0 | J122: =E122+H122 -> 0
A124: Nombre de siège restant à attribuer | H124: =H102-1 -> -3

Sheet Representativité des syndicats 
A1: Outil IRP / Représentativité des syndicats
A3: Nombre de collèges ayant participé au scrutin | G3: 3
A5: Nombre d'élécteurs au scrutin (tous collèges réunis) | G5: ='Collège n°1'!G8+'Collège n°2'!G8+'Collège n°3'!G8 -> 185
A6: Nombre total d'électeurs | G6: ='Collège n°1'!G9+'Collège n°2'!G9+'Collège n°3'!G9 -> 128
A7: Nombre total de votes nuls | G7: ='Collège n°1'!G10+'Collège n°2'!G10+'Collège n°3'!G10 -> 19
A9: Nombre total de votes valablement exprimés | G9: =G6-G7 -> 109
A11: Nombre total de suffrages exprimés (tous collèges réunis) | G11: ='Collège n°1'!G43+'Collège n°2'!G43+'Collège n°3'!G43 -> 297
C13: Listes en présence | F13: Total des voix receuillies
C14: CFDT | F14: ='Collège n°1'!C37+'Collège n°2'!C37+'Collège n°3'!C37 -> 198
C15: CGT | F15: ='Collège n°1'!C38+'Collège n°2'!C38+'Collège n°3'!C38 -> 33
C16: FO | F16: ='Collège n°1'!C39+'Collège n°2'!C39+'Collège n°3'!C39 -> 66
C17: CFTC | F17: ='Collège n°1'!C40+'Collège n°2'!C40+'Collège n°3'!C40 -> 0
C18: CFE-CGT | F18: ='Collège n°1'!C41+'Collège n°2'!C41+'Collège n°3'!C41 -> 0
C19: Appréciation de la representativité des syndicats dans l'entreprise
C20: Listes en présence | E20: Total des voix receuillies | G20: % des voix receuillies et representativité
C21: =C14 -> CFDT | E21: =F14 -> 198 | G21: =ROUND((E21/G11)*100,2) -> 66.67
C22: =C15 -> CGT | E22: =F15 -> 33 | G22: =ROUND((E22/G11)*100,2) -> 11.11
C23: =C16 -> FO | E23: =F16 -> 66 | G23: =ROUND((E23/G11)*100,2) -> 22.22
C24: =C17 -> CFTC | E24: =F17 -> 0 | G24: =ROUND((E24/G11)*100,2) -> 0
C25: =C18 -> CFE-CGT | E25: =F18 -> 0 | G25: =ROUND((E25/G11)*100,2) -> 0

Sheet Feuil1
