Workbook

Sheet TABLEAU 1
A1: SERIE | D1: QUANTITE | E1: tableau 2
A2: 0001100013131001 | B2: 0001100013139000 | C2: =A2&" to "&B2 -> 0001100013131001 to 0001100013139000 | D2: =B2-A2+1 -> 8000 | E2: =IFERROR(VLOOKUP('TABLEAU 1'!C2,'TABLEAU 2'!$A$1:$D$18,2,0),"pas dans tableau 2") -> pas dans tableau 2
A3: 0001100012919001 | B3: 0001100012920999 | C3: =A3&" to "&B3 -> 0001100012919001 to 0001100012920999 | D3: =B3-A3+1 -> 1999 | E3: =IFERROR(VLOOKUP('TABLEAU 1'!C3,'TABLEAU 2'!$A$1:$D$18,2,0),"pas dans tableau 2") -> pas dans tableau 2 | G3: la derniere cartes manquante est 0001100012921000
A4: 0001100013171001 | B4: 0001100013177000 | C4: =A4&" to "&B4 -> 0001100013171001 to 0001100013177000 | D4: =B4-A4+1 -> 6000 | E4: =IFERROR(VLOOKUP('TABLEAU 1'!C4,'TABLEAU 2'!$A$1:$D$18,2,0),"pas dans tableau 2") -> 0001100013171001 | G4: le tableau 2 fait apparaittre un manque mais ne fixe pas son numéro
A5: 0001100012937001 | B5: 0001100012939000 | C5: =A5&" to "&B5 -> 0001100012937001 to 0001100012939000 | D5: =B5-A5+1 -> 2000 | E5: =IFERROR(VLOOKUP('TABLEAU 1'!C5,'TABLEAU 2'!$A$1:$D$18,2,0),"pas dans tableau 2") -> 0001100012937001
A6: 0001100013437001 | B6: 0001100013439000 | C6: =A6&" to "&B6 -> 0001100013437001 to 0001100013439000 | D6: =B6-A6+1 -> 2000 | E6: =IFERROR(VLOOKUP('TABLEAU 1'!C6,'TABLEAU 2'!$A$1:$D$18,2,0),"pas dans tableau 2") -> 0001100013437001
A7: 0001100013189001 | B7: 0001100013191000 | C7: =A7&" to "&B7 -> 0001100013189001 to 0001100013191000 | D7: =B7-A7+1 -> 2000 | E7: =IFERROR(VLOOKUP('TABLEAU 1'!C7,'TABLEAU 2'!$A$1:$D$18,2,0),"pas dans tableau 2") -> pas dans tableau 2
A8: 0001100013007001 | B8: 0001100013013000 | C8: =A8&" to "&B8 -> 0001100013007001 to 0001100013013000 | D8: =B8-A8+1 -> 6000 | E8: =IFERROR(VLOOKUP('TABLEAU 1'!C8,'TABLEAU 2'!$A$1:$D$18,2,0),"pas dans tableau 2") -> 0001100013007001
A9: 0001100013125001 | B9: 0001100013129000 | C9: =A9&" to "&B9 -> 0001100013125001 to 0001100013129000 | D9: =B9-A9+1 -> 4000 | E9: =IFERROR(VLOOKUP('TABLEAU 1'!C9,'TABLEAU 2'!$A$1:$D$18,2,0),"pas dans tableau 2") -> pas dans tableau 2
A10: 0001100012861001 | B10: 0001100012867000 | C10: =A10&" to "&B10 -> 0001100012861001 to 0001100012867000 | D10: =B10-A10+1 -> 6000 | E10: =IFERROR(VLOOKUP('TABLEAU 1'!C10,'TABLEAU 2'!$A$1:$D$18,2,0),"pas dans tableau 2") -> 0001100012861001
A11: 0001100013161001 | B11: 0001100013163000 | C11: =A11&" to "&B11 -> 0001100013161001 to 0001100013163000 | D11: =B11-A11+1 -> 2000 | E11: =IFERROR(VLOOKUP('TABLEAU 1'!C11,'TABLEAU 2'!$A$1:$D$18,2,0),"pas dans tableau 2") -> 0001100013161001
D12: =SUM(D2:D11) -> 39999

Sheet TABLEAU 2
A1: SERIE | B1: Colonne1 | C1: Colonne2 | D1: QUANTITE
A2: 0001100013189001 to 0001100013189524 | B2: =LEFT(A2,16) -> 0001100013189001 | C2: =RIGHT(A2,16) -> 0001100013189524 | D2: =C2-B2+1 -> 524
A3: 0001100013189575 to 0001100013190260 | B3: =LEFT(A3,16) -> 0001100013189575 | C3: =RIGHT(A3,16) -> 0001100013190260 | D3: =C3-B3+1 -> 686
A4: 0001100013190307 to 0001100013190996 | B4: =LEFT(A4,16) -> 0001100013190307 | C4: =RIGHT(A4,16) -> 0001100013190996 | D4: =C4-B4+1 -> 690
A5: 0001100012937001 to 0001100012939000 | B5: =LEFT(A5,16) -> 0001100012937001 | C5: =RIGHT(A5,16) -> 0001100012939000 | D5: =C5-B5+1 -> 2000
A6: 0001100012919001 to 0001100012921000 | B6: =LEFT(A6,16) -> 0001100012919001 | C6: =RIGHT(A6,16) -> 0001100012921000 | D6: =C6-B6+1 -> 2000
A7: 0001100013161001 to 0001100013163000 | B7: =LEFT(A7,16) -> 0001100013161001 | C7: =RIGHT(A7,16) -> 0001100013163000 | D7: =C7-B7+1 -> 2000
A8: 0001100013127001 to 0001100013129000 | B8: =LEFT(A8,16) -> 0001100013127001 | C8: =RIGHT(A8,16) -> 0001100013129000 | D8: =C8-B8+1 -> 2000
A9: 0001100013131001 to 0001100013133000 | B9: =LEFT(A9,16) -> 0001100013131001 | C9: =RIGHT(A9,16) -> 0001100013133000 | D9: =C9-B9+1 -> 2000
A10: 0001100013189525 to 0001100013189574 | B10: =LEFT(A10,16) -> 0001100013189525 | C10: =RIGHT(A10,16) -> 0001100013189574 | D10: =C10-B10+1 -> 50
A11: 0001100013190261 to 0001100013190306 | B11: =LEFT(A11,16) -> 0001100013190261 | C11: =RIGHT(A11,16) -> 0001100013190306 | D11: =C11-B11+1 -> 46
A12: 0001100013190997 to 0001100013191000 | B12: =LEFT(A12,16) -> 0001100013190997 | C12: =RIGHT(A12,16) -> 0001100013191000 | D12: =C12-B12+1 -> 4
A13: 0001100013437001 to 0001100013439000 | B13: =LEFT(A13,16) -> 0001100013437001 | C13: =RIGHT(A13,16) -> 0001100013439000 | D13: =C13-B13+1 -> 2000
... A18: 0001100013133001 to 0001100013139000 | B18: =LEFT(A18,16) -> 0001100013133001 | C18: =RIGHT(A18,16) -> 0001100013139000 | D18: =C18-B18+1 -> 6000
B19: =LEFT(A19,16) | C19: =RIGHT(A19,16)
B20: =LEFT(A20,16) | C20: =RIGHT(A20,16)
B21: =LEFT(A21,16) | C21: =RIGHT(A21,16)
B22: =LEFT(A22,16) | C22: =RIGHT(A22,16)

Sheet Feuil2
A1: deb | B1: fin | C1: diff | D1: delta
A2: 0001100012861001 | B2: 0001100012867000 | C2: 6000 | D2: =IF(AND(A2=A3,B2=B3),"",C2-C3)
A3: 0001100012861001 | B3: 0001100012867000 | C3: 6000 | D3: =IF(AND(A3=A2,B3=B2),"",C3-C2)
A4: 0001100012919001 | B4: 0001100012920999 | C4: 1999 | D4: =IF(AND(A4=A5,B4=B5),"",C4-C5) -> -1
A5: 0001100012919001 | B5: 0001100012921000 | C5: 2000 | D5: =IF(AND(A5=A4,B5=B4),"",C5-C4) -> 1
A6: 0001100012937001 | B6: 0001100012939000 | C6: 2000 | D6: =IF(AND(A6=A7,B6=B7),"",C6-C7)
A7: 0001100012937001 | B7: 0001100012939000 | C7: 2000 | D7: =IF(AND(A7=A6,B7=B6),"",C7-C6)
A8: 0001100013007001 | B8: 0001100013013000 | C8: 6000 | D8: =IF(AND(A8=A9,B8=B9),"",C8-C9)
A9: 0001100013007001 | B9: 0001100013013000 | C9: 6000 | D9: =IF(AND(A9=A8,B9=B8),"",C9-C8)
A10: 0001100013125001 | B10: 0001100013129000 | C10: 4000 | D10: =IF(AND(A10=A11,B10=B11),"",C10-C11) -> 2000
A11: 0001100013125001 | B11: 0001100013127000 | C11: 2000 | D11: =IF(AND(A11=A10,B11=B10),"",C11-C10) -> -2000
A12: 0001100013127001 | B12: 0001100013129000 | C12: 2000 | D12: =IF(AND(A12=A13,B12=B13),"",C12-C13) -> -6000
A13: 0001100013131001 | B13: 0001100013139000 | C13: 8000 | D13: =IF(AND(A13=A12,B13=B12),"",C13-C12) -> 6000
A14: 0001100013131001 | B14: 0001100013133000 | C14: 2000 | D14: =IF(AND(A14=A15,B14=B15),"",C14-C15) -> -4000
A15: 0001100013133001 | B15: 0001100013139000 | C15: 6000 | D15: =IF(AND(A15=A14,B15=B14),"",C15-C14) -> 4000
A16: 0001100013161001 | B16: 0001100013163000 | C16: 2000 | D16: =IF(AND(A16=A17,B16=B17),"",C16-C17)
A17: 0001100013161001 | B17: 0001100013163000 | C17: 2000 | D17: =IF(AND(A17=A16,B17=B16),"",C17-C16)
A18: 0001100013171001 | B18: 0001100013177000 | C18: 6000 | D18: =IF(AND(A18=A19,B18=B19),"",C18-C19)
A19: 0001100013171001 | B19: 0001100013177000 | C19: 6000 | D19: =IF(AND(A19=A18,B19=B18),"",C19-C18)
A20: 0001100013189001 | B20: 0001100013191000 | C20: 2000 | D20: =IF(AND(A20=A21,B20=B21),"",C20-C21) -> 1476
A21: 0001100013189001 | B21: 0001100013189524 | C21: 524 | D21: =IF(AND(A21=A20,B21=B20),"",C21-C20) -> -1476
A22: 0001100013189525 | B22: 0001100013189574 | C22: 50 | D22: =IF(AND(A22=A23,B22=B23),"",C22-C23) -> -636
A23: 0001100013189575 | B23: 0001100013190260 | C23: 686 | D23: =IF(AND(A23=A22,B23=B22),"",C23-C22) -> 636
A24: 0001100013190261 | B24: 0001100013190306 | C24: 46 | D24: =IF(AND(A24=A25,B24=B25),"",C24-C25) -> -644
A25: 0001100013190307 | B25: 0001100013190996 | C25: 690 | D25: =IF(AND(A25=A24,B25=B24),"",C25-C24) -> 644
A26: 0001100013190997 | B26: 0001100013191000 | C26: 4 | D26: =IF(AND(A26=A27,B26=B27),"",C26-C27) -> -1996
A27: 0001100013437001 | B27: 0001100013439000 | C27: 2000 | D27: =IF(AND(A27=A26,B27=B26),"",C27-C26) -> 1996
A28: 0001100013437001 | B28: 0001100013439000 | C28: 2000 | D28: =IF(AND(A28=A29,B28=B29),"",C28-C29) -> 2000
