Workbook
Name CODEMAGASIN: dashboard!$T$6:$T$16

Sheet dashboard
P1: 43132.606
B5: Code Magasin | E5: CENTRAL | H5: Description de l'échantillion | T5: Code magasin
B6: Travée N° | E6: T0451/T0461 | H6: Nombre des Réf. Théo. | J6: =COUNTA('Base INCADEA'!B:B)-1 -> 18 | T6: AT SKODA
H7: Valeur des Réf. Théo. | J7: =SUM('Etat Travée'!E:E) -> 409747.41 | T7: AT-ACC
B8: Date du 1er comptage | E8: 43186 | H8: Nombre des Réf. Scannées | J8: =COUNTA('Total Scan1'!B:B)-1 -> 18 | K8: =J8/J6 -> 1 | T8: AT-AUDI
B9: Date de Remise en casier des PDR déclassées | E9: 43186 | H9: Valeur des Réf. Scannées | J9: =SUM('Total Scan1'!D:D) -> 339984.73 | K9: =J9/J7 -> 0.82974223 | T9: AT-CARROSE
B10: Date du 2e comptage | E10: 43186 | T10: AT-EXPRESS
B11: Date du 3e comptage | E11: 43186 | H11: Nombre des Réf. déclassées | J11: =COUNTIF(Déclassé!D:D,"Article déclassé") -> 12 | T11: AT-GABES
T12: AT-PORSCHE
B13: Résultat du 1er Comptage | T13: AT-VW1
E14: Nombre | F14: Valeur | T14: AT-VW2
B15: Quantité Correcte | E15: =COUNTIF('Etat Travée'!G:G,0) -> 9 | F15: =SUMIF('Etat Travée'!G:G,"0",'Etat Travée'!E:E) -> 9558.209 | T15: AT-VWU
B16: Ecart Positif | E16: =COUNTIF('Etat Travée'!G:G,">0") -> 5 | F16: =SUMIF('Etat Travée'!G:G,">0",'Etat Travée'!H:H) -> 2451.674 | T16: CENTRAL
B17: Ecart Négatif | E17: =COUNTIF('Etat Travée'!G:G,"<0") -> 4 | F17: =SUMIF('Etat Travée'!G:G,"<0",'Etat Travée'!H:H) -> -72214.356
B19: Résultat du 2e Comptage
E20: Nombre | F20: Valeur
B21: Quantité Correcte | E21: =COUNTIF('Etat Travée'!J:J,0) -> 9 | F21: =SUMIF('Etat Travée'!J:J,"0",'Etat Travée'!E:E) -> 9558.209
B22: Ecart Positif | E22: =COUNTIF('Etat Travée'!J:J,">0") -> 4 | F22: =SUMIF('Etat Travée'!J:J,">0",'Etat Travée'!K:K) -> 1472.794
B23: Ecart Négatif | E23: =COUNTIF('Etat Travée'!J:J,"<0") -> 5 | F23: =SUMIF('Etat Travée'!J:J,"<0",'Etat Travée'!K:K) -> -159451.43
B25: Résultat du 3e Comptage
E26: Nombre | F26: Valeur
B27: Quantité Correcte | E27: =COUNTIF('Etat Travée'!M:M,"0") -> 10 | F27: =SUMIF('Etat Travée'!M:M,"0",'Etat Travée'!E:E) -> 30109.659
B28: Ecart Positif | E28: =COUNTIF('Etat Travée'!M:M,">0") -> 5 | F28: =SUMIF('Etat Travée'!M:M,">0",'Etat Travée'!N:N) -> 2451.674
B29: Ecart Négatif | E29: =COUNTIF('Etat Travée'!M:M,"<0") -> 3 | F29: =SUMIF('Etat Travée'!M:M,"<0",'Etat Travée'!N:N) -> -9886.273

Sheet Base INCADEA
A1: Ref. | B1: Casier Théo. | C1: Qte Théo. | D1: Montant Unitaire | E1: Tot.
A2: 038198119 | B2: 045703 | C2: 22 | D2: 208 | E2: 4576
A3: 058198119 | B3: 046102 | C3: 1 | D3: 164.303 | E3: 164.303
A4: 030198119A | B4: 045701 | C4: 33 | D4: 106.208 | E4: 3504.864
A5: 030198119B | B5: 046101 | C5: 1 | D5: 98.67 | E5: 98.67
A6: 036198119C | B6: 045103 | C6: 409 | D6: 248.64 | E6: 101693.76
A7: 036198119E | B7: 045503 | C7: 5 | D7: 258.974 | E7: 1294.87
A8: 038198119A | B8: 045303 | C8: 549 | D8: 195.776 | E8: 107481.02
A9: 03G198119B | B9: 045102 | C9: 8 | D9: 273.882 | E9: 2191.056
A10: 03G198119C | B10: 046101 | C10: 6 | D10: 278.13 | E10: 1668.78
A11: 03L198119E | B11: 045301 | C11: 62 | D11: 331.475 | E11: 20551.45
A12: 03L198119F | B12: 045501 | C12: 527 | D12: 269.184 | E12: 141859.97
A13: 06A198119D | B13: 045302 | C13: 177 | D13: 113.088 | E13: 20016.576
... A19: 8E0117335K | B19: 046101 | C19: 2 | D19: 28.404 | E19: 56.808

Sheet Code a barre
A1: Produit | B1: Casier Scanné | C1: Quantité scannée | D1: Casier Théorique | E1: Quantité Théorique
A2: 03L198119F | B2: 045101 | C2: 289 | D2: =IFERROR(VLOOKUP(A2,'Base INCADEA'!A:C,2,FALSE),"******") -> 045501 | E2: =IFERROR(VLOOKUP(A2,'Base INCADEA'!A:C,3,FALSE),"0") -> 527
A3: 06A198119D | B3: 045302 | C3: 185 | D3: =IFERROR(VLOOKUP(A3,'Base INCADEA'!A:C,2,FALSE),"******") -> 045302 | E3: =IFERROR(VLOOKUP(A3,'Base INCADEA'!A:C,3,FALSE),"0") -> 177
A4: 038198119A | B4: 045501 | C4: 554 | D4: =IFERROR(VLOOKUP(A4,'Base INCADEA'!A:C,2,FALSE),"******") -> 045303 | E4: =IFERROR(VLOOKUP(A4,'Base INCADEA'!A:C,3,FALSE),"0") -> 549
A5: 036198119C | B5: 045701 | C5: 379 | D5: =IFERROR(VLOOKUP(A5,'Base INCADEA'!A:C,2,FALSE),"******") -> 045103 | E5: =IFERROR(VLOOKUP(A5,'Base INCADEA'!A:C,3,FALSE),"0") -> 409
A6: 6Q0199293D | B6: 045902 | C6: 2 | D6: =IFERROR(VLOOKUP(A6,'Base INCADEA'!A:C,2,FALSE),"******") -> 045902 | E6: =IFERROR(VLOOKUP(A6,'Base INCADEA'!A:C,3,FALSE),"0") -> 1
A7: 038198119 | B7: 045902 | C7: 23 | D7: =IFERROR(VLOOKUP(A7,'Base INCADEA'!A:C,2,FALSE),"******") -> 045703 | E7: =IFERROR(VLOOKUP(A7,'Base INCADEA'!A:C,3,FALSE),"0") -> 22
A8: 030198119B | B8: 046101 | C8: 1 | D8: =IFERROR(VLOOKUP(A8,'Base INCADEA'!A:C,2,FALSE),"******") -> 046101 | E8: =IFERROR(VLOOKUP(A8,'Base INCADEA'!A:C,3,FALSE),"0") -> 1
A9: 058198119 | B9: 046101 | C9: 1 | D9: =IFERROR(VLOOKUP(A9,'Base INCADEA'!A:C,2,FALSE),"******") -> 046102 | E9: =IFERROR(VLOOKUP(A9,'Base INCADEA'!A:C,3,FALSE),"0") -> 1
A10: 03G198119C | B10: 046101 | C10: 6 | D10: =IFERROR(VLOOKUP(A10,'Base INCADEA'!A:C,2,FALSE),"******") -> 046101 | E10: =IFERROR(VLOOKUP(A10,'Base INCADEA'!A:C,3,FALSE),"0") -> 6
A11: 06A198119A | B11: 046101 | C11: 1 | D11: =IFERROR(VLOOKUP(A11,'Base INCADEA'!A:C,2,FALSE),"******") -> ****** | E11: =IFERROR(VLOOKUP(A11,'Base INCADEA'!A:C,3,FALSE),"0") -> 0
A12: 06J198401K | B12: 046101 | C12: 1 | D12: =IFERROR(VLOOKUP(A12,'Base INCADEA'!A:C,2,FALSE),"******") -> 046103 | E12: =IFERROR(VLOOKUP(A12,'Base INCADEA'!A:C,3,FALSE),"0") -> 1
A13: 8E0117335K | B13: 046101 | C13: 2 | D13: =IFERROR(VLOOKUP(A13,'Base INCADEA'!A:C,2,FALSE),"******") -> 046101 | E13: =IFERROR(VLOOKUP(A13,'Base INCADEA'!A:C,3,FALSE),"0") -> 2
... A19: 03L198119E | B19: 046103 | C19: 61 | D19: =IFERROR(VLOOKUP(A19,'Base INCADEA'!A:C,2,FALSE),"******") -> 045301 | E19: =IFERROR(VLOOKUP(A19,'Base INCADEA'!A:C,3,FALSE),"0") -> 62

Sheet TCD Déclassé
A3: Somme de Quantité scannée
A4: Produit | B4: Casier Scanné | C4: Casier Théorique | D4: Total
A5: 038198119A | B5: 045501 | C5: 045303 | D5: 554
A6: 036198119C | B6: 045701 | C6: 045103 | D6: 379
A7: 03L198119F | B7: 045101 | C7: 045501 | D7: 289
A8: 06A198119D | B8: 045302 | C8: 045302 | D8: 185
A9: 03L198119E | B9: 046103 | C9: 045301 | D9: 61
A10: 030198119A | B10: 046102 | C10: 045701 | D10: 35
A11: 038198119 | B11: 045902 | C11: 045703 | D11: 23
A12: 06F198119A | B12: 046102 | C12: 045902 | D12: 12
A13: 03G198119B | B13: 046101 | C13: 045102 | D13: 8
A14: 03G198119C | B14: 046101 | C14: 046101 | D14: 6
A15: 036198119E | B15: 046102 | C15: 045503 | D15: 5
A16: 2H0955453 | B16: 046101 | C16: 046101 | D16: 3
... A22: 030198119B | B22: 046101 | C22: 046101 | D22: 1
A23: (vide) | B23: (vide) | C23: (vide)
A24: Total général | D24: 1568

Sheet Déclassé
A1: Produit | B1: Casier Scanné | C1: Casier Théorique | D1: Vérification Casier
A2: 038198119A | B2: 045501 | C2: 045303 | D2: =IF(B2=C2,"OK","Article déclassé") -> Article déclassé
A3: 036198119C | B3: 045701 | C3: 045103 | D3: =IF(B3=C3,"OK","Article déclassé") -> Article déclassé
A4: 03L198119F | B4: 045101 | C4: 045501 | D4: =IF(B4=C4,"OK","Article déclassé") -> Article déclassé
A5: 06A198119D | B5: 045302 | C5: 045302 | D5: =IF(B5=C5,"OK","Article déclassé") -> OK
A6: 03L198119E | B6: 046103 | C6: 045301 | D6: =IF(B6=C6,"OK","Article déclassé") -> Article déclassé
A7: 030198119A | B7: 046102 | C7: 045701 | D7: =IF(B7=C7,"OK","Article déclassé") -> Article déclassé
A8: 038198119 | B8: 045902 | C8: 045703 | D8: =IF(B8=C8,"OK","Article déclassé") -> Article déclassé
A9: 06F198119A | B9: 046102 | C9: 045902 | D9: =IF(B9=C9,"OK","Article déclassé") -> Article déclassé
A10: 03G198119B | B10: 046101 | C10: 045102 | D10: =IF(B10=C10,"OK","Article déclassé") -> Article déclassé
A11: 03G198119C | B11: 046101 | C11: 046101 | D11: =IF(B11=C11,"OK","Article déclassé") -> OK
A12: 036198119E | B12: 046102 | C12: 045503 | D12: =IF(B12=C12,"OK","Article déclassé") -> Article déclassé
A13: 2H0955453 | B13: 046101 | C13: 046101 | D13: =IF(B13=C13,"OK","Article déclassé") -> OK
... A19: 030198119B | B19: 046101 | C19: 046101 | D19: =IF(B19=C19,"OK","Article déclassé") -> OK

Sheet TCD Total Scan1
A3: Étiquettes de lignes | B3: Somme de Quantité scannée
A4: 03L198119F | B4: 289
A5: 06A198119D | B5: 185
A6: 038198119A | B6: 554
A7: 036198119C | B7: 379
A8: 6Q0199293D | B8: 2
A9: 038198119 | B9: 23
A10: 030198119B | B10: 1
A11: 058198119 | B11: 1
A12: 03G198119C | B12: 6
A13: 06A198119A | B13: 1
A14: 06J198401K | B14: 1
A15: 8E0117335K | B15: 2
... A22: Total général | B22: 1568

Sheet Total Scan1
A1: Produit | B1: Quantité Scannée | C1: Montant Unitaire | D1: Tot.
A2: 03L198119F | B2: 289 | C2: =IFERROR(VLOOKUP(A2,'Base INCADEA'!A:E,4,0),0) -> 269.184 | D2: =C2*B2 -> 77794.176
A3: 06A198119D | B3: 185 | C3: =IFERROR(VLOOKUP(A3,'Base INCADEA'!A:E,4,0),0) -> 113.088 | D3: =C3*B3 -> 20921.28
A4: 038198119A | B4: 554 | C4: =IFERROR(VLOOKUP(A4,'Base INCADEA'!A:E,4,0),0) -> 195.776 | D4: =C4*B4 -> 108459.9
A5: 036198119C | B5: 379 | C5: =IFERROR(VLOOKUP(A5,'Base INCADEA'!A:E,4,0),0) -> 248.64 | D5: =C5*B5 -> 94234.56
A6: 6Q0199293D | B6: 2 | C6: =IFERROR(VLOOKUP(A6,'Base INCADEA'!A:E,4,0),0) -> 147.674 | D6: =C6*B6 -> 295.348
A7: 038198119 | B7: 23 | C7: =IFERROR(VLOOKUP(A7,'Base INCADEA'!A:E,4,0),0) -> 208 | D7: =C7*B7 -> 4784
A8: 030198119B | B8: 1 | C8: =IFERROR(VLOOKUP(A8,'Base INCADEA'!A:E,4,0),0) -> 98.67 | D8: =C8*B8 -> 98.67
A9: 058198119 | B9: 1 | C9: =IFERROR(VLOOKUP(A9,'Base INCADEA'!A:E,4,0),0) -> 164.303 | D9: =C9*B9 -> 164.303
A10: 03G198119C | B10: 6 | C10: =IFERROR(VLOOKUP(A10,'Base INCADEA'!A:E,4,0),0) -> 278.13 | D10: =C10*B10 -> 1668.78
A11: 06A198119A | B11: 1 | C11: =IFERROR(VLOOKUP(A11,'Base INCADEA'!A:E,4,0),0) -> 0 | D11: =C11*B11 -> 0
A12: 06J198401K | B12: 1 | C12: =IFERROR(VLOOKUP(A12,'Base INCADEA'!A:E,4,0),0) -> 840.287 | D12: =C12*B12 -> 840.287
A13: 8E0117335K | B13: 2 | C13: =IFERROR(VLOOKUP(A13,'Base INCADEA'!A:E,4,0),0) -> 28.404 | D13: =C13*B13 -> 56.808
... A19: 03L198119E | B19: 61 | C19: =IFERROR(VLOOKUP(A19,'Base INCADEA'!A:E,4,0),0) -> 331.475 | D19: =C19*B19 -> 20219.975

Sheet Saisie Comptage2
A1: Ref. | B1: Casier Théo. | C1: Qte Scannée 2éme Comptage
A2: 038198119 | B2: 045703 | C2: 23
A3: 030198119A | B3: 045701 | C3: 35
A4: 036198119C | B4: 045103 | C4: 377
A5: 038198119A | B5: 045303 | C5: 505
A6: 03L198119E | B6: 045301 | C6: 60
A7: 03L198119F | B7: 045501 | C7: 0
A8: 06A198119D | B8: 045302 | C8: 185
A9: 5C0422152F | B9: 046103 | C9: 0
A10: 6Q0199293D | B10: 045902 | C10: 2

Sheet Saisie Comptage3
A1: Ref. | B1: Casier Théo. | C1: Qte Théo. | D1: Montant unitaire | E1: Tot. | F1: Qte Scannée 3éme Comptage
A2: 038198119 | B2: 045703 | C2: 22 | D2: 208 | E2: 4576 | F2: 23
A3: 030198119A | B3: 045701 | C3: 33 | D3: 106.208 | E3: 3504.864 | F3: 35
A4: 036198119C | B4: 045103 | C4: 409 | D4: 248.64 | E4: 101693.76 | F4: 388
A5: 038198119A | B5: 045303 | C5: 549 | D5: 195.776 | E5: 107481.02 | F5: 554
A6: 03L198119E | B6: 045301 | C6: 62 | D6: 331.475 | E6: 20551.45 | F6: 62
A7: 03L198119F | B7: 045501 | C7: 527 | D7: 269.184 | E7: 141859.97 | F7: 511
A8: 06A198119D | B8: 045302 | C8: 177 | D8: 113.088 | E8: 20016.576 | F8: 185
A9: 5C0422152F | B9: 046103 | C9: 1 | D9: 357.889 | E9: 357.889 | F9: 0
A10: 6Q0199293D | B10: 045902 | C10: 1 | D10: 147.674 | E10: 147.674 | F10: 2

Sheet Top 10
A4: Références | B4: Ecart en valeur(1) | D4: Références | E4: Ecart en classement
A5: 030198119A | B5: 212.416 | D5: 03L198119F | E5: 1
A6: 030198119B | B6: 0 | D6: 036198119C | E6: 2
A7: 036198119C | B7: -7459.2 | D7: 5C0422152F | E7: 3
A8: 036198119E | B8: 0 | D8: 03L198119E | E8: 4
A9: 038198119 | B9: 208 | D9: 058198119 | E9: 5
A10: 038198119A | B10: 978.88 | D10: 8E0117335K | E10: 5
A11: 03G198119B | B11: 0 | D11: 03G198119B | E11: 5
A12: 03G198119C | B12: 0 | D12: 036198119E | E12: 5
A13: 03L198119E | B13: -331.475 | D13: 06F198119A | E13: 5
A14: 03L198119F | B14: -64065.792 | D14: 030198119B | E14: 5
A15: 058198119 | B15: 0 | D15: 06J198401K | E15: 5
A16: 06A198119D | B16: 904.704 | D16: 03G198119C | E16: 5
... A22: 8E0117335K | B22: 0 | D22: 038198119A | E22: 10
A23: Total général | B23: -69762.682 | D23: Total général

Sheet Etat Travée
A1: Ref. | B1: Casier Théo. | C1: Qte Théo. | D1: Montant unitaire | E1: Tot. | F1: Qte Scannée 1ére Comptage | G1: Ecart(1) | H1: Ecart en valeur(1) | I1: Qte Scannée 2éme Comptage | J1: Ecart(2) | K1: Ecart en valeur(2) | L1: Qte Scannée 3éme Comptage | M1: Ecart(3) | N1: Ecart en valeur(3) | O1: Observation
A2: 038198119 | B2: 045703 | C2: 22 | D2: 208 | E2: 4576 | F2: =IFERROR(VLOOKUP(A2,'Total Scan1'!A:B,2,FALSE),0) -> 23 | G2: =ABS(F2)-ABS(C2) -> 1 | H2: =G2*D2 -> 208 | I2: =IF(G2=0,F2,VLOOKUP(A2,'Saisie Comptage2'!A:C,3,0)) -> 23 | J2: =ABS(I2)-ABS(C2) -> 1 | K2: =J2*D2 -> 208 | L2: =IF(J2=0,I2,VLOOKUP(Tableau1[[#This Row],[Ref.]],'Saisie Comptage3'!A:F,6,0)) -> 23 | M2: =L2-C2 -> 1 | N2: =M2*D2 -> 208
A3: 058198119 | B3: 046102 | C3: 1 | D3: 164.303 | E3: 164.303 | F3: =IFERROR(VLOOKUP(A3,'Total Scan1'!A:B,2,FALSE),0) -> 1 | G3: =ABS(F3)-ABS(C3) -> 0 | H3: =G3*D3 -> 0 | I3: =IF(G3=0,F3,VLOOKUP(A3,'Saisie Comptage2'!A:C,3,0)) -> 1 | J3: =ABS(I3)-ABS(C3) -> 0 | K3: =J3*D3 -> 0 | L3: =IF(J3=0,I3,VLOOKUP(Tableau1[[#This Row],[Ref.]],'Saisie Comptage3'!A:F,6,0)) -> 1 | M3: =L3-C3 -> 0 | N3: =M3*D3 -> 0
A4: 030198119A | B4: 045701 | C4: 33 | D4: 106.208 | E4: 3504.864 | F4: =IFERROR(VLOOKUP(A4,'Total Scan1'!A:B,2,FALSE),0) -> 35 | G4: =ABS(F4)-ABS(C4) -> 2 | H4: =G4*D4 -> 212.416 | I4: =IF(G4=0,F4,VLOOKUP(A4,'Saisie Comptage2'!A:C,3,0)) -> 35 | J4: =ABS(I4)-ABS(C4) -> 2 | K4: =J4*D4 -> 212.416 | L4: =IF(J4=0,I4,VLOOKUP(Tableau1[[#This Row],[Ref.]],'Saisie Comptage3'!A:F,6,0)) -> 35 | M4: =L4-C4 -> 2 | N4: =M4*D4 -> 212.416
A5: 030198119B | B5: 046101 | C5: 1 | D5: 98.67 | E5: 98.67 | F5: =IFERROR(VLOOKUP(A5,'Total Scan1'!A:B,2,FALSE),0) -> 1 | G5: =ABS(F5)-ABS(C5) -> 0 | H5: =G5*D5 -> 0 | I5: =IF(G5=0,F5,VLOOKUP(A5,'Saisie Comptage2'!A:C,3,0)) -> 1 | J5: =ABS(I5)-ABS(C5) -> 0 | K5: =J5*D5 -> 0 | L5: =IF(J5=0,I5,VLOOKUP(Tableau1[[#This Row],[Ref.]],'Saisie Comptage3'!A:F,6,0)) -> 1 | M5: =L5-C5 -> 0 | N5: =M5*D5 -> 0
A6: 036198119C | B6: 045103 | C6: 409 | D6: 248.64 | E6: 101693.76 | F6: =IFERROR(VLOOKUP(A6,'Total Scan1'!A:B,2,FALSE),0) -> 379 | G6: =ABS(F6)-ABS(C6) -> -30 | H6: =G6*D6 -> -7459.2 | I6: =IF(G6=0,F6,VLOOKUP(A6,'Saisie Comptage2'!A:C,3,0)) -> 377 | J6: =ABS(I6)-ABS(C6) -> -32 | K6: =J6*D6 -> -7956.48 | L6: =IF(J6=0,I6,VLOOKUP(Tableau1[[#This Row],[Ref.]],'Saisie Comptage3'!A:F,6,0)) -> 388 | M6: =L6-C6 -> -21 | N6: =M6*D6 -> -5221.44
A7: 036198119E | B7: 045503 | C7: 5 | D7: 258.974 | E7: 1294.87 | F7: =IFERROR(VLOOKUP(A7,'Total Scan1'!A:B,2,FALSE),0) -> 5 | G7: =ABS(F7)-ABS(C7) -> 0 | H7: =G7*D7 -> 0 | I7: =IF(G7=0,F7,VLOOKUP(A7,'Saisie Comptage2'!A:C,3,0)) -> 5 | J7: =ABS(I7)-ABS(C7) -> 0 | K7: =J7*D7 -> 0 | L7: =IF(J7=0,I7,VLOOKUP(Tableau1[[#This Row],[Ref.]],'Saisie Comptage3'!A:F,6,0)) -> 5 | M7: =L7-C7 -> 0 | N7: =M7*D7 -> 0
A8: 038198119A | B8: 045303 | C8: 549 | D8: 195.776 | E8: 107481.02 | F8: =IFERROR(VLOOKUP(A8,'Total Scan1'!A:B,2,FALSE),0) -> 554 | G8: =ABS(F8)-ABS(C8) -> 5 | H8: =G8*D8 -> 978.88 | I8: =IF(G8=0,F8,VLOOKUP(A8,'Saisie Comptage2'!A:C,3,0)) -> 505 | J8: =ABS(I8)-ABS(C8) -> -44 | K8: =J8*D8 -> -8614.144 | L8: =IF(J8=0,I8,VLOOKUP(Tableau1[[#This Row],[Ref.]],'Saisie Comptage3'!A:F,6,0)) -> 554 | M8: =L8-C8 -> 5 | N8: =M8*D8 -> 978.88
A9: 03G198119B | B9: 045102 | C9: 8 | D9: 273.882 | E9: 2191.056 | F9: =IFERROR(VLOOKUP(A9,'Total Scan1'!A:B,2,FALSE),0) -> 8 | G9: =ABS(F9)-ABS(C9) -> 0 | H9: =G9*D9 -> 0 | I9: =IF(G9=0,F9,VLOOKUP(A9,'Saisie Comptage2'!A:C,3,0)) -> 8 | J9: =ABS(I9)-ABS(C9) -> 0 | K9: =J9*D9 -> 0 | L9: =IF(J9=0,I9,VLOOKUP(Tableau1[[#This Row],[Ref.]],'Saisie Comptage3'!A:F,6,0)) -> 8 | M9: =L9-C9 -> 0 | N9: =M9*D9 -> 0
A10: 03G198119C | B10: 046101 | C10: 6 | D10: 278.13 | E10: 1668.78 | F10: =IFERROR(VLOOKUP(A10,'Total Scan1'!A:B,2,FALSE),0) -> 6 | G10: =ABS(F10)-ABS(C10) -> 0 | H10: =G10*D10 -> 0 | I10: =IF(G10=0,F10,VLOOKUP(A10,'Saisie Comptage2'!A:C,3,0)) -> 6 | J10: =ABS(I10)-ABS(C10) -> 0 | K10: =J10*D10 -> 0 | L10: =IF(J10=0,I10,VLOOKUP(Tableau1[[#This Row],[Ref.]],'Saisie Comptage3'!A:F,6,0)) -> 6 | M10: =L10-C10 -> 0 | N10: =M10*D10 -> 0
A11: 03L198119E | B11: 045301 | C11: 62 | D11: 331.475 | E11: 20551.45 | F11: =IFERROR(VLOOKUP(A11,'Total Scan1'!A:B,2,FALSE),0) -> 61 | G11: =ABS(F11)-ABS(C11) -> -1 | H11: =G11*D11 -> -331.475 | I11: =IF(G11=0,F11,VLOOKUP(A11,'Saisie Comptage2'!A:C,3,0)) -> 60 | J11: =ABS(I11)-ABS(C11) -> -2 | K11: =J11*D11 -> -662.95 | L11: =IF(J11=0,I11,VLOOKUP(Tableau1[[#This Row],[Ref.]],'Saisie Comptage3'!A:F,6,0)) -> 62 | M11: =L11-C11 -> 0 | N11: =M11*D11 -> 0
A12: 03L198119F | B12: 045501 | C12: 527 | D12: 269.184 | E12: 141859.97 | F12: =IFERROR(VLOOKUP(A12,'Total Scan1'!A:B,2,FALSE),0) -> 289 | G12: =ABS(F12)-ABS(C12) -> -238 | H12: =G12*D12 -> -64065.792 | I12: =IF(G12=0,F12,VLOOKUP(A12,'Saisie Comptage2'!A:C,3,0)) -> 0 | J12: =ABS(I12)-ABS(C12) -> -527 | K12: =J12*D12 -> -141859.97 | L12: =IF(J12=0,I12,VLOOKUP(Tableau1[[#This Row],[Ref.]],'Saisie Comptage3'!A:F,6,0)) -> 511 | M12: =L12-C12 -> -16 | N12: =M12*D12 -> -4306.944
A13: 06A198119D | B13: 045302 | C13: 177 | D13: 113.088 | E13: 20016.576 | F13: =IFERROR(VLOOKUP(A13,'Total Scan1'!A:B,2,FALSE),0) -> 185 | G13: =ABS(F13)-ABS(C13) -> 8 | H13: =G13*D13 -> 904.704 | I13: =IF(G13=0,F13,VLOOKUP(A13,'Saisie Comptage2'!A:C,3,0)) -> 185 | J13: =ABS(I13)-ABS(C13) -> 8 | K13: =J13*D13 -> 904.704 | L13: =IF(J13=0,I13,VLOOKUP(Tableau1[[#This Row],[Ref.]],'Saisie Comptage3'!A:F,6,0)) -> 185 | M13: =L13-C13 -> 8 | N13: =M13*D13 -> 904.704
... A19: 8E0117335K | B19: 046101 | C19: 2 | D19: 28.404 | E19: 56.808 | F19: =IFERROR(VLOOKUP(A19,'Total Scan1'!A:B,2,FALSE),0) -> 2 | G19: =ABS(F19)-ABS(C19) -> 0 | H19: =G19*D19 -> 0 | I19: =IF(G19=0,F19,VLOOKUP(A19,'Saisie Comptage2'!A:C,3,0)) -> 2 | J19: =ABS(I19)-ABS(C19) -> 0 | K19: =J19*D19 -> 0 | L19: =IF(J19=0,I19,VLOOKUP(Tableau1[[#This Row],[Ref.]],'Saisie Comptage3'!A:F,6,0)) -> 2 | M19: =L19-C19 -> 0 | N19: =M19*D19 -> 0
