Workbook
Name base: Base!#REF!
Name base: #REF!
Name base1: Base!#REF!
Name base1: #REF!
Name Base2016: Base!#REF!
Name Base2016: #REF!
Name Base2017: Base!#REF!
Name Base2017: #REF!
Name basecap: Base!#REF!
Name baseqatar: Base!#REF!
Name baseqatar: #REF!
Name Codes: Base!$A$33:$J$216
Name Codes: #REF!

Sheet Paramètres
A1: =YEAR(TODAY()) -> 2019
B2: Paramètres
B4: Code Projet | C4: Année | D4: Devise | E4: Pays | F4: Ville | G4: Zone | H4: ="Code benchmark "&$A$1-1 -> Code benchmark 2018 | I4: Type de projet
B5: 8R-19-035 | C5: =INDEX(Base!$A2:$J9527,MATCH(Paramètres!$B$5,Base!$A2:$A9527,0),MATCH(Paramètres!C$4:C$4,Base!$A$2:$J$2,0)) -> 2019 | D5: =INDEX(Base!$A2:$J9527,MATCH(Paramètres!$B$5,Base!$A2:$A9527,0),MATCH(Paramètres!D$4:D$4,Base!$A$2:$J$2,0)) -> $ | E5: =INDEX(Base!$A2:$J9527,MATCH(Paramètres!$B$5,Base!$A2:$A9527,0),MATCH(Paramètres!E$4:E$4,Base!$A$2:$J$2,0)) -> USA | F5: =INDEX(Base!$A2:$J9527,MATCH(Paramètres!$B$5,Base!$A2:$A9527,0),MATCH(Paramètres!F$4:F$4,Base!$A$2:$J$2,0)) -> San Diego | G5: =INDEX(Base!$A2:$J9527,MATCH(Paramètres!$B$5,Base!$A2:$A9527,0),MATCH(Paramètres!G$4:G$4,Base!$A$2:$J$2,0)) -> North America | H5: USA2018ACCEPTEStandard | I5: =VLOOKUP(B5,Base!$A$1:$J$9527,9,FALSE) -> USA2019Spécial
B8: =INDEX(Base!$A$2:$J$9527,MATCH(H5,Base!$I$2:$I$9527,0),1) -> 8R-18-052 | C8: <-- me renvoie la première valeur de la matrice 'Base' correspondant à mon critère
C10: Quelle formule me permettrait de trouver les n-valeurs correspondant à mon critère ?

Sheet Feuil1
A1: Code LVMH | B1: (Tous)
A2: Projets acceptés par pays | B2: (Plusieurs éléments)
A4: Année | B4: Devise | C4: Pays | D4: Ville | E4: Zone
A5: 2015 | B5: $ | C5: Canada | D5: Brampton | E5: North America
D6: Calgary | E6: North America
D7: Edmonton | E7: North America
D8: Richmond Hill | E8: North America
D9: Toronto | E9: North America
D10: Vaughan | E10: North America
A11: Total 2015
A12: Total général

Sheet Base
A1: 1 | B1: 2 | C1: 3 | D1: 4 | E1: 5 | F1: 9 | G1: 10 | H1: 15 | I1: 18 | J1: 19
A2: Code LVMH | B2: Année | C2: Zone | D2: Pays | E2: Ville | F2: Type de projet | G2: Devise | H2: Acceptation | I2: Projets acceptés par pays | J2: Projets acceptés par régions
A3: 14-8D007 | B3: 2014 | C3: North America | D3: Canada | E3: Saint Catharines | F3: Standard | G3: $ | H3: ACCEPTE | I3: =CONCATENATE($D3,$B3,$H3,$F3) -> Canada2014ACCEPTEStandard | J3: =CONCATENATE($C3,$B3,$H3,$F3) -> North America2014ACCEPTEStandard
A4: 14-8D006 | B4: 2014 | C4: North America | D4: Canada | E4: Red Deer | F4: Standard | G4: $ | H4: ACCEPTE | I4: =CONCATENATE($D4,$B4,$H4,$F4) -> Canada2014ACCEPTEStandard | J4: =CONCATENATE($C4,$B4,$H4,$F4) -> North America2014ACCEPTEStandard
A5: 14-8D008 | B5: 2014 | C5: North America | D5: Canada | E5: Mississauga | F5: Spécial | G5: $ | H5: ACCEPTE | I5: =CONCATENATE($D5,$B5,$H5,$F5) -> Canada2014ACCEPTESpécial | J5: =CONCATENATE($C5,$B5,$H5,$F5) -> North America2014ACCEPTESpécial
A6: 14-8D005 | B6: 2014 | C6: North America | D6: USA | E6: Richmond | F6: Standard | G6: $ | H6: ACCEPTE | I6: =CONCATENATE($D6,$B6,$H6,$F6) -> USA2014ACCEPTEStandard | J6: =CONCATENATE($C6,$B6,$H6,$F6) -> North America2014ACCEPTEStandard
A7: 14-8D003 | B7: 2014 | C7: North America | D7: USA/Canada | F7: Spécial | G7: $ | H7: ACCEPTE | I7: =CONCATENATE($D7,$B7,$H7,$F7) -> USA/Canada2014ACCEPTESpécial | J7: =CONCATENATE($C7,$B7,$H7,$F7) -> North America2014ACCEPTESpécial
A8: 14-8D004 | B8: 2014 | C8: North America | D8: USA | E8: San Francisco | F8: Spécial | G8: $ | H8: ACCEPTE | I8: =CONCATENATE($D8,$B8,$H8,$F8) -> USA2014ACCEPTESpécial | J8: =CONCATENATE($C8,$B8,$H8,$F8) -> North America2014ACCEPTESpécial
A9: 14-8D009 | B9: 2014 | C9: North America | D9: USA | E9: Boston | F9: Standard | G9: $ | H9: ACCEPTE | I9: =CONCATENATE($D9,$B9,$H9,$F9) -> USA2014ACCEPTEStandard | J9: =CONCATENATE($C9,$B9,$H9,$F9) -> North America2014ACCEPTEStandard
A10: 14-8D011 | B10: 2014 | C10: North America | D10: USA | E10: Ft. Worth | F10: Standard | G10: $ | H10: ACCEPTE | I10: =CONCATENATE($D10,$B10,$H10,$F10) -> USA2014ACCEPTEStandard | J10: =CONCATENATE($C10,$B10,$H10,$F10) -> North America2014ACCEPTEStandard
A11: 14-8D010 | B11: 2014 | C11: North America | D11: USA | E11: Leawood | F11: Standard | G11: $ | H11: ACCEPTE | I11: =CONCATENATE($D11,$B11,$H11,$F11) -> USA2014ACCEPTEStandard | J11: =CONCATENATE($C11,$B11,$H11,$F11) -> North America2014ACCEPTEStandard
A12: 14-8D012 | B12: 2014 | C12: North America | D12: USA | E12: 14 villes concernées | F12: Spécial | G12: $ | H12: ACCEPTE | I12: =CONCATENATE($D12,$B12,$H12,$F12) -> USA2014ACCEPTESpécial | J12: =CONCATENATE($C12,$B12,$H12,$F12) -> North America2014ACCEPTESpécial
A13: 14-8D013 | B13: 2014 | C13: North America | D13: USA/Canada | E13: Toutes | F13: Spécial | G13: $ | H13: ACCEPTE | I13: =CONCATENATE($D13,$B13,$H13,$F13) -> USA/Canada2014ACCEPTESpécial | J13: =CONCATENATE($C13,$B13,$H13,$F13) -> North America2014ACCEPTESpécial
A14: 14-8R001 | B14: 2014 | C14: North America | D14: USA/Canada | E14: toutes | F14: Spécial | G14: $ | H14: ACCEPTE | I14: =CONCATENATE($D14,$B14,$H14,$F14) -> USA/Canada2014ACCEPTESpécial | J14: =CONCATENATE($C14,$B14,$H14,$F14) -> North America2014ACCEPTESpécial
A15: 14-8R501 | B15: 2014 | C15: North America | D15: USA | E15: Miami | F15: Standard | G15: $ | H15: ACCEPTE | I15: =CONCATENATE($D15,$B15,$H15,$F15) -> USA2014ACCEPTEStandard | J15: =CONCATENATE($C15,$B15,$H15,$F15) -> North America2014ACCEPTEStandard
A16: 14-8R502 | B16: 2014 | C16: North America | D16: USA | E16: Los Angeles | F16: Standard | G16: $ | H16: ACCEPTE | I16: =CONCATENATE($D16,$B16,$H16,$F16) -> USA2014ACCEPTEStandard | J16: =CONCATENATE($C16,$B16,$H16,$F16) -> North America2014ACCEPTEStandard
A17: 14-8R002 | B17: 2014 | C17: North America | D17: USA | E17: San Francisco | F17: Spécial | G17: $ | H17: ACCEPTE | I17: =CONCATENATE($D17,$B17,$H17,$F17) -> USA2014ACCEPTESpécial | J17: =CONCATENATE($C17,$B17,$H17,$F17) -> North America2014ACCEPTESpécial
A18: 14-8R003 | B18: 2014 | C18: North America | D18: USA | E18: Los Angeles | F18: Standard | G18: $ | H18: ACCEPTE | I18: =CONCATENATE($D18,$B18,$H18,$F18) -> USA2014ACCEPTEStandard | J18: =CONCATENATE($C18,$B18,$H18,$F18) -> North America2014ACCEPTEStandard
A19: 14-8R004 | B19: 2014 | C19: North America | D19: USA | E19: San Francisco | F19: Standard | G19: $ | H19: ACCEPTE | I19: =CONCATENATE($D19,$B19,$H19,$F19) -> USA2014ACCEPTEStandard | J19: =CONCATENATE($C19,$B19,$H19,$F19) -> North America2014ACCEPTEStandard
... A63: 15-8R-029 | B63: 2015 | C63: North America | D63: USA | E63: Southlake | F63: Standard | G63: $ | H63: ACCEPTE | I63: =CONCATENATE($D63,$B63,$H63,$F63) -> USA2015ACCEPTEStandard | J63: =CONCATENATE($C63,$B63,$H63,$F63) -> North America2015ACCEPTEStandard
A64: 15-8R-030 | B64: 2015 | C64: North America | D64: USA | F64: Spécial | G64: $ | H64: ACCEPTE | I64: =CONCATENATE($D64,$B64,$H64,$F64) -> USA2015ACCEPTESpécial | J64: =CONCATENATE($C64,$B64,$H64,$F64) -> North America2015ACCEPTESpécial
A65: 15-8R-031 | B65: 2015 | C65: North America | D65: USA | E65: Chicago | F65: Standard | G65: $ | H65: ACCEPTE | I65: =CONCATENATE($D65,$B65,$H65,$F65) -> USA2015ACCEPTEStandard | J65: =CONCATENATE($C65,$B65,$H65,$F65) -> North America2015ACCEPTEStandard
A66: 15-8R-032 | B66: 2015 | C66: North America | D66: Canada | E66: Toronto | F66: Spécial | G66: $ | H66: ACCEPTE | I66: =CONCATENATE($D66,$B66,$H66,$F66) -> Canada2015ACCEPTESpécial | J66: =CONCATENATE($C66,$B66,$H66,$F66) -> North America2015ACCEPTESpécial
A67: 15-8R-033 | B67: 2015 | C67: North America | D67: Canada | E67: Toronto | F67: Spécial | G67: $ | H67: ACCEPTE | I67: =CONCATENATE($D67,$B67,$H67,$F67) -> Canada2015ACCEPTESpécial | J67: =CONCATENATE($C67,$B67,$H67,$F67) -> North America2015ACCEPTESpécial
A68: 15-8R-506 | B68: 2015 | C68: North America | D68: USA | E68: Los Angeles | F68: Standard | G68: $ | H68: ACCEPTE | I68: =CONCATENATE($D68,$B68,$H68,$F68) -> USA2015ACCEPTEStandard | J68: =CONCATENATE($C68,$B68,$H68,$F68) -> North America2015ACCEPTEStandard
A69: 15-8R-507 | B69: 2015 | C69: North America | D69: USA | E69: Houston | F69: Standard | G69: $ | H69: ACCEPTE | I69: =CONCATENATE($D69,$B69,$H69,$F69) -> USA2015ACCEPTEStandard | J69: =CONCATENATE($C69,$B69,$H69,$F69) -> North America2015ACCEPTEStandard
A70: 15-8R-508 | B70: 2015 | C70: North America | D70: Canada | E70: Brampton | F70: Standard | G70: $ | H70: ACCEPTE | I70: =CONCATENATE($D70,$B70,$H70,$F70) -> Canada2015ACCEPTEStandard | J70: =CONCATENATE($C70,$B70,$H70,$F70) -> North America2015ACCEPTEStandard
A71: 15-8R-034 | B71: 2015 | C71: North America | F71: Spécial | G71: $ | H71: ACCEPTE | I71: =CONCATENATE($D71,$B71,$H71,$F71) -> 2015ACCEPTESpécial | J71: =CONCATENATE($C71,$B71,$H71,$F71) -> North America2015ACCEPTESpécial
A72: 15-8R-509 | B72: 2015 | C72: North America | D72: USA | E72: Atlanta | F72: Standard | G72: $ | H72: ACCEPTE | I72: =CONCATENATE($D72,$B72,$H72,$F72) -> USA2015ACCEPTEStandard | J72: =CONCATENATE($C72,$B72,$H72,$F72) -> North America2015ACCEPTEStandard
A73: 15-8R-513 | B73: 2015 | C73: North America | D73: USA | E73: Fremont | F73: Standard | G73: $ | H73: ACCEPTE | I73: =CONCATENATE($D73,$B73,$H73,$F73) -> USA2015ACCEPTEStandard | J73: =CONCATENATE($C73,$B73,$H73,$F73) -> North America2015ACCEPTEStandard
A74: 15-8R-512 | B74: 2015 | C74: North America | D74: Canada | E74: Vaughan | F74: Standard | G74: $ | H74: ACCEPTE | I74: =CONCATENATE($D74,$B74,$H74,$F74) -> Canada2015ACCEPTEStandard | J74: =CONCATENATE($C74,$B74,$H74,$F74) -> North America2015ACCEPTEStandard
A75: 15-8R-511 | B75: 2015 | C75: North America | D75: USA | E75: Merrifield | F75: Standard | G75: $ | H75: ACCEPTE | I75: =CONCATENATE($D75,$B75,$H75,$F75) -> USA2015ACCEPTEStandard | J75: =CONCATENATE($C75,$B75,$H75,$F75) -> North America2015ACCEPTEStandard
A76: 15-8R-510 | B76: 2015 | C76: North America | D76: USA | E76: Austin | F76: Standard | G76: $ | H76: ACCEPTE | I76: =CONCATENATE($D76,$B76,$H76,$F76) -> USA2015ACCEPTEStandard | J76: =CONCATENATE($C76,$B76,$H76,$F76) -> North America2015ACCEPTEStandard
A77: 15-8R-515 | B77: 2015 | C77: North America | D77: USA | E77: Various | F77: Spécial | G77: $ | H77: ACCEPTE | I77: =CONCATENATE($D77,$B77,$H77,$F77) -> USA2015ACCEPTESpécial | J77: =CONCATENATE($C77,$B77,$H77,$F77) -> North America2015ACCEPTESpécial
A78: 15-8R-514 | B78: 2015 | C78: North America | D78: USA | E78: Various | F78: Spécial | G78: $ | H78: ACCEPTE | I78: =CONCATENATE($D78,$B78,$H78,$F78) -> USA2015ACCEPTESpécial | J78: =CONCATENATE($C78,$B78,$H78,$F78) -> North America2015ACCEPTESpécial
A79: 15-8R-516 | B79: 2015 | C79: North America | D79: USA | E79: Houston | F79: Standard | G79: $ | H79: ACCEPTE | I79: =CONCATENATE($D79,$B79,$H79,$F79) -> USA2015ACCEPTEStandard | J79: =CONCATENATE($C79,$B79,$H79,$F79) -> North America2015ACCEPTEStandard
A80: 15-8R-036 | B80: 2015 | C80: North America | D80: USA | E80: Perryman | F80: Spécial | G80: $ | H80: ACCEPTE | I80: =CONCATENATE($D80,$B80,$H80,$F80) -> USA2015ACCEPTESpécial | J80: =CONCATENATE($C80,$B80,$H80,$F80) -> North America2015ACCEPTESpécial
A81: 15-8R-518 | B81: 2015 | C81: North America | D81: USA | E81: Head Office | F81: Spécial | G81: $ | H81: ACCEPTE | I81: =CONCATENATE($D81,$B81,$H81,$F81) -> USA2015ACCEPTESpécial | J81: =CONCATENATE($C81,$B81,$H81,$F81) -> North America2015ACCEPTESpécial
A82: 15-8R-517 | B82: 2015 | C82: North America | D82: USA | E82: San Francisco | F82: Standard | G82: $ | H82: ACCEPTE | I82: =CONCATENATE($D82,$B82,$H82,$F82) -> USA2015ACCEPTEStandard | J82: =CONCATENATE($C82,$B82,$H82,$F82) -> North America2015ACCEPTEStandard
A83: 15-8R-035 | B83: 2015 | C83: North America | F83: Spécial | G83: $ | H83: ACCEPTE | I83: =CONCATENATE($D83,$B83,$H83,$F83) -> 2015ACCEPTESpécial | J83: =CONCATENATE($C83,$B83,$H83,$F83) -> North America2015ACCEPTESpécial
...
