Workbook
Name base: Base!#REF!
Name base: #REF!
Name base1: Base!#REF!
Name base1: #REF!
Name Base2016: Base!#REF!
Name Base2016: #REF!
Name Base2017: Base!#REF!
Name Base2017: #REF!
Name basecap: Base!#REF!
Name baseqatar: Base!#REF!
Name baseqatar: #REF!
Name Codes: Base!$A$33:$J$216
Name Codes: #REF!

Sheet Paramètres
A1: =YEAR(TODAY()) -> 2019
B2: Paramètres
B4: Code Projet | C4: Année | D4: Devise | E4: Pays | F4: Ville | G4: Zone | H4: ="Code benchmark "&$A$1-1 -> Code benchmark 2018 | I4: Type de projet
B5: 8R-19-035 | C5: =INDEX(Base!$A2:$J9527,MATCH(Paramètres!$B$5,Base!$A2:$A9527,0),MATCH(Paramètres!C$4:C$4,Base!$A$2:$J$2,0)) -> 2019 | D5: =INDEX(Base!$A2:$J9527,MATCH(Paramètres!$B$5,Base!$A2:$A9527,0),MATCH(Paramètres!D$4:D$4,Base!$A$2:$J$2,0)) -> $ | E5: =INDEX(Base!$A2:$J9527,MATCH(Paramètres!$B$5,Base!$A2:$A9527,0),MATCH(Paramètres!E$4:E$4,Base!$A$2:$J$2,0)) -> USA | F5: =INDEX(Base!$A2:$J9527,MATCH(Paramètres!$B$5,Base!$A2:$A9527,0),MATCH(Paramètres!F$4:F$4,Base!$A$2:$J$2,0)) -> San Diego | G5: =INDEX(Base!$A2:$J9527,MATCH(Paramètres!$B$5,Base!$A2:$A9527,0),MATCH(Paramètres!G$4:G$4,Base!$A$2:$J$2,0)) -> North America | H5: USA2018ACCEPTEStandard | I5: =VLOOKUP(B5,Base!$A$1:$J$9527,9,FALSE) -> USA2019Spécial
B8: =INDEX(Base!$A$2:$J$9527,MATCH(H5,Base!$I$2:$I$9527,0),1) -> 8R-18-052 | C8: <-- me renvoie la première valeur de la matrice 'Base' correspondant à mon critère
C10: Quelle formule me permettrait de trouver les n-valeurs correspondant à mon critère ?

Sheet Feuil1
A1: Code LVMH | B1: (Tous)
A2: Projets acceptés par pays | B2: (Plusieurs éléments)
A4: Année | B4: Devise | C4: Pays | D4: Ville | E4: Zone
A5: 2015 | B5: $ | C5: Canada | D5: Brampton | E5: North America
D6: Calgary | E6: North America
D7: Edmonton | E7: North America
D8: Richmond Hill | E8: North America
D9: Toronto | E9: North America
D10: Vaughan | E10: North America
A11: Total 2015
A12: Total général

Sheet Base
A1: 1 | B1: 2 | C1: 3 | D1: 4 | E1: 5 | F1: 9 | G1: 10 | H1: 15 | I1: 18 | J1: 19
A2: Code LVMH | B2: Année | C2: Zone | D2: Pays | E2: Ville | F2: Type de projet | G2: Devise | H2: Acceptation | I2: Projets acceptés par pays | J2: Projets acceptés par régions
A3: 14-8D007 | B3: 2014 | C3: North America | D3: Canada | E3: Saint Catharines | F3: Standard | G3: $ | H3: ACCEPTE | I3: =CONCATENATE($D3,$B3,$H3,$F3) -> Canada2014ACCEPTEStandard | J3: =CONCATENATE($C3,$B3,$H3,$F3) -> North America2014ACCEPTEStandard
A4: 14-8D006 | B4: 2014 | C4: North America | D4: Canada | E4: Red Deer | F4: Standard | G4: $ | H4: ACCEPTE | I4: =CONCATENATE($D4,$B4,$H4,$F4) -> Canada2014ACCEPTEStandard | J4: =CONCATENATE($C4,$B4,$H4,$F4) -> North America2014ACCEPTEStandard
A5: 14-8D008 | B5: 2014 | C5: North America | D5: Canada | E5: Mississauga | F5: Spécial | G5: $ | H5: ACCEPTE | I5: =CONCATENATE($D5,$B5,$H5,$F5) -> Canada2014ACCEPTESpécial | J5: =CONCATENATE($C5,$B5,$H5,$F5) -> North America2014ACCEPTESpécial
A6: 14-8D005 | B6: 2014 | C6: North America | D6: USA | E6: Richmond | F6: Standard | G6: $ | H6: ACCEPTE | I6: =CONCATENATE($D6,$B6,$H6,$F6) -> USA2014ACCEPTEStandard | J6: =CONCATENATE($C6,$B6,$H6,$F6) -> North America2014ACCEPTEStandard
A7: 14-8D003 | B7: 2014 | C7: North America | D7: USA/Canada | F7: Spécial | G7: $ | H7: ACCEPTE | I7: =CONCATENATE($D7,$B7,$H7,$F7) -> USA/Canada2014ACCEPTESpécial | J7: =CONCATENATE($C7,$B7,$H7,$F7) -> North America2014ACCEPTESpécial
A8: 14-8D004 | B8: 2014 | C8: North America | D8: USA | E8: San Francisco | F8: Spécial | G8: $ | H8: ACCEPTE | I8: =CONCATENATE($D8,$B8,$H8,$F8) -> USA2014ACCEPTESpécial | J8: =CONCATENATE($C8,$B8,$H8,$F8) -> North America2014ACCEPTESpécial
A9: 14-8D009 | B9: 2014 | C9: North America | D9: USA | E9: Boston | F9: Standard | G9: $ | H9: ACCEPTE | I9: =CONCATENATE($D9,$B9,$H9,$F9) -> USA2014ACCEPTEStandard | J9: =CONCATENATE($C9,$B9,$H9,$F9) -> North America2014ACCEPTEStandard
A10: 14-8D011 | B10: 2014 | C10: North America | D10: USA | E10: Ft. Worth | F10: Standard | G10: $ | H10: ACCEPTE | I10: =CONCATENATE($D10,$B10,$H10,$F10) -> USA2014ACCEPTEStandard | J10: =CONCATENATE($C10,$B10,$H10,$F10) -> North America2014ACCEPTEStandard
A11: 14-8D010 | B11: 2014 | C11: North America | D11: USA | E11: Leawood | F11: Standard | G11: $ | H11: ACCEPTE | I11: =CONCATENATE($D11,$B11,$H11,$F11) -> USA2014ACCEPTEStandard | J11: =CONCATENATE($C11,$B11,$H11,$F11) -> North America2014ACCEPTEStandard
A12: 14-8D012 | B12: 2014 | C12: North America | D12: USA | E12: 14 villes concernées | F12: Spécial | G12: $ | H12: ACCEPTE | I12: =CONCATENATE($D12,$B12,$H12,$F12) -> USA2014ACCEPTESpécial | J12: =CONCATENATE($C12,$B12,$H12,$F12) -> North America2014ACCEPTESpécial
A13: 14-8D013 | B13: 2014 | C13: North America | D13: USA/Canada | E13: Toutes | F13: Spécial | G13: $ | H13: ACCEPTE | I13: =CONCATENATE($D13,$B13,$H13,$F13) -> USA/Canada2014ACCEPTESpécial | J13: =CONCATENATE($C13,$B13,$H13,$F13) -> North America2014ACCEPTESpécial
A14: 14-8R001 | B14: 2014 | C14: North America | D14: USA/Canada | E14: toutes | F14: Spécial | G14: $ | H14: ACCEPTE | I14: =CONCATENATE($D14,$B14,$H14,$F14) -> USA/Canada2014ACCEPTESpécial | J14: =CONCATENATE($C14,$B14,$H14,$F14) -> North America2014ACCEPTESpécial
A15: 14-8R501 | B15: 2014 | C15: North America | D15: USA | E15: Miami | F15: Standard | G15: $ | H15: ACCEPTE | I15: =CONCATENATE($D15,$B15,$H15,$F15) -> USA2014ACCEPTEStandard | J15: =CONCATENATE($C15,$B15,$H15,$F15) -> North America2014ACCEPTEStandard
A16: 14-8R502 | B16: 2014 | C16: North America | D16: USA | E16: Los Angeles | F16: Standard | G16: $ | H16: ACCEPTE | I16: =CONCATENATE($D16,$B16,$H16,$F16) -> USA2014ACCEPTEStandard | J16: =CONCATENATE($C16,$B16,$H16,$F16) -> North America2014ACCEPTEStandard
A17: 14-8R002 | B17: 2014 | C17: North America | D17: USA | E17: San Francisco | F17: Spécial | G17: $ | H17: ACCEPTE | I17: =CONCATENATE($D17,$B17,$H17,$F17) -> USA2014ACCEPTESpécial | J17: =CONCATENATE($C17,$B17,$H17,$F17) -> North America2014ACCEPTESpécial
A18: 14-8R003 | B18: 2014 | C18: North America | D18: USA | E18: Los Angeles | F18: Standard | G18: $ | H18: ACCEPTE | I18: =CONCATENATE($D18,$B18,$H18,$F18) -> USA2014ACCEPTEStandard | J18: =CONCATENATE($C18,$B18,$H18,$F18) -> North America2014ACCEPTEStandard
A19: 14-8R004 | B19: 2014 | C19: North America | D19: USA | E19: San Francisco | F19: Standard | G19: $ | H19: ACCEPTE | I19: =CONCATENATE($D19,$B19,$H19,$F19) -> USA2014ACCEPTEStandard | J19: =CONCATENATE($C19,$B19,$H19,$F19) -> North America2014ACCEPTEStandard
... A63: 15-8R-029 | B63: 2015 | C63: North America | D63: USA | E63: Southlake | F63: Standard | G63: $ | H63: ACCEPTE | I63: =CONCATENATE($D63,$B63,$H63,$F63) -> USA2015ACCEPTEStandard | J63: =CONCATENATE($C63,$B63,$H63,$F63) -> North America2015ACCEPTEStandard
A64: 15-8R-030 | B64: 2015 | C64: North America | D64: USA | F64: Spécial | G64: $ | H64: ACCEPTE | I64: =CONCATENATE($D64,$B64,$H64,$F64) -> USA2015ACCEPTESpécial | J64: =CONCATENATE($C64,$B64,$H64,$F64) -> North America2015ACCEPTESpécial
A65: 15-8R-031 | B65: 2015 | C65: North America | D65: USA | E65: Chicago | F65: Standard | G65: $ | H65: ACCEPTE | I65: =CONCATENATE($D65,$B65,$H65,$F65) -> USA2015ACCEPTEStandard | J65: =CONCATENATE($C65,$B65,$H65,$F65) -> North America2015ACCEPTEStandard
A66: 15-8R-032 | B66: 2015 | C66: North America | D66: Canada | E66: Toronto | F66: Spécial | G66: $ | H66: ACCEPTE | I66: =CONCATENATE($D66,$B66,$H66,$F66) -> Canada2015ACCEPTESpécial | J66: =CONCATENATE($C66,$B66,$H66,$F66) -> North America2015ACCEPTESpécial
A67: 15-8R-033 | B67: 2015 | C67: North America | D67: Canada | E67: Toronto | F67: Spécial | G67: $ | H67: ACCEPTE | I67: =CONCATENATE($D67,$B67,$H67,$F67) -> Canada2015ACCEPTESpécial | J67: =CONCATENATE($C67,$B67,$H67,$F67) -> North America2015ACCEPTESpécial
A68: 15-8R-506 | B68: 2015 | C68: North America | D68: USA | E68: Los Angeles | F68: Standard | G68: $ | H68: ACCEPTE | I68: =CONCATENATE($D68,$B68,$H68,$F68) -> USA2015ACCEPTEStandard | J68: =CONCATENATE($C68,$B68,$H68,$F68) -> North America2015ACCEPTEStandard
A69: 15-8R-507 | B69: 2015 | C69: North America | D69: USA | E69: Houston | F69: Standard | G69: $ | H69: ACCEPTE | I69: =CONCATENATE($D69,$B69,$H69,$F69) -> USA2015ACCEPTEStandard | J69: =CONCATENATE($C69,$B69,$H69,$F69) -> North America2015ACCEPTEStandard
A70: 15-8R-508 | B70: 2015 | C70: North America | D70: Canada | E70: Brampton | F70: Standard | G70: $ | H70: ACCEPTE | I70: =CONCATENATE($D70,$B70,$H70,$F70) -> Canada2015ACCEPTEStandard | J70: =CONCATENATE($C70,$B70,$H70,$F70) -> North America2015ACCEPTEStandard
A71: 15-8R-034 | B71: 2015 | C71: North America | F71: Spécial | G71: $ | H71: ACCEPTE | I71: =CONCATENATE($D71,$B71,$H71,$F71) -> 2015ACCEPTESpécial | J71: =CONCATENATE($C71,$B71,$H71,$F71) -> North America2015ACCEPTESpécial
A72: 15-8R-509 | B72: 2015 | C72: North America | D72: USA | E72: Atlanta | F72: Standard | G72: $ | H72: ACCEPTE | I72: =CONCATENATE($D72,$B72,$H72,$F72) -> USA2015ACCEPTEStandard | J72: =CONCATENATE($C72,$B72,$H72,$F72) -> North America2015ACCEPTEStandard
A73: 15-8R-513 | B73: 2015 | C73: North America | D73: USA | E73: Fremont | F73: Standard | G73: $ | H73: ACCEPTE | I73: =CONCATENATE($D73,$B73,$H73,$F73) -> USA2015ACCEPTEStandard | J73: =CONCATENATE($C73,$B73,$H73,$F73) -> North America2015ACCEPTEStandard
A74: 15-8R-512 | B74: 2015 | C74: North America | D74: Canada | E74: Vaughan | F74: Standard | G74: $ | H74: ACCEPTE | I74: =CONCATENATE($D74,$B74,$H74,$F74) -> Canada2015ACCEPTEStandard | J74: =CONCATENATE($C74,$B74,$H74,$F74) -> North America2015ACCEPTEStandard
A75: 15-8R-511 | B75: 2015 | C75: North America | D75: USA | E75: Merrifield | F75: Standard | G75: $ | H75: ACCEPTE | I75: =CONCATENATE($D75,$B75,$H75,$F75) -> USA2015ACCEPTEStandard | J75: =CONCATENATE($C75,$B75,$H75,$F75) -> North America2015ACCEPTEStandard
A76: 15-8R-510 | B76: 2015 | C76: North America | D76: USA | E76: Austin | F76: Standard | G76: $ | H76: ACCEPTE | I76: =CONCATENATE($D76,$B76,$H76,$F76) -> USA2015ACCEPTEStandard | J76: =CONCATENATE($C76,$B76,$H76,$F76) -> North America2015ACCEPTEStandard
A77: 15-8R-515 | B77: 2015 | C77: North America | D77: USA | E77: Various | F77: Spécial | G77: $ | H77: ACCEPTE | I77: =CONCATENATE($D77,$B77,$H77,$F77) -> USA2015ACCEPTESpécial | J77: =CONCATENATE($C77,$B77,$H77,$F77) -> North America2015ACCEPTESpécial
A78: 15-8R-514 | B78: 2015 | C78: North America | D78: USA | E78: Various | F78: Spécial | G78: $ | H78: ACCEPTE | I78: =CONCATENATE($D78,$B78,$H78,$F78) -> USA2015ACCEPTESpécial | J78: =CONCATENATE($C78,$B78,$H78,$F78) -> North America2015ACCEPTESpécial
A79: 15-8R-516 | B79: 2015 | C79: North America | D79: USA | E79: Houston | F79: Standard | G79: $ | H79: ACCEPTE | I79: =CONCATENATE($D79,$B79,$H79,$F79) -> USA2015ACCEPTEStandard | J79: =CONCATENATE($C79,$B79,$H79,$F79) -> North America2015ACCEPTEStandard
A80: 15-8R-036 | B80: 2015 | C80: North America | D80: USA | E80: Perryman | F80: Spécial | G80: $ | H80: ACCEPTE | I80: =CONCATENATE($D80,$B80,$H80,$F80) -> USA2015ACCEPTESpécial | J80: =CONCATENATE($C80,$B80,$H80,$F80) -> North America2015ACCEPTESpécial
A81: 15-8R-518 | B81: 2015 | C81: North America | D81: USA | E81: Head Office | F81: Spécial | G81: $ | H81: ACCEPTE | I81: =CONCATENATE($D81,$B81,$H81,$F81) -> USA2015ACCEPTESpécial | J81: =CONCATENATE($C81,$B81,$H81,$F81) -> North America2015ACCEPTESpécial
A82: 15-8R-517 | B82: 2015 | C82: North America | D82: USA | E82: San Francisco | F82: Standard | G82: $ | H82: ACCEPTE | I82: =CONCATENATE($D82,$B82,$H82,$F82) -> USA2015ACCEPTEStandard | J82: =CONCATENATE($C82,$B82,$H82,$F82) -> North America2015ACCEPTEStandard
A83: 15-8R-035 | B83: 2015 | C83: North America | F83: Spécial | G83: $ | H83: ACCEPTE | I83: =CONCATENATE($D83,$B83,$H83,$F83) -> 2015ACCEPTESpécial | J83: =CONCATENATE($C83,$B83,$H83,$F83) -> North America2015ACCEPTESpécial
A84: 16-8R-002 | B84: 2016 | C84: North America | D84: USA | E84: Orlando | F84: Standard | G84: $ | H84: ACCEPTE | I84: =CONCATENATE($D84,$B84,$H84,$F84) -> USA2016ACCEPTEStandard | J84: =CONCATENATE($C84,$B84,$H84,$F84) -> North America2016ACCEPTEStandard
A85: 16-8R-020 | B85: 2016 | C85: North America | D85: USA | E85: Stanford | F85: Spécial | G85: $ | H85: ACCEPTE | I85: =CONCATENATE($D85,$B85,$H85,$F85) -> USA2016ACCEPTESpécial | J85: =CONCATENATE($C85,$B85,$H85,$F85) -> North America2016ACCEPTESpécial
A86: 16-8R-021 | B86: 2016 | C86: North America | D86: USA | E86: Costa Mesa | F86: Spécial | G86: $ | H86: ACCEPTE | I86: =CONCATENATE($D86,$B86,$H86,$F86) -> USA2016ACCEPTESpécial | J86: =CONCATENATE($C86,$B86,$H86,$F86) -> North America2016ACCEPTESpécial
A87: 16-8R-022 | B87: 2016 | C87: North America | D87: USA | E87: Los Angeles | F87: Spécial | G87: $ | H87: ACCEPTE | I87: =CONCATENATE($D87,$B87,$H87,$F87) -> USA2016ACCEPTESpécial | J87: =CONCATENATE($C87,$B87,$H87,$F87) -> North America2016ACCEPTESpécial
A88: 16-8R-523 | B88: 2016 | C88: North America | D88: Canada | E88: Oakville | F88: Standard | G88: $ | H88: ACCEPTE | I88: =CONCATENATE($D88,$B88,$H88,$F88) -> Canada2016ACCEPTEStandard | J88: =CONCATENATE($C88,$B88,$H88,$F88) -> North America2016ACCEPTEStandard
A89: 16-8R-005 | B89: 2016 | C89: North America | D89: USA | E89: East Rutherford | F89: Standard | G89: $ | H89: ACCEPTE | I89: =CONCATENATE($D89,$B89,$H89,$F89) -> USA2016ACCEPTEStandard | J89: =CONCATENATE($C89,$B89,$H89,$F89) -> North America2016ACCEPTEStandard
A90: 16-8R-006 | B90: 2016 | C90: North America | D90: USA | E90: San Francisco | F90: Standard | G90: $ | H90: ACCEPTE | I90: =CONCATENATE($D90,$B90,$H90,$F90) -> USA2016ACCEPTEStandard | J90: =CONCATENATE($C90,$B90,$H90,$F90) -> North America2016ACCEPTEStandard
A91: 16-8R-518 | B91: 2016 | C91: North America | D91: USA | E91: Seattle | F91: Standard | G91: $ | H91: ACCEPTE | I91: =CONCATENATE($D91,$B91,$H91,$F91) -> USA2016ACCEPTEStandard | J91: =CONCATENATE($C91,$B91,$H91,$F91) -> North America2016ACCEPTEStandard
A92: 16-8R-519 | B92: 2016 | C92: North America | D92: USA | E92: Germantown | F92: Standard | G92: $ | H92: ACCEPTE | I92: =CONCATENATE($D92,$B92,$H92,$F92) -> USA2016ACCEPTEStandard | J92: =CONCATENATE($C92,$B92,$H92,$F92) -> North America2016ACCEPTEStandard
A93: 16-8R-521 | B93: 2016 | C93: North America | D93: USA | E93: Phoenix | F93: Standard | G93: $ | H93: ACCEPTE | I93: =CONCATENATE($D93,$B93,$H93,$F93) -> USA2016ACCEPTEStandard | J93: =CONCATENATE($C93,$B93,$H93,$F93) -> North America2016ACCEPTEStandard
A94: 16-8R-522 | B94: 2016 | C94: North America | D94: USA | E94: Boston | F94: Standard | G94: $ | H94: ACCEPTE | I94: =CONCATENATE($D94,$B94,$H94,$F94) -> USA2016ACCEPTEStandard | J94: =CONCATENATE($C94,$B94,$H94,$F94) -> North America2016ACCEPTEStandard
A95: 16-8R-520 | B95: 2016 | C95: North America | D95: USA | E95: Altamonte Springs | F95: Standard | G95: $ | H95: ACCEPTE | I95: =CONCATENATE($D95,$B95,$H95,$F95) -> USA2016ACCEPTEStandard | J95: =CONCATENATE($C95,$B95,$H95,$F95) -> North America2016ACCEPTEStandard
... A99: 16-8R-032 | B99: 2016 | C99: North America | D99: USA | E99: Boston | F99: Spécial | G99: $ | H99: ACCEPTE | I99: =CONCATENATE($D99,$B99,$H99,$F99) -> USA2016ACCEPTESpécial | J99: =CONCATENATE($C99,$B99,$H99,$F99) -> North America2016ACCEPTESpécial
A100: 16-8R-010 | B100: 2016 | C100: North America | F100: Spécial | G100: $ | H100: ACCEPTE | I100: =CONCATENATE($D100,$B100,$H100,$F100) -> 2016ACCEPTESpécial | J100: =CONCATENATE($C100,$B100,$H100,$F100) -> North America2016ACCEPTESpécial
A101: 16-8R-525 | B101: 2016 | C101: North America | D101: USA | E101: Marietta | F101: Standard | G101: $ | H101: ACCEPTE | I101: =CONCATENATE($D101,$B101,$H101,$F101) -> USA2016ACCEPTEStandard | J101: =CONCATENATE($C101,$B101,$H101,$F101) -> North America2016ACCEPTEStandard
A102: 16-8R-030 | B102: 2016 | C102: North America | D102: USA | E102: Willowbrook | F102: Spécial | G102: $ | H102: ACCEPTE | I102: =CONCATENATE($D102,$B102,$H102,$F102) -> USA2016ACCEPTESpécial | J102: =CONCATENATE($C102,$B102,$H102,$F102) -> North America2016ACCEPTESpécial
A103: 16-8R-012 | B103: 2016 | C103: North America | D103: USA | E103: Washington | F103: Standard | G103: $ | H103: ACCEPTE | I103: =CONCATENATE($D103,$B103,$H103,$F103) -> USA2016ACCEPTEStandard | J103: =CONCATENATE($C103,$B103,$H103,$F103) -> North America2016ACCEPTEStandard
A104: 16-8R-013 | B104: 2016 | C104: North America | D104: USA | E104: Long Island | F104: Spécial | G104: $ | H104: ACCEPTE | I104: =CONCATENATE($D104,$B104,$H104,$F104) -> USA2016ACCEPTESpécial | J104: =CONCATENATE($C104,$B104,$H104,$F104) -> North America2016ACCEPTESpécial
A105: 16-8R-027 | B105: 2016 | C105: North America | D105: USA | E105: Dallas | F105: Spécial | G105: $ | H105: ACCEPTE | I105: =CONCATENATE($D105,$B105,$H105,$F105) -> USA2016ACCEPTESpécial | J105: =CONCATENATE($C105,$B105,$H105,$F105) -> North America2016ACCEPTESpécial
A106: 16-8R-015 | B106: 2016 | C106: North America | D106: USA | E106: Kapolei | F106: Standard | G106: $ | H106: ACCEPTE | I106: =CONCATENATE($D106,$B106,$H106,$F106) -> USA2016ACCEPTEStandard | J106: =CONCATENATE($C106,$B106,$H106,$F106) -> North America2016ACCEPTEStandard
A107: 16-8R-026 | B107: 2016 | C107: North America | D107: USA | E107: Philadelphia | F107: Spécial | G107: $ | H107: ACCEPTE | I107: =CONCATENATE($D107,$B107,$H107,$F107) -> USA2016ACCEPTESpécial | J107: =CONCATENATE($C107,$B107,$H107,$F107) -> North America2016ACCEPTESpécial
A108: 16-8R-017 | B108: 2016 | C108: North America | D108: Canada | E108: Toronto | F108: Spécial | G108: $ | H108: ACCEPTE | I108: =CONCATENATE($D108,$B108,$H108,$F108) -> Canada2016ACCEPTESpécial | J108: =CONCATENATE($C108,$B108,$H108,$F108) -> North America2016ACCEPTESpécial
A109: 16-8R-018 | B109: 2016 | C109: North America | D109: USA + Canada | F109: Spécial | G109: $ | H109: ACCEPTE | I109: =CONCATENATE($D109,$B109,$H109,$F109) -> USA + Canada2016ACCEPTESpécial | J109: =CONCATENATE($C109,$B109,$H109,$F109) -> North America2016ACCEPTESpécial
A110: 16-8R-019 | B110: 2016 | C110: North America | D110: USA + Canada | F110: Spécial | G110: $ | H110: ACCEPTE | I110: =CONCATENATE($D110,$B110,$H110,$F110) -> USA + Canada2016ACCEPTESpécial | J110: =CONCATENATE($C110,$B110,$H110,$F110) -> North America2016ACCEPTESpécial
A111: 16-8R-526 | B111: 2016 | C111: North America | D111: USA | E111: North Bethesda | F111: Standard | G111: $ | H111: ACCEPTE | I111: =CONCATENATE($D111,$B111,$H111,$F111) -> USA2016ACCEPTEStandard | J111: =CONCATENATE($C111,$B111,$H111,$F111) -> North America2016ACCEPTEStandard
A112: 16-8R-024 | B112: 2016 | C112: North America | D112: Canada | E112: Quebec City | F112: Standard | G112: $ | H112: ACCEPTE | I112: =CONCATENATE($D112,$B112,$H112,$F112) -> Canada2016ACCEPTEStandard | J112: =CONCATENATE($C112,$B112,$H112,$F112) -> North America2016ACCEPTEStandard
A113: 16-8R-025 | B113: 2016 | C113: North America | D113: USA | E113: New York | F113: Standard | G113: $ | H113: ACCEPTE | I113: =CONCATENATE($D113,$B113,$H113,$F113) -> USA2016ACCEPTEStandard | J113: =CONCATENATE($C113,$B113,$H113,$F113) -> North America2016ACCEPTEStandard
A114: 16-8R-527 | B114: 2016 | C114: North America | D114: USA | E114: Miami | G114: $ | H114: ACCEPTE | I114: =CONCATENATE($D114,$B114,$H114,$F114) -> USA2016ACCEPTE | J114: =CONCATENATE($C114,$B114,$H114,$F114) -> North America2016ACCEPTE
A115: 16-8R-011 | B115: 2016 | C115: North America | D115: USA | E115: Milwaukee | F115: Spécial | G115: $ | H115: ACCEPTE | I115: =CONCATENATE($D115,$B115,$H115,$F115) -> USA2016ACCEPTESpécial | J115: =CONCATENATE($C115,$B115,$H115,$F115) -> North America2016ACCEPTESpécial
A116: 16-8R-014 | B116: 2016 | C116: North America | D116: USA | E116: Short Hills | F116: Spécial | G116: $ | H116: ACCEPTE | I116: =CONCATENATE($D116,$B116,$H116,$F116) -> USA2016ACCEPTESpécial | J116: =CONCATENATE($C116,$B116,$H116,$F116) -> North America2016ACCEPTESpécial
A117: 16-8R-028 | B117: 2016 | C117: North America | D117: USA | E117: Century City | F117: Standard | G117: $ | H117: ACCEPTE | I117: =CONCATENATE($D117,$B117,$H117,$F117) -> USA2016ACCEPTEStandard | J117: =CONCATENATE($C117,$B117,$H117,$F117) -> North America2016ACCEPTEStandard
A118: 16-8R-530 | B118: 2016 | C118: North America | D118: USA | E118: Atlanta | G118: $ | H118: ACCEPTE | I118: =CONCATENATE($D118,$B118,$H118,$F118) -> USA2016ACCEPTE | J118: =CONCATENATE($C118,$B118,$H118,$F118) -> North America2016ACCEPTE
A119: 16-8R-529 | B119: 2016 | C119: North America | D119: USA | E119: Orlando | G119: $ | H119: ACCEPTE | I119: =CONCATENATE($D119,$B119,$H119,$F119) -> USA2016ACCEPTE | J119: =CONCATENATE($C119,$B119,$H119,$F119) -> North America2016ACCEPTE
A120: 16-8R-528 | B120: 2016 | C120: North America | D120: USA - Canada | E120: Various | G120: $ | H120: ACCEPTE | I120: =CONCATENATE($D120,$B120,$H120,$F120) -> USA - Canada2016ACCEPTE | J120: =CONCATENATE($C120,$B120,$H120,$F120) -> North America2016ACCEPTE
A121: 16-8R-029 | B121: 2016 | C121: North America | D121: USA | E121: Tustin | F121: Standard | G121: $ | H121: ACCEPTE | I121: =CONCATENATE($D121,$B121,$H121,$F121) -> USA2016ACCEPTEStandard | J121: =CONCATENATE($C121,$B121,$H121,$F121) -> North America2016ACCEPTEStandard
A122: 16-8R-531 | B122: 2016 | C122: North America | D122: USA | E122: Boston | G122: $ | H122: ACCEPTE | I122: =CONCATENATE($D122,$B122,$H122,$F122) -> USA2016ACCEPTE | J122: =CONCATENATE($C122,$B122,$H122,$F122) -> North America2016ACCEPTE
A123: 16-8R-016 | B123: 2016 | C123: North America | D123: USA | E123: San Francisco | F123: Spécial | G123: $ | H123: ACCEPTE | I123: =CONCATENATE($D123,$B123,$H123,$F123) -> USA2016ACCEPTESpécial | J123: =CONCATENATE($C123,$B123,$H123,$F123) -> North America2016ACCEPTESpécial
A124: 16-8R-031 | B124: 2016 | C124: North America | D124: USA | E124: New York | F124: Standard | G124: $ | H124: ACCEPTE | I124: =CONCATENATE($D124,$B124,$H124,$F124) -> USA2016ACCEPTEStandard | J124: =CONCATENATE($C124,$B124,$H124,$F124) -> North America2016ACCEPTEStandard
A125: 16-8R-035 | B125: 2016 | C125: North America | D125: Canada | E125: Oshawa | F125: Spécial | G125: $ | H125: ACCEPTE | I125: =CONCATENATE($D125,$B125,$H125,$F125) -> Canada2016ACCEPTESpécial | J125: =CONCATENATE($C125,$B125,$H125,$F125) -> North America2016ACCEPTESpécial
A126: 16-8R-034 | B126: 2016 | C126: North America | D126: Canada | E126: Toronto | F126: Spécial | G126: $ | H126: ACCEPTE | I126: =CONCATENATE($D126,$B126,$H126,$F126) -> Canada2016ACCEPTESpécial | J126: =CONCATENATE($C126,$B126,$H126,$F126) -> North America2016ACCEPTESpécial
A127: 16-8R-008 | B127: 2016 | C127: North America | D127: USA | E127: Olive Branch | G127: $ | H127: ACCEPTE | I127: =CONCATENATE($D127,$B127,$H127,$F127) -> USA2016ACCEPTE | J127: =CONCATENATE($C127,$B127,$H127,$F127) -> North America2016ACCEPTE
A128: 16-8R-033 | B128: 2016 | C128: North America | D128: USA + Canada | F128: Spécial | G128: $ | H128: ACCEPTE | I128: =CONCATENATE($D128,$B128,$H128,$F128) -> USA + Canada2016ACCEPTESpécial | J128: =CONCATENATE($C128,$B128,$H128,$F128) -> North America2016ACCEPTESpécial
A129: 16-8R-532 | B129: 2016 | C129: North America | D129: Canada | E129: Edmonton | G129: $ | H129: ACCEPTE | I129: =CONCATENATE($D129,$B129,$H129,$F129) -> Canada2016ACCEPTE | J129: =CONCATENATE($C129,$B129,$H129,$F129) -> North America2016ACCEPTE
A130: 16-8R-533 | B130: 2016 | C130: North America | D130: Canada | E130: Sudbury | G130: $ | H130: ACCEPTE | I130: =CONCATENATE($D130,$B130,$H130,$F130) -> Canada2016ACCEPTE | J130: =CONCATENATE($C130,$B130,$H130,$F130) -> North America2016ACCEPTE
A131: 16-8R-534 | B131: 2016 | C131: North America | D131: Canada | E131: Thunder Bay | G131: $ | H131: ACCEPTE | I131: =CONCATENATE($D131,$B131,$H131,$F131) -> Canada2016ACCEPTE | J131: =CONCATENATE($C131,$B131,$H131,$F131) -> North America2016ACCEPTE
A132: 16-8R-535 | B132: 2016 | C132: North America | D132: USA | E132: Plano | G132: $ | H132: ACCEPTE | I132: =CONCATENATE($D132,$B132,$H132,$F132) -> USA2016ACCEPTE | J132: =CONCATENATE($C132,$B132,$H132,$F132) -> North America2016ACCEPTE
A133: 16-8R-038 | B133: 2016 | C133: North America | D133: USA | E133: Corte Madera | F133: Standard | G133: $ | H133: ACCEPTE | I133: =CONCATENATE($D133,$B133,$H133,$F133) -> USA2016ACCEPTEStandard | J133: =CONCATENATE($C133,$B133,$H133,$F133) -> North America2016ACCEPTEStandard
A134: 16-8R-009 | B134: 2016 | C134: North America | D134: USA | E134: San Jose | F134: Spécial | G134: $ | H134: ACCEPTE | I134: =CONCATENATE($D134,$B134,$H134,$F134) -> USA2016ACCEPTESpécial | J134: =CONCATENATE($C134,$B134,$H134,$F134) -> North America2016ACCEPTESpécial
A135: 16-8R-007 | B135: 2016 | C135: North America | D135: USA | E135: Scottsdale | F135: Spécial | G135: $ | H135: ACCEPTE | I135: =CONCATENATE($D135,$B135,$H135,$F135) -> USA2016ACCEPTESpécial | J135: =CONCATENATE($C135,$B135,$H135,$F135) -> North America2016ACCEPTESpécial
A136: 16-8R-001 | B136: 2016 | C136: North America | D136: USA | E136: Bethesda | F136: Spécial | G136: $ | H136: ACCEPTE | I136: =CONCATENATE($D136,$B136,$H136,$F136) -> USA2016ACCEPTESpécial | J136: =CONCATENATE($C136,$B136,$H136,$F136) -> North America2016ACCEPTESpécial
A137: 16-8R-003 | B137: 2016 | C137: North America | D137: USA | E137: Aventura | F137: Spécial | G137: $ | H137: ACCEPTE | I137: =CONCATENATE($D137,$B137,$H137,$F137) -> USA2016ACCEPTESpécial | J137: =CONCATENATE($C137,$B137,$H137,$F137) -> North America2016ACCEPTESpécial
A138: 15-8R-017 | B138: 2016 | C138: North America | D138: USA | E138: New York | F138: Spécial | G138: $ | H138: ACCEPTE | I138: =CONCATENATE($D138,$B138,$H138,$F138) -> USA2016ACCEPTESpécial | J138: =CONCATENATE($C138,$B138,$H138,$F138) -> North America2016ACCEPTESpécial
A139: 17-8R-002 | B139: 2017 | C139: North America | D139: USA | F139: Spécial | G139: $ | H139: ACCEPTE | I139: =CONCATENATE($D139,$B139,$H139,$F139) -> USA2017ACCEPTESpécial | J139: =CONCATENATE($C139,$B139,$H139,$F139) -> North America2017ACCEPTESpécial
A140: 17-8R-008 | B140: 2017 | C140: North America | D140: USA | E140: Las Vegas | F140: Spécial | G140: $ | H140: ACCEPTE | I140: =CONCATENATE($D140,$B140,$H140,$F140) -> USA2017ACCEPTESpécial | J140: =CONCATENATE($C140,$B140,$H140,$F140) -> North America2017ACCEPTESpécial
A141: 17-8R-010 | B141: 2017 | C141: North America | D141: USA | F141: Spécial | G141: $ | H141: ACCEPTE | I141: =CONCATENATE($D141,$B141,$H141,$F141) -> USA2017ACCEPTESpécial | J141: =CONCATENATE($C141,$B141,$H141,$F141) -> North America2017ACCEPTESpécial
A142: 17-8R-005 | B142: 2017 | C142: North America | D142: Canada | E142: Calgary | F142: Spécial | G142: $ | H142: ACCEPTE | I142: =CONCATENATE($D142,$B142,$H142,$F142) -> Canada2017ACCEPTESpécial | J142: =CONCATENATE($C142,$B142,$H142,$F142) -> North America2017ACCEPTESpécial
A143: 17-8R-006 | B143: 2017 | C143: North America | D143: USA | E143: Hackensack | F143: Standard | G143: $ | H143: ACCEPTE | I143: =CONCATENATE($D143,$B143,$H143,$F143) -> USA2017ACCEPTEStandard | J143: =CONCATENATE($C143,$B143,$H143,$F143) -> North America2017ACCEPTEStandard
A144: 17-8R-007 | B144: 2017 | C144: North America | D144: USA | E144: Henderson | F144: Standard | G144: $ | H144: ACCEPTE | I144: =CONCATENATE($D144,$B144,$H144,$F144) -> USA2017ACCEPTEStandard | J144: =CONCATENATE($C144,$B144,$H144,$F144) -> North America2017ACCEPTEStandard
A145: 17-8R-003 | B145: 2017 | C145: North America | D145: USA | E145: New York | F145: Spécial | G145: $ | H145: ACCEPTE | I145: =CONCATENATE($D145,$B145,$H145,$F145) -> USA2017ACCEPTESpécial | J145: =CONCATENATE($C145,$B145,$H145,$F145) -> North America2017ACCEPTESpécial
A146: 17-8R-004 | B146: 2017 | C146: North America | D146: Canada | E146: Edmonton | F146: Spécial | G146: $ | H146: ACCEPTE | I146: =CONCATENATE($D146,$B146,$H146,$F146) -> Canada2017ACCEPTESpécial | J146: =CONCATENATE($C146,$B146,$H146,$F146) -> North America2017ACCEPTESpécial
...
