Workbook

Sheet base
B1: 4120890070 | C1: 70
B2: 2231990087 | C2: 87
B3: 2227620109 | C3: 109
B4: 2254810115 | C4: 115
B5: 7981060132 | C5: 132
B6: 5637880190 | C6: 190
B7: 7273510330 | C7: 330
B8: 4923620339 | C8: 339
B9: 4923620340 | C9: 340
B10: 4125470365 | C10: 365
B11: 4125470366 | C11: 366
B12: 3545950474 | C12: 474
... B198: 7238099903 | C198: 9903

Sheet arrivée
J13: doublons
J14: {=IFERROR(INDEX(base!$C$1:$C$198,SMALL(IF(COUNTIF(base!$C$1:$C$198,base!$C$1:$C$198)=2,ROW($1:$198)),(ROWS($1:1)*2)-1)),"")} -> 1634
B15: doublons | J15: {=IFERROR(INDEX(base!$C$1:$C$198,SMALL(IF(COUNTIF(base!$C$1:$C$198,base!$C$1:$C$198)=2,ROW($1:$198)),(ROWS($1:2)*2)-1)),"")} -> 1976
J16: {=IFERROR(INDEX(base!$C$1:$C$198,SMALL(IF(COUNTIF(base!$C$1:$C$198,base!$C$1:$C$198)=2,ROW($1:$198)),(ROWS($1:3)*2)-1)),"")} -> 3701
J17: {=IFERROR(INDEX(base!$C$1:$C$198,SMALL(IF(COUNTIF(base!$C$1:$C$198,base!$C$1:$C$198)=2,ROW($1:$198)),(ROWS($1:4)*2)-1)),"")} -> 9285
J18: {=IFERROR(INDEX(base!$C$1:$C$198,SMALL(IF(COUNTIF(base!$C$1:$C$198,base!$C$1:$C$198)=2,ROW($1:$198)),(ROWS($1:5)*2)-1)),"")}
J19: {=IFERROR(INDEX(base!$C$1:$C$198,SMALL(IF(COUNTIF(base!$C$1:$C$198,base!$C$1:$C$198)=2,ROW($1:$198)),(ROWS($1:6)*2)-1)),"")}
J20: {=IFERROR(INDEX(base!$C$1:$C$198,SMALL(IF(COUNTIF(base!$C$1:$C$198,base!$C$1:$C$198)=2,ROW($1:$198)),(ROWS($1:7)*2)-1)),"")}
J21: {=IFERROR(INDEX(base!$C$1:$C$198,SMALL(IF(COUNTIF(base!$C$1:$C$198,base!$C$1:$C$198)=2,ROW($1:$198)),(ROWS($1:8)*2)-1)),"")}
J22: {=IFERROR(INDEX(base!$C$1:$C$198,SMALL(IF(COUNTIF(base!$C$1:$C$198,base!$C$1:$C$198)=2,ROW($1:$198)),(ROWS($1:9)*2)-1)),"")} | K22: {=IFERROR(INDEX(base!#REF!,SMALL(IF(COUNTIF(base!#REF!,base!#REF!)=2,ROW($1:$198)),ROWS($1:9))),"")}
J23: {=IFERROR(INDEX(base!#REF!,SMALL(IF(COUNTIF(base!#REF!,base!#REF!)=2,ROW($1:$198)),(ROWS($1:10)*2)-1)),"")} | K23: {=IFERROR(INDEX(base!#REF!,SMALL(IF(COUNTIF(base!#REF!,base!#REF!)=2,ROW($1:$198)),ROWS($1:10))),"")}
J24: {=IFERROR(INDEX(base!#REF!,SMALL(IF(COUNTIF(base!#REF!,base!#REF!)=2,ROW($1:$198)),(ROWS($1:11)*2)-1)),"")} | K24: {=IFERROR(INDEX(base!#REF!,SMALL(IF(COUNTIF(base!#REF!,base!#REF!)=2,ROW($1:$198)),ROWS($1:11))),"")}
J25: {=IFERROR(INDEX(base!#REF!,SMALL(IF(COUNTIF(base!#REF!,base!#REF!)=2,ROW($1:$198)),(ROWS($1:12)*2)-1)),"")} | K25: {=IFERROR(INDEX(base!#REF!,SMALL(IF(COUNTIF(base!#REF!,base!#REF!)=2,ROW($1:$198)),ROWS($1:12))),"")}
J26: {=IFERROR(INDEX(base!#REF!,SMALL(IF(COUNTIF(base!#REF!,base!#REF!)=2,ROW($1:$198)),ROWS($1:13))),"")} | K26: {=IFERROR(INDEX(base!#REF!,SMALL(IF(COUNTIF(base!#REF!,base!#REF!)=2,ROW($1:$198)),ROWS($1:13))),"")}
J27: {=IFERROR(INDEX(base!#REF!,SMALL(IF(COUNTIF(base!#REF!,base!#REF!)=2,ROW($1:$198)),ROWS($1:14))),"")} | K27: {=IFERROR(INDEX(base!#REF!,SMALL(IF(COUNTIF(base!#REF!,base!#REF!)=2,ROW($1:$198)),ROWS($1:14))),"")}
J28: {=IFERROR(INDEX(base!#REF!,SMALL(IF(COUNTIF(base!#REF!,base!#REF!)=2,ROW($1:$198)),ROWS($1:15))),"")} | K28: {=IFERROR(INDEX(base!#REF!,SMALL(IF(COUNTIF(base!#REF!,base!#REF!)=2,ROW($1:$198)),ROWS($1:15))),"")}
J29: {=IFERROR(INDEX(base!#REF!,SMALL(IF(COUNTIF(base!#REF!,base!#REF!)=2,ROW($1:$198)),ROWS($1:16))),"")} | K29: {=IFERROR(INDEX(base!#REF!,SMALL(IF(COUNTIF(base!#REF!,base!#REF!)=2,ROW($1:$198)),ROWS($1:16))),"")}
J30: {=IFERROR(INDEX(base!#REF!,SMALL(IF(COUNTIF(base!#REF!,base!#REF!)=2,ROW($1:$198)),ROWS($1:17))),"")} | K30: {=IFERROR(INDEX(base!#REF!,SMALL(IF(COUNTIF(base!#REF!,base!#REF!)=2,ROW($1:$198)),ROWS($1:17))),"")}
