Workbook
Name Segment_Forme: #N/A
Name Segment_Forme1: #N/A
Name Segment_Mat: #N/A
Name Segment_Matière: #N/A
Name Segment_Taille: #N/A
Name Segment_Taille1: #N/A

Sheet Achat
A15: Type | B15: N° Déclaration | C15: Date Déclaration | D15: Matière | E15: Forme | F15: Taille | G15: Qté importée | H15: Qté utilisée | I15: N° fiche | J15: Taux dec cop | K15: masse dec cop | L15: Taux dec fbarre | M15: masse dec fbarre | N15: Taux Déchet total
A16: SA | B16: 682165 | C16: 40953 | D16: Laiton | E16: Rond | F16: 14 | G16: 204 | H16: 37 | I16: 69 | J16: 0.7697 | K16: 28.479 | L16: 0.0623 | M16: 2.305 | N16: 0.8321
H17: 166.531 | I17: 70 | J17: 0.3852 | K17: 64.14 | L17: 0.066 | M17: 10.992 | N17: 0.4512
B18: 683038 | C18: 40998 | D18: Laiton | E18: Rond | F18: 14 | G18: 200 | H18: 198.525 | I18: 70 | J18: 0.3852 | K18: 76.47 | L18: 0.066 | M18: 13.105 | N18: 0.4512
B19: 683423 | C19: 41019 | D19: Laiton | E19: Rond | F19: 14 | G19: 602 | H19: 72.457 | I19: 69 | J19: 0.7697 | K19: 55.77 | L19: 0.0623 | M19: 4.513 | N19: 0.8321
H20: 119.803 | I20: 69 | J20: 0.7697 | K20: 92.2101 | L20: 0.0623 | M20: 7.468 | N20: 0.8321
H21: 185.844 | I21: 70 | J21: 0.3852 | K21: 71.581 | L21: 0.066 | M21: 12.27 | N21: 0.4512
A22: Total général

Sheet ACHAT laiton (2)
A2: Date Facture | B2: N° facture | C2: Type | D2: N° Déclaration | E2: Date Déclaration | F2: Matière | G2: Forme | H2: Taille | I2: Qté importée | J2: Qté utilisée | K2: N° fiche | L2: Taux dec cop | M2: masse dec cop | N2: Taux dec fbarre | O2: masse dec fbarre | P2: Taux Déchet total
A3: 40170 | B3: EUROVA 231209-1 | C3: SA | D3: 668161 | E3: 40189 | F3: Laiton | G3: Rond | H3: 24 | I3: 50 | J3: 19.315 | K3: 77 | L3: 0.6597 | M3: 12.742 | N3: 0.06 | O3: 1.159 | P3: 0.7197
A4: 40459 | B4: EUROVA 08102010-1 | C4: SA | D4: 673913 | E4: 40492 | F4: Laiton | G4: Rond | H4: 15 | I4: 101 | J4: 48.434 | K4: 74 | L4: 0.6965 | M4: 33.741 | N4: 0.064 | O4: 3.102 | P4: 0.7605
A5: 40591 | B5: GP 17022011-1 | C5: SA | D5: 676492 | E5: 40625 | F5: Laiton | G5: Hex | H5: 24 | I5: 642 | J5: 107.87 | K5: 72 | L5: 0.8231 | M5: 88.795 | N5: 0.06 | O5: 6.472 | P5: 0.8831
A6: 40737 | B6: GP 130711-2 | C6: SA | D6: 679098 | E6: 40764 | F6: Laiton | G6: Rond | H6: 15 | I6: 300 | J6: 300 | K6: 74 | L6: 0.6965 | M6: 208.95 | N6: 0.064 | O6: 19.2 | P6: 0.7605
A7: 40837 | B7: DEPERY 204762 | C7: SA | D7: 680290 | E7: 40849 | F7: Laiton | G7: Hex | H7: 27 | I7: 180 | J7: 86.953 | K7: 76 | L7: 0.6935 | M7: 60.304 | N7: 0.0613 | O7: 5.332 | P7: 0.7548
A8: 40941 | B8: GP 020212-2 | C8: SA | D8: 682165 | E8: 40953 | F8: Laiton | G8: Hex | H8: 24 | I8: 252 | J8: 252 | K8: 72 | L8: 0.8231 | M8: 207.428 | N8: 0.06 | O8: 15.12 | P8: 0.8831
A9: 40941 | B9: GP 020212-2 | C9: SA | D9: 682165 | E9: 40953 | F9: Laiton | G9: Rond | H9: 14 | I9: 204 | J9: 37 | K9: 69 | L9: 0.7697 | M9: 28.479 | N9: 0.0623 | O9: 2.305 | P9: 0.8321
A10: 40941 | B10: GP 020212-2 | C10: SA | D10: 682165 | E10: 40953 | F10: Laiton | G10: Rond | H10: 14 | I10: 204 | J10: 166.531 | K10: 70 | L10: 0.3852 | M10: 64.14 | N10: 0.066 | O10: 10.992 | P10: 0.4512
A11: 40969 | B11: GP 010312-1 | C11: SA | D11: 683038 | E11: 40998 | F11: Laiton | G11: Rond | H11: 14 | I11: 200 | J11: 198.525 | K11: 70 | L11: 0.3852 | M11: 76.47 | N11: 0.066 | O11: 13.105 | P11: 0.4512
A12: 41012 | B12: DEPERY 210593 | C12: SA | D12: 683423 | E12: 41019 | F12: Laiton | G12: Rond | H12: 14 | I12: 602 | J12: =40.306+79.497 -> 119.803 | K12: 69 | L12: 0.7697 | M12: =31.0211+61.189 -> 92.2101 | N12: 0.0623 | O12: =2.517+4.951 -> 7.468 | P12: 0.8321
A13: 41012 | B13: DEPERY 210593 | C13: SA | D13: 683423 | E13: 41019 | F13: Laiton | G13: Rond | H13: 14 | I13: 602 | J13: 72.457 | K13: 69 | L13: 0.7697 | M13: 55.77 | N13: 0.0623 | O13: 4.513 | P13: 0.8321
A14: 41012 | B14: DEPERY 210593 | C14: SA | D14: 683423 | E14: 41019 | F14: Laiton | G14: Rond | H14: 14 | I14: 602 | J14: 185.844 | K14: 70 | L14: 0.3852 | M14: 71.581 | N14: 0.066 | O14: 12.27 | P14: 0.4512
A15: 41012 | B15: DEPERY 210593 | C15: SA | D15: 683423 | E15: 41019 | F15: Laiton | G15: Rond | H15: 17 | I15: 59 | J15: 54.56 | K15: 79 | L15: 0.8799 | M15: 48.009 | N15: 0.0607 | O15: 3.312 | P15: 0.9406
A16: 41121 | B16: DEPERY 214427 | C16: SA | D16: 685427 | E16: 41145 | F16: Laiton | G16: Hex | H16: 24 | I16: 285 | J16: 285 | K16: 72 | L16: 0.8231 | M16: 234.594 | N16: 0.06 | O16: 17.102 | P16: 0.8831
A17: 41081 | B17: GP 210612-1 | C17: SA | D17: 684890 | E17: 41104 | F17: Laiton | G17: Carrée | H17: 5.5 | I17: 121 | J17: 17.424 | K17: 80 | L17: 0.6184 | M17: 10.778 | N17: 0.0603 | O17: 1.043 | P17: 0.6788
A18: 40631 | B18: GP 290311-3 | C18: SA | D18: 676969 | E18: 40651 | F18: Laiton | G18: Carrée | H18: 5.5 | I18: 120 | J18: 120 | K18: 80 | L18: 0.6184 | M18: 74.215 | N18: 0.0603 | O18: 7.236 | P18: 0.6788
A19: 39955 | B19: EUROVA 220509 | C19: SA | D19: 663948 | E19: 39959 | F19: Laiton | G19: Hex | H19: 10 | I19: 120 | J19: 11.12 | K19: 71 | L19: 0.6412 | M19: 7.13 | N19: 0.062 | O19: 0.69 | P19: 0.7032
A20: 40718 | B20: DEPERY 201458 | C20: SA | D20: 678584 | E20: 40733 | F20: Laiton | G20: Hex | H20: 10 | I20: 202 | J20: 60.94 | K20: 73 | L20: 0.8018 | M20: 48.862 | N20: 0.061 | O20: 3.72 | P20: 0.8628
A21: 41082 | B21: DEPERY 212526 | C21: SA | D21: 684891 | E21: 41104 | F21: Laiton | G21: Hex | H21: 10 | I21: 518 | J21: 205.318 | K21: 78 | L21: 0.2075 | M21: 42.603 | N21: 0.073 | O21: 14.989 | P21: 0.2805
A22: 40843 | B22: DEPERY 205701 | C22: SA | D22: 680996 | E22: 40889 | F22: Laiton | G22: Hex | H22: 21 | I22: 1504 | J22: 1146.472 | K22: 68 | L22: 0.6892 | M22: 790.14 | N22: 0.062 | O22: 71.095 | P22: 0.7512
A23: 41121 | B23: DEPERY 214427 | C23: SA | D23: 685427 | E23: 41145 | F23: Laiton | G23: Hex | H23: 21 | I23: 505 | J23: 505 | K23: 68 | L23: 0.6892 | M23: 348.036 | N23: 0.062 | O23: 31.326 | P23: 0.7512
A24: 41213 | B24: DEPERY 216783 | C24: SA | D24: 686700 | E24: 41232 | F24: Laiton | G24: Hex | H24: 21 | I24: 358 | J24: 358 | K24: 68 | L24: 0.6892 | M24: 246.732 | N24: 0.062 | O24: 22.193 | P24: 0.7512
A25: 41213 | B25: GP 311012-1 | C25: SA | D25: 686724 | E25: 41233 | F25: Laiton | G25: Rond | H25: 24 | I25: 35 | J25: 35 | K25: 77 | L25: 0.6597 | M25: 23.09 | N25: 0.06 | O25: 2.1 | P25: 0.7197
J26: =SUBTOTAL(9,J3:J25) -> 4393.566 | M26: =SUBTOTAL(9,M3:M25) -> 2874.7991 | O26: =SUBTOTAL(9,O3:O25) -> 275.844

Sheet Vente
A16: Facture N° | B16: N° déclarat° export | C16: Date déclarat° export | D16: Réf article | E16: Désignation | F16: N° fiche Tech | G16: Mat | H16: Forme | I16: Taille | J16: Qté livrée | K16: Poids net/ pièce | L16: Participat° dans la FB | M16: Poids brut/pièce | N16: Poids brut total | O16: colonne O | P16: Poids copeaux/ pièce | Q16: Poids déchet copeaux total | R16: Poids déchet fin de barre total | S16: % Déchet
A17: 201200005 | B17: 530777 | C17: 40936 | D17: D3246 | E17: BAGUE LAITON DIAM 14 | F17: 70 | G17: Laiton | H17: Rond | I17: 14 | J17: 4570 | K17: 0.02 | L17: 0.002405 | M17: 0.03644 | N17: 166.5308 | O17: (vide) | P17: 0.014035 | Q17: 64.13995 | R17: 10.99085 | S17: 0.45115258
D18: D3247 | E18: RONDELLE LAITON DIAM 14 | F18: 69 | G18: Laiton | H18: Rond | I18: 14 | J18: 5644 | K18: 0.0023 | L18: 0.000854 | M18: 0.013697 | N18: 77.305868 | O18: (vide) | P18: 0.010543 | Q18: 59.504692 | R18: 4.819976 | S18: 0.83208002
A19: 201200031 | B19: 532544 | C19: 41006 | D19: D3246 | E19: BAGUE LAITON DIAM 14 | F19: 70 | G19: Laiton | H19: Rond | I19: 14 | J19: 5448 | K19: 0.02 | L19: 0.002405 | M19: 0.03644 | N19: 198.52512 | O19: (vide) | P19: 0.014035 | Q19: 76.46268 | R19: 13.10244 | S19: 0.45115258
D20: D3247 | E20: RONDELLE LAITON DIAM 14 | F20: 69 | G20: Laiton | H20: Rond | I20: 14 | J20: 5804 | K20: 0.0023 | L20: 0.000854 | M20: 0.013697 | N20: 79.497388 | O20: (vide) | P20: 0.010543 | Q20: 61.191572 | R20: 4.956616 | S20: 0.83208002
A21: 201200052 | B21: 533762 | C21: 41061 | D21: D3246 | E21: BAGUE LAITON DIAM 14 | F21: 70 | G21: Laiton | H21: Rond | I21: 14 | J21: 3000 | K21: 0.02 | L21: 0.002405 | M21: 0.03644 | N21: 109.32 | O21: (vide) | P21: 0.014035 | Q21: 42.105 | R21: 7.215 | S21: 0.45115258
D22: D3247 | E22: RONDELLE LAITON DIAM 14 | F22: 69 | G22: Laiton | H22: Rond | I22: 14 | J22: 5290 | K22: 0.0023 | L22: 0.000854 | M22: 0.013697 | N22: 72.45713 | O22: (vide) | P22: 0.010543 | Q22: 55.77247 | R22: 4.51766 | S22: 0.83208002
A23: 201200054 | B23: 533927 | C23: 41068 | D23: D3246 | E23: BAGUE LAITON DIAM 14 | F23: 70 | G23: Laiton | H23: Rond | I23: 14 | J23: 2100 | K23: 0.02 | L23: 0.002405 | M23: 0.03644 | N23: 76.524 | O23: (vide) | P23: 0.014035 | Q23: 29.4735 | R23: 5.0505 | S23: 0.45115258
A24: Total général

Sheet etat 6 export laiton 2012 (2)
A2: Facture N° | B2: N° déclarat° export | C2: Date déclarat° export | D2: Réf article | E2: Désignation | F2: N° fiche Tech | G2: Mat | H2: Forme | I2: Taille | J2: Qté livrée | K2: Poids net/ pièce | L2: Participat° dans la FB | M2: Poids brut/pièce | N2: Poids brut total | O2: colonne O | P2: Poids copeaux/ pièce | Q2: Poids déchet copeaux total | R2: Poids déchet fin de barre total | S2: % Déchet
A3: 201100108 | B3: 549924 | C3: 40894 | D3: 70522218 | E3: ECROU LAITON HEX21 | F3: 68 | G3: Laiton | H3: Hex | I3: 21 | J3: 10000 | K3: 0.00609 | L3: 0.001518 | M3: 0.024478 | N3: =M3*J3 -> 244.78 | P3: =M3-L3-K3 -> 0.01687 | Q3: =P3*J3 -> 168.7 | R3: =J3*L3 -> 15.18 | S3: =(L3+P3)/M3 -> 0.75120516
A4: 201100109 | B4: 530024 | C4: 40901 | D4: 70522218 | E4: ECROU LAITON HEX21 | F4: 68 | G4: Laiton | H4: Hex | I4: 21 | J4: 11500 | K4: 0.00609 | L4: 0.001518 | M4: 0.024478 | N4: =M4*J4 -> 281.497 | P4: =M4-L4-K4 -> 0.01687 | Q4: =P4*J4 -> 194.005 | R4: =J4*L4 -> 17.457 | S4: =(L4+P4)/M4 -> 0.75120516
A5: 201200001 | B5: 530298 | C5: 40914 | D5: 70522218 | E5: ECROU LAITON HEX21 | F5: 68 | G5: Laiton | H5: Hex | I5: 21 | J5: 10500 | K5: 0.00609 | L5: 0.001518 | M5: 0.024478 | N5: =J5*M5 -> 257.019 | P5: =M5-K5-L5 -> 0.01687 | Q5: =P5*J5 -> 177.135 | R5: =J5*L5 -> 15.939 | S5: =(L5+P5)/M5 -> 0.75120516
A6: 201200005 | B6: 530777 | C6: 40936 | D6: A48298-06 | E6: CONTRE ECROU | F6: 71 | G6: Laiton | H6: Hex | I6: 10 | J6: 2000 | K6: 0.00165 | L6: 0.000345 | M6: 0.00556 | N6: =J6*M6 -> 11.12 | P6: =M6-K6-L6 -> 0.003565 | Q6: =P6*J6 -> 7.13 | R6: =L6*J6 -> 0.69 | S6: =(L6+P6)/M6 -> 0.70323741
A7: 201200005 | B7: 530777 | C7: 40936 | D7: 70522218 | E7: ECROU LAITON HEX21 | F7: 68 | G7: Laiton | H7: Hex | I7: 21 | J7: 11567 | K7: 0.00609 | L7: 0.001518 | M7: 0.024478 | N7: =J7*M7 -> 283.13703 | P7: =M7-K7-L7 -> 0.01687 | Q7: =P7*J7 -> 195.13529 | R7: =L7*J7 -> 17.558706 | S7: =(L7+P7)/M7 -> 0.75120516
A8: 201200005 | B8: 530777 | C8: 40936 | D8: D3247 | E8: RONDELLE LAITON DIAM 14 | F8: 69 | G8: Laiton | H8: Rond | I8: 14 | J8: 5644 | K8: 0.0023 | L8: 0.000854 | M8: 0.013697 | N8: =J8*M8 -> 77.305868 | P8: =M8-K8-L8 -> 0.010543 | Q8: =P8*J8 -> 59.504692 | R8: =L8*J8 -> 4.819976 | S8: =(L8+P8)/M8 -> 0.83208002
A9: 201200005 | B9: 530777 | C9: 40936 | D9: D3246 | E9: BAGUE LAITON DIAM 14 | F9: 70 | G9: Laiton | H9: Rond | I9: 14 | J9: 4570 | K9: 0.02 | L9: 0.002405 | M9: 0.03644 | N9: =J9*M9 -> 166.5308 | P9: =M9-K9-L9 -> 0.014035 | Q9: =P9*J9 -> 64.13995 | R9: =L9*J9 -> 10.99085 | S9: =(L9+P9)/M9 -> 0.45115258
A10: 201200022 | B10: 531783 | C10: 40978 | D10: 70528225 | E10: ECROU M8*0.75 | F10: 73 | G10: Laiton | H10: Hex | I10: 10 | J10: 3000 | K10: 0.00049 | L10: 0.000218 | M10: 0.00357 | N10: =J10*M10 -> 10.71 | P10: =M10-K10-L10 -> 0.002862 | Q10: =P10*J10 -> 8.586 | R10: =L10*J10 -> 0.654 | S10: =(L10+P10)/M10 -> 0.8627451
A11: 201200022 | B11: 531783 | C11: 40978 | D11: 79453772 | E11: ECROU M22*100 | F11: 72 | G11: Laiton | H11: Hex | I11: 24 | J11: 3724 | K11: 0.0032 | L11: 0.001643 | M11: 0.027383 | N11: =J11*M11 -> 101.97429 | P11: =M11-K11-L11 -> 0.02254 | Q11: =P11*J11 -> 83.93896 | R11: =L11*J11 -> 6.118532 | S11: =(L11+P11)/M11 -> 0.88313917
A12: 201200024 | B12: 532144 | C12: 40992 | D12: 70528225 | E12: ECROU M8*0.75 | F12: 73 | G12: Laiton | H12: Hex | I12: 10 | J12: 14070 | K12: 0.00049 | L12: 0.000218 | M12: 0.00357 | N12: =J12*M12 -> 50.2299 | P12: =M12-K12-L12 -> 0.002862 | Q12: =P12*J12 -> 40.26834 | R12: =L12*J12 -> 3.06726 | S12: =(L12+P12)/M12 -> 0.8627451
A13: 201200024 | B13: 532144 | C13: 40992 | D13: 79453772 | E13: ECROU M22*100 | F13: 72 | G13: Laiton | H13: Hex | I13: 24 | J13: 200 | K13: 0.0032 | L13: 0.001643 | M13: 0.027383 | N13: =J13*M13 -> 5.4766 | P13: =M13-K13-L13 -> 0.02254 | Q13: =P13*J13 -> 4.508 | R13: =L13*J13 -> 0.3286 | S13: =(L13+P13)/M13 -> 0.88313917
A14: 201200024 | B14: 532144 | C14: 40992 | D14: 79451470 | E14: VERROU RAIL DIN | F14: 74 | G14: Laiton | H14: Rond | I14: 15 | J14: 8000 | K14: 0.007 | L14: 0.001871 | M14: 0.029231 | N14: =J14*M14 -> 233.848 | P14: =M14-K14-L14 -> 0.02036 | Q14: =P14*J14 -> 162.88 | R14: =L14*J14 -> 14.968 | S14: =(L14+P14)/M14 -> 0.76052821
A15: 201200031 | B15: 532544 | C15: 41006 | D15: 79453772 | E15: ECROU M22*100 | F15: 72 | G15: Laiton | H15: Hex | I15: 24 | J15: 3315 | K15: 0.0032 | L15: 0.001643 | M15: 0.027383 | N15: =J15*M15 -> 90.774645 | P15: =M15-K15-L15 -> 0.02254 | Q15: =P15*J15 -> 74.7201 | R15: =L15*J15 -> 5.446545 | S15: =(L15+P15)/M15 -> 0.88313917
A16: 201200031 | B16: 532544 | C16: 41006 | D16: D3246 | E16: BAGUE LAITON DIAM 14 | F16: 70 | G16: Laiton | H16: Rond | I16: 14 | J16: 5448 | K16: 0.02 | L16: 0.002405 | M16: 0.03644 | N16: =J16*M16 -> 198.52512 | P16: =M16-K16-L16 -> 0.014035 | Q16: =P16*J16 -> 76.46268 | R16: =L16*J16 -> 13.10244 | S16: =(L16+P16)/M16 -> 0.45115258
A17: 201200031 | B17: 532544 | C17: 41006 | D17: D3247 | E17: RONDELLE LAITON DIAM 14 | F17: 69 | G17: Laiton | H17: Rond | I17: 14 | J17: 5804 | K17: 0.0023 | L17: 0.000854 | M17: 0.013697 | N17: =J17*M17 -> 79.497388 | P17: =M17-K17-L17 -> 0.010543 | Q17: =P17*J17 -> 61.191572 | R17: =L17*J17 -> 4.956616 | S17: =(L17+P17)/M17 -> 0.83208002
A18: 201200031 | B18: 532544 | C18: 41006 | D18: 79451470 | E18: VERROU RAIL DIN | F18: 74 | G18: Laiton | H18: Rond | I18: 15 | J18: 2600 | K18: 0.007 | L18: 0.001871 | M18: 0.029231 | N18: =J18*M18 -> 76.0006 | P18: =M18-K18-L18 -> 0.02036 | Q18: =P18*J18 -> 52.936 | R18: =L18*J18 -> 4.8646 | S18: =(L18+P18)/M18 -> 0.76052821
A19: 201200032 | B19: 532858 | C19: 41020 | D19: 79453772 | E19: ECROU M22*100 | F19: 72 | G19: Laiton | H19: Hex | I19: 24 | J19: 2500 | K19: 0.0032 | L19: 0.001643 | M19: 0.027383 | N19: =J19*M19 -> 68.4575 | P19: =M19-K19-L19 -> 0.02254 | Q19: =P19*J19 -> 56.35 | R19: =L19*J19 -> 4.1075 | S19: =(L19+P19)/M19 -> 0.88313917
A20: 201200032 | B20: 532858 | C20: 41020 | D20: 79451470 | E20: VERROU RAIL DIN | F20: 74 | G20: Laiton | H20: Rond | I20: 15 | J20: 1320 | K20: 0.007 | L20: 0.001871 | M20: 0.029231 | N20: =J20*M20 -> 38.58492 | P20: =M20-K20-L20 -> 0.02036 | Q20: =P20*J20 -> 26.8752 | R20: =L20*J20 -> 2.46972 | S20: =(L20+P20)/M20 -> 0.76052821
A21: 201200041 | B21: 533170 | C21: 41034 | D21: 4833000 | E21: ECROU LAITON HEX 27 | F21: 76 | G21: Laiton | H21: Hex | I21: 27 | J21: 1500 | K21: 0.0078 | L21: 0.001951 | M21: 0.031816 | N21: =J21*M21 -> 47.724 | P21: =M21-K21-L21 -> 0.022065 | Q21: =P21*J21 -> 33.0975 | R21: =L21*J21 -> 2.9265 | S21: =(L21+P21)/M21 -> 0.75484033
A22: 201200043 | B22: 533472 | C22: 41048 | D22: 4833000 | E22: ECROU LAITON HEX 27 | F22: 76 | G22: Laiton | H22: Hex | I22: 27 | J22: 1233 | K22: 0.0078 | L22: 0.001951 | M22: 0.031816 | N22: =J22*M22 -> 39.229128 | P22: =M22-K22-L22 -> 0.022065 | Q22: =P22*J22 -> 27.206145 | R22: =L22*J22 -> 2.405583 | S22: =(L22+P22)/M22 -> 0.75484033
A23: 201200043 | B23: 533472 | C23: 41048 | D23: 5222042 | E23: RONDELLE | F23: 77 | G23: Laiton | H23: Rond | I23: 24 | J23: 1350 | K23: 0.0087 | L23: 0.001862 | M23: 0.031037 | N23: =J23*M23 -> 41.89995 | P23: =M23-K23-L23 -> 0.020475 | Q23: =P23*J23 -> 27.64125 | R23: =L23*J23 -> 2.5137 | S23: =(L23+P23)/M23 -> 0.7196894
A24: 201200044 | B24: 533599 | C24: 41054 | D24: 79453772 | E24: ECROU M22*100 | F24: 72 | G24: Laiton | H24: Hex | I24: 24 | J24: 571 | K24: 0.0032 | L24: 0.001643 | M24: 0.027383 | N24: =J24*M24 -> 15.635693 | P24: =M24-K24-L24 -> 0.02254 | Q24: =P24*J24 -> 12.87034 | R24: =L24*J24 -> 0.938153 | S24: =(L24+P24)/M24 -> 0.88313917
A25: 201200052 | B25: 533762 | C25: 41061 | D25: D3247 | E25: RONDELLE LAITON DIAM 14 | F25: 69 | G25: Laiton | H25: Rond | I25: 14 | J25: 5290 | K25: 0.0023 | L25: 0.000854 | M25: 0.013697 | N25: =J25*M25 -> 72.45713 | P25: =M25-K25-L25 -> 0.010543 | Q25: =P25*J25 -> 55.77247 | R25: =L25*J25 -> 4.51766 | S25: =(L25+P25)/M25 -> 0.83208002
A26: 201200052 | B26: 533762 | C26: 41061 | D26: D3246 | E26: BAGUE LAITON DIAM 14 | F26: 70 | G26: Laiton | H26: Rond | I26: 14 | J26: 3000 | K26: 0.02 | L26: 0.002405 | M26: 0.03644 | N26: =J26*M26 -> 109.32 | P26: =M26-K26-L26 -> 0.014035 | Q26: =P26*J26 -> 42.105 | R26: =L26*J26 -> 7.215 | S26: =(L26+P26)/M26 -> 0.45115258
A27: 201200052 | B27: 533762 | C27: 41061 | D27: 5262091 | E27: CORPS | F27: 79 | G27: Laiton | H27: Rond | I27: 17 | J27: 1450 | K27: 0.00216 | L27: 0.002207 | M27: 0.036373 | N27: =J27*M27 -> 52.74085 | P27: =M27-K27-L27 -> 0.032006 | Q27: =P27*J27 -> 46.4087 | R27: =L27*J27 -> 3.20015 | S27: =(L27+P27)/M27 -> 0.94061529
A28: 201200054 | B28: 533927 | C28: 41068 | D28: D3246 | E28: BAGUE LAITON DIAM 14 | F28: 70 | G28: Laiton | H28: Rond | I28: 14 | J28: 2100 | K28: 0.02 | L28: 0.002405 | M28: 0.03644 | N28: =J28*M28 -> 76.524 | P28: =M28-K28-L28 -> 0.014035 | Q28: =P28*J28 -> 29.4735 | R28: =L28*J28 -> 5.0505 | S28: =(L28+P28)/M28 -> 0.45115258
A29: 201200054 | B29: 533927 | C29: 41068 | D29: 5262091 | E29: CORPS | F29: 79 | G29: Laiton | H29: Rond | I29: 17 | J29: 50 | K29: 0.00216 | L29: 0.002207 | M29: 0.036373 | N29: =J29*M29 -> 1.81865 | P29: =M29-K29-L29 -> 0.032006 | Q29: =P29*J29 -> 1.6003 | R29: =L29*J29 -> 0.11035 | S29: =(L29+P29)/M29 -> 0.94061529
A30: 201200063 | B30: 534476 | C30: 41096 | D30: 470029 | E30: MAITIEN CHAUFFE TASSES | F30: 78 | G30: Laiton | H30: Hex | I30: 10 | J30: 6155 | K30: 0.024 | L30: 0.002435 | M30: 0.033358 | N30: =J30*M30 -> 205.31849 | P30: =M30-K30-L30 -> 0.006923 | Q30: =P30*J30 -> 42.611065 | R30: =L30*J30 -> 14.987425 | S30: =(L30+P30)/M30 -> 0.28053241
A31: 201200064 | B31: 534731 | C31: 41110 | D31: 5222042 | E31: RONDELLE | F31: 77 | G31: Laiton | H31: Rond | I31: 24 | J31: 400 | K31: 0.0087 | L31: 0.001862 | M31: 0.031037 | N31: =J31*M31 -> 12.4148 | P31: =M31-K31-L31 -> 0.020475 | Q31: =P31*J31 -> 8.19 | R31: =L31*J31 -> 0.7448 | S31: =(L31+P31)/M31 -> 0.7196894
A32: 201200071 | B32: 535247 | C32: 41145 | D32: 79452313 | E32: ECROU QM3 | F32: 80 | G32: Laiton | H32: Carrée | I32: 5.5 | J32: 30000 | K32: 0.00048 | L32: 9e-05 | M32: 0.001494 | N32: =J32*M32 -> 44.82 | P32: =M32-K32-L32 -> 0.000924 | Q32: =P32*J32 -> 27.72 | R32: =L32*J32 -> 2.7 | S32: =(L32+P32)/M32 -> 0.67871486
A33: 201200072 | B33: 535301 | C33: 41151 | D33: 79452313 | E33: ECROU QM3 | F33: 80 | G33: Laiton | H33: Carrée | I33: 5.5 | J33: 20000 | K33: 0.00048 | L33: 9e-05 | M33: 0.001494 | N33: =J33*M33 -> 29.88 | P33: =M33-K33-L33 -> 0.000924 | Q33: =P33*J33 -> 18.48 | R33: =L33*J33 -> 1.8 | S33: =(L33+P33)/M33 -> 0.67871486
A34: 201200072 | B34: 535301 | C34: 41151 | D34: 70522218 | E34: ECROU LAITON HEX21 | F34: 68 | G34: Laiton | H34: Hex | I34: 21 | J34: 9000 | K34: 0.00609 | L34: 0.001518 | M34: 0.024478 | N34: =J34*M34 -> 220.302 | P34: =M34-K34-L34 -> 0.01687 | Q34: =P34*J34 -> 151.83 | R34: =L34*J34 -> 13.662 | S34: =(L34+P34)/M34 -> 0.75120516
A35: 201200072 | B35: 535301 | C35: 41151 | D35: 79453772 | E35: ECROU M22*100 | F35: 72 | G35: Laiton | H35: Hex | I35: 24 | J35: 7800 | K35: 0.0032 | L35: 0.001643 | M35: 0.027383 | N35: =J35*M35 -> 213.5874 | P35: =M35-K35-L35 -> 0.02254 | Q35: =P35*J35 -> 175.812 | R35: =L35*J35 -> 12.8154 | S35: =(L35+P35)/M35 -> 0.88313917
A36: 201200080 | B36: 535644 | C36: 41173 | D36: 79452313 | E36: ECROU QM3 | F36: 80 | G36: Laiton | H36: Carrée | I36: 5.5 | J36: 20000 | K36: 0.00048 | L36: 9e-05 | M36: 0.001494 | N36: =J36*M36 -> 29.88 | P36: =M36-K36-L36 -> 0.000924 | Q36: =P36*J36 -> 18.48 | R36: =L36*J36 -> 1.8 | S36: =(L36+P36)/M36 -> 0.67871486
A37: 201200080 | B37: 535645 | C37: 41174 | D37: 70522218 | E37: ECROU LAITON HEX21 | F37: 68 | G37: Laiton | H37: Hex | I37: 21 | J37: 8000 | K37: 0.00609 | L37: 0.001518 | M37: 0.024478 | N37: =J37*M37 -> 195.824 | P37: =M37-K37-L37 -> 0.01687 | Q37: =P37*J37 -> 134.96 | R37: =L37*J37 -> 12.144 | S37: =(L37+P37)/M37 -> 0.75120516
A38: 201200080 | B38: 535645 | C38: 41174 | D38: 79453772 | E38: ECROU M22*100 | F38: 72 | G38: Laiton | H38: Hex | I38: 24 | J38: 2500 | K38: 0.0032 | L38: 0.001643 | M38: 0.027383 | N38: =J38*M38 -> 68.4575 | P38: =M38-K38-L38 -> 0.02254 | Q38: =P38*J38 -> 56.35 | R38: =L38*J38 -> 4.1075 | S38: =(L38+P38)/M38 -> 0.88313917
A39: 201200087 | B39: 536052 | C39: 41193 | D39: 70522218 | E39: ECROU LAITON HEX21 | F39: 68 | G39: Laiton | H39: Hex | I39: 21 | J39: 4124 | K39: 0.00609 | L39: 0.001518 | M39: 0.024478 | N39: =J39*M39 -> 100.94727 | P39: =M39-K39-L39 -> 0.01687 | Q39: =P39*J39 -> 69.57188 | R39: =L39*J39 -> 6.260232 | S39: =(L39+P39)/M39 -> 0.75120516
A40: 201200087 | B40: 536052 | C40: 41193 | D40: 79453772 | E40: ECROU M22*100 | F40: 72 | G40: Laiton | H40: Hex | I40: 24 | J40: 2940 | K40: 0.0032 | L40: 0.001643 | M40: 0.027383 | N40: =J40*M40 -> 80.50602 | P40: =M40-K40-L40 -> 0.02254 | Q40: =P40*J40 -> 66.2676 | R40: =L40*J40 -> 4.83042 | S40: =(L40+P40)/M40 -> 0.88313917
... A42: 201200103 | B42: 537364 | C42: 41264 | D42: 70522218 | E42: ECROU LAITON HEX21 | F42: 68 | G42: Laiton | H42: Hex | I42: 21 | J42: 17402 | K42: 0.00609 | L42: 0.001518 | M42: 0.024478 | N42: =J42*M42 -> 425.96616 | P42: =M42-K42-L42 -> 0.01687 | Q42: =P42*J42 -> 293.57174 | R42: =L42*J42 -> 26.416236 | S42: =(L42+P42)/M42 -> 0.75120516
N43: =SUBTOTAL(9,N3:N42) -> 4393.5658 | Q43: =SUBTOTAL(9,Q3:Q42) -> 2874.7995 | R43: =SUBTOTAL(9,R3:R42) -> 275.84351

Sheet bdd achat
A1: Date Facture | B1: N° facture | C1: Type | D1: N° Déclaration | E1: Date Déclaration | F1: Matière | G1: Forme | H1: Taille | I1: Qté importée | J1: Qté utilisée | K1: N° fiche | L1: Taux dechet copeaux | M1: masse dechet copeaux | N1: Taux dechet fin de barre | O1: masse dechet fin de barre | P1: Taux Déchet total
A2: 41207 | B2: DEPERY 205701 | C2: SA | D2: 680996 | E2: 40889 | F2: Laiton | G2: Hex | H2: 21 | I2: 1504 | J2: 1146.472 | K2: 68 | L2: 0.6892 | M2: =L2*J2 -> 790.1485 | N2: 0.062 | O2: =N2*J2 -> 71.081264 | P2: 0.7512
A3: 41213 | B3: DEPERY 216783 | C3: SA | D3: 686700 | E3: 41232 | F3: Laiton | G3: Hex | H3: 21 | I3: 358 | J3: 358 | K3: 68 | L3: 0.6892 | M3: =L3*J3 -> 246.7336 | N3: 0.062 | O3: =N3*J3 -> 22.196 | P3: 0.7512
A4: 40941 | B4: GP 020212-2 | C4: SA | D4: 682165 | E4: 40953 | F4: Laiton | G4: Rond | H4: 14 | I4: 204 | J4: 77.305868 | K4: 69 | L4: 0.7697 | M4: =L4*J4 -> 59.502327 | N4: 0.0623 | O4: =N4*J4 -> 4.8161556 | P4: 0.8321
A5: 40969 | B5: GP 010312-1 | C5: SA | D5: 683038 | E5: 40998 | F5: Laiton | G5: Rond | H5: 14 | I5: 200 | J5: 79.497388 | K5: 69 | L5: 0.7697 | M5: =L5*J5 -> 61.18914 | N5: 0.0623 | O5: =N5*J5 -> 4.9526873 | P5: 0.8321
A6: 41012 | B6: DEPERY 210593 | C6: SA | D6: 683423 | E6: 41019 | F6: Laiton | G6: Rond | H6: 14 | I6: 602 | J6: 72.45713 | K6: 69 | L6: 0.7697 | M6: =L6*J6 -> 55.770253 | N6: 0.0623 | O6: =N6*J6 -> 4.5140792 | P6: 0.8321
A7: 40941 | B7: GP 020212-2 | C7: SA | D7: 682165 | E7: 40953 | F7: Laiton | G7: Rond | H7: 14 | I7: 204 | J7: 166.5308 | K7: 70 | L7: 0.3852 | M7: =L7*J7 -> 64.147664 | N7: 0.066 | O7: =N7*J7 -> 10.991033 | P7: 0.4512
A8: 40969 | B8: GP 010312-1 | C8: SA | D8: 683038 | E8: 40998 | F8: Laiton | G8: Rond | H8: 14 | I8: 200 | J8: 198.52512 | K8: 70 | L8: 0.3852 | M8: =L8*J8 -> 76.471876 | N8: 0.066 | O8: =N8*J8 -> 13.102658 | P8: 0.4512
A9: 41012 | B9: DEPERY 210593 | C9: SA | D9: 683423 | E9: 41019 | F9: Laiton | G9: Rond | H9: 14 | I9: 602 | J9: 185.844 | K9: 70 | L9: 0.3852 | M9: =L9*J9 -> 71.587109 | N9: 0.066 | O9: =N9*J9 -> 12.265704 | P9: 0.4512
A10: 39955 | B10: EUROVA 220509 | C10: SA | D10: 663948 | E10: 39959 | F10: Laiton | G10: Hex | H10: 10 | I10: 120 | J10: 11.12 | K10: 71 | L10: 0.6412 | M10: =L10*J10 -> 7.130144 | N10: 0.062 | O10: 0.69 | P10: 0.7032
A11: 40591 | B11: GP 17022011-1 | C11: SA | D11: 676492 | E11: 40625 | F11: Laiton | G11: Hex | H11: 24 | I11: 642 | J11: =644.87-J12-J13 -> 107.87 | K11: 72 | L11: 0.8231 | M11: =L11*J11 -> 88.787797 | N11: 0.06 | O11: =N11*J11 -> 6.4722 | P11: 0.8831
A12: 40941 | B12: GP 020212-2 | C12: SA | D12: 682165 | E12: 40953 | F12: Laiton | G12: Hex | H12: 24 | I12: 252 | J12: 252 | K12: 72 | L12: 0.8231 | M12: =L12*J12 -> 207.4212 | N12: 0.06 | O12: =N12*J12 -> 15.12 | P12: 0.8831
A13: 41121 | B13: DEPERY 214427 | C13: SA | D13: 685427 | E13: 41145 | F13: Laiton | G13: Hex | H13: 24 | I13: 285 | J13: 285 | K13: 72 | L13: 0.8231 | M13: =L13*J13 -> 234.5835 | N13: 0.06 | O13: =N13*J13 -> 17.1 | P13: 0.8831
A14: 40718 | B14: DEPERY 201458 | C14: SA | D14: 678584 | E14: 40733 | F14: Laiton | G14: Hex | H14: 10 | I14: 202 | J14: 60.9399 | K14: 73 | L14: 0.8018 | M14: =L14*J14 -> 48.861612 | N14: 0.061 | O14: 3.72 | P14: 0.8628
A15: 40459 | B15: EUROVA 08102010-1 | C15: SA | D15: 673913 | E15: 40492 | F15: Laiton | G15: Rond | H15: 15 | I15: 101 | J15: 48.434 | K15: 74 | L15: 0.6965 | M15: =L15*J15 -> 33.734281 | N15: 0.064 | O15: =N15*J15 -> 3.099776 | P15: 0.7605
A16: 40737 | B16: GP 130711-2 | C16: SA | D16: 679098 | E16: 40764 | F16: Laiton | G16: Rond | H16: 15 | I16: 300 | J16: 300 | K16: 74 | L16: 0.6965 | M16: =L16*J16 -> 208.95 | N16: 0.064 | O16: =N16*J16 -> 19.2 | P16: 0.7605
A17: 40837 | B17: DEPERY 204762 | C17: SA | D17: 680290 | E17: 40849 | F17: Laiton | G17: Hex | H17: 27 | I17: 180 | J17: 86.953 | K17: 76 | L17: 0.6935 | M17: =L17*J17 -> 60.301906 | N17: 0.0613 | O17: =N17*J17 -> 5.3302189 | P17: 0.7548
A18: 40170 | B18: EUROVA 231209-1 | C18: SA | D18: 668161 | E18: 40189 | F18: Laiton | G18: Rond | H18: 24 | I18: 50 | J18: 19.315 | K18: 77 | L18: 0.6597 | M18: =L18*J18 -> 12.742105 | N18: 0.06 | O18: =N18*J18 -> 1.1589 | P18: 0.7197
A19: 41213 | B19: GP 311012-1 | C19: SA | D19: 686724 | E19: 41233 | F19: Laiton | G19: Rond | H19: 24 | I19: 35 | J19: 35 | K19: 77 | L19: 0.6597 | M19: =L19*J19 -> 23.0895 | N19: 0.06 | O19: =N19*J19 -> 2.1 | P19: 0.7197
A20: 41082 | B20: DEPERY 212526 | C20: SA | D20: 684891 | E20: 41104 | F20: Laiton | G20: Hex | H20: 10 | I20: 518 | J20: 205.31849 | K20: 78 | L20: 0.2075 | M20: =L20*J20 -> 42.603587 | N20: 0.073 | O20: 14.989 | P20: 0.2805
A21: 41012 | B21: DEPERY 210593 | C21: SA | D21: 683423 | E21: 41019 | F21: Laiton | G21: Rond | H21: 17 | I21: 59 | J21: 54.56 | K21: 79 | L21: 0.8799 | M21: =L21*J21 -> 48.007344 | N21: 0.0607 | O21: =N21*J21 -> 3.311792 | P21: 0.9406
A22: 41081 | B22: GP 210612-1 | C22: SA | D22: 684890 | E22: 41104 | F22: Laiton | G22: Carrée | H22: 5.5 | I22: 121 | J22: 17.424 | K22: 80 | L22: 0.6184 | M22: 10.778 | N22: 0.0603 | O22: =N22*J22 -> 1.0506672 | P22: 0.6788
A23: 40631 | B23: GP 290311-3 | C23: SA | D23: 676969 | E23: 40651 | F23: Laiton | G23: Carrée | H23: 5.5 | I23: 120 | J23: 120 | K23: 80 | L23: 0.6184 | M23: 74.215 | N23: 0.0603 | O23: =N23*J23 -> 7.236 | P23: 0.6788
A24: Total général | J24: =SUBTOTAL(9,J2:J23) -> 780.16031 | M24: =SUBTOTAL(9,M2:M23) -> 388.66837 | O24: =SUBTOTAL(9,O2:O23) -> 50.642317

Sheet achat tiré de bdd
A1: Date Facture | B1: N° facture | C1: Type | D1: N° Déclaration | E1: Date Déclaration | F1: Matière | G1: Forme | H1: Taille | I1: Qté importée | J1: Qté utilisée | K1: N° fiche | L1: Taux dechet copeaux | M1: masse dechet copeaux | N1: Taux dechet fin de barre | O1: masse dechet fin de barre | P1: Taux Déchet total
A2: {=IFERROR(INDEX('bdd achat'!A$1:A$23,SMALL(IF(('bdd achat'!$F$1:$F$23="laiton")*('bdd achat'!$G$1:$G$23="Rond")*('bdd achat'!$H$1:$H$23=14),ROW('bdd achat'!$H$1:$H$23)),ROWS($1:1))),"")} -> 40941 | B2: {=IFERROR(INDEX('bdd achat'!B$1:B$23,SMALL(IF(('bdd achat'!$F$1:$F$23="laiton")*('bdd achat'!$G$1:$G$23="Rond")*('bdd achat'!$H$1:$H$23=14),ROW('bdd achat'!$H$1:$H$23)),ROWS($1:1))),"")} -> GP 020212-2 | C2: {=IFERROR(INDEX('bdd achat'!C$1:C$23,SMALL(IF(('bdd achat'!$F$1:$F$23="laiton")*('bdd achat'!$G$1:$G$23="Rond")*('bdd achat'!$H$1:$H$23=14),ROW('bdd achat'!$H$1:$H$23)),ROWS($1:1))),"")} -> SA | D2: {=IFERROR(INDEX('bdd achat'!D$1:D$23,SMALL(IF(('bdd achat'!$F$1:$F$23="laiton")*('bdd achat'!$G$1:$G$23="Rond")*('bdd achat'!$H$1:$H$23=14),ROW('bdd achat'!$H$1:$H$23)),ROWS($1:1))),"")} -> 682165 | E2: {=IFERROR(INDEX('bdd achat'!E$1:E$23,SMALL(IF(('bdd achat'!$F$1:$F$23="laiton")*('bdd achat'!$G$1:$G$23="Rond")*('bdd achat'!$H$1:$H$23=14),ROW('bdd achat'!$H$1:$H$23)),ROWS($1:1))),"")} -> 40953 | F2: laiton | G2: rond | H2: 14 | I2: {=IFERROR(INDEX('bdd achat'!I$1:I$23,SMALL(IF(('bdd achat'!$F$1:$F$23="laiton")*('bdd achat'!$G$1:$G$23="Rond")*('bdd achat'!$H$1:$H$23=14),ROW('bdd achat'!$H$1:$H$23)),ROWS($1:1))),"")} -> 204 | J2: {=IFERROR(INDEX('bdd achat'!J$1:J$23,SMALL(IF(('bdd achat'!$F$1:$F$23="laiton")*('bdd achat'!$G$1:$G$23="Rond")*('bdd achat'!$H$1:$H$23=14),ROW('bdd achat'!$H$1:$H$23)),ROWS($1:1))),"")} -> 77.305868 | K2: {=IFERROR(INDEX('bdd achat'!K$1:K$23,SMALL(IF(('bdd achat'!$F$1:$F$23="laiton")*('bdd achat'!$G$1:$G$23="Rond")*('bdd achat'!$H$1:$H$23=14),ROW('bdd achat'!$H$1:$H$23)),ROWS($1:1))),"")} -> 69 | L2: {=IFERROR(INDEX('bdd achat'!L$1:L$23,SMALL(IF(('bdd achat'!$F$1:$F$23="laiton")*('bdd achat'!$G$1:$G$23="Rond")*('bdd achat'!$H$1:$H$23=14),ROW('bdd achat'!$H$1:$H$23)),ROWS($1:1))),"")} -> 0.7697 | M2: {=IFERROR(INDEX('bdd achat'!M$1:M$23,SMALL(IF(('bdd achat'!$F$1:$F$23="laiton")*('bdd achat'!$G$1:$G$23="Rond")*('bdd achat'!$H$1:$H$23=14),ROW('bdd achat'!$H$1:$H$23)),ROWS($1:1))),"")} -> 59.502327 | N2: {=IFERROR(INDEX('bdd achat'!N$1:N$23,SMALL(IF(('bdd achat'!$F$1:$F$23="laiton")*('bdd achat'!$G$1:$G$23="Rond")*('bdd achat'!$H$1:$H$23=14),ROW('bdd achat'!$H$1:$H$23)),ROWS($1:1))),"")} -> 0.0623 | O2: {=IFERROR(INDEX('bdd achat'!O$1:O$23,SMALL(IF(('bdd achat'!$F$1:$F$23="laiton")*('bdd achat'!$G$1:$G$23="Rond")*('bdd achat'!$H$1:$H$23=14),ROW('bdd achat'!$H$1:$H$23)),ROWS($1:1))),"")} -> 4.8161556 | P2: {=IFERROR(INDEX('bdd achat'!P$1:P$23,SMALL(IF(('bdd achat'!$F$1:$F$23="laiton")*('bdd achat'!$G$1:$G$23="Rond")*('bdd achat'!$H$1:$H$23=14),ROW('bdd achat'!$H$1:$H$23)),ROWS($1:1))),"")} -> 0.8321
A3: {=IFERROR(INDEX('bdd achat'!A$1:A$23,SMALL(IF(('bdd achat'!$F$1:$F$23="laiton")*('bdd achat'!$G$1:$G$23="Rond")*('bdd achat'!$H$1:$H$23=14),ROW('bdd achat'!$H$1:$H$23)),ROWS($1:2))),"")} -> 40969 | B3: {=IFERROR(INDEX('bdd achat'!B$1:B$23,SMALL(IF(('bdd achat'!$F$1:$F$23="laiton")*('bdd achat'!$G$1:$G$23="Rond")*('bdd achat'!$H$1:$H$23=14),ROW('bdd achat'!$H$1:$H$23)),ROWS($1:2))),"")} -> GP 010312-1 | C3: {=IFERROR(INDEX('bdd achat'!C$1:C$23,SMALL(IF(('bdd achat'!$F$1:$F$23="laiton")*('bdd achat'!$G$1:$G$23="Rond")*('bdd achat'!$H$1:$H$23=14),ROW('bdd achat'!$H$1:$H$23)),ROWS($1:2))),"")} -> SA | D3: {=IFERROR(INDEX('bdd achat'!D$1:D$23,SMALL(IF(('bdd achat'!$F$1:$F$23="laiton")*('bdd achat'!$G$1:$G$23="Rond")*('bdd achat'!$H$1:$H$23=14),ROW('bdd achat'!$H$1:$H$23)),ROWS($1:2))),"")} -> 683038 | E3: {=IFERROR(INDEX('bdd achat'!E$1:E$23,SMALL(IF(('bdd achat'!$F$1:$F$23="laiton")*('bdd achat'!$G$1:$G$23="Rond")*('bdd achat'!$H$1:$H$23=14),ROW('bdd achat'!$H$1:$H$23)),ROWS($1:2))),"")} -> 40998 | I3: {=IFERROR(INDEX('bdd achat'!I$1:I$23,SMALL(IF(('bdd achat'!$F$1:$F$23="laiton")*('bdd achat'!$G$1:$G$23="Rond")*('bdd achat'!$H$1:$H$23=14),ROW('bdd achat'!$H$1:$H$23)),ROWS($1:2))),"")} -> 200 | J3: {=IFERROR(INDEX('bdd achat'!J$1:J$23,SMALL(IF(('bdd achat'!$F$1:$F$23="laiton")*('bdd achat'!$G$1:$G$23="Rond")*('bdd achat'!$H$1:$H$23=14),ROW('bdd achat'!$H$1:$H$23)),ROWS($1:2))),"")} -> 79.497388 | K3: {=IFERROR(INDEX('bdd achat'!K$1:K$23,SMALL(IF(('bdd achat'!$F$1:$F$23="laiton")*('bdd achat'!$G$1:$G$23="Rond")*('bdd achat'!$H$1:$H$23=14),ROW('bdd achat'!$H$1:$H$23)),ROWS($1:2))),"")} -> 69 | L3: {=IFERROR(INDEX('bdd achat'!L$1:L$23,SMALL(IF(('bdd achat'!$F$1:$F$23="laiton")*('bdd achat'!$G$1:$G$23="Rond")*('bdd achat'!$H$1:$H$23=14),ROW('bdd achat'!$H$1:$H$23)),ROWS($1:2))),"")} -> 0.7697 | M3: {=IFERROR(INDEX('bdd achat'!M$1:M$23,SMALL(IF(('bdd achat'!$F$1:$F$23="laiton")*('bdd achat'!$G$1:$G$23="Rond")*('bdd achat'!$H$1:$H$23=14),ROW('bdd achat'!$H$1:$H$23)),ROWS($1:2))),"")} -> 61.18914 | N3: {=IFERROR(INDEX('bdd achat'!N$1:N$23,SMALL(IF(('bdd achat'!$F$1:$F$23="laiton")*('bdd achat'!$G$1:$G$23="Rond")*('bdd achat'!$H$1:$H$23=14),ROW('bdd achat'!$H$1:$H$23)),ROWS($1:2))),"")} -> 0.0623 | O3: {=IFERROR(INDEX('bdd achat'!O$1:O$23,SMALL(IF(('bdd achat'!$F$1:$F$23="laiton")*('bdd achat'!$G$1:$G$23="Rond")*('bdd achat'!$H$1:$H$23=14),ROW('bdd achat'!$H$1:$H$23)),ROWS($1:2))),"")} -> 4.9526873 | P3: {=IFERROR(INDEX('bdd achat'!P$1:P$23,SMALL(IF(('bdd achat'!$F$1:$F$23="laiton")*('bdd achat'!$G$1:$G$23="Rond")*('bdd achat'!$H$1:$H$23=14),ROW('bdd achat'!$H$1:$H$23)),ROWS($1:2))),"")} -> 0.8321
A4: {=IFERROR(INDEX('bdd achat'!A$1:A$23,SMALL(IF(('bdd achat'!$F$1:$F$23="laiton")*('bdd achat'!$G$1:$G$23="Rond")*('bdd achat'!$H$1:$H$23=14),ROW('bdd achat'!$H$1:$H$23)),ROWS($1:3))),"")} -> 41012 | B4: {=IFERROR(INDEX('bdd achat'!B$1:B$23,SMALL(IF(('bdd achat'!$F$1:$F$23="laiton")*('bdd achat'!$G$1:$G$23="Rond")*('bdd achat'!$H$1:$H$23=14),ROW('bdd achat'!$H$1:$H$23)),ROWS($1:3))),"")} -> DEPERY 210593 | C4: {=IFERROR(INDEX('bdd achat'!C$1:C$23,SMALL(IF(('bdd achat'!$F$1:$F$23="laiton")*('bdd achat'!$G$1:$G$23="Rond")*('bdd achat'!$H$1:$H$23=14),ROW('bdd achat'!$H$1:$H$23)),ROWS($1:3))),"")} -> SA | D4: {=IFERROR(INDEX('bdd achat'!D$1:D$23,SMALL(IF(('bdd achat'!$F$1:$F$23="laiton")*('bdd achat'!$G$1:$G$23="Rond")*('bdd achat'!$H$1:$H$23=14),ROW('bdd achat'!$H$1:$H$23)),ROWS($1:3))),"")} -> 683423 | E4: {=IFERROR(INDEX('bdd achat'!E$1:E$23,SMALL(IF(('bdd achat'!$F$1:$F$23="laiton")*('bdd achat'!$G$1:$G$23="Rond")*('bdd achat'!$H$1:$H$23=14),ROW('bdd achat'!$H$1:$H$23)),ROWS($1:3))),"")} -> 41019 | I4: {=IFERROR(INDEX('bdd achat'!I$1:I$23,SMALL(IF(('bdd achat'!$F$1:$F$23="laiton")*('bdd achat'!$G$1:$G$23="Rond")*('bdd achat'!$H$1:$H$23=14),ROW('bdd achat'!$H$1:$H$23)),ROWS($1:3))),"")} -> 602 | J4: {=IFERROR(INDEX('bdd achat'!J$1:J$23,SMALL(IF(('bdd achat'!$F$1:$F$23="laiton")*('bdd achat'!$G$1:$G$23="Rond")*('bdd achat'!$H$1:$H$23=14),ROW('bdd achat'!$H$1:$H$23)),ROWS($1:3))),"")} -> 72.45713 | K4: {=IFERROR(INDEX('bdd achat'!K$1:K$23,SMALL(IF(('bdd achat'!$F$1:$F$23="laiton")*('bdd achat'!$G$1:$G$23="Rond")*('bdd achat'!$H$1:$H$23=14),ROW('bdd achat'!$H$1:$H$23)),ROWS($1:3))),"")} -> 69 | L4: {=IFERROR(INDEX('bdd achat'!L$1:L$23,SMALL(IF(('bdd achat'!$F$1:$F$23="laiton")*('bdd achat'!$G$1:$G$23="Rond")*('bdd achat'!$H$1:$H$23=14),ROW('bdd achat'!$H$1:$H$23)),ROWS($1:3))),"")} -> 0.7697 | M4: {=IFERROR(INDEX('bdd achat'!M$1:M$23,SMALL(IF(('bdd achat'!$F$1:$F$23="laiton")*('bdd achat'!$G$1:$G$23="Rond")*('bdd achat'!$H$1:$H$23=14),ROW('bdd achat'!$H$1:$H$23)),ROWS($1:3))),"")} -> 55.770253 | N4: {=IFERROR(INDEX('bdd achat'!N$1:N$23,SMALL(IF(('bdd achat'!$F$1:$F$23="laiton")*('bdd achat'!$G$1:$G$23="Rond")*('bdd achat'!$H$1:$H$23=14),ROW('bdd achat'!$H$1:$H$23)),ROWS($1:3))),"")} -> 0.0623 | O4: {=IFERROR(INDEX('bdd achat'!O$1:O$23,SMALL(IF(('bdd achat'!$F$1:$F$23="laiton")*('bdd achat'!$G$1:$G$23="Rond")*('bdd achat'!$H$1:$H$23=14),ROW('bdd achat'!$H$1:$H$23)),ROWS($1:3))),"")} -> 4.5140792 | P4: {=IFERROR(INDEX('bdd achat'!P$1:P$23,SMALL(IF(('bdd achat'!$F$1:$F$23="laiton")*('bdd achat'!$G$1:$G$23="Rond")*('bdd achat'!$H$1:$H$23=14),ROW('bdd achat'!$H$1:$H$23)),ROWS($1:3))),"")} -> 0.8321
A5: {=IFERROR(INDEX('bdd achat'!A$1:A$23,SMALL(IF(('bdd achat'!$F$1:$F$23="laiton")*('bdd achat'!$G$1:$G$23="Rond")*('bdd achat'!$H$1:$H$23=14),ROW('bdd achat'!$H$1:$H$23)),ROWS($1:4))),"")} -> 40941 | B5: {=IFERROR(INDEX('bdd achat'!B$1:B$23,SMALL(IF(('bdd achat'!$F$1:$F$23="laiton")*('bdd achat'!$G$1:$G$23="Rond")*('bdd achat'!$H$1:$H$23=14),ROW('bdd achat'!$H$1:$H$23)),ROWS($1:4))),"")} -> GP 020212-2 | C5: {=IFERROR(INDEX('bdd achat'!C$1:C$23,SMALL(IF(('bdd achat'!$F$1:$F$23="laiton")*('bdd achat'!$G$1:$G$23="Rond")*('bdd achat'!$H$1:$H$23=14),ROW('bdd achat'!$H$1:$H$23)),ROWS($1:4))),"")} -> SA | D5: {=IFERROR(INDEX('bdd achat'!D$1:D$23,SMALL(IF(('bdd achat'!$F$1:$F$23="laiton")*('bdd achat'!$G$1:$G$23="Rond")*('bdd achat'!$H$1:$H$23=14),ROW('bdd achat'!$H$1:$H$23)),ROWS($1:4))),"")} -> 682165 | E5: {=IFERROR(INDEX('bdd achat'!E$1:E$23,SMALL(IF(('bdd achat'!$F$1:$F$23="laiton")*('bdd achat'!$G$1:$G$23="Rond")*('bdd achat'!$H$1:$H$23=14),ROW('bdd achat'!$H$1:$H$23)),ROWS($1:4))),"")} -> 40953 | I5: {=IFERROR(INDEX('bdd achat'!I$1:I$23,SMALL(IF(('bdd achat'!$F$1:$F$23="laiton")*('bdd achat'!$G$1:$G$23="Rond")*('bdd achat'!$H$1:$H$23=14),ROW('bdd achat'!$H$1:$H$23)),ROWS($1:4))),"")} -> 204 | J5: {=IFERROR(INDEX('bdd achat'!J$1:J$23,SMALL(IF(('bdd achat'!$F$1:$F$23="laiton")*('bdd achat'!$G$1:$G$23="Rond")*('bdd achat'!$H$1:$H$23=14),ROW('bdd achat'!$H$1:$H$23)),ROWS($1:4))),"")} -> 166.5308 | K5: {=IFERROR(INDEX('bdd achat'!K$1:K$23,SMALL(IF(('bdd achat'!$F$1:$F$23="laiton")*('bdd achat'!$G$1:$G$23="Rond")*('bdd achat'!$H$1:$H$23=14),ROW('bdd achat'!$H$1:$H$23)),ROWS($1:4))),"")} -> 70 | L5: {=IFERROR(INDEX('bdd achat'!L$1:L$23,SMALL(IF(('bdd achat'!$F$1:$F$23="laiton")*('bdd achat'!$G$1:$G$23="Rond")*('bdd achat'!$H$1:$H$23=14),ROW('bdd achat'!$H$1:$H$23)),ROWS($1:4))),"")} -> 0.3852 | M5: {=IFERROR(INDEX('bdd achat'!M$1:M$23,SMALL(IF(('bdd achat'!$F$1:$F$23="laiton")*('bdd achat'!$G$1:$G$23="Rond")*('bdd achat'!$H$1:$H$23=14),ROW('bdd achat'!$H$1:$H$23)),ROWS($1:4))),"")} -> 64.147664 | N5: {=IFERROR(INDEX('bdd achat'!N$1:N$23,SMALL(IF(('bdd achat'!$F$1:$F$23="laiton")*('bdd achat'!$G$1:$G$23="Rond")*('bdd achat'!$H$1:$H$23=14),ROW('bdd achat'!$H$1:$H$23)),ROWS($1:4))),"")} -> 0.066 | O5: {=IFERROR(INDEX('bdd achat'!O$1:O$23,SMALL(IF(('bdd achat'!$F$1:$F$23="laiton")*('bdd achat'!$G$1:$G$23="Rond")*('bdd achat'!$H$1:$H$23=14),ROW('bdd achat'!$H$1:$H$23)),ROWS($1:4))),"")} -> 10.991033 | P5: {=IFERROR(INDEX('bdd achat'!P$1:P$23,SMALL(IF(('bdd achat'!$F$1:$F$23="laiton")*('bdd achat'!$G$1:$G$23="Rond")*('bdd achat'!$H$1:$H$23=14),ROW('bdd achat'!$H$1:$H$23)),ROWS($1:4))),"")} -> 0.4512
A6: {=IFERROR(INDEX('bdd achat'!A$1:A$23,SMALL(IF(('bdd achat'!$F$1:$F$23="laiton")*('bdd achat'!$G$1:$G$23="Rond")*('bdd achat'!$H$1:$H$23=14),ROW('bdd achat'!$H$1:$H$23)),ROWS($1:5))),"")} -> 40969 | B6: {=IFERROR(INDEX('bdd achat'!B$1:B$23,SMALL(IF(('bdd achat'!$F$1:$F$23="laiton")*('bdd achat'!$G$1:$G$23="Rond")*('bdd achat'!$H$1:$H$23=14),ROW('bdd achat'!$H$1:$H$23)),ROWS($1:5))),"")} -> GP 010312-1 | C6: {=IFERROR(INDEX('bdd achat'!C$1:C$23,SMALL(IF(('bdd achat'!$F$1:$F$23="laiton")*('bdd achat'!$G$1:$G$23="Rond")*('bdd achat'!$H$1:$H$23=14),ROW('bdd achat'!$H$1:$H$23)),ROWS($1:5))),"")} -> SA | D6: {=IFERROR(INDEX('bdd achat'!D$1:D$23,SMALL(IF(('bdd achat'!$F$1:$F$23="laiton")*('bdd achat'!$G$1:$G$23="Rond")*('bdd achat'!$H$1:$H$23=14),ROW('bdd achat'!$H$1:$H$23)),ROWS($1:5))),"")} -> 683038 | E6: {=IFERROR(INDEX('bdd achat'!E$1:E$23,SMALL(IF(('bdd achat'!$F$1:$F$23="laiton")*('bdd achat'!$G$1:$G$23="Rond")*('bdd achat'!$H$1:$H$23=14),ROW('bdd achat'!$H$1:$H$23)),ROWS($1:5))),"")} -> 40998 | I6: {=IFERROR(INDEX('bdd achat'!I$1:I$23,SMALL(IF(('bdd achat'!$F$1:$F$23="laiton")*('bdd achat'!$G$1:$G$23="Rond")*('bdd achat'!$H$1:$H$23=14),ROW('bdd achat'!$H$1:$H$23)),ROWS($1:5))),"")} -> 200 | J6: {=IFERROR(INDEX('bdd achat'!J$1:J$23,SMALL(IF(('bdd achat'!$F$1:$F$23="laiton")*('bdd achat'!$G$1:$G$23="Rond")*('bdd achat'!$H$1:$H$23=14),ROW('bdd achat'!$H$1:$H$23)),ROWS($1:5))),"")} -> 198.52512 | K6: {=IFERROR(INDEX('bdd achat'!K$1:K$23,SMALL(IF(('bdd achat'!$F$1:$F$23="laiton")*('bdd achat'!$G$1:$G$23="Rond")*('bdd achat'!$H$1:$H$23=14),ROW('bdd achat'!$H$1:$H$23)),ROWS($1:5))),"")} -> 70 | L6: {=IFERROR(INDEX('bdd achat'!L$1:L$23,SMALL(IF(('bdd achat'!$F$1:$F$23="laiton")*('bdd achat'!$G$1:$G$23="Rond")*('bdd achat'!$H$1:$H$23=14),ROW('bdd achat'!$H$1:$H$23)),ROWS($1:5))),"")} -> 0.3852 | M6: {=IFERROR(INDEX('bdd achat'!M$1:M$23,SMALL(IF(('bdd achat'!$F$1:$F$23="laiton")*('bdd achat'!$G$1:$G$23="Rond")*('bdd achat'!$H$1:$H$23=14),ROW('bdd achat'!$H$1:$H$23)),ROWS($1:5))),"")} -> 76.471876 | N6: {=IFERROR(INDEX('bdd achat'!N$1:N$23,SMALL(IF(('bdd achat'!$F$1:$F$23="laiton")*('bdd achat'!$G$1:$G$23="Rond")*('bdd achat'!$H$1:$H$23=14),ROW('bdd achat'!$H$1:$H$23)),ROWS($1:5))),"")} -> 0.066 | O6: {=IFERROR(INDEX('bdd achat'!O$1:O$23,SMALL(IF(('bdd achat'!$F$1:$F$23="laiton")*('bdd achat'!$G$1:$G$23="Rond")*('bdd achat'!$H$1:$H$23=14),ROW('bdd achat'!$H$1:$H$23)),ROWS($1:5))),"")} -> 13.102658 | P6: {=IFERROR(INDEX('bdd achat'!P$1:P$23,SMALL(IF(('bdd achat'!$F$1:$F$23="laiton")*('bdd achat'!$G$1:$G$23="Rond")*('bdd achat'!$H$1:$H$23=14),ROW('bdd achat'!$H$1:$H$23)),ROWS($1:5))),"")} -> 0.4512
A7: {=IFERROR(INDEX('bdd achat'!A$1:A$23,SMALL(IF(('bdd achat'!$F$1:$F$23="laiton")*('bdd achat'!$G$1:$G$23="Rond")*('bdd achat'!$H$1:$H$23=14),ROW('bdd achat'!$H$1:$H$23)),ROWS($1:6))),"")} -> 41012 | B7: {=IFERROR(INDEX('bdd achat'!B$1:B$23,SMALL(IF(('bdd achat'!$F$1:$F$23="laiton")*('bdd achat'!$G$1:$G$23="Rond")*('bdd achat'!$H$1:$H$23=14),ROW('bdd achat'!$H$1:$H$23)),ROWS($1:6))),"")} -> DEPERY 210593 | C7: {=IFERROR(INDEX('bdd achat'!C$1:C$23,SMALL(IF(('bdd achat'!$F$1:$F$23="laiton")*('bdd achat'!$G$1:$G$23="Rond")*('bdd achat'!$H$1:$H$23=14),ROW('bdd achat'!$H$1:$H$23)),ROWS($1:6))),"")} -> SA | D7: {=IFERROR(INDEX('bdd achat'!D$1:D$23,SMALL(IF(('bdd achat'!$F$1:$F$23="laiton")*('bdd achat'!$G$1:$G$23="Rond")*('bdd achat'!$H$1:$H$23=14),ROW('bdd achat'!$H$1:$H$23)),ROWS($1:6))),"")} -> 683423 | E7: {=IFERROR(INDEX('bdd achat'!E$1:E$23,SMALL(IF(('bdd achat'!$F$1:$F$23="laiton")*('bdd achat'!$G$1:$G$23="Rond")*('bdd achat'!$H$1:$H$23=14),ROW('bdd achat'!$H$1:$H$23)),ROWS($1:6))),"")} -> 41019 | I7: {=IFERROR(INDEX('bdd achat'!I$1:I$23,SMALL(IF(('bdd achat'!$F$1:$F$23="laiton")*('bdd achat'!$G$1:$G$23="Rond")*('bdd achat'!$H$1:$H$23=14),ROW('bdd achat'!$H$1:$H$23)),ROWS($1:6))),"")} -> 602 | J7: {=IFERROR(INDEX('bdd achat'!J$1:J$23,SMALL(IF(('bdd achat'!$F$1:$F$23="laiton")*('bdd achat'!$G$1:$G$23="Rond")*('bdd achat'!$H$1:$H$23=14),ROW('bdd achat'!$H$1:$H$23)),ROWS($1:6))),"")} -> 185.844 | K7: {=IFERROR(INDEX('bdd achat'!K$1:K$23,SMALL(IF(('bdd achat'!$F$1:$F$23="laiton")*('bdd achat'!$G$1:$G$23="Rond")*('bdd achat'!$H$1:$H$23=14),ROW('bdd achat'!$H$1:$H$23)),ROWS($1:6))),"")} -> 70 | L7: {=IFERROR(INDEX('bdd achat'!L$1:L$23,SMALL(IF(('bdd achat'!$F$1:$F$23="laiton")*('bdd achat'!$G$1:$G$23="Rond")*('bdd achat'!$H$1:$H$23=14),ROW('bdd achat'!$H$1:$H$23)),ROWS($1:6))),"")} -> 0.3852 | M7: {=IFERROR(INDEX('bdd achat'!M$1:M$23,SMALL(IF(('bdd achat'!$F$1:$F$23="laiton")*('bdd achat'!$G$1:$G$23="Rond")*('bdd achat'!$H$1:$H$23=14),ROW('bdd achat'!$H$1:$H$23)),ROWS($1:6))),"")} -> 71.587109 | N7: {=IFERROR(INDEX('bdd achat'!N$1:N$23,SMALL(IF(('bdd achat'!$F$1:$F$23="laiton")*('bdd achat'!$G$1:$G$23="Rond")*('bdd achat'!$H$1:$H$23=14),ROW('bdd achat'!$H$1:$H$23)),ROWS($1:6))),"")} -> 0.066 | O7: {=IFERROR(INDEX('bdd achat'!O$1:O$23,SMALL(IF(('bdd achat'!$F$1:$F$23="laiton")*('bdd achat'!$G$1:$G$23="Rond")*('bdd achat'!$H$1:$H$23=14),ROW('bdd achat'!$H$1:$H$23)),ROWS($1:6))),"")} -> 12.265704 | P7: {=IFERROR(INDEX('bdd achat'!P$1:P$23,SMALL(IF(('bdd achat'!$F$1:$F$23="laiton")*('bdd achat'!$G$1:$G$23="Rond")*('bdd achat'!$H$1:$H$23=14),ROW('bdd achat'!$H$1:$H$23)),ROWS($1:6))),"")} -> 0.4512
A8: {=IFERROR(INDEX('bdd achat'!$A$1:$A$23,SMALL(IF(('bdd achat'!$F$1:$F$23="laiton")*('bdd achat'!$G$1:$G$23="Rond")*('bdd achat'!$H$1:$H$23=14),ROW('bdd achat'!$H$1:$H$23)),ROWS($1:7))),"")}
A9: {=IFERROR(INDEX('bdd achat'!$A$1:$A$23,SMALL(IF(('bdd achat'!$F$1:$F$23="laiton")*('bdd achat'!$G$1:$G$23="Rond")*('bdd achat'!$H$1:$H$23=14),ROW('bdd achat'!$H$1:$H$23)),ROWS($1:8))),"")}
A10: {=IFERROR(INDEX('bdd achat'!$A$1:$A$23,SMALL(IF(('bdd achat'!$F$1:$F$23="laiton")*('bdd achat'!$G$1:$G$23="Rond")*('bdd achat'!$H$1:$H$23=14),ROW('bdd achat'!$H$1:$H$23)),ROWS($1:9))),"")}
A11: {=IFERROR(INDEX('bdd achat'!$A$1:$A$23,SMALL(IF(('bdd achat'!$F$1:$F$23="laiton")*('bdd achat'!$G$1:$G$23="Rond")*('bdd achat'!$H$1:$H$23=14),ROW('bdd achat'!$H$1:$H$23)),ROWS($1:10))),"")}
A12: {=IFERROR(INDEX('bdd achat'!$A$1:$A$23,SMALL(IF(('bdd achat'!$F$1:$F$23="laiton")*('bdd achat'!$G$1:$G$23="Rond")*('bdd achat'!$H$1:$H$23=14),ROW('bdd achat'!$H$1:$H$23)),ROWS($1:11))),"")}
A13: {=IFERROR(INDEX('bdd achat'!$A$1:$A$23,SMALL(IF(('bdd achat'!$F$1:$F$23="laiton")*('bdd achat'!$G$1:$G$23="Rond")*('bdd achat'!$H$1:$H$23=14),ROW('bdd achat'!$H$1:$H$23)),ROWS($1:12))),"")}
A14: {=IFERROR(INDEX('bdd achat'!$A$1:$A$23,SMALL(IF(('bdd achat'!$F$1:$F$23="laiton")*('bdd achat'!$G$1:$G$23="Rond")*('bdd achat'!$H$1:$H$23=14),ROW('bdd achat'!$H$1:$H$23)),ROWS($1:13))),"")}
A15: {=IFERROR(INDEX('bdd achat'!$A$1:$A$23,SMALL(IF(('bdd achat'!$F$1:$F$23="laiton")*('bdd achat'!$G$1:$G$23="Rond")*('bdd achat'!$H$1:$H$23=14),ROW('bdd achat'!$H$1:$H$23)),ROWS($1:14))),"")}
A16: {=IFERROR(INDEX('bdd achat'!$A$1:$A$23,SMALL(IF(('bdd achat'!$F$1:$F$23="laiton")*('bdd achat'!$G$1:$G$23="Rond")*('bdd achat'!$H$1:$H$23=14),ROW('bdd achat'!$H$1:$H$23)),ROWS($1:15))),"")}
A17: {=IFERROR(INDEX('bdd achat'!$A$1:$A$23,SMALL(IF(('bdd achat'!$F$1:$F$23="laiton")*('bdd achat'!$G$1:$G$23="Rond")*('bdd achat'!$H$1:$H$23=14),ROW('bdd achat'!$H$1:$H$23)),ROWS($1:16))),"")}
A18: {=IFERROR(INDEX('bdd achat'!$A$1:$A$23,SMALL(IF(('bdd achat'!$F$1:$F$23="laiton")*('bdd achat'!$G$1:$G$23="Rond")*('bdd achat'!$H$1:$H$23=14),ROW('bdd achat'!$H$1:$H$23)),ROWS($1:17))),"")}
A19: {=IFERROR(INDEX('bdd achat'!$A$1:$A$23,SMALL(IF(('bdd achat'!$F$1:$F$23="laiton")*('bdd achat'!$G$1:$G$23="Rond")*('bdd achat'!$H$1:$H$23=14),ROW('bdd achat'!$H$1:$H$23)),ROWS($1:18))),"")}
A20: {=IFERROR(INDEX('bdd achat'!$A$1:$A$23,SMALL(IF(('bdd achat'!$F$1:$F$23="laiton")*('bdd achat'!$G$1:$G$23="Rond")*('bdd achat'!$H$1:$H$23=14),ROW('bdd achat'!$H$1:$H$23)),ROWS($1:19))),"")}
A21: {=IFERROR(INDEX('bdd achat'!$A$1:$A$23,SMALL(IF(('bdd achat'!$F$1:$F$23="laiton")*('bdd achat'!$G$1:$G$23="Rond")*('bdd achat'!$H$1:$H$23=14),ROW('bdd achat'!$H$1:$H$23)),ROWS($1:20))),"")}
A22: {=IFERROR(INDEX('bdd achat'!$A$1:$A$23,SMALL(IF(('bdd achat'!$F$1:$F$23="laiton")*('bdd achat'!$G$1:$G$23="Rond")*('bdd achat'!$H$1:$H$23=14),ROW('bdd achat'!$H$1:$H$23)),ROWS($1:21))),"")}
A23: {=IFERROR(INDEX('bdd achat'!$A$1:$A$23,SMALL(IF(('bdd achat'!$F$1:$F$23="laiton")*('bdd achat'!$G$1:$G$23="rond")*('bdd achat'!$H$1:$H$23=14),ROW('bdd achat'!$H$1:$H$23)),ROWS($1:22))),"")}
A24: {=IFERROR(INDEX('bdd achat'!$A$1:$A$23,SMALL(IF(('bdd achat'!$F$1:$F$23="laiton")*('bdd achat'!$G$1:$G$23="rond")*('bdd achat'!$H$1:$H$23=14),ROW('bdd achat'!$H$1:$H$23)),ROWS($1:23))),"")}
A25: {=IFERROR(INDEX('bdd achat'!$A$1:$A$23,SMALL(IF(('bdd achat'!$F$1:$F$23="laiton")*('bdd achat'!$G$1:$G$23="rond")*('bdd achat'!$H$1:$H$23=14),ROW('bdd achat'!$H$1:$H$23)),ROWS($1:24))),"")}
A26: {=IFERROR(INDEX('bdd achat'!$A$1:$A$23,SMALL(IF(('bdd achat'!$F$1:$F$23="laiton")*('bdd achat'!$G$1:$G$23="rond")*('bdd achat'!$H$1:$H$23=14),ROW('bdd achat'!$H$1:$H$23)),ROWS($1:25))),"")}
A27: {=IFERROR(INDEX('bdd achat'!$A$1:$A$23,SMALL(IF(('bdd achat'!$F$1:$F$23="laiton")*('bdd achat'!$G$1:$G$23="rond")*('bdd achat'!$H$1:$H$23=14),ROW('bdd achat'!$H$1:$H$23)),ROWS($1:26))),"")}
A28: {=IFERROR(INDEX('bdd achat'!$A$1:$A$23,SMALL(IF(('bdd achat'!$F$1:$F$23="laiton")*('bdd achat'!$G$1:$G$23="rond")*('bdd achat'!$H$1:$H$23=14),ROW('bdd achat'!$H$1:$H$23)),ROWS($1:27))),"")}
A29: {=IFERROR(INDEX('bdd achat'!$A$1:$A$23,SMALL(IF(('bdd achat'!$F$1:$F$23="laiton")*('bdd achat'!$G$1:$G$23="rond")*('bdd achat'!$H$1:$H$23=14),ROW('bdd achat'!$H$1:$H$23)),ROWS($1:28))),"")}
A30: {=IFERROR(INDEX('bdd achat'!$A$1:$A$23,SMALL(IF(('bdd achat'!$F$1:$F$23="laiton")*('bdd achat'!$G$1:$G$23="rond")*('bdd achat'!$H$1:$H$23=14),ROW('bdd achat'!$H$1:$H$23)),ROWS($1:29))),"")}
A31: {=IFERROR(INDEX('bdd achat'!$A$1:$A$23,SMALL(IF(('bdd achat'!$F$1:$F$23="laiton")*('bdd achat'!$G$1:$G$23="rond")*('bdd achat'!$H$1:$H$23=14),ROW('bdd achat'!$H$1:$H$23)),ROWS($1:30))),"")}
A32: {=IFERROR(INDEX('bdd achat'!$A$1:$A$23,SMALL(IF(('bdd achat'!$F$1:$F$23="laiton")*('bdd achat'!$G$1:$G$23="rond")*('bdd achat'!$H$1:$H$23=14),ROW('bdd achat'!$H$1:$H$23)),ROWS($1:31))),"")}
A33: {=IFERROR(INDEX('bdd achat'!$A$1:$A$23,SMALL(IF(('bdd achat'!$F$1:$F$23="laiton")*('bdd achat'!$G$1:$G$23="rond")*('bdd achat'!$H$1:$H$23=14),ROW('bdd achat'!$H$1:$H$23)),ROWS($1:32))),"")}
A34: {=IFERROR(INDEX('bdd achat'!$A$1:$A$23,SMALL(IF(('bdd achat'!$F$1:$F$23="laiton")*('bdd achat'!$G$1:$G$23="rond")*('bdd achat'!$H$1:$H$23=14),ROW('bdd achat'!$H$1:$H$23)),ROWS($1:33))),"")}
A35: {=IFERROR(INDEX('bdd achat'!$A$1:$A$23,SMALL(IF(('bdd achat'!$F$1:$F$23="laiton")*('bdd achat'!$G$1:$G$23="rond")*('bdd achat'!$H$1:$H$23=14),ROW('bdd achat'!$H$1:$H$23)),ROWS($1:34))),"")}
A36: {=IFERROR(INDEX('bdd achat'!$A$1:$A$23,SMALL(IF(('bdd achat'!$F$1:$F$23="laiton")*('bdd achat'!$G$1:$G$23="rond")*('bdd achat'!$H$1:$H$23=14),ROW('bdd achat'!$H$1:$H$23)),ROWS($1:35))),"")}
A37: {=IFERROR(INDEX('bdd achat'!$A$1:$A$23,SMALL(IF(('bdd achat'!$F$1:$F$23="laiton")*('bdd achat'!$G$1:$G$23="rond")*('bdd achat'!$H$1:$H$23=14),ROW('bdd achat'!$H$1:$H$23)),ROWS($1:36))),"")}
A38: {=IFERROR(INDEX('bdd achat'!$A$1:$A$23,SMALL(IF(('bdd achat'!$F$1:$F$23="laiton")*('bdd achat'!$G$1:$G$23="rond")*('bdd achat'!$H$1:$H$23=14),ROW('bdd achat'!$H$1:$H$23)),ROWS($1:37))),"")}
A39: {=IFERROR(INDEX('bdd achat'!$A$1:$A$23,SMALL(IF(('bdd achat'!$F$1:$F$23="laiton")*('bdd achat'!$G$1:$G$23="rond")*('bdd achat'!$H$1:$H$23=14),ROW('bdd achat'!$H$1:$H$23)),ROWS($1:38))),"")}
A40: {=IFERROR(INDEX('bdd achat'!$A$1:$A$23,SMALL(IF(('bdd achat'!$F$1:$F$23="laiton")*('bdd achat'!$G$1:$G$23="rond")*('bdd achat'!$H$1:$H$23=14),ROW('bdd achat'!$H$1:$H$23)),ROWS($1:39))),"")}
A41: {=IFERROR(INDEX('bdd achat'!$A$1:$A$23,SMALL(IF(('bdd achat'!$F$1:$F$23="laiton")*('bdd achat'!$G$1:$G$23="rond")*('bdd achat'!$H$1:$H$23=14),ROW('bdd achat'!$H$1:$H$23)),ROWS($1:40))),"")}
A42: {=IFERROR(INDEX('bdd achat'!$A$1:$A$23,SMALL(IF(('bdd achat'!$F$1:$F$23="laiton")*('bdd achat'!$G$1:$G$23="rond")*('bdd achat'!$H$1:$H$23=14),ROW('bdd achat'!$H$1:$H$23)),ROWS($1:41))),"")}
A43: {=IFERROR(INDEX('bdd achat'!$A$1:$A$23,SMALL(IF(('bdd achat'!$F$1:$F$23="laiton")*('bdd achat'!$G$1:$G$23="rond")*('bdd achat'!$H$1:$H$23=14),ROW('bdd achat'!$H$1:$H$23)),ROWS($1:42))),"")}
A44: {=IFERROR(INDEX('bdd achat'!$A$1:$A$23,SMALL(IF(('bdd achat'!$F$1:$F$23="laiton")*('bdd achat'!$G$1:$G$23="rond")*('bdd achat'!$H$1:$H$23=14),ROW('bdd achat'!$H$1:$H$23)),ROWS($1:43))),"")}
A45: {=IFERROR(INDEX('bdd achat'!$A$1:$A$23,SMALL(IF(('bdd achat'!$F$1:$F$23="laiton")*('bdd achat'!$G$1:$G$23="rond")*('bdd achat'!$H$1:$H$23=14),ROW('bdd achat'!$H$1:$H$23)),ROWS($1:44))),"")}
A46: {=IFERROR(INDEX('bdd achat'!$A$1:$A$23,SMALL(IF(('bdd achat'!$F$1:$F$23="laiton")*('bdd achat'!$G$1:$G$23="rond")*('bdd achat'!$H$1:$H$23=14),ROW('bdd achat'!$H$1:$H$23)),ROWS($1:45))),"")}
A47: {=IFERROR(INDEX('bdd achat'!$A$1:$A$23,SMALL(IF(('bdd achat'!$F$1:$F$23="laiton")*('bdd achat'!$G$1:$G$23="rond")*('bdd achat'!$H$1:$H$23=14),ROW('bdd achat'!$H$1:$H$23)),ROWS($1:46))),"")}
A48: {=IFERROR(INDEX('bdd achat'!$A$1:$A$23,SMALL(IF(('bdd achat'!$F$1:$F$23="laiton")*('bdd achat'!$G$1:$G$23="rond")*('bdd achat'!$H$1:$H$23=14),ROW('bdd achat'!$H$1:$H$23)),ROWS($1:47))),"")}
A49: {=IFERROR(INDEX('bdd achat'!$A$1:$A$23,SMALL(IF(('bdd achat'!$F$1:$F$23="laiton")*('bdd achat'!$G$1:$G$23="rond")*('bdd achat'!$H$1:$H$23=14),ROW('bdd achat'!$H$1:$H$23)),ROWS($1:48))),"")}
A50: {=IFERROR(INDEX('bdd achat'!$A$1:$A$23,SMALL(IF(('bdd achat'!$F$1:$F$23="laiton")*('bdd achat'!$G$1:$G$23="rond")*('bdd achat'!$H$1:$H$23=14),ROW('bdd achat'!$H$1:$H$23)),ROWS($1:49))),"")}
