Workbook

Sheet recap
A1: clients | B1: piece bleu | C1: piece verte
A2: client1 | B2: 26
A3: client2 | B3: 16
A4: client3 | B4: 14
A5: client4 | B5: 16
A6: client1 | B6: 13
A7: client2 | B7: 13
A8: client3 | B8: 16
A9: client5 | B9: 18
A10: client6 | B10: 18
A11: client1 | B11: 4
A12: client5 | C12: 14
A13: client6 | B13: 10 | C13: 2
A14: client7 | B14: 14
A15: client1 | B15: 24
A16: client2 | B16: 12
A17: client5 | B17: 12
A18: client2 | B18: 14
A19: client3 | B19: 24
A20: client4 | B20: 26
A21: client5 | C21: 26
A22: client3 | C22: 10
A23: client2 | B23: 8
A24: client1 | B24: 26
A25: client3 | B25: 24
A26: client4 | B26: 16

Sheet client1
B2: client1
B4: date | C4: bleu | D4: verte | I4: =CELL("nomfichier",$A$1) -> D:\telechargements\[commande.xlsx]client1
C5: =SUMPRODUCT((recap!$A$2:$A$26=MID(CELL("nomfichier",$A$1),FIND("]",CELL("nomfichier",$A$1))+1,15))*(recap!$B$2:$B$26)) -> 93 | D5: =SUMPRODUCT((recap!$A$2:$A$26=RIGHT(CELL("nomfichier",$A$1),7))*(recap!$C$2:$C$26)) -> 0
I7: =MID(CELL("nomfichier",$A$1),FIND("]",CELL("nomfichier",$A$1))+1,15) -> client1 | J7: =LEN(I7) -> 7

Sheet client2
B2: client2
B4: date | C4: bleu | D4: verte
C5: =SUMPRODUCT((recap!$A$2:$A$26=MID(CELL("nomfichier",$A$1),FIND("]",CELL("nomfichier",$A$1))+1,15))*(recap!$B$2:$B$26)) -> 63 | D5: =SUMPRODUCT((recap!$A$2:$A$26=RIGHT(CELL("nomfichier",$A$1),7))*(recap!$C$2:$C$26)) -> 0
I7: =MID(I4,FIND("]",CELL("nomfichier",$A$1))+1,15)

Sheet client3
B2: client3
B4: date | C4: bleu | D4: verte
C5: =SUMPRODUCT((recap!$A$2:$A$26=MID(CELL("nomfichier",$A$1),FIND("]",CELL("nomfichier",$A$1))+1,15))*(recap!$B$2:$B$26)) -> 78 | D5: =SUMPRODUCT((recap!$A$2:$A$26=RIGHT(CELL("nomfichier",$A$1),7))*(recap!$C$2:$C$26)) -> 10
I7: =MID(I4,FIND("]",CELL("nomfichier",$A$1))+1,15)

Sheet client4
B2: client4
B4: date | C4: bleu | D4: verte
C5: =SUMPRODUCT((recap!$A$2:$A$26=MID(CELL("nomfichier",$A$1),FIND("]",CELL("nomfichier",$A$1))+1,15))*(recap!$B$2:$B$26)) -> 58 | D5: =SUMPRODUCT((recap!$A$2:$A$26=RIGHT(CELL("nomfichier",$A$1),7))*(recap!$C$2:$C$26)) -> 0
I7: =MID(I4,FIND("]",CELL("nomfichier",$A$1))+1,15)

Sheet client5
B2: client5
B4: date | C4: bleu | D4: verte
C5: =SUMPRODUCT((recap!$A$2:$A$26=MID(CELL("nomfichier",$A$1),FIND("]",CELL("nomfichier",$A$1))+1,15))*(recap!$B$2:$B$26)) -> 30 | D5: =SUMPRODUCT((recap!$A$2:$A$26=RIGHT(CELL("nomfichier",$A$1),7))*(recap!$C$2:$C$26)) -> 40
I7: =MID(I4,FIND("]",CELL("nomfichier",$A$1))+1,15)

Sheet client6
B2: client6
B4: date | C4: bleu | D4: verte
C5: =SUMPRODUCT((recap!$A$2:$A$26=MID(CELL("nomfichier",$A$1),FIND("]",CELL("nomfichier",$A$1))+1,15))*(recap!$B$2:$B$26)) -> 28 | D5: =SUMPRODUCT((recap!$A$2:$A$26=RIGHT(CELL("nomfichier",$A$1),7))*(recap!$C$2:$C$26)) -> 2
I7: =MID(I4,FIND("]",CELL("nomfichier",$A$1))+1,15)

Sheet client7
B2: client7
B4: date | C4: bleu | D4: verte
C5: =SUMPRODUCT((recap!$A$2:$A$26=MID(CELL("nomfichier",$A$1),FIND("]",CELL("nomfichier",$A$1))+1,15))*(recap!$B$2:$B$26)) -> 14 | D5: =SUMPRODUCT((recap!$A$2:$A$26=RIGHT(CELL("nomfichier",$A$1),7))*(recap!$C$2:$C$26)) -> 0
I7: =MID(I4,FIND("]",CELL("nomfichier",$A$1))+1,15)
