Workbook

Sheet Feuil1
A1: entreprises | B1: noms | D1: entreprises
A2: ENT 1 | B2: n1 | D2: ENT 1 | E2: {=IFERROR(INDEX(Feuil1!$B$2:$B$9,SMALL(IF(Feuil1!$A$2:$A$9=$D2,ROW(Feuil1!$A$2:$A$9)-1),COLUMNS($A:A))),"")} -> n1 | F2: {=IFERROR(INDEX(Feuil1!$B$2:$B$9,SMALL(IF(Feuil1!$A$2:$A$9=$D2,ROW(Feuil1!$A$2:$A$9)-1),COLUMNS($A:B))),"")} -> n2 | G2: {=IFERROR(INDEX(Feuil1!$B$2:$B$9,SMALL(IF(Feuil1!$A$2:$A$9=$D2,ROW(Feuil1!$A$2:$A$9)-1),COLUMNS($A:C))),"")} -> n3 | H2: {=IFERROR(INDEX(Feuil1!$B$2:$B$9,SMALL(IF(Feuil1!$A$2:$A$9=$D2,ROW(Feuil1!$A$2:$A$9)-1),COLUMNS($A:D))),"")} | I2: {=IFERROR(INDEX(Feuil1!$B$2:$B$9,SMALL(IF(Feuil1!$A$2:$A$9=$D2,ROW(Feuil1!$A$2:$A$9)-1),COLUMNS($A:E))),"")} | J2: {=IFERROR(INDEX(Feuil1!$B$2:$B$9,SMALL(IF(Feuil1!$A$2:$A$9=$D2,ROW(Feuil1!$A$2:$A$9)-1),COLUMNS($A:F))),"")} | K2: {=IFERROR(INDEX(Feuil1!$B$2:$B$9,SMALL(IF(Feuil1!$A$2:$A$9=$D2,ROW(Feuil1!$A$2:$A$9)-1),COLUMNS($A:G))),"")} | L2: {=IFERROR(INDEX(Feuil1!$B$2:$B$9,SMALL(IF(Feuil1!$A$2:$A$9=$D2,ROW(Feuil1!$A$2:$A$9)-1),COLUMNS($A:H))),"")}
A3: ENT 1 | B3: n2 | D3: ENT2 | E3: {=IFERROR(INDEX(Feuil1!$B$2:$B$9,SMALL(IF(Feuil1!$A$2:$A$9=$D3,ROW(Feuil1!$A$2:$A$9)-1),COLUMNS($A:A))),"")} -> n4 | F3: {=IFERROR(INDEX(Feuil1!$B$2:$B$9,SMALL(IF(Feuil1!$A$2:$A$9=$D3,ROW(Feuil1!$A$2:$A$9)-1),COLUMNS($A:B))),"")} -> n5 | G3: {=IFERROR(INDEX(Feuil1!$B$2:$B$9,SMALL(IF(Feuil1!$A$2:$A$9=$D3,ROW(Feuil1!$A$2:$A$9)-1),COLUMNS($A:C))),"")} | H3: {=IFERROR(INDEX(Feuil1!$B$2:$B$9,SMALL(IF(Feuil1!$A$2:$A$9=$D3,ROW(Feuil1!$A$2:$A$9)-1),COLUMNS($A:D))),"")} | I3: {=IFERROR(INDEX(Feuil1!$B$2:$B$9,SMALL(IF(Feuil1!$A$2:$A$9=$D3,ROW(Feuil1!$A$2:$A$9)-1),COLUMNS($A:E))),"")} | J3: {=IFERROR(INDEX(Feuil1!$B$2:$B$9,SMALL(IF(Feuil1!$A$2:$A$9=$D3,ROW(Feuil1!$A$2:$A$9)-1),COLUMNS($A:F))),"")} | K3: {=IFERROR(INDEX(Feuil1!$B$2:$B$9,SMALL(IF(Feuil1!$A$2:$A$9=$D3,ROW(Feuil1!$A$2:$A$9)-1),COLUMNS($A:G))),"")} | L3: {=IFERROR(INDEX(Feuil1!$B$2:$B$9,SMALL(IF(Feuil1!$A$2:$A$9=$D3,ROW(Feuil1!$A$2:$A$9)-1),COLUMNS($A:H))),"")}
A4: ENT 1 | B4: n3 | D4: ENT3 | E4: {=IFERROR(INDEX(Feuil1!$B$2:$B$9,SMALL(IF(Feuil1!$A$2:$A$9=$D4,ROW(Feuil1!$A$2:$A$9)-1),COLUMNS($A:A))),"")} -> n6 | F4: {=IFERROR(INDEX(Feuil1!$B$2:$B$9,SMALL(IF(Feuil1!$A$2:$A$9=$D4,ROW(Feuil1!$A$2:$A$9)-1),COLUMNS($A:B))),"")} | G4: {=IFERROR(INDEX(Feuil1!$B$2:$B$9,SMALL(IF(Feuil1!$A$2:$A$9=$D4,ROW(Feuil1!$A$2:$A$9)-1),COLUMNS($A:C))),"")} | H4: {=IFERROR(INDEX(Feuil1!$B$2:$B$9,SMALL(IF(Feuil1!$A$2:$A$9=$D4,ROW(Feuil1!$A$2:$A$9)-1),COLUMNS($A:D))),"")} | I4: {=IFERROR(INDEX(Feuil1!$B$2:$B$9,SMALL(IF(Feuil1!$A$2:$A$9=$D4,ROW(Feuil1!$A$2:$A$9)-1),COLUMNS($A:E))),"")} | J4: {=IFERROR(INDEX(Feuil1!$B$2:$B$9,SMALL(IF(Feuil1!$A$2:$A$9=$D4,ROW(Feuil1!$A$2:$A$9)-1),COLUMNS($A:F))),"")} | K4: {=IFERROR(INDEX(Feuil1!$B$2:$B$9,SMALL(IF(Feuil1!$A$2:$A$9=$D4,ROW(Feuil1!$A$2:$A$9)-1),COLUMNS($A:G))),"")} | L4: {=IFERROR(INDEX(Feuil1!$B$2:$B$9,SMALL(IF(Feuil1!$A$2:$A$9=$D4,ROW(Feuil1!$A$2:$A$9)-1),COLUMNS($A:H))),"")}
A5: ENT2 | B5: n4 | D5: ENT4 | E5: {=IFERROR(INDEX(Feuil1!$B$2:$B$9,SMALL(IF(Feuil1!$A$2:$A$9=$D5,ROW(Feuil1!$A$2:$A$9)-1),COLUMNS($A:A))),"")} -> n7 | F5: {=IFERROR(INDEX(Feuil1!$B$2:$B$9,SMALL(IF(Feuil1!$A$2:$A$9=$D5,ROW(Feuil1!$A$2:$A$9)-1),COLUMNS($A:B))),"")} -> n8 | G5: {=IFERROR(INDEX(Feuil1!$B$2:$B$9,SMALL(IF(Feuil1!$A$2:$A$9=$D5,ROW(Feuil1!$A$2:$A$9)-1),COLUMNS($A:C))),"")} | H5: {=IFERROR(INDEX(Feuil1!$B$2:$B$9,SMALL(IF(Feuil1!$A$2:$A$9=$D5,ROW(Feuil1!$A$2:$A$9)-1),COLUMNS($A:D))),"")} | I5: {=IFERROR(INDEX(Feuil1!$B$2:$B$9,SMALL(IF(Feuil1!$A$2:$A$9=$D5,ROW(Feuil1!$A$2:$A$9)-1),COLUMNS($A:E))),"")} | J5: {=IFERROR(INDEX(Feuil1!$B$2:$B$9,SMALL(IF(Feuil1!$A$2:$A$9=$D5,ROW(Feuil1!$A$2:$A$9)-1),COLUMNS($A:F))),"")} | K5: {=IFERROR(INDEX(Feuil1!$B$2:$B$9,SMALL(IF(Feuil1!$A$2:$A$9=$D5,ROW(Feuil1!$A$2:$A$9)-1),COLUMNS($A:G))),"")} | L5: {=IFERROR(INDEX(Feuil1!$B$2:$B$9,SMALL(IF(Feuil1!$A$2:$A$9=$D5,ROW(Feuil1!$A$2:$A$9)-1),COLUMNS($A:H))),"")}
A6: ENT2 | B6: n5
A7: ENT3 | B7: n6
A8: ENT4 | B8: n7
A9: ENT4 | B9: n8
