Workbook

Sheet Classement
A1: Semaine | B1: 1
E2: semaine
D3: rang | E3: 1 | F3: 2 | G3: 3 | H3: 4 | I3: 5 | J3: 6 | K3: 7
D4: 1 | E4: {=IFERROR(INDEX('Base de données'!$A$2:$A$61,MATCH(LARGE(IF('Base de données'!$C$2:$C$61=E$3,'Base de données'!$B$2:$B$61),ROWS($D$3:$K3)),'Base de données'!$B$2:$B$61,0)),"")} -> Aspirateur 11 | F4: {=IFERROR(INDEX('Base de données'!$A$2:$A$61,MATCH(LARGE(IF('Base de données'!$C$2:$C$61=F$3,'Base de données'!$B$2:$B$61),ROWS($D$3:$K3)),'Base de données'!$B$2:$B$61,0)),"")} -> Aspirateur 11 | G4: {=IFERROR(INDEX('Base de données'!$A$2:$A$61,MATCH(LARGE(IF('Base de données'!$C$2:$C$61=G$3,'Base de données'!$B$2:$B$61),ROWS($D$3:$K3)),'Base de données'!$B$2:$B$61,0)),"")} -> Aspirateur 11 | H4: =IFERROR(INDEX('Base de données'!$A2:D$61,MATCH(LARGE(IF('Base de données'!$C$2:$C$61=H$3,'Base de données'!$B$2:$B$61),ROW($D$3:$K3)),'Base de données'!$B$2:$B$61,0)),"") | I4: =IFERROR(INDEX($D4:D$18,MATCH(LARGE(IF('Base de données'!$C$2:$C$61=I$3,'Base de données'!$B$2:$B$61),ROW($D$3:$K3)),'Base de données'!$B$2:$B$61,0)),"") | J4: =IFERROR(INDEX($D4:E$18,MATCH(LARGE(IF('Base de données'!$C$2:$C$61=J$3,'Base de données'!$B$2:$B$61),ROW($D$3:$K3)),'Base de données'!$B$2:$B$61,0)),"") | K4: =IFERROR(INDEX($D4:F$18,MATCH(LARGE(IF('Base de données'!$C$2:$C$61=K$3,'Base de données'!$B$2:$B$61),ROW($D$3:$K3)),'Base de données'!$B$2:$B$61,0)),"")
D5: 2 | E5: {=IFERROR(INDEX('Base de données'!$A$2:$A$61,MATCH(LARGE(IF('Base de données'!$C$2:$C$61=E$3,'Base de données'!$B$2:$B$61),ROWS($D$3:$K4)),'Base de données'!$B$2:$B$61,0)),"")} -> Aspirateur 10 | F5: {=IFERROR(INDEX('Base de données'!$A$2:$A$61,MATCH(LARGE(IF('Base de données'!$C$2:$C$61=F$3,'Base de données'!$B$2:$B$61),ROWS($D$3:$K4)),'Base de données'!$B$2:$B$61,0)),"")} -> Aspirateur 10 | G5: {=IFERROR(INDEX('Base de données'!$A$2:$A$61,MATCH(LARGE(IF('Base de données'!$C$2:$C$61=G$3,'Base de données'!$B$2:$B$61),ROWS($D$3:$K4)),'Base de données'!$B$2:$B$61,0)),"")} -> Aspirateur 10 | H5: =IFERROR(INDEX('Base de données'!$A3:D$61,MATCH(LARGE(IF('Base de données'!$C$2:$C$61=H$3,'Base de données'!$B$2:$B$61),ROW($D$3:$K4)),'Base de données'!$B$2:$B$61,0)),"") | I5: =IFERROR(INDEX($D5:D$18,MATCH(LARGE(IF('Base de données'!$C$2:$C$61=I$3,'Base de données'!$B$2:$B$61),ROW($D$3:$K4)),'Base de données'!$B$2:$B$61,0)),"") | J5: =IFERROR(INDEX($D5:E$18,MATCH(LARGE(IF('Base de données'!$C$2:$C$61=J$3,'Base de données'!$B$2:$B$61),ROW($D$3:$K4)),'Base de données'!$B$2:$B$61,0)),"") | K5: =IFERROR(INDEX($D5:F$18,MATCH(LARGE(IF('Base de données'!$C$2:$C$61=K$3,'Base de données'!$B$2:$B$61),ROW($D$3:$K4)),'Base de données'!$B$2:$B$61,0)),"")
D6: 3 | E6: {=IFERROR(INDEX('Base de données'!$A$2:$A$61,MATCH(LARGE(IF('Base de données'!$C$2:$C$61=E$3,'Base de données'!$B$2:$B$61),ROWS($D$3:$K5)),'Base de données'!$B$2:$B$61,0)),"")} -> Aspirateur 6 | F6: {=IFERROR(INDEX('Base de données'!$A$2:$A$61,MATCH(LARGE(IF('Base de données'!$C$2:$C$61=F$3,'Base de données'!$B$2:$B$61),ROWS($D$3:$K5)),'Base de données'!$B$2:$B$61,0)),"")} -> Aspirateur 6 | G6: {=IFERROR(INDEX('Base de données'!$A$2:$A$61,MATCH(LARGE(IF('Base de données'!$C$2:$C$61=G$3,'Base de données'!$B$2:$B$61),ROWS($D$3:$K5)),'Base de données'!$B$2:$B$61,0)),"")} -> Aspirateur 6 | H6: =IFERROR(INDEX('Base de données'!$A4:D$61,MATCH(LARGE(IF('Base de données'!$C$2:$C$61=H$3,'Base de données'!$B$2:$B$61),ROW($D$3:$K5)),'Base de données'!$B$2:$B$61,0)),"") | I6: =IFERROR(INDEX($D6:D$18,MATCH(LARGE(IF('Base de données'!$C$2:$C$61=I$3,'Base de données'!$B$2:$B$61),ROW($D$3:$K5)),'Base de données'!$B$2:$B$61,0)),"") | J6: =IFERROR(INDEX($D6:E$18,MATCH(LARGE(IF('Base de données'!$C$2:$C$61=J$3,'Base de données'!$B$2:$B$61),ROW($D$3:$K5)),'Base de données'!$B$2:$B$61,0)),"") | K6: =IFERROR(INDEX($D6:F$18,MATCH(LARGE(IF('Base de données'!$C$2:$C$61=K$3,'Base de données'!$B$2:$B$61),ROW($D$3:$K5)),'Base de données'!$B$2:$B$61,0)),"")
D7: 4 | E7: {=IFERROR(INDEX('Base de données'!$A$2:$A$61,MATCH(LARGE(IF('Base de données'!$C$2:$C$61=E$3,'Base de données'!$B$2:$B$61),ROWS($D$3:$K6)),'Base de données'!$B$2:$B$61,0)),"")} -> Aspirateur 12 | F7: {=IFERROR(INDEX('Base de données'!$A$2:$A$61,MATCH(LARGE(IF('Base de données'!$C$2:$C$61=F$3,'Base de données'!$B$2:$B$61),ROWS($D$3:$K6)),'Base de données'!$B$2:$B$61,0)),"")} -> Aspirateur 12 | G7: {=IFERROR(INDEX('Base de données'!$A$2:$A$61,MATCH(LARGE(IF('Base de données'!$C$2:$C$61=G$3,'Base de données'!$B$2:$B$61),ROWS($D$3:$K6)),'Base de données'!$B$2:$B$61,0)),"")} -> Aspirateur 12 | H7: =IFERROR(INDEX('Base de données'!$A5:D$61,MATCH(LARGE(IF('Base de données'!$C$2:$C$61=H$3,'Base de données'!$B$2:$B$61),ROW($D$3:$K6)),'Base de données'!$B$2:$B$61,0)),"") | I7: =IFERROR(INDEX($D7:D$18,MATCH(LARGE(IF('Base de données'!$C$2:$C$61=I$3,'Base de données'!$B$2:$B$61),ROW($D$3:$K6)),'Base de données'!$B$2:$B$61,0)),"") | J7: =IFERROR(INDEX($D7:E$18,MATCH(LARGE(IF('Base de données'!$C$2:$C$61=J$3,'Base de données'!$B$2:$B$61),ROW($D$3:$K6)),'Base de données'!$B$2:$B$61,0)),"") | K7: =IFERROR(INDEX($D7:F$18,MATCH(LARGE(IF('Base de données'!$C$2:$C$61=K$3,'Base de données'!$B$2:$B$61),ROW($D$3:$K6)),'Base de données'!$B$2:$B$61,0)),"")
D8: 5 | E8: {=IFERROR(INDEX('Base de données'!$A$2:$A$61,MATCH(LARGE(IF('Base de données'!$C$2:$C$61=E$3,'Base de données'!$B$2:$B$61),ROWS($D$3:$K7)),'Base de données'!$B$2:$B$61,0)),"")} -> Aspirateur 8 | F8: {=IFERROR(INDEX('Base de données'!$A$2:$A$61,MATCH(LARGE(IF('Base de données'!$C$2:$C$61=F$3,'Base de données'!$B$2:$B$61),ROWS($D$3:$K7)),'Base de données'!$B$2:$B$61,0)),"")} -> Aspirateur 8 | G8: {=IFERROR(INDEX('Base de données'!$A$2:$A$61,MATCH(LARGE(IF('Base de données'!$C$2:$C$61=G$3,'Base de données'!$B$2:$B$61),ROWS($D$3:$K7)),'Base de données'!$B$2:$B$61,0)),"")} -> Aspirateur 8 | H8: =IFERROR(INDEX('Base de données'!$A6:D$61,MATCH(LARGE(IF('Base de données'!$C$2:$C$61=H$3,'Base de données'!$B$2:$B$61),ROW($D$3:$K7)),'Base de données'!$B$2:$B$61,0)),"") | I8: =IFERROR(INDEX($D8:D$18,MATCH(LARGE(IF('Base de données'!$C$2:$C$61=I$3,'Base de données'!$B$2:$B$61),ROW($D$3:$K7)),'Base de données'!$B$2:$B$61,0)),"") | J8: =IFERROR(INDEX($D8:E$18,MATCH(LARGE(IF('Base de données'!$C$2:$C$61=J$3,'Base de données'!$B$2:$B$61),ROW($D$3:$K7)),'Base de données'!$B$2:$B$61,0)),"") | K8: =IFERROR(INDEX($D8:F$18,MATCH(LARGE(IF('Base de données'!$C$2:$C$61=K$3,'Base de données'!$B$2:$B$61),ROW($D$3:$K7)),'Base de données'!$B$2:$B$61,0)),"")
D9: 6 | E9: {=IFERROR(INDEX('Base de données'!$A$2:$A$61,MATCH(LARGE(IF('Base de données'!$C$2:$C$61=E$3,'Base de données'!$B$2:$B$61),ROWS($D$3:$K8)),'Base de données'!$B$2:$B$61,0)),"")} -> Aspirateur 9 | F9: {=IFERROR(INDEX('Base de données'!$A$2:$A$61,MATCH(LARGE(IF('Base de données'!$C$2:$C$61=F$3,'Base de données'!$B$2:$B$61),ROWS($D$3:$K8)),'Base de données'!$B$2:$B$61,0)),"")} -> Aspirateur 9 | G9: {=IFERROR(INDEX('Base de données'!$A$2:$A$61,MATCH(LARGE(IF('Base de données'!$C$2:$C$61=G$3,'Base de données'!$B$2:$B$61),ROWS($D$3:$K8)),'Base de données'!$B$2:$B$61,0)),"")} -> Aspirateur 9 | H9: =IFERROR(INDEX('Base de données'!$A7:D$61,MATCH(LARGE(IF('Base de données'!$C$2:$C$61=H$3,'Base de données'!$B$2:$B$61),ROW($D$3:$K8)),'Base de données'!$B$2:$B$61,0)),"") | I9: =IFERROR(INDEX($D9:D$18,MATCH(LARGE(IF('Base de données'!$C$2:$C$61=I$3,'Base de données'!$B$2:$B$61),ROW($D$3:$K8)),'Base de données'!$B$2:$B$61,0)),"") | J9: =IFERROR(INDEX($D9:E$18,MATCH(LARGE(IF('Base de données'!$C$2:$C$61=J$3,'Base de données'!$B$2:$B$61),ROW($D$3:$K8)),'Base de données'!$B$2:$B$61,0)),"") | K9: =IFERROR(INDEX($D9:F$18,MATCH(LARGE(IF('Base de données'!$C$2:$C$61=K$3,'Base de données'!$B$2:$B$61),ROW($D$3:$K8)),'Base de données'!$B$2:$B$61,0)),"")
D10: 7 | E10: {=IFERROR(INDEX('Base de données'!$A$2:$A$61,MATCH(LARGE(IF('Base de données'!$C$2:$C$61=E$3,'Base de données'!$B$2:$B$61),ROWS($D$3:$K9)),'Base de données'!$B$2:$B$61,0)),"")} -> Aspirateur 4 | F10: {=IFERROR(INDEX('Base de données'!$A$2:$A$61,MATCH(LARGE(IF('Base de données'!$C$2:$C$61=F$3,'Base de données'!$B$2:$B$61),ROWS($D$3:$K9)),'Base de données'!$B$2:$B$61,0)),"")} -> Aspirateur 4 | G10: {=IFERROR(INDEX('Base de données'!$A$2:$A$61,MATCH(LARGE(IF('Base de données'!$C$2:$C$61=G$3,'Base de données'!$B$2:$B$61),ROWS($D$3:$K9)),'Base de données'!$B$2:$B$61,0)),"")} -> Aspirateur 4 | H10: =IFERROR(INDEX('Base de données'!$A8:D$61,MATCH(LARGE(IF('Base de données'!$C$2:$C$61=H$3,'Base de données'!$B$2:$B$61),ROW($D$3:$K9)),'Base de données'!$B$2:$B$61,0)),"") | I10: =IFERROR(INDEX($D10:D$18,MATCH(LARGE(IF('Base de données'!$C$2:$C$61=I$3,'Base de données'!$B$2:$B$61),ROW($D$3:$K9)),'Base de données'!$B$2:$B$61,0)),"") | J10: =IFERROR(INDEX($D10:E$18,MATCH(LARGE(IF('Base de données'!$C$2:$C$61=J$3,'Base de données'!$B$2:$B$61),ROW($D$3:$K9)),'Base de données'!$B$2:$B$61,0)),"") | K10: =IFERROR(INDEX($D10:F$18,MATCH(LARGE(IF('Base de données'!$C$2:$C$61=K$3,'Base de données'!$B$2:$B$61),ROW($D$3:$K9)),'Base de données'!$B$2:$B$61,0)),"")
D11: 8 | E11: {=IFERROR(INDEX('Base de données'!$A$2:$A$61,MATCH(LARGE(IF('Base de données'!$C$2:$C$61=E$3,'Base de données'!$B$2:$B$61),ROWS($D$3:$K10)),'Base de données'!$B$2:$B$61,0)),"")} -> Aspirateur 5 | F11: {=IFERROR(INDEX('Base de données'!$A$2:$A$61,MATCH(LARGE(IF('Base de données'!$C$2:$C$61=F$3,'Base de données'!$B$2:$B$61),ROWS($D$3:$K10)),'Base de données'!$B$2:$B$61,0)),"")} -> Aspirateur 5 | G11: {=IFERROR(INDEX('Base de données'!$A$2:$A$61,MATCH(LARGE(IF('Base de données'!$C$2:$C$61=G$3,'Base de données'!$B$2:$B$61),ROWS($D$3:$K10)),'Base de données'!$B$2:$B$61,0)),"")} -> Aspirateur 5 | H11: =IFERROR(INDEX('Base de données'!$A9:D$61,MATCH(LARGE(IF('Base de données'!$C$2:$C$61=H$3,'Base de données'!$B$2:$B$61),ROW($D$3:$K10)),'Base de données'!$B$2:$B$61,0)),"") | I11: =IFERROR(INDEX($D11:D$18,MATCH(LARGE(IF('Base de données'!$C$2:$C$61=I$3,'Base de données'!$B$2:$B$61),ROW($D$3:$K10)),'Base de données'!$B$2:$B$61,0)),"") | J11: =IFERROR(INDEX($D11:E$18,MATCH(LARGE(IF('Base de données'!$C$2:$C$61=J$3,'Base de données'!$B$2:$B$61),ROW($D$3:$K10)),'Base de données'!$B$2:$B$61,0)),"") | K11: =IFERROR(INDEX($D11:F$18,MATCH(LARGE(IF('Base de données'!$C$2:$C$61=K$3,'Base de données'!$B$2:$B$61),ROW($D$3:$K10)),'Base de données'!$B$2:$B$61,0)),"")
D12: 9 | E12: {=IFERROR(INDEX('Base de données'!$A$2:$A$61,MATCH(LARGE(IF('Base de données'!$C$2:$C$61=E$3,'Base de données'!$B$2:$B$61),ROWS($D$3:$K11)),'Base de données'!$B$2:$B$61,0)),"")} -> Aspirateur 3 | F12: {=IFERROR(INDEX('Base de données'!$A$2:$A$61,MATCH(LARGE(IF('Base de données'!$C$2:$C$61=F$3,'Base de données'!$B$2:$B$61),ROWS($D$3:$K11)),'Base de données'!$B$2:$B$61,0)),"")} -> Aspirateur 3 | G12: {=IFERROR(INDEX('Base de données'!$A$2:$A$61,MATCH(LARGE(IF('Base de données'!$C$2:$C$61=G$3,'Base de données'!$B$2:$B$61),ROWS($D$3:$K11)),'Base de données'!$B$2:$B$61,0)),"")} -> Aspirateur 3 | H12: =IFERROR(INDEX('Base de données'!$A10:D$61,MATCH(LARGE(IF('Base de données'!$C$2:$C$61=H$3,'Base de données'!$B$2:$B$61),ROW($D$3:$K11)),'Base de données'!$B$2:$B$61,0)),"") | I12: =IFERROR(INDEX($D12:D$18,MATCH(LARGE(IF('Base de données'!$C$2:$C$61=I$3,'Base de données'!$B$2:$B$61),ROW($D$3:$K11)),'Base de données'!$B$2:$B$61,0)),"") | J12: =IFERROR(INDEX($D12:E$18,MATCH(LARGE(IF('Base de données'!$C$2:$C$61=J$3,'Base de données'!$B$2:$B$61),ROW($D$3:$K11)),'Base de données'!$B$2:$B$61,0)),"") | K12: =IFERROR(INDEX($D12:F$18,MATCH(LARGE(IF('Base de données'!$C$2:$C$61=K$3,'Base de données'!$B$2:$B$61),ROW($D$3:$K11)),'Base de données'!$B$2:$B$61,0)),"")
D13: 10 | E13: {=IFERROR(INDEX('Base de données'!$A$2:$A$61,MATCH(LARGE(IF('Base de données'!$C$2:$C$61=E$3,'Base de données'!$B$2:$B$61),ROWS($D$3:$K12)),'Base de données'!$B$2:$B$61,0)),"")} -> Aspirateur 2 | F13: {=IFERROR(INDEX('Base de données'!$A$2:$A$61,MATCH(LARGE(IF('Base de données'!$C$2:$C$61=F$3,'Base de données'!$B$2:$B$61),ROWS($D$3:$K12)),'Base de données'!$B$2:$B$61,0)),"")} -> Aspirateur 2 | G13: {=IFERROR(INDEX('Base de données'!$A$2:$A$61,MATCH(LARGE(IF('Base de données'!$C$2:$C$61=G$3,'Base de données'!$B$2:$B$61),ROWS($D$3:$K12)),'Base de données'!$B$2:$B$61,0)),"")} -> Aspirateur 2 | H13: =IFERROR(INDEX('Base de données'!$A11:D$61,MATCH(LARGE(IF('Base de données'!$C$2:$C$61=H$3,'Base de données'!$B$2:$B$61),ROW($D$3:$K12)),'Base de données'!$B$2:$B$61,0)),"") | I13: =IFERROR(INDEX($D13:D$18,MATCH(LARGE(IF('Base de données'!$C$2:$C$61=I$3,'Base de données'!$B$2:$B$61),ROW($D$3:$K12)),'Base de données'!$B$2:$B$61,0)),"") | J13: =IFERROR(INDEX($D13:E$18,MATCH(LARGE(IF('Base de données'!$C$2:$C$61=J$3,'Base de données'!$B$2:$B$61),ROW($D$3:$K12)),'Base de données'!$B$2:$B$61,0)),"") | K13: =IFERROR(INDEX($D13:F$18,MATCH(LARGE(IF('Base de données'!$C$2:$C$61=K$3,'Base de données'!$B$2:$B$61),ROW($D$3:$K12)),'Base de données'!$B$2:$B$61,0)),"")
D14: 11 | E14: {=IFERROR(INDEX('Base de données'!$A$2:$A$61,MATCH(LARGE(IF('Base de données'!$C$2:$C$61=E$3,'Base de données'!$B$2:$B$61),ROWS($D$3:$K13)),'Base de données'!$B$2:$B$61,0)),"")} -> Aspirateur 14 | F14: {=IFERROR(INDEX('Base de données'!$A$2:$A$61,MATCH(LARGE(IF('Base de données'!$C$2:$C$61=F$3,'Base de données'!$B$2:$B$61),ROWS($D$3:$K13)),'Base de données'!$B$2:$B$61,0)),"")} -> Aspirateur 14 | G14: {=IFERROR(INDEX('Base de données'!$A$2:$A$61,MATCH(LARGE(IF('Base de données'!$C$2:$C$61=G$3,'Base de données'!$B$2:$B$61),ROWS($D$3:$K13)),'Base de données'!$B$2:$B$61,0)),"")} -> Aspirateur 14 | H14: =IFERROR(INDEX('Base de données'!$A12:D$61,MATCH(LARGE(IF('Base de données'!$C$2:$C$61=H$3,'Base de données'!$B$2:$B$61),ROW($D$3:$K13)),'Base de données'!$B$2:$B$61,0)),"") | I14: =IFERROR(INDEX($D14:D$18,MATCH(LARGE(IF('Base de données'!$C$2:$C$61=I$3,'Base de données'!$B$2:$B$61),ROW($D$3:$K13)),'Base de données'!$B$2:$B$61,0)),"") | J14: =IFERROR(INDEX($D14:E$18,MATCH(LARGE(IF('Base de données'!$C$2:$C$61=J$3,'Base de données'!$B$2:$B$61),ROW($D$3:$K13)),'Base de données'!$B$2:$B$61,0)),"") | K14: =IFERROR(INDEX($D14:F$18,MATCH(LARGE(IF('Base de données'!$C$2:$C$61=K$3,'Base de données'!$B$2:$B$61),ROW($D$3:$K13)),'Base de données'!$B$2:$B$61,0)),"")
D15: 12 | E15: {=IFERROR(INDEX('Base de données'!$A$2:$A$61,MATCH(LARGE(IF('Base de données'!$C$2:$C$61=E$3,'Base de données'!$B$2:$B$61),ROWS($D$3:$K14)),'Base de données'!$B$2:$B$61,0)),"")} -> Aspirateur 13 | F15: {=IFERROR(INDEX('Base de données'!$A$2:$A$61,MATCH(LARGE(IF('Base de données'!$C$2:$C$61=F$3,'Base de données'!$B$2:$B$61),ROWS($D$3:$K14)),'Base de données'!$B$2:$B$61,0)),"")} -> Aspirateur 13 | G15: {=IFERROR(INDEX('Base de données'!$A$2:$A$61,MATCH(LARGE(IF('Base de données'!$C$2:$C$61=G$3,'Base de données'!$B$2:$B$61),ROWS($D$3:$K14)),'Base de données'!$B$2:$B$61,0)),"")} -> Aspirateur 13 | H15: =IFERROR(INDEX('Base de données'!$A13:D$61,MATCH(LARGE(IF('Base de données'!$C$2:$C$61=H$3,'Base de données'!$B$2:$B$61),ROW($D$3:$K14)),'Base de données'!$B$2:$B$61,0)),"") | I15: =IFERROR(INDEX($D15:D$18,MATCH(LARGE(IF('Base de données'!$C$2:$C$61=I$3,'Base de données'!$B$2:$B$61),ROW($D$3:$K14)),'Base de données'!$B$2:$B$61,0)),"") | J15: =IFERROR(INDEX($D15:E$18,MATCH(LARGE(IF('Base de données'!$C$2:$C$61=J$3,'Base de données'!$B$2:$B$61),ROW($D$3:$K14)),'Base de données'!$B$2:$B$61,0)),"") | K15: =IFERROR(INDEX($D15:F$18,MATCH(LARGE(IF('Base de données'!$C$2:$C$61=K$3,'Base de données'!$B$2:$B$61),ROW($D$3:$K14)),'Base de données'!$B$2:$B$61,0)),"")
... D18: 15 | E18: {=IFERROR(INDEX('Base de données'!$A$2:$A$61,MATCH(LARGE(IF('Base de données'!$C$2:$C$61=E$3,'Base de données'!$B$2:$B$61),ROWS($D$3:$K17)),'Base de données'!$B$2:$B$61,0)),"")} -> Aspirateur 15 | F18: {=IFERROR(INDEX('Base de données'!$A$2:$A$61,MATCH(LARGE(IF('Base de données'!$C$2:$C$61=F$3,'Base de données'!$B$2:$B$61),ROWS($D$3:$K17)),'Base de données'!$B$2:$B$61,0)),"")} -> Aspirateur 15 | G18: {=IFERROR(INDEX('Base de données'!$A$2:$A$61,MATCH(LARGE(IF('Base de données'!$C$2:$C$61=G$3,'Base de données'!$B$2:$B$61),ROWS($D$3:$K17)),'Base de données'!$B$2:$B$61,0)),"")} -> Aspirateur 15 | H18: =IFERROR(INDEX('Base de données'!$A16:D$61,MATCH(LARGE(IF('Base de données'!$C$2:$C$61=H$3,'Base de données'!$B$2:$B$61),ROW($D$3:$K17)),'Base de données'!$B$2:$B$61,0)),"") | I18: =IFERROR(INDEX($D18:D$18,MATCH(LARGE(IF('Base de données'!$C$2:$C$61=I$3,'Base de données'!$B$2:$B$61),ROW($D$3:$K17)),'Base de données'!$B$2:$B$61,0)),"") | J18: =IFERROR(INDEX($D18:E$18,MATCH(LARGE(IF('Base de données'!$C$2:$C$61=J$3,'Base de données'!$B$2:$B$61),ROW($D$3:$K17)),'Base de données'!$B$2:$B$61,0)),"") | K18: =IFERROR(INDEX($D18:F$18,MATCH(LARGE(IF('Base de données'!$C$2:$C$61=K$3,'Base de données'!$B$2:$B$61),ROW($D$3:$K17)),'Base de données'!$B$2:$B$61,0)),"")

Sheet Base de données
A1: Produit | B1: Ventes | C1: Semaine | M1: 8 | N1: 9 | O1: 10 | P1: 11 | Q1: 12 | R1: 13 | S1: 14 | T1: 15 | U1: 16 | V1: 17 | W1: 18 | X1: 19 | Y1: 20
A2: Aspirateur 1 | B2: 100 | C2: 1 | M2: =IFERROR(INDEX($A2:H$61,MATCH(LARGE(IF($C$2:$C$61=M$1,$B$2:$B$61),ROW($1:1)),$B$2:$B$61,0)),"")
A3: Aspirateur 2 | B3: 150 | C3: 1 | M3: =IFERROR(INDEX($A3:H$61,MATCH(LARGE(IF($C$2:$C$61=M$1,$B$2:$B$61),ROW($1:2)),$B$2:$B$61,0)),"")
A4: Aspirateur 3 | B4: 257 | C4: 1 | M4: =IFERROR(INDEX($A4:H$61,MATCH(LARGE(IF($C$2:$C$61=M$1,$B$2:$B$61),ROW($1:3)),$B$2:$B$61,0)),"")
A5: Aspirateur 4 | B5: 856 | C5: 1 | M5: =IFERROR(INDEX($A5:H$61,MATCH(LARGE(IF($C$2:$C$61=M$1,$B$2:$B$61),ROW($1:4)),$B$2:$B$61,0)),"")
A6: Aspirateur 5 | B6: 520 | C6: 1 | M6: =IFERROR(INDEX($A6:H$61,MATCH(LARGE(IF($C$2:$C$61=M$1,$B$2:$B$61),ROW($1:5)),$B$2:$B$61,0)),"")
A7: Aspirateur 6 | B7: 15857 | C7: 1 | M7: =IFERROR(INDEX($A7:H$61,MATCH(LARGE(IF($C$2:$C$61=M$1,$B$2:$B$61),ROW($1:6)),$B$2:$B$61,0)),"")
A8: Aspirateur 7 | B8: 124 | C8: 1 | M8: =IFERROR(INDEX($A8:H$61,MATCH(LARGE(IF($C$2:$C$61=M$1,$B$2:$B$61),ROW($1:7)),$B$2:$B$61,0)),"")
A9: Aspirateur 8 | B9: 12437 | C9: 1 | M9: =IFERROR(INDEX($A9:H$61,MATCH(LARGE(IF($C$2:$C$61=M$1,$B$2:$B$61),ROW($1:8)),$B$2:$B$61,0)),"")
A10: Aspirateur 9 | B10: 12424 | C10: 1 | M10: =IFERROR(INDEX($A10:H$61,MATCH(LARGE(IF($C$2:$C$61=M$1,$B$2:$B$61),ROW($1:9)),$B$2:$B$61,0)),"")
A11: Aspirateur 10 | B11: 1252567 | C11: 1 | M11: =IFERROR(INDEX($A11:H$61,MATCH(LARGE(IF($C$2:$C$61=M$1,$B$2:$B$61),ROW($1:10)),$B$2:$B$61,0)),"")
A12: Aspirateur 11 | B12: 23687456 | C12: 1 | M12: =IFERROR(INDEX($A12:H$61,MATCH(LARGE(IF($C$2:$C$61=M$1,$B$2:$B$61),ROW($1:11)),$B$2:$B$61,0)),"")
A13: Aspirateur 12 | B13: 15756 | C13: 1 | M13: =IFERROR(INDEX($A13:H$61,MATCH(LARGE(IF($C$2:$C$61=M$1,$B$2:$B$61),ROW($1:12)),$B$2:$B$61,0)),"")
A14: Aspirateur 13 | B14: 125 | C14: 1 | M14: =IFERROR(INDEX($A14:H$61,MATCH(LARGE(IF($C$2:$C$61=M$1,$B$2:$B$61),ROW($1:13)),$B$2:$B$61,0)),"")
A15: Aspirateur 14 | B15: 144 | C15: 1 | M15: =IFERROR(INDEX($A15:H$61,MATCH(LARGE(IF($C$2:$C$61=M$1,$B$2:$B$61),ROW($1:14)),$B$2:$B$61,0)),"")
A16: Aspirateur 15 | B16: 12 | C16: 1 | M16: =IFERROR(INDEX($A16:H$61,MATCH(LARGE(IF($C$2:$C$61=M$1,$B$2:$B$61),ROW($1:15)),$B$2:$B$61,0)),"")
A17: Aspirateur 1 | B17: 100 | C17: 2
A18: Aspirateur 2 | B18: 150 | C18: 2
A19: Aspirateur 3 | B19: 257 | C19: 2
A20: Aspirateur 4 | B20: 856 | C20: 2
A21: Aspirateur 5 | B21: 520 | C21: 2
A22: Aspirateur 6 | B22: 15857 | C22: 2
A23: Aspirateur 7 | B23: 124 | C23: 2
A24: Aspirateur 8 | B24: 12437 | C24: 2
A25: Aspirateur 9 | B25: 12424 | C25: 2
A26: Aspirateur 10 | B26: 1252567 | C26: 2
A27: Aspirateur 11 | B27: 23687456 | C27: 2
A28: Aspirateur 12 | B28: 15756 | C28: 2
... A61: Aspirateur 15 | B61: 12 | C61: 4
