Workbook

Sheet Garde
A1: Affaire En veille
A9: CONSTRUCTION D'UN BATIMENT DE 12 LOGEMENTS COLLECTIFS
A20: ANALYSE DES OFFRES ET RAPPORT COMPARATIF
J33: OCTOBRE | K33: 2018

Sheet 1
A1: Analyse des offre
G4: Lot N°1 : | H4: VRD ESPACES VERTS
H5: Estimation HT : | I5: 88200
A8: N° env. | B8: Candidat Adresse | C8: OUVERTURE DES PLIS (€ H.T) | G8: 2ème critère : valeur technique | H8: Note technique | I8: 1er critère : prix des prestations | J8: Note financière | K8: Note globale | L8: Classt | M8: OBSERVATIONS
P9: =+MIN(C11:C40) -> 75981.15
C10: Offre de base | D10: D (%) | E10: Options | G10: 40pts | I10: 60pts
B11: EUROVIA | C11: 99873.35 | D11: =(C11-I$5)/I$5 -> 0.13235091 | E11: 1 | I11: =IF(C11="","",C11) -> 99873.35 | J11: =IF(C11="",0,P$9/C11*60) -> 45.646501 | K11: =H11+J11 -> 45.646501 | L11: =RANK(K11,K$11:K$40,0) -> 5
E12: 2
E13: 3
E14: 4
E15: 5
B16: HENRISSAT | C16: 87899.5 | D16: =(C16-I$5)/I$5 -> -0.0034070295 | E16: 1 | I16: =IF(C16="","",C16) -> 87899.5 | J16: =IF(C16="",0,P$9/C16*60) -> 51.864561 | K16: =H16+J16 -> 51.864561 | L16: =RANK(K16,K$11:K$40,0) -> 2
E17: 2
E18: 3
E19: 4
E20: 5
B21: MARTEL | C21: 94082 | D21: =(C21-I$5)/I$5 -> 0.066689342 | E21: 1 | I21: =IF(C21="","",C21) -> 94082 | J21: =IF(C21="",0,P$9/C21*60) -> 48.456336 | K21: =H21+J21 -> 48.456336 | L21: =RANK(K21,K$11:K$40,0) -> 3
E22: 2
E23: 3
E24: 4
E25: 5
B26: BOUREAU | C26: 75981.15 | D26: =(C26-I$5)/I$5 -> -0.13853571 | E26: 1 | I26: =IF(C26="","",C26) -> 75981.15 | J26: =IF(C26="",0,P$9/C26*60) -> 60 | K26: =H26+J26 -> 60 | L26: =RANK(K26,K$11:K$40,0) -> 1
E27: 2
E28: 3
E29: 4
E30: 5
B31: EIFFAGE | C31: 127988.25 | D31: =(C31-I$5)/I$5 -> 0.45111395 | E31: 1 | I31: =IF(C31="","",C31) -> 127988.25 | J31: =IF(C31="",0,P$9/C31*60) -> 35.619434 | K31: =H31+J31 -> 35.619434 | L31: =RANK(K31,K$11:K$40,0) -> 6
E32: 2
E33: 3
E34: 4
E35: 5
B36: BONGARZONE | C36: 97406.6 | D36: =(C36-I$5)/I$5 -> 0.10438322 | E36: 1 | I36: =IF(C36="","",C36) -> 97406.6 | J36: =IF(C36="",0,P$9/C36*60) -> 46.802465 | K36: =H36+J36 -> 46.802465 | L36: =RANK(K36,K$11:K$40,0) -> 4
E37: 2
E38: 3
E39: 4
E40: 5

Sheet 2
G4: Lot N°2 : | H4: GROS ŒUVRE
H5: Estimation HT : | I5: 495000
A8: N° env. | B8: Candidat Adresse | C8: OUVERTURE DES PLIS (€ H.T) | G8: 2ème critère : valeur technique | H8: Note technique | I8: 1er critère : prix des prestations | J8: Note financière | K8: Note globale | L8: Classt | M8: OBSERVATIONS
C10: Offre de base | D10: D (%) | E10: Options | G10: 40pts | I10: 60pts
B11: SARL CANGI LORIANI | C11: 551201.85 | D11: =(C11-I$5)/I$5 -> 0.11353909 | E11: 1 | I11: =IF(C11="","",C11) -> 551201.85 | J11: =IF(C11="",0,P$12/C11*60) -> 60 | K11: =H11+J11 -> 60 | L11: =RANK(K11,K$11:K$40,0) -> 1
E12: 2 | P12: =+MIN(C11:C40) -> 551201.85
E13: 3
E14: 4
E15: 5
B16: MAILLEFERT | C16: 610760.37 | D16: =(C16-I$5)/I$5 -> 0.23385933 | E16: 1 | I16: =IF(C16="","",C16) -> 610760.37 | J16: =IF(C16="",0,P$12/C16*60) -> 54.149078 | K16: =H16+J16 -> 54.149078 | L16: =RANK(K16,K$11:K$40,0) -> 3
E17: 2
E18: 3
E19: 4
E20: 5
B21: SAS CASTELLANI | C21: 605789.96 | D21: =(C21-I$5)/I$5 -> 0.2238181 | E21: 1 | I21: =IF(C21="","",C21) -> 605789.96 | J21: =IF(C21="",0,P$12/C21*60) -> 54.593363 | K21: =H21+J21 -> 54.593363 | L21: =RANK(K21,K$11:K$40,0) -> 2
E22: 2
E23: 3
E24: 4
E25: 5
D26: =(C26-I$5)/I$5 -> -1 | E26: 1 | I26: =IF(C26="","",C26) | J26: =IF(C26="",0,P$12/C26*60) -> 0 | K26: =H26+J26 -> 0 | L26: =RANK(K26,K$11:K$40,0) -> 4
E27: 2
E28: 3
E29: 4
E30: 5
D31: =(C31-I$5)/I$5 -> -1 | E31: 1 | I31: =IF(C31="","",C31) | J31: =IF(C31="",0,P$12/C31*60) -> 0 | K31: =H31+J31 -> 0 | L31: =RANK(K31,K$11:K$40,0) -> 4
E32: 2
E33: 3
E34: 4
E35: 5
D36: =(C36-I$5)/I$5 -> -1 | E36: 1 | I36: =IF(C36="","",C36) | J36: =IF(C36="",0,P$12/C36*60) -> 0 | K36: =H36+J36 -> 0 | L36: =RANK(K36,K$11:K$40,0) -> 4
E37: 2
E38: 3
E39: 4
E40: 5

Sheet 3
G4: Lot N°3 : CHARPENTE COUVERTURE ZINGUERIE
H5: Estimation HT : | I5: 144500
A8: N° env. | B8: Candidat Adresse | C8: OUVERTURE DES PLIS (€ H.T) | G8: 2ème critère : valeur technique | H8: Note technique | I8: 1er critère : prix des prestations | J8: Note financière | K8: Note globale | L8: Classt | M8: OBSERVATIONS
P9: =+MIN(C11:C40) -> 110175.81
C10: Offre de base | D10: D (%) | E10: Options | G10: 40pts | I10: 60pts
B11: CHARPENTIER D'IS | C11: 112938.11 | D11: =(C11-I$5)/I$5 -> -0.21842138 | E11: 1 | I11: =IF(C11="","",C11) -> 112938.11 | J11: =IF(C11="",0,P$9/C11*60) -> 58.532488 | K11: =H11+J11 -> 58.532488 | L11: =RANK(K11,K$11:K$40,0) -> 2
E12: 2
E13: 3
E14: 4
E15: 5
B16: HDH COUVREURS ASSOCIES | C16: 147807.49 | D16: =(C16-I$5)/I$5 -> 0.022889204 | E16: 1 | I16: =IF(C16="","",C16) -> 147807.49 | J16: =IF(C16="",0,P$9/C16*60) -> 44.724043 | K16: =H16+J16 -> 44.724043 | L16: =RANK(K16,K$11:K$40,0) -> 5
E17: 2
E18: 3
E19: 4
E20: 5
B21: GALLISSOT | C21: 118409.2 | D21: =(C21-I$5)/I$5 -> -0.18055917 | E21: 1 | I21: =IF(C21="","",C21) -> 118409.2 | J21: =IF(C21="",0,P$9/C21*60) -> 55.827998 | K21: =H21+J21 -> 55.827998 | L21: =RANK(K21,K$11:K$40,0) -> 3
E22: 2
E23: 3
E24: 4
E25: 5
B26: TRAMPE MARTIN | C26: 119000 | D26: =(C26-I$5)/I$5 -> -0.17647059 | E26: 1 | I26: =IF(C26="","",C26) -> 119000 | J26: =IF(C26="",0,P$9/C26*60) -> 55.550829 | K26: =H26+J26 -> 55.550829 | L26: =RANK(K26,K$11:K$40,0) -> 4
E27: 2
E28: 3
E29: 4
E30: 5
B31: CASTELLANI | C31: 110175.81 | D31: =(C31-I$5)/I$5 -> -0.23753765 | E31: 1 | I31: =IF(C31="","",C31) -> 110175.81 | J31: =IF(C31="",0,P$9/C31*60) -> 60 | K31: =H31+J31 -> 60 | L31: =RANK(K31,K$11:K$40,0) -> 1
E32: 2
E33: 3
E34: 4
E35: 5
D36: =(C36-I$5)/I$5 -> -1 | E36: 1 | I36: =IF(C36="","",C36) | J36: =IF(C36="",0,P$9/C36*60) -> 0 | K36: =H36+J36 -> 0 | L36: =RANK(K36,K$11:K$40,0) -> 6
E37: 2
E38: 3
E39: 4
E40: 5

Sheet 4
G4: Lot N°4 : | H4: MENUISERIES EXTERIEURES SERRURERIES
H5: Estimation HT : | I5: 167800
A8: N° env. | B8: Candidat Adresse | C8: OUVERTURE DES PLIS (€ H.T) | G8: 2ème critère : valeur technique | H8: Note technique | I8: 1er critère : prix des prestations | J8: Note financière | K8: Note globale | L8: Classt | M8: OBSERVATIONS
P9: =+MIN(C11:C40) -> 94052.4
C10: Offre de base | D10: D (%) | E10: Options | G10: 40pts | I10: 60pts
B11: BGC MENUISERIES | C11: 94499 | D11: =(C11-I$5)/I$5 -> -0.43683552 | E11: 1 | I11: =IF(C11="","",C11) -> 94499 | J11: =IF(C11="",0,P$9/C11*60) -> 59.716441 | K11: =H11+J11 -> 59.716441 | L11: =RANK(K11,K$11:K$40,0) -> 2
E12: 2
E13: 3
E14: 4
E15: 5
B16: FEVRE SAS | C16: 113354.5 | D16: =(C16-I$5)/I$5 -> -0.32446663 | E16: 1 | I16: =IF(C16="","",C16) -> 113354.5 | J16: =IF(C16="",0,P$9/C16*60) -> 49.783149 | K16: =H16+J16 -> 49.783149 | L16: =RANK(K16,K$11:K$40,0) -> 4
E17: 2
E18: 3
E19: 4
E20: 5
B21: VITREY | C21: 99025.2 | D21: =(C21-I$5)/I$5 -> -0.40986174 | E21: 1 | I21: =IF(C21="","",C21) -> 99025.2 | J21: =IF(C21="",0,P$9/C21*60) -> 56.986949 | K21: =H21+J21 -> 56.986949 | L21: =RANK(K21,K$11:K$40,0) -> 3
E22: 2
E23: 3
E24: 4
E25: 5
B26: BAVOILLOT | C26: 94052.4 | D26: =(C26-I$5)/I$5 -> -0.43949702 | E26: 1 | I26: =IF(C26="","",C26) -> 94052.4 | J26: =IF(C26="",0,P$9/C26*60) -> 60 | K26: =H26+J26 -> 60 | L26: =RANK(K26,K$11:K$40,0) -> 1
E27: 2
E28: 3
E29: 4
E30: 5
D31: =(C31-I$5)/I$5 -> -1 | E31: 1 | I31: =IF(C31="","",C31) | J31: =IF(C31="",0,P$9/C31*60) -> 0 | K31: =H31+J31 -> 0 | L31: =RANK(K31,K$11:K$40,0) -> 5
E32: 2
E33: 3
E34: 4
E35: 5
D36: =(C36-I$5)/I$5 -> -1 | E36: 1 | I36: =IF(C36="","",C36) | J36: =IF(C36="",0,P$9/C36*60) -> 0 | K36: =H36+J36 -> 0 | L36: =RANK(K36,K$11:K$40,0) -> 5
E37: 2
E38: 3
E39: 4
E40: 5

Sheet 5
G4: Lot N°5 : | H4: ISOLATION INTERIEURES PLATRERIE
H5: Estimation HT : | I5: 130000
A8: N° env. | B8: Candidat Adresse | C8: OUVERTURE DES PLIS (€ H.T) | G8: 2ème critère : valeur technique | H8: Note technique | I8: 1er critère : prix des prestations | J8: Note financière | K8: Note globale | L8: Classt | M8: OBSERVATIONS
P9: =+MIN(C11:C40) -> 102073.3
C10: Offre de base | D10: D (%) | E10: Options | G10: 40pts | I10: 60pts
B11: DESSA CONSTRUCTION | C11: 122268.45 | D11: =(C11-I$5)/I$5 -> -0.059473462 | E11: 1 | I11: =IF(C11="","",C11) -> 122268.45 | J11: =IF(C11="",0,P$9/C11*60) -> 50.089766 | K11: =H11+J11 -> 50.089766 | L11: =RANK(K11,K$11:K$40,0) -> 2
E12: 2
E13: 3
E14: 4
E15: 5
B16: BAZIN | C16: 102073.3 | D16: =(C16-I$5)/I$5 -> -0.21482077 | E16: 1 | I16: =IF(C16="","",C16) -> 102073.3 | J16: =IF(C16="",0,P$9/C16*60) -> 60 | K16: =H16+J16 -> 60 | L16: =RANK(K16,K$11:K$40,0) -> 1
E17: 2
E18: 3
E19: 4
E20: 5
B21: SAS BTP | C21: 150600.38 | D21: =(C21-I$5)/I$5 -> 0.15846446 | E21: 1 | I21: =IF(C21="","",C21) -> 150600.38 | J21: =IF(C21="",0,P$9/C21*60) -> 40.666551 | K21: =H21+J21 -> 40.666551 | L21: =RANK(K21,K$11:K$40,0) -> 4
E22: 2
E23: 3
E24: 4
E25: 5
B26: CASTELLANI | C26: 143695.7 | D26: =(C26-I$5)/I$5 -> 0.10535154 | E26: 1 | I26: =IF(C26="","",C26) -> 143695.7 | J26: =IF(C26="",0,P$9/C26*60) -> 42.620607 | K26: =H26+J26 -> 42.620607 | L26: =RANK(K26,K$11:K$40,0) -> 3
E27: 2
E28: 3
E29: 4
E30: 5
D31: =(C31-I$5)/I$5 -> -1 | E31: 1 | I31: =IF(C31="","",C31) | J31: =IF(C31="",0,P$9/C31*60) -> 0 | K31: =H31+J31 -> 0 | L31: =RANK(K31,K$11:K$40,0) -> 5
E32: 2
E33: 3
E34: 4
E35: 5
D36: =(C36-I$5)/I$5 -> -1 | E36: 1 | I36: =IF(C36="","",C36) | J36: =IF(C36="",0,P$9/C36*60) -> 0 | K36: =H36+J36 -> 0 | L36: =RANK(K36,K$11:K$40,0) -> 5
E37: 2
E38: 3
E39: 4
E40: 5

Sheet 6
G4: Lot N°6 : | H4: MENUISERIES INTERIEURES
H5: Estimation HT : | I5: 52000
A8: N° env. | B8: Candidat Adresse | C8: OUVERTURE DES PLIS (€ H.T) | G8: 2ème critère : valeur technique | H8: Note technique | I8: 1er critère : prix des prestations | J8: Note financière | K8: Note globale | L8: Classt | M8: OBSERVATIONS
P9: =+MIN(C11:C40) -> 39390
C10: Offre de base | D10: D (%) | E10: Options | G10: 40pts | I10: 60pts
B11: BGC | C11: 39390 | D11: =(C11-I$5)/I$5 -> -0.2425 | E11: 1 | I11: =IF(C11="","",C11) -> 39390 | J11: =IF(C11="",0,P$9/C11*60) -> 60 | K11: =H11+J11 -> 60 | L11: =RANK(K11,K$11:K$40,0) -> 1
E12: 2
E13: 3
E14: 4
E15: 5
D16: =(C16-I$5)/I$5 -> -1 | E16: 1 | I16: =IF(C16="","",C16) | J16: =IF(C16="",0,P$9/C16*60) -> 0 | K16: =H16+J16 -> 0 | L16: =RANK(K16,K$11:K$40,0) -> 2
E17: 2
E18: 3
E19: 4
E20: 5
D21: =(C21-I$5)/I$5 -> -1 | E21: 1 | I21: =IF(C21="","",C21) | J21: =IF(C21="",0,P$9/C21*60) -> 0 | K21: =H21+J21 -> 0 | L21: =RANK(K21,K$11:K$40,0) -> 2
E22: 2
E23: 3
E24: 4
E25: 5
D26: =(C26-I$5)/I$5 -> -1 | E26: 1 | I26: =IF(C26="","",C26) | J26: =IF(C26="",0,P$9/C26*60) -> 0 | K26: =H26+J26 -> 0 | L26: =RANK(K26,K$11:K$40,0) -> 2
E27: 2
E28: 3
E29: 4
E30: 5
D31: =(C31-I$5)/I$5 -> -1 | E31: 1 | I31: =IF(C31="","",C31) | J31: =IF(C31="",0,P$9/C31*60) -> 0 | K31: =H31+J31 -> 0 | L31: =RANK(K31,K$11:K$40,0) -> 2
E32: 2
E33: 3
E34: 4
E35: 5
D36: =(C36-I$5)/I$5 -> -1 | E36: 1 | I36: =IF(C36="","",C36) | J36: =IF(C36="",0,P$9/C36*60) -> 0 | K36: =H36+J36 -> 0 | L36: =RANK(K36,K$11:K$40,0) -> 2
E37: 2
E38: 3
E39: 4
E40: 5

Sheet 7
G4: Lot N°7 : | H4: REVETEMENT DE SOL SOUPLE ET DURE
H5: Estimation HT : | I5: 80500
A8: N° env. | B8: Candidat Adresse | C8: OUVERTURE DES PLIS (€ H.T) | G8: 2ème critère : valeur technique | H8: Note technique | I8: 1er critère : prix des prestations | J8: Note financière | K8: Note globale | L8: Classt | M8: OBSERVATIONS
P9: =+MIN(C11:C40) -> 70838
C10: Offre de base | D10: D (%) | E10: Options | G10: 40pts | I10: 60pts
B11: JOFFROY | C11: 74640.6 | D11: =(C11-I$5)/I$5 -> -0.072787578 | E11: 1 | I11: =IF(C11="","",C11) -> 74640.6 | J11: =IF(C11="",0,P$9/C11*60) -> 56.943272 | K11: =H11+J11 -> 56.943272 | L11: =RANK(K11,K$11:K$40,0) -> 2
E12: 2
E13: 3
E14: 4
E15: 5
B16: RONZAT | C16: 70838 | D16: =(C16-I$5)/I$5 -> -0.12002484 | E16: 1 | I16: =IF(C16="","",C16) -> 70838 | J16: =IF(C16="",0,P$9/C16*60) -> 60 | K16: =H16+J16 -> 60 | L16: =RANK(K16,K$11:K$40,0) -> 1
E17: 2
E18: 3
E19: 4
E20: 5
B21: COTTART | C21: 89639.25 | D21: =(C21-I$5)/I$5 -> 0.11353106 | E21: 1 | I21: =IF(C21="","",C21) -> 89639.25 | J21: =IF(C21="",0,P$9/C21*60) -> 47.41539 | K21: =H21+J21 -> 47.41539 | L21: =RANK(K21,K$11:K$40,0) -> 3
E22: 2
E23: 3
E24: 4
E25: 5
D26: =(C26-I$5)/I$5 -> -1 | E26: 1 | I26: =IF(C26="","",C26) | J26: =IF(C26="",0,P$9/C26*60) -> 0 | K26: =H26+J26 -> 0 | L26: =RANK(K26,K$11:K$40,0) -> 4
E27: 2
E28: 3
E29: 4
E30: 5
D31: =(C31-I$5)/I$5 -> -1 | E31: 1 | I31: =IF(C31="","",C31) | J31: =IF(C31="",0,P$9/C31*60) -> 0 | K31: =H31+J31 -> 0 | L31: =RANK(K31,K$11:K$40,0) -> 4
E32: 2
E33: 3
E34: 4
E35: 5
D36: =(C36-I$5)/I$5 -> -1 | E36: 1 | I36: =IF(C36="","",C36) | J36: =IF(C36="",0,P$9/C36*60) -> 0 | K36: =H36+J36 -> 0 | L36: =RANK(K36,K$11:K$40,0) -> 4
E37: 2
E38: 3
E39: 4
E40: 5

Sheet 8
G4: Lot N°8 : | H4: PEINTURE
H5: Estimation HT : | I5: 37800
A8: N° env. | B8: Candidat Adresse | C8: OUVERTURE DES PLIS (€ H.T) | G8: 2ème critère : valeur technique | H8: Note technique | I8: 1er critère : prix des prestations | J8: Note financière | K8: Note globale | L8: Classt | M8: OBSERVATIONS
P9: =+MIN(C11:C40) -> 49209.9
C10: Offre de base | D10: D (%) | E10: Options | G10: 40pts | I10: 60pts
B11: COTTART | C11: 55621.55 | D11: =(C11-I$5)/I$5 -> 0.47146958 | E11: 1 | F11: 4469 | I11: =IF(C11="","",C11) -> 55621.55 | J11: =IF(C11="",0,P$9/C11*60) -> 53.083634 | K11: =H11+J11 -> 53.083634 | L11: =RANK(K11,K$11:K$40,0) -> 2
E12: 2
E13: 3
E14: 4
E15: 5
B16: RENARD | C16: 49209.9 | D16: =(C16-I$5)/I$5 -> 0.30184921 | E16: 1 | F16: 3485 | I16: =IF(C16="","",C16) -> 49209.9 | J16: =IF(C16="",0,P$9/C16*60) -> 60 | K16: =H16+J16 -> 60 | L16: =RANK(K16,K$11:K$40,0) -> 1
E17: 2
E18: 3
E19: 4
E20: 5
D21: =(C21-I$5)/I$5 -> -1 | E21: 1 | I21: =IF(C21="","",C21) | J21: =IF(C21="",0,P$9/C21*60) -> 0 | K21: =H21+J21 -> 0 | L21: =RANK(K21,K$11:K$40,0) -> 3
E22: 2
E23: 3
E24: 4
E25: 5
D26: =(C26-I$5)/I$5 -> -1 | E26: 1 | I26: =IF(C26="","",C26) | J26: =IF(C26="",0,P$9/C26*60) -> 0 | K26: =H26+J26 -> 0 | L26: =RANK(K26,K$11:K$40,0) -> 3
E27: 2
E28: 3
E29: 4
E30: 5
D31: =(C31-I$5)/I$5 -> -1 | E31: 1 | I31: =IF(C31="","",C31) | J31: =IF(C31="",0,P$9/C31*60) -> 0 | K31: =H31+J31 -> 0 | L31: =RANK(K31,K$11:K$40,0) -> 3
E32: 2
E33: 3
E34: 4
E35: 5
D36: =(C36-I$5)/I$5 -> -1 | E36: 1 | I36: =IF(C36="","",C36) | J36: =IF(C36="",0,P$9/C36*60) -> 0 | K36: =H36+J36 -> 0 | L36: =RANK(K36,K$11:K$40,0) -> 3
E37: 2
E38: 3
E39: 4
E40: 5

Sheet 9
G4: Lot N°9 : | H4: ENDUITS EXTERIEURS
H5: Estimation HT : | I5: 50900
A8: N° env. | B8: Candidat Adresse | C8: OUVERTURE DES PLIS (€ H.T) | G8: 2ème critère : valeur technique | H8: Note technique | I8: 1er critère : prix des prestations | J8: Note financière | K8: Note globale | L8: Classt | M8: OBSERVATIONS
P9: =+MIN(C11:C40) -> 45573
C10: Offre de base | D10: D (%) | E10: Options | G10: 40pts | I10: 60pts
B11: CANGI LORIANO | C11: 63667.8 | D11: =(C11-I$5)/I$5 -> 0.25084086 | E11: 1 | I11: =IF(C11="","",C11) -> 63667.8 | J11: =IF(C11="",0,P$9/C11*60) -> 42.947612 | K11: =H11+J11 -> 42.947612 | L11: =RANK(K11,K$11:K$40,0) -> 2
E12: 2
E13: 3
E14: 4
E15: 5
B16: COTTART | C16: 45573 | D16: =(C16-I$5)/I$5 -> -0.10465619 | E16: 1 | I16: =IF(C16="","",C16) -> 45573 | J16: =IF(C16="",0,P$9/C16*60) -> 60 | K16: =H16+J16 -> 60 | L16: =RANK(K16,K$11:K$40,0) -> 1
E17: 2
E18: 3
E19: 4
E20: 5
B21: VITREY | C21: 65539 | D21: =(C21-I$5)/I$5 -> 0.28760314 | E21: 1 | I21: =IF(C21="","",C21) -> 65539 | J21: =IF(C21="",0,P$9/C21*60) -> 41.721418 | K21: =H21+J21 -> 41.721418 | L21: =RANK(K21,K$11:K$40,0) -> 3
E22: 2
E23: 3
E24: 4
E25: 5
D26: =(C26-I$5)/I$5 -> -1 | E26: 1 | I26: =IF(C26="","",C26) | J26: =IF(C26="",0,P$9/C26*60) -> 0 | K26: =H26+J26 -> 0 | L26: =RANK(K26,K$11:K$40,0) -> 4
E27: 2
E28: 3
E29: 4
E30: 5
D31: =(C31-I$5)/I$5 -> -1 | E31: 1 | I31: =IF(C31="","",C31) | J31: =IF(C31="",0,P$9/C31*60) -> 0 | K31: =H31+J31 -> 0 | L31: =RANK(K31,K$11:K$40,0) -> 4
E32: 2
E33: 3
E34: 4
E35: 5
D36: =(C36-I$5)/I$5 -> -1 | E36: 1 | I36: =IF(C36="","",C36) | J36: =IF(C36="",0,P$9/C36*60) -> 0 | K36: =H36+J36 -> 0 | L36: =RANK(K36,K$11:K$40,0) -> 4
E37: 2
E38: 3
E39: 4
E40: 5

Sheet 10
G4: Lot N°10 : | H4: ELECTRICITE
H5: Estimation HT : | I5: 96000
A8: N° env. | B8: Candidat Adresse | C8: OUVERTURE DES PLIS (€ H.T) | G8: 2ème critère : valeur technique | H8: Note technique | I8: 1er critère : prix des prestations | J8: Note financière | K8: Note globale | L8: Classt | M8: OBSERVATIONS
P9: =+MIN(C11:C40) -> 130794.3
C10: Offre de base | D10: D (%) | E10: Options | G10: 40pts | I10: 60pts
B11: SNEF | C11: 139992.21 | D11: =(C11-I$5)/I$5 -> 0.45825219 | E11: 1 | I11: =IF(C11="","",C11) -> 139992.21 | J11: =IF(C11="",0,P$9/C11*60) -> 56.057819 | K11: =H11+J11 -> 56.057819 | L11: =RANK(K11,K$11:K$40,0) -> 2
E12: 2
E13: 3
E14: 4
E15: 5
B16: DESHAYES | C16: 130794.3 | D16: =(C16-I$5)/I$5 -> 0.36244063 | E16: 1 | I16: =IF(C16="","",C16) -> 130794.3 | J16: =IF(C16="",0,P$9/C16*60) -> 60 | K16: =H16+J16 -> 60 | L16: =RANK(K16,K$11:K$40,0) -> 1
E17: 2
E18: 3
E19: 4
E20: 5
D21: =(C21-I$5)/I$5 -> -1 | E21: 1 | I21: =IF(C21="","",C21) | J21: =IF(C21="",0,P$9/C21*60) -> 0 | K21: =H21+J21 -> 0 | L21: =RANK(K21,K$11:K$40,0) -> 3
E22: 2
E23: 3
E24: 4
E25: 5
D26: =(C26-I$5)/I$5 -> -1 | E26: 1 | I26: =IF(C26="","",C26) | J26: =IF(C26="",0,P$9/C26*60) -> 0 | K26: =H26+J26 -> 0 | L26: =RANK(K26,K$11:K$40,0) -> 3
E27: 2
E28: 3
E29: 4
E30: 5
D31: =(C31-I$5)/I$5 -> -1 | E31: 1 | I31: =IF(C31="","",C31) | J31: =IF(C31="",0,P$9/C31*60) -> 0 | K31: =H31+J31 -> 0 | L31: =RANK(K31,K$11:K$40,0) -> 3
E32: 2
E33: 3
E34: 4
E35: 5
D36: =(C36-I$5)/I$5 -> -1 | E36: 1 | I36: =IF(C36="","",C36) | J36: =IF(C36="",0,P$9/C36*60) -> 0 | K36: =H36+J36 -> 0 | L36: =RANK(K36,K$11:K$40,0) -> 3
E37: 2
E38: 3
E39: 4
E40: 5

Sheet 11 a
G4: Lot N°11 a : | H4: CHAUFFAGE VENTILATION
H5: Estimation HT : | I5: 106000
A8: N° env. | B8: Candidat Adresse | C8: OUVERTURE DES PLIS (€ H.T) | G8: 2ème critère : valeur technique | H8: Note technique | I8: 1er critère : prix des prestations | J8: Note financière | K8: Note globale | L8: Classt | M8: OBSERVATIONS
P9: =+MIN(C11:C40) -> 74713.25
C10: Offre de base | D10: D (%) | E10: Options | G10: 40pts | I10: 60pts
B11: LINOTTE | C11: 130701.4 | D11: =(C11-I$5)/I$5 -> 0.23303208 | E11: 1 | I11: =IF(C11="","",C11) -> 130701.4 | J11: =IF(C11="",0,P$9/C11*60) -> 34.297988 | K11: =H11+J11 -> 34.297988 | L11: =RANK(K11,K$11:K$40,0) -> 2
E12: 2
E13: 3
E14: 4
E15: 5
B16: CENTRALE DEPANNAGE | C16: 74713.25 | D16: =(C16-I$5)/I$5 -> -0.29515802 | E16: 1 | I16: =IF(C16="","",C16) -> 74713.25 | J16: =IF(C16="",0,P$9/C16*60) -> 60 | K16: =H16+J16 -> 60 | L16: =RANK(K16,K$11:K$40,0) -> 1
E17: 2
E18: 3
E19: 4
E20: 5
D21: =(C21-I$5)/I$5 -> -1 | E21: 1 | I21: =IF(C21="","",C21) | J21: =IF(C21="",0,P$9/C21*60) -> 0 | K21: =H21+J21 -> 0 | L21: =RANK(K21,K$11:K$40,0) -> 3
E22: 2
E23: 3
E24: 4
E25: 5
D26: =(C26-I$5)/I$5 -> -1 | E26: 1 | I26: =IF(C26="","",C26) | J26: =IF(C26="",0,P$9/C26*60) -> 0 | K26: =H26+J26 -> 0 | L26: =RANK(K26,K$11:K$40,0) -> 3
E27: 2
E28: 3
E29: 4
E30: 5
D31: =(C31-I$5)/I$5 -> -1 | E31: 1 | I31: =IF(C31="","",C31) | J31: =IF(C31="",0,P$9/C31*60) -> 0 | K31: =H31+J31 -> 0 | L31: =RANK(K31,K$11:K$40,0) -> 3
E32: 2
E33: 3
E34: 4
E35: 5
D36: =(C36-I$5)/I$5 -> -1 | E36: 1 | I36: =IF(C36="","",C36) | J36: =IF(C36="",0,P$9/C36*60) -> 0 | K36: =H36+J36 -> 0 | L36: =RANK(K36,K$11:K$40,0) -> 3
E37: 2
E38: 3
E39: 4
E40: 5

Sheet 11 b
G4: Lot N°11 b : | H4: PLOMBERIE SANITAIRE
H5: Estimation HT : | J5: <= A compléter
A8: N° env. | B8: Candidat Adresse | C8: OUVERTURE DES PLIS (€ H.T) | G8: 2ème critère : valeur technique | H8: Note technique | I8: 1er critère : prix des prestations | J8: Note financière | K8: Note globale | L8: Classt | M8: OBSERVATIONS
P9: =+MIN(C11:C40) -> 68154.8
C10: Offre de base | D10: D (%) | E10: Options | G10: 40pts | I10: 60pts
B11: CENTRALE DEPANNAGE | C11: 68154.8 | D11: =(C11-I$5)/I$5 -> #DIV/0! | E11: 1 | I11: =IF(C11="","",C11) -> 68154.8 | J11: =IF(C11="",0,P$9/C11*60) -> 60 | K11: =H11+J11 -> 60 | L11: =RANK(K11,K$11:K$40,0) -> 1
E12: 2
E13: 3
E14: 4
E15: 5
D16: =(C16-I$5)/I$5 -> #DIV/0! | E16: 1 | I16: =IF(C16="","",C16) | J16: =IF(C16="",0,P$9/C16*60) -> 0 | K16: =H16+J16 -> 0 | L16: =RANK(K16,K$11:K$40,0) -> 2
E17: 2
E18: 3
E19: 4
E20: 5
D21: =(C21-I$5)/I$5 -> #DIV/0! | E21: 1 | I21: =IF(C21="","",C21) | J21: =IF(C21="",0,P$9/C21*60) -> 0 | K21: =H21+J21 -> 0 | L21: =RANK(K21,K$11:K$40,0) -> 2
E22: 2
E23: 3
E24: 4
E25: 5
D26: =(C26-I$5)/I$5 -> #DIV/0! | E26: 1 | I26: =IF(C26="","",C26) | J26: =IF(C26="",0,P$9/C26*60) -> 0 | K26: =H26+J26 -> 0 | L26: =RANK(K26,K$11:K$40,0) -> 2
E27: 2
E28: 3
E29: 4
E30: 5
D31: =(C31-I$5)/I$5 -> #DIV/0! | E31: 1 | I31: =IF(C31="","",C31) | J31: =IF(C31="",0,P$9/C31*60) -> 0 | K31: =H31+J31 -> 0 | L31: =RANK(K31,K$11:K$40,0) -> 2
E32: 2
E33: 3
E34: 4
E35: 5
D36: =(C36-I$5)/I$5 -> #DIV/0! | E36: 1 | I36: =IF(C36="","",C36) | J36: =IF(C36="",0,P$9/C36*60) -> 0 | K36: =H36+J36 -> 0 | L36: =RANK(K36,K$11:K$40,0) -> 2
E37: 2
E38: 3
E39: 4
E40: 5

Sheet 12
G4: Lot N°12 : | H4: ASCENSEUR
H5: Estimation HT : | I5: 26000
A8: N° env. | B8: Candidat Adresse | C8: OUVERTURE DES PLIS (€ H.T) | G8: 2ème critère : valeur technique | H8: Note technique | I8: 1er critère : prix des prestations | J8: Note financière | K8: Note globale | L8: Classt | M8: OBSERVATIONS
P9: =+MIN(C11:C40) -> 25200
C10: Offre de base | D10: D (%) | E10: Options | G10: 40pts | I10: 60pts
B11: THYSSENKRUPP | C11: 25200 | D11: =(C11-I$5)/I$5 -> -0.030769231 | E11: 1 | I11: =IF(C11="","",C11) -> 25200 | J11: =IF(C11="",0,P$9/C11*60) -> 60 | K11: =H11+J11 -> 60 | L11: =RANK(K11,K$11:K$40,0) -> 1
E12: 2
E13: 3
E14: 4
E15: 5
D16: =(C16-I$5)/I$5 -> -1 | E16: 1 | I16: =IF(C16="","",C16) | J16: =IF(C16="",0,P$9/C16*60) -> 0 | K16: =H16+J16 -> 0 | L16: =RANK(K16,K$11:K$40,0) -> 2
E17: 2
E18: 3
E19: 4
E20: 5
D21: =(C21-I$5)/I$5 -> -1 | E21: 1 | I21: =IF(C21="","",C21) | J21: =IF(C21="",0,P$9/C21*60) -> 0 | K21: =H21+J21 -> 0 | L21: =RANK(K21,K$11:K$40,0) -> 2
E22: 2
E23: 3
E24: 4
E25: 5
D26: =(C26-I$5)/I$5 -> -1 | E26: 1 | I26: =IF(C26="","",C26) | J26: =IF(C26="",0,P$9/C26*60) -> 0 | K26: =H26+J26 -> 0 | L26: =RANK(K26,K$11:K$40,0) -> 2
E27: 2
E28: 3
E29: 4
E30: 5
D31: =(C31-I$5)/I$5 -> -1 | E31: 1 | I31: =IF(C31="","",C31) | J31: =IF(C31="",0,P$9/C31*60) -> 0 | K31: =H31+J31 -> 0 | L31: =RANK(K31,K$11:K$40,0) -> 2
E32: 2
E33: 3
E34: 4
E35: 5
D36: =(C36-I$5)/I$5 -> -1 | E36: 1 | I36: =IF(C36="","",C36) | J36: =IF(C36="",0,P$9/C36*60) -> 0 | K36: =H36+J36 -> 0 | L36: =RANK(K36,K$11:K$40,0) -> 2
E37: 2
E38: 3
E39: 4
E40: 5

Sheet 14
G4: Lot N°14 : | H4: ECHAFAUDAGE
H5: Estimation HT : | I5: 14000
A8: N° env. | B8: Candidat Adresse | C8: OUVERTURE DES PLIS (€ H.T) | G8: 2ème critère : valeur technique | H8: Note technique | I8: 1er critère : prix des prestations | J8: Note financière | K8: Note globale | L8: Classt | M8: OBSERVATIONS
P9: =+MIN(C11:C40) -> 36290
C10: Offre de base | D10: D (%) | E10: Options | G10: 40pts | I10: 60pts
B11: ANTOiNE ECHAFAUDAGE | C11: 36290 | D11: =(C11-I$5)/I$5 -> 1.5921429 | E11: 1 | I11: =IF(C11="","",C11) -> 36290 | J11: =IF(C11="",0,P$9/C11*60) -> 60 | K11: =H11+J11 -> 60 | L11: =RANK(K11,K$11:K$40,0) -> 1
E12: 2
E13: 3
E14: 4
E15: 5
D16: =(C16-I$5)/I$5 -> -1 | E16: 1 | I16: =IF(C16="","",C16) | J16: =IF(C16="",0,P$9/C16*60) -> 0 | K16: =H16+J16 -> 0 | L16: =RANK(K16,K$11:K$40,0) -> 2
E17: 2
E18: 3
E19: 4
E20: 5
D21: =(C21-I$5)/I$5 -> -1 | E21: 1 | I21: =IF(C21="","",C21) | J21: =IF(C21="",0,P$9/C21*60) -> 0 | K21: =H21+J21 -> 0 | L21: =RANK(K21,K$11:K$40,0) -> 2
E22: 2
E23: 3
E24: 4
E25: 5
D26: =(C26-I$5)/I$5 -> -1 | E26: 1 | I26: =IF(C26="","",C26) | J26: =IF(C26="",0,P$9/C26*60) -> 0 | K26: =H26+J26 -> 0 | L26: =RANK(K26,K$11:K$40,0) -> 2
E27: 2
E28: 3
E29: 4
E30: 5
D31: =(C31-I$5)/I$5 -> -1 | E31: 1 | I31: =IF(C31="","",C31) | J31: =IF(C31="",0,P$9/C31*60) -> 0 | K31: =H31+J31 -> 0 | L31: =RANK(K31,K$11:K$40,0) -> 2
E32: 2
E33: 3
E34: 4
E35: 5
D36: =(C36-I$5)/I$5 -> -1 | E36: 1 | I36: =IF(C36="","",C36) | J36: =IF(C36="",0,P$9/C36*60) -> 0 | K36: =H36+J36 -> 0 | L36: =RANK(K36,K$11:K$40,0) -> 2
E37: 2
E38: 3
E39: 4
E40: 5

Sheet Récap
B1: ANALYSE DES OFFRES ET RAPPORT COMPARATIF ETABLIS PAR LE MAITRE D'OEUVRE
H2: =+#REF! -> #REF!
H5: Estimation de base HT : | I5: =D38 -> 1077500
B8: N° lot | C8: Candidat Adresse | D8: Estimation | E8: OUVERTURE DES PLIS (€ H.T) | G8: Proposition du maître d'œuvre | H8: D (%) | I8: OBSERVATIONS
E9: Offre de base | F9: D (%)
B10: 1 | D10: ='1'!I5 -> 88200 | E10: ='1'!C11 -> 99873.35 | F10: =IF(ISNUMBER(E10),(E10-D10)/D10,"") -> 0.13235091 | G10: =E10 -> 99873.35 | H10: =IF(ISNUMBER(G10),(G10-D10)/D10,"") -> 0.13235091 | I10: =INDEX(INDIRECT("'"&B10&"'!$B:$B"),MATCH(1,INDIRECT("'"&B10&"'!$l:$l"),0)) -> BOUREAU
B12: 2 | D12: ='2'!I$5 -> 495000 | E12: ='2'!C11 -> 551201.85 | F12: =IF(ISNUMBER(E12),(E12-D12)/D12,"") -> 0.11353909 | G12: =E12 -> 551201.85 | H12: =IF(ISNUMBER(G12),(G12-D12)/D12,"") -> 0.11353909 | I12: =INDEX(INDIRECT("'"&B12&"'!$B:$B"),MATCH(1,INDIRECT("'"&B12&"'!$l:$l"),0)) -> SARL CANGI LORIANI
B14: 3 | D14: ='3'!I5 -> 144500 | E14: ='3'!C16 -> 147807.49 | F14: =IF(ISNUMBER(E14),(E14-D14)/D14,"") -> 0.022889204 | G14: =E14 -> 147807.49 | H14: =IF(ISNUMBER(G14),(G14-D14)/D14,"") -> 0.022889204 | I14: =INDEX(INDIRECT("'"&B14&"'!$B:$B"),MATCH(1,INDIRECT("'"&B14&"'!$l:$l"),0)) -> CASTELLANI
B16: 4 | D16: ='4'!I5 -> 167800 | E16: ='4'!C11 -> 94499 | F16: =IF(ISNUMBER(E16),(E16-D16)/D16,"") -> -0.43683552 | G16: =E16 -> 94499 | H16: =IF(ISNUMBER(G16),(G16-D16)/D16,"") -> -0.43683552 | I16: =INDEX(INDIRECT("'"&B16&"'!$B:$B"),MATCH(1,INDIRECT("'"&B16&"'!$l:$l"),0)) -> BAVOILLOT
B18: 5 | D18: ='5'!I5 -> 130000 | E18: ='5'!C16 -> 102073.3 | F18: =IF(ISNUMBER(E18),(E18-D18)/D18,"") -> -0.21482077 | G18: =E18 -> 102073.3 | H18: =IF(ISNUMBER(G18),(G18-D18)/D18,"") -> -0.21482077 | I18: =INDEX(INDIRECT("'"&B18&"'!$B:$B"),MATCH(1,INDIRECT("'"&B18&"'!$l:$l"),0)) -> BAZIN
B20: 6 | D20: ='6'!I$5 -> 52000 | E20: ='6'!C11 -> 39390 | F20: =IF(ISNUMBER(E20),(E20-D20)/D20,"") -> -0.2425 | G20: =E20 -> 39390 | H20: =IF(ISNUMBER(G20),(G20-D20)/D20,"") -> -0.2425 | I20: =INDEX(INDIRECT("'"&B20&"'!$B:$B"),MATCH(1,INDIRECT("'"&B20&"'!$l:$l"),0)) -> BGC
B22: 7 | D22: =+'7'!I5 -> 80500
B24: 8 | D24: =+'8'!I5 -> 37800
B26: 9 | D26: =+'9'!I5 -> 50900
B28: 10 | D28: =+'10'!I5 -> 96000
B30: 11a | D30: =+'11 a'!I5 -> 106000
B32: 11b | D32: =+'11 b'!I5 -> 0
B34: 12 | D34: =+'12'!I5 -> 26000
B36: 14 | D36: =+'14'!I5 -> 14000
C38: TOTAL | D38: =SUM(D10:D21) -> 1077500 | E38: =SUM(E10:E21) -> 1034845 | F38: =IF(ISNUMBER(E38),(E38-D38)/D38,"") -> -0.039587016 | G38: =E38 -> 1034845 | H38: =IF(ISNUMBER(G38),(G38-D38)/D38,"") -> -0.039587016
