Workbook
Name nblignes: ROWS(Tableau1[[#All],[nom]])-1

Sheet Maquette
B13: Résultat souhaité :
B15: Colonne1 | C15: Colonne4 | D15: Colonne5 | E15: Colonne6 | F15: Colonne7 | G15: Colonne8 | I15: Je veux concaténer le nombre trouvé sur la feuille donnée, avec le nom de la
B16: DUPOND | C16: =IF(SUMIF(Données!$A:$A,Maquette!$B16,Données!B:B)=0,"",(SUMIF(Données!$A:$A,Maquette!$B16,Données!B:B))&IFERROR(INDEX(OFFSET(Données!$G$2,0,0,nblignes,1),SUMPRODUCT((OFFSET(Données!$A$2,0,0,nblignes,1)=$B16)*(OFFSET(Données!B$2,0,0,nblignes,1)=SUMIF(Données!$A:$A,Maquette!$B16,Données!B:B))*ROW(INDIRECT("$1:$"&nblignes)))),"")) -> 1Paris | D16: =IF(SUMIF(Données!$A:$A,Maquette!$B16,Données!C:C)=0,"",(SUMIF(Données!$A:$A,Maquette!$B16,Données!C:C))&IFERROR(INDEX(OFFSET(Données!$G$2,0,0,nblignes,1),SUMPRODUCT((OFFSET(Données!$A$2,0,0,nblignes,1)=$B16)*(OFFSET(Données!C$2,0,0,nblignes,1)=SUMIF(Données!$A:$A,Maquette!$B16,Données!C:C))*ROW(INDIRECT("$1:$"&nblignes)))),"")) -> 6Lyon | E16: =IF(SUMIF(Données!$A:$A,Maquette!$B16,Données!D:D)=0,"",(SUMIF(Données!$A:$A,Maquette!$B16,Données!D:D))&IFERROR(INDEX(OFFSET(Données!$G$2,0,0,nblignes,1),SUMPRODUCT((OFFSET(Données!$A$2,0,0,nblignes,1)=$B16)*(OFFSET(Données!D$2,0,0,nblignes,1)=SUMIF(Données!$A:$A,Maquette!$B16,Données!D:D))*ROW(INDIRECT("$1:$"&nblignes)))),"")) -> 5Bordeaux | F16: =IF(SUMIF(Données!$A:$A,Maquette!$B16,Données!E:E)=0,"",(SUMIF(Données!$A:$A,Maquette!$B16,Données!E:E))&IFERROR(INDEX(OFFSET(Données!$G$2,0,0,nblignes,1),SUMPRODUCT((OFFSET(Données!$A$2,0,0,nblignes,1)=$B16)*(OFFSET(Données!E$2,0,0,nblignes,1)=SUMIF(Données!$A:$A,Maquette!$B16,Données!E:E))*ROW(INDIRECT("$1:$"&nblignes)))),"")) -> 1Bordeaux | G16: =IF(SUMIF(Données!$A:$A,Maquette!$B16,Données!F:F)=0,"",(SUMIF(Données!$A:$A,Maquette!$B16,Données!F:F))&IFERROR(INDEX(OFFSET(Données!$G$2,0,0,nblignes,1),SUMPRODUCT((OFFSET(Données!$A$2,0,0,nblignes,1)=$B16)*(OFFSET(Données!F$2,0,0,nblignes,1)=SUMIF(Données!$A:$A,Maquette!$B16,Données!F:F))*ROW(INDIRECT("$1:$"&nblignes)))),"")) -> 5Marseille | I16: ville où a été trouvé la valeur inscrite par ma somme.si
B17: DURAND | C17: =IF(SUMIF(Données!$A:$A,Maquette!$B17,Données!B:B)=0,"",(SUMIF(Données!$A:$A,Maquette!$B17,Données!B:B))&IFERROR(INDEX(OFFSET(Données!$G$2,0,0,nblignes,1),SUMPRODUCT((OFFSET(Données!$A$2,0,0,nblignes,1)=$B17)*(OFFSET(Données!B$2,0,0,nblignes,1)=SUMIF(Données!$A:$A,Maquette!$B17,Données!B:B))*ROW(INDIRECT("$1:$"&nblignes)))),"")) -> 6Lyon | D17: =IF(SUMIF(Données!$A:$A,Maquette!$B17,Données!C:C)=0,"",(SUMIF(Données!$A:$A,Maquette!$B17,Données!C:C))&IFERROR(INDEX(OFFSET(Données!$G$2,0,0,nblignes,1),SUMPRODUCT((OFFSET(Données!$A$2,0,0,nblignes,1)=$B17)*(OFFSET(Données!C$2,0,0,nblignes,1)=SUMIF(Données!$A:$A,Maquette!$B17,Données!C:C))*ROW(INDIRECT("$1:$"&nblignes)))),"")) -> 1Marseille | E17: =IF(SUMIF(Données!$A:$A,Maquette!$B17,Données!D:D)=0,"",(SUMIF(Données!$A:$A,Maquette!$B17,Données!D:D))&IFERROR(INDEX(OFFSET(Données!$G$2,0,0,nblignes,1),SUMPRODUCT((OFFSET(Données!$A$2,0,0,nblignes,1)=$B17)*(OFFSET(Données!D$2,0,0,nblignes,1)=SUMIF(Données!$A:$A,Maquette!$B17,Données!D:D))*ROW(INDIRECT("$1:$"&nblignes)))),"")) | F17: =IF(SUMIF(Données!$A:$A,Maquette!$B17,Données!E:E)=0,"",(SUMIF(Données!$A:$A,Maquette!$B17,Données!E:E))&IFERROR(INDEX(OFFSET(Données!$G$2,0,0,nblignes,1),SUMPRODUCT((OFFSET(Données!$A$2,0,0,nblignes,1)=$B17)*(OFFSET(Données!E$2,0,0,nblignes,1)=SUMIF(Données!$A:$A,Maquette!$B17,Données!E:E))*ROW(INDIRECT("$1:$"&nblignes)))),"")) | G17: =IF(SUMIF(Données!$A:$A,Maquette!$B17,Données!F:F)=0,"",(SUMIF(Données!$A:$A,Maquette!$B17,Données!F:F))&IFERROR(INDEX(OFFSET(Données!$G$2,0,0,nblignes,1),SUMPRODUCT((OFFSET(Données!$A$2,0,0,nblignes,1)=$B17)*(OFFSET(Données!F$2,0,0,nblignes,1)=SUMIF(Données!$A:$A,Maquette!$B17,Données!F:F))*ROW(INDIRECT("$1:$"&nblignes)))),""))
B18: DUPIN | C18: =IF(SUMIF(Données!$A:$A,Maquette!$B18,Données!B:B)=0,"",(SUMIF(Données!$A:$A,Maquette!$B18,Données!B:B))&IFERROR(INDEX(OFFSET(Données!$G$2,0,0,nblignes,1),SUMPRODUCT((OFFSET(Données!$A$2,0,0,nblignes,1)=$B18)*(OFFSET(Données!B$2,0,0,nblignes,1)=SUMIF(Données!$A:$A,Maquette!$B18,Données!B:B))*ROW(INDIRECT("$1:$"&nblignes)))),"")) | D18: =IF(SUMIF(Données!$A:$A,Maquette!$B18,Données!C:C)=0,"",(SUMIF(Données!$A:$A,Maquette!$B18,Données!C:C))&IFERROR(INDEX(OFFSET(Données!$G$2,0,0,nblignes,1),SUMPRODUCT((OFFSET(Données!$A$2,0,0,nblignes,1)=$B18)*(OFFSET(Données!C$2,0,0,nblignes,1)=SUMIF(Données!$A:$A,Maquette!$B18,Données!C:C))*ROW(INDIRECT("$1:$"&nblignes)))),"")) | E18: =IF(SUMIF(Données!$A:$A,Maquette!$B18,Données!D:D)=0,"",(SUMIF(Données!$A:$A,Maquette!$B18,Données!D:D))&IFERROR(INDEX(OFFSET(Données!$G$2,0,0,nblignes,1),SUMPRODUCT((OFFSET(Données!$A$2,0,0,nblignes,1)=$B18)*(OFFSET(Données!D$2,0,0,nblignes,1)=SUMIF(Données!$A:$A,Maquette!$B18,Données!D:D))*ROW(INDIRECT("$1:$"&nblignes)))),"")) -> 1Paris | F18: =IF(SUMIF(Données!$A:$A,Maquette!$B18,Données!E:E)=0,"",(SUMIF(Données!$A:$A,Maquette!$B18,Données!E:E))&IFERROR(INDEX(OFFSET(Données!$G$2,0,0,nblignes,1),SUMPRODUCT((OFFSET(Données!$A$2,0,0,nblignes,1)=$B18)*(OFFSET(Données!E$2,0,0,nblignes,1)=SUMIF(Données!$A:$A,Maquette!$B18,Données!E:E))*ROW(INDIRECT("$1:$"&nblignes)))),"")) -> 2Tour | G18: =IF(SUMIF(Données!$A:$A,Maquette!$B18,Données!F:F)=0,"",(SUMIF(Données!$A:$A,Maquette!$B18,Données!F:F))&IFERROR(INDEX(OFFSET(Données!$G$2,0,0,nblignes,1),SUMPRODUCT((OFFSET(Données!$A$2,0,0,nblignes,1)=$B18)*(OFFSET(Données!F$2,0,0,nblignes,1)=SUMIF(Données!$A:$A,Maquette!$B18,Données!F:F))*ROW(INDIRECT("$1:$"&nblignes)))),"")) -> 1Bordeaux
B19: martin | C19: =IF(SUMIF(Données!$A:$A,Maquette!$B19,Données!B:B)=0,"",(SUMIF(Données!$A:$A,Maquette!$B19,Données!B:B))&IFERROR(INDEX(OFFSET(Données!$G$2,0,0,nblignes,1),SUMPRODUCT((OFFSET(Données!$A$2,0,0,nblignes,1)=$B19)*(OFFSET(Données!B$2,0,0,nblignes,1)=SUMIF(Données!$A:$A,Maquette!$B19,Données!B:B))*ROW(INDIRECT("$1:$"&nblignes)))),"")) | D19: =IF(SUMIF(Données!$A:$A,Maquette!$B19,Données!C:C)=0,"",(SUMIF(Données!$A:$A,Maquette!$B19,Données!C:C))&IFERROR(INDEX(OFFSET(Données!$G$2,0,0,nblignes,1),SUMPRODUCT((OFFSET(Données!$A$2,0,0,nblignes,1)=$B19)*(OFFSET(Données!C$2,0,0,nblignes,1)=SUMIF(Données!$A:$A,Maquette!$B19,Données!C:C))*ROW(INDIRECT("$1:$"&nblignes)))),"")) | E19: =IF(SUMIF(Données!$A:$A,Maquette!$B19,Données!D:D)=0,"",(SUMIF(Données!$A:$A,Maquette!$B19,Données!D:D))&IFERROR(INDEX(OFFSET(Données!$G$2,0,0,nblignes,1),SUMPRODUCT((OFFSET(Données!$A$2,0,0,nblignes,1)=$B19)*(OFFSET(Données!D$2,0,0,nblignes,1)=SUMIF(Données!$A:$A,Maquette!$B19,Données!D:D))*ROW(INDIRECT("$1:$"&nblignes)))),"")) | F19: =IF(SUMIF(Données!$A:$A,Maquette!$B19,Données!E:E)=0,"",(SUMIF(Données!$A:$A,Maquette!$B19,Données!E:E))&IFERROR(INDEX(OFFSET(Données!$G$2,0,0,nblignes,1),SUMPRODUCT((OFFSET(Données!$A$2,0,0,nblignes,1)=$B19)*(OFFSET(Données!E$2,0,0,nblignes,1)=SUMIF(Données!$A:$A,Maquette!$B19,Données!E:E))*ROW(INDIRECT("$1:$"&nblignes)))),"")) | G19: =IF(SUMIF(Données!$A:$A,Maquette!$B19,Données!F:F)=0,"",(SUMIF(Données!$A:$A,Maquette!$B19,Données!F:F))&IFERROR(INDEX(OFFSET(Données!$G$2,0,0,nblignes,1),SUMPRODUCT((OFFSET(Données!$A$2,0,0,nblignes,1)=$B19)*(OFFSET(Données!F$2,0,0,nblignes,1)=SUMIF(Données!$A:$A,Maquette!$B19,Données!F:F))*ROW(INDIRECT("$1:$"&nblignes)))),"")) -> 6lyon
B20: PLUSDIDEE | C20: =IF(SUMIF(Données!$A:$A,Maquette!$B20,Données!B:B)=0,"",(SUMIF(Données!$A:$A,Maquette!$B20,Données!B:B))&IFERROR(INDEX(OFFSET(Données!$G$2,0,0,nblignes,1),SUMPRODUCT((OFFSET(Données!$A$2,0,0,nblignes,1)=$B20)*(OFFSET(Données!B$2,0,0,nblignes,1)=SUMIF(Données!$A:$A,Maquette!$B20,Données!B:B))*ROW(INDIRECT("$1:$"&nblignes)))),"")) -> 1Paris | D20: =IF(SUMIF(Données!$A:$A,Maquette!$B20,Données!C:C)=0,"",(SUMIF(Données!$A:$A,Maquette!$B20,Données!C:C))&IFERROR(INDEX(OFFSET(Données!$G$2,0,0,nblignes,1),SUMPRODUCT((OFFSET(Données!$A$2,0,0,nblignes,1)=$B20)*(OFFSET(Données!C$2,0,0,nblignes,1)=SUMIF(Données!$A:$A,Maquette!$B20,Données!C:C))*ROW(INDIRECT("$1:$"&nblignes)))),"")) -> 5Bordeaux | E20: =IF(SUMIF(Données!$A:$A,Maquette!$B20,Données!D:D)=0,"",(SUMIF(Données!$A:$A,Maquette!$B20,Données!D:D))&IFERROR(INDEX(OFFSET(Données!$G$2,0,0,nblignes,1),SUMPRODUCT((OFFSET(Données!$A$2,0,0,nblignes,1)=$B20)*(OFFSET(Données!D$2,0,0,nblignes,1)=SUMIF(Données!$A:$A,Maquette!$B20,Données!D:D))*ROW(INDIRECT("$1:$"&nblignes)))),"")) | F20: =IF(SUMIF(Données!$A:$A,Maquette!$B20,Données!E:E)=0,"",(SUMIF(Données!$A:$A,Maquette!$B20,Données!E:E))&IFERROR(INDEX(OFFSET(Données!$G$2,0,0,nblignes,1),SUMPRODUCT((OFFSET(Données!$A$2,0,0,nblignes,1)=$B20)*(OFFSET(Données!E$2,0,0,nblignes,1)=SUMIF(Données!$A:$A,Maquette!$B20,Données!E:E))*ROW(INDIRECT("$1:$"&nblignes)))),"")) -> 3Bordeaux | G20: =IF(SUMIF(Données!$A:$A,Maquette!$B20,Données!F:F)=0,"",(SUMIF(Données!$A:$A,Maquette!$B20,Données!F:F))&IFERROR(INDEX(OFFSET(Données!$G$2,0,0,nblignes,1),SUMPRODUCT((OFFSET(Données!$A$2,0,0,nblignes,1)=$B20)*(OFFSET(Données!F$2,0,0,nblignes,1)=SUMIF(Données!$A:$A,Maquette!$B20,Données!F:F))*ROW(INDIRECT("$1:$"&nblignes)))),""))
B21: DENOM | C21: =IF(SUMIF(Données!$A:$A,Maquette!$B21,Données!B:B)=0,"",(SUMIF(Données!$A:$A,Maquette!$B21,Données!B:B))&IFERROR(INDEX(OFFSET(Données!$G$2,0,0,nblignes,1),SUMPRODUCT((OFFSET(Données!$A$2,0,0,nblignes,1)=$B21)*(OFFSET(Données!B$2,0,0,nblignes,1)=SUMIF(Données!$A:$A,Maquette!$B21,Données!B:B))*ROW(INDIRECT("$1:$"&nblignes)))),"")) -> 1Bordeaux | D21: =IF(SUMIF(Données!$A:$A,Maquette!$B21,Données!C:C)=0,"",(SUMIF(Données!$A:$A,Maquette!$B21,Données!C:C))&IFERROR(INDEX(OFFSET(Données!$G$2,0,0,nblignes,1),SUMPRODUCT((OFFSET(Données!$A$2,0,0,nblignes,1)=$B21)*(OFFSET(Données!C$2,0,0,nblignes,1)=SUMIF(Données!$A:$A,Maquette!$B21,Données!C:C))*ROW(INDIRECT("$1:$"&nblignes)))),"")) -> 1Paris | E21: =IF(SUMIF(Données!$A:$A,Maquette!$B21,Données!D:D)=0,"",(SUMIF(Données!$A:$A,Maquette!$B21,Données!D:D))&IFERROR(INDEX(OFFSET(Données!$G$2,0,0,nblignes,1),SUMPRODUCT((OFFSET(Données!$A$2,0,0,nblignes,1)=$B21)*(OFFSET(Données!D$2,0,0,nblignes,1)=SUMIF(Données!$A:$A,Maquette!$B21,Données!D:D))*ROW(INDIRECT("$1:$"&nblignes)))),"")) -> 5Lyon | F21: =IF(SUMIF(Données!$A:$A,Maquette!$B21,Données!E:E)=0,"",(SUMIF(Données!$A:$A,Maquette!$B21,Données!E:E))&IFERROR(INDEX(OFFSET(Données!$G$2,0,0,nblignes,1),SUMPRODUCT((OFFSET(Données!$A$2,0,0,nblignes,1)=$B21)*(OFFSET(Données!E$2,0,0,nblignes,1)=SUMIF(Données!$A:$A,Maquette!$B21,Données!E:E))*ROW(INDIRECT("$1:$"&nblignes)))),"")) -> 2Marseille | G21: =IF(SUMIF(Données!$A:$A,Maquette!$B21,Données!F:F)=0,"",(SUMIF(Données!$A:$A,Maquette!$B21,Données!F:F))&IFERROR(INDEX(OFFSET(Données!$G$2,0,0,nblignes,1),SUMPRODUCT((OFFSET(Données!$A$2,0,0,nblignes,1)=$B21)*(OFFSET(Données!F$2,0,0,nblignes,1)=SUMIF(Données!$A:$A,Maquette!$B21,Données!F:F))*ROW(INDIRECT("$1:$"&nblignes)))),"")) -> 3Paris
B22: marcel | C22: =IF(SUMIF(Données!$A:$A,Maquette!$B22,Données!B:B)=0,"",(SUMIF(Données!$A:$A,Maquette!$B22,Données!B:B))&IFERROR(INDEX(OFFSET(Données!$G$2,0,0,nblignes,1),SUMPRODUCT((OFFSET(Données!$A$2,0,0,nblignes,1)=$B22)*(OFFSET(Données!B$2,0,0,nblignes,1)=SUMIF(Données!$A:$A,Maquette!$B22,Données!B:B))*ROW(INDIRECT("$1:$"&nblignes)))),"")) -> 1Tour | D22: =IF(SUMIF(Données!$A:$A,Maquette!$B22,Données!C:C)=0,"",(SUMIF(Données!$A:$A,Maquette!$B22,Données!C:C))&IFERROR(INDEX(OFFSET(Données!$G$2,0,0,nblignes,1),SUMPRODUCT((OFFSET(Données!$A$2,0,0,nblignes,1)=$B22)*(OFFSET(Données!C$2,0,0,nblignes,1)=SUMIF(Données!$A:$A,Maquette!$B22,Données!C:C))*ROW(INDIRECT("$1:$"&nblignes)))),"")) -> 2Tour | E22: =IF(SUMIF(Données!$A:$A,Maquette!$B22,Données!D:D)=0,"",(SUMIF(Données!$A:$A,Maquette!$B22,Données!D:D))&IFERROR(INDEX(OFFSET(Données!$G$2,0,0,nblignes,1),SUMPRODUCT((OFFSET(Données!$A$2,0,0,nblignes,1)=$B22)*(OFFSET(Données!D$2,0,0,nblignes,1)=SUMIF(Données!$A:$A,Maquette!$B22,Données!D:D))*ROW(INDIRECT("$1:$"&nblignes)))),"")) | F22: =IF(SUMIF(Données!$A:$A,Maquette!$B22,Données!E:E)=0,"",(SUMIF(Données!$A:$A,Maquette!$B22,Données!E:E))&IFERROR(INDEX(OFFSET(Données!$G$2,0,0,nblignes,1),SUMPRODUCT((OFFSET(Données!$A$2,0,0,nblignes,1)=$B22)*(OFFSET(Données!E$2,0,0,nblignes,1)=SUMIF(Données!$A:$A,Maquette!$B22,Données!E:E))*ROW(INDIRECT("$1:$"&nblignes)))),"")) | G22: =IF(SUMIF(Données!$A:$A,Maquette!$B22,Données!F:F)=0,"",(SUMIF(Données!$A:$A,Maquette!$B22,Données!F:F))&IFERROR(INDEX(OFFSET(Données!$G$2,0,0,nblignes,1),SUMPRODUCT((OFFSET(Données!$A$2,0,0,nblignes,1)=$B22)*(OFFSET(Données!F$2,0,0,nblignes,1)=SUMIF(Données!$A:$A,Maquette!$B22,Données!F:F))*ROW(INDIRECT("$1:$"&nblignes)))),""))
B23: leon | C23: =IF(SUMIF(Données!$A:$A,Maquette!$B23,Données!B:B)=0,"",(SUMIF(Données!$A:$A,Maquette!$B23,Données!B:B))&IFERROR(INDEX(OFFSET(Données!$G$2,0,0,nblignes,1),SUMPRODUCT((OFFSET(Données!$A$2,0,0,nblignes,1)=$B23)*(OFFSET(Données!B$2,0,0,nblignes,1)=SUMIF(Données!$A:$A,Maquette!$B23,Données!B:B))*ROW(INDIRECT("$1:$"&nblignes)))),"")) | D23: =IF(SUMIF(Données!$A:$A,Maquette!$B23,Données!C:C)=0,"",(SUMIF(Données!$A:$A,Maquette!$B23,Données!C:C))&IFERROR(INDEX(OFFSET(Données!$G$2,0,0,nblignes,1),SUMPRODUCT((OFFSET(Données!$A$2,0,0,nblignes,1)=$B23)*(OFFSET(Données!C$2,0,0,nblignes,1)=SUMIF(Données!$A:$A,Maquette!$B23,Données!C:C))*ROW(INDIRECT("$1:$"&nblignes)))),"")) -> 1Tour | E23: =IF(SUMIF(Données!$A:$A,Maquette!$B23,Données!D:D)=0,"",(SUMIF(Données!$A:$A,Maquette!$B23,Données!D:D))&IFERROR(INDEX(OFFSET(Données!$G$2,0,0,nblignes,1),SUMPRODUCT((OFFSET(Données!$A$2,0,0,nblignes,1)=$B23)*(OFFSET(Données!D$2,0,0,nblignes,1)=SUMIF(Données!$A:$A,Maquette!$B23,Données!D:D))*ROW(INDIRECT("$1:$"&nblignes)))),"")) -> 2Tour | F23: =IF(SUMIF(Données!$A:$A,Maquette!$B23,Données!E:E)=0,"",(SUMIF(Données!$A:$A,Maquette!$B23,Données!E:E))&IFERROR(INDEX(OFFSET(Données!$G$2,0,0,nblignes,1),SUMPRODUCT((OFFSET(Données!$A$2,0,0,nblignes,1)=$B23)*(OFFSET(Données!E$2,0,0,nblignes,1)=SUMIF(Données!$A:$A,Maquette!$B23,Données!E:E))*ROW(INDIRECT("$1:$"&nblignes)))),"")) | G23: =IF(SUMIF(Données!$A:$A,Maquette!$B23,Données!F:F)=0,"",(SUMIF(Données!$A:$A,Maquette!$B23,Données!F:F))&IFERROR(INDEX(OFFSET(Données!$G$2,0,0,nblignes,1),SUMPRODUCT((OFFSET(Données!$A$2,0,0,nblignes,1)=$B23)*(OFFSET(Données!F$2,0,0,nblignes,1)=SUMIF(Données!$A:$A,Maquette!$B23,Données!F:F))*ROW(INDIRECT("$1:$"&nblignes)))),""))
B24: Jules | C24: =IF(SUMIF(Données!$A:$A,Maquette!$B24,Données!B:B)=0,"",(SUMIF(Données!$A:$A,Maquette!$B24,Données!B:B))&IFERROR(INDEX(OFFSET(Données!$G$2,0,0,nblignes,1),SUMPRODUCT((OFFSET(Données!$A$2,0,0,nblignes,1)=$B24)*(OFFSET(Données!B$2,0,0,nblignes,1)=SUMIF(Données!$A:$A,Maquette!$B24,Données!B:B))*ROW(INDIRECT("$1:$"&nblignes)))),"")) | D24: =IF(SUMIF(Données!$A:$A,Maquette!$B24,Données!C:C)=0,"",(SUMIF(Données!$A:$A,Maquette!$B24,Données!C:C))&IFERROR(INDEX(OFFSET(Données!$G$2,0,0,nblignes,1),SUMPRODUCT((OFFSET(Données!$A$2,0,0,nblignes,1)=$B24)*(OFFSET(Données!C$2,0,0,nblignes,1)=SUMIF(Données!$A:$A,Maquette!$B24,Données!C:C))*ROW(INDIRECT("$1:$"&nblignes)))),"")) -> 3Lille | E24: =IF(SUMIF(Données!$A:$A,Maquette!$B24,Données!D:D)=0,"",(SUMIF(Données!$A:$A,Maquette!$B24,Données!D:D))&IFERROR(INDEX(OFFSET(Données!$G$2,0,0,nblignes,1),SUMPRODUCT((OFFSET(Données!$A$2,0,0,nblignes,1)=$B24)*(OFFSET(Données!D$2,0,0,nblignes,1)=SUMIF(Données!$A:$A,Maquette!$B24,Données!D:D))*ROW(INDIRECT("$1:$"&nblignes)))),"")) | F24: =IF(SUMIF(Données!$A:$A,Maquette!$B24,Données!E:E)=0,"",(SUMIF(Données!$A:$A,Maquette!$B24,Données!E:E))&IFERROR(INDEX(OFFSET(Données!$G$2,0,0,nblignes,1),SUMPRODUCT((OFFSET(Données!$A$2,0,0,nblignes,1)=$B24)*(OFFSET(Données!E$2,0,0,nblignes,1)=SUMIF(Données!$A:$A,Maquette!$B24,Données!E:E))*ROW(INDIRECT("$1:$"&nblignes)))),"")) | G24: =IF(SUMIF(Données!$A:$A,Maquette!$B24,Données!F:F)=0,"",(SUMIF(Données!$A:$A,Maquette!$B24,Données!F:F))&IFERROR(INDEX(OFFSET(Données!$G$2,0,0,nblignes,1),SUMPRODUCT((OFFSET(Données!$A$2,0,0,nblignes,1)=$B24)*(OFFSET(Données!F$2,0,0,nblignes,1)=SUMIF(Données!$A:$A,Maquette!$B24,Données!F:F))*ROW(INDIRECT("$1:$"&nblignes)))),""))
B25: louis | C25: =IF(SUMIF(Données!$A:$A,Maquette!$B25,Données!B:B)=0,"",(SUMIF(Données!$A:$A,Maquette!$B25,Données!B:B))&IFERROR(INDEX(OFFSET(Données!$G$2,0,0,nblignes,1),SUMPRODUCT((OFFSET(Données!$A$2,0,0,nblignes,1)=$B25)*(OFFSET(Données!B$2,0,0,nblignes,1)=SUMIF(Données!$A:$A,Maquette!$B25,Données!B:B))*ROW(INDIRECT("$1:$"&nblignes)))),"")) | D25: =IF(SUMIF(Données!$A:$A,Maquette!$B25,Données!C:C)=0,"",(SUMIF(Données!$A:$A,Maquette!$B25,Données!C:C))&IFERROR(INDEX(OFFSET(Données!$G$2,0,0,nblignes,1),SUMPRODUCT((OFFSET(Données!$A$2,0,0,nblignes,1)=$B25)*(OFFSET(Données!C$2,0,0,nblignes,1)=SUMIF(Données!$A:$A,Maquette!$B25,Données!C:C))*ROW(INDIRECT("$1:$"&nblignes)))),"")) | E25: =IF(SUMIF(Données!$A:$A,Maquette!$B25,Données!D:D)=0,"",(SUMIF(Données!$A:$A,Maquette!$B25,Données!D:D))&IFERROR(INDEX(OFFSET(Données!$G$2,0,0,nblignes,1),SUMPRODUCT((OFFSET(Données!$A$2,0,0,nblignes,1)=$B25)*(OFFSET(Données!D$2,0,0,nblignes,1)=SUMIF(Données!$A:$A,Maquette!$B25,Données!D:D))*ROW(INDIRECT("$1:$"&nblignes)))),"")) | F25: =IF(SUMIF(Données!$A:$A,Maquette!$B25,Données!E:E)=0,"",(SUMIF(Données!$A:$A,Maquette!$B25,Données!E:E))&IFERROR(INDEX(OFFSET(Données!$G$2,0,0,nblignes,1),SUMPRODUCT((OFFSET(Données!$A$2,0,0,nblignes,1)=$B25)*(OFFSET(Données!E$2,0,0,nblignes,1)=SUMIF(Données!$A:$A,Maquette!$B25,Données!E:E))*ROW(INDIRECT("$1:$"&nblignes)))),"")) -> 5Lille | G25: =IF(SUMIF(Données!$A:$A,Maquette!$B25,Données!F:F)=0,"",(SUMIF(Données!$A:$A,Maquette!$B25,Données!F:F))&IFERROR(INDEX(OFFSET(Données!$G$2,0,0,nblignes,1),SUMPRODUCT((OFFSET(Données!$A$2,0,0,nblignes,1)=$B25)*(OFFSET(Données!F$2,0,0,nblignes,1)=SUMIF(Données!$A:$A,Maquette!$B25,Données!F:F))*ROW(INDIRECT("$1:$"&nblignes)))),""))

Sheet Données
A1: nom | B1: a | C1: b | D1: c | E1: d | F1: e | G1: ville
A2: DUPOND | B2: 1 | G2: Paris | J2: =INDEX(G2:G25,SUMPRODUCT((A2:A25="dupond")*(B2:B25=1)*ROW($2:$24))) -> #N/A
A3: DUPIN | D3: 1 | G3: Paris
A4: PLUSDIDEE | B4: 1 | G4: Paris
A5: DENOM | C5: 1 | F5: 3 | G5: Paris | I5: Il y a forcément un seul nom par ville (dupond ne peux pas se trouver deux fois à Paris)
A6: DUPOND | C6: 6 | G6: Lyon
A7: DURAND | B7: 6 | G7: Lyon
A8: DUPIN | G8: Lyon
A9: martin | F9: 6 | G9: lyon
A10: PLUSDIDEE | G10: Lyon
A11: DENOM | D11: 5 | G11: Lyon
A12: DUPOND | D12: 5 | E12: 1 | G12: Bordeaux
A13: DUPIN | F13: 1 | G13: Bordeaux
A14: PLUSDIDEE | C14: 5 | E14: 3 | G14: Bordeaux
A15: DENOM | B15: 1 | G15: Bordeaux
A16: DUPOND | F16: 5 | G16: Marseille
A17: DURAND | C17: 1 | G17: Marseille | J17: tu ajoutes une ligne (nom,ciffre,ville) et tu vas sur l'onglet maquette a laquelle tu rajoutes le nom
A18: DURAND | G18: Marseille
A19: DENOM | E19: 2 | G19: Marseille | J19: ou tu inseres suivant le meme principe
A20: DUPIN | E20: 2 | G20: Tour
A21: PLUSDIDEE | G21: Tour
A22: marcel | B22: 1 | C22: 2 | G22: Tour
A23: leon | C23: 1 | D23: 2 | G23: Tour
A24: jules | C24: 3 | G24: Lille
A25: louis | E25: 5 | G25: Lille
