Workbook
Name Channel: [1]PoV!$C$18
Name ChronologieNative_mois_bis: #N/A
Name Connection: [1]PoV!$C$9
Name cost_index: OFFSET('[2]price index'!$B$173,0,0,1,SUM('[2]price index'!$B$174:$AK$174))
Name Geography: [1]PoV!$C$19
Name price_index_usd: OFFSET('[2]price index'!$B$93,0,0,1,SUM('[2]price index'!$B$174:$AK$174))
Name price_index_usd_f: OFFSET('[2]price index'!$B$133,0,0,1,SUM('[2]price index'!$B$174:$AK$174))
Name Product: [1]PoV!$C$17
Name show_current_core: OFFSET(#REF!,0,0,1,SUM(#REF!))
Name show_current_entry: OFFSET(#REF!,0,0,1,SUM(#REF!))
Name show_current_top: OFFSET(#REF!,0,0,1,SUM(#REF!))
Name show_current_total: OFFSET(#REF!,0,0,1,SUM(#REF!))
Name show_in_graph_profit: OFFSET(#REF!,0,0,1,SUM(#REF!))
Name show_in_graph_sales: OFFSET(#REF!,0,0,1,SUM(#REF!))

Sheet TCD
A1: NAICS/SIC | B1: EUROMASTER
A2: Cat obj | B2: PRESTA
A4: Étiquettes de lignes | B4: Somme de QTY_INVOICED
A5: 2018 | B5: 24
A6: avr | B6: 24
A7: Total général | B7: 24

Sheet cumul 2014-2018
A1: PRODUCT_CODE | B1: BP_GROUP | C1: NAICS/SIC | D1: BP_NAME | E1: PRODUCT_CATEGORY | F1: PRODUCT_DESC | G1: QTY_INVOICED | H1: SALES_AMOUNT | I1: COGS_AMOUNT | J1: SALES_ACCT | K1: COGS_ACCT | L1: Account Date | M1: mois | N1: mois_bis | O1: année fiscale | P1: année cal | Q1: Document No | R1: Line No | S1: Description | T1: M_INOUT_REF | U1: SALE_TYPE | V1: BP_DEPT | W1: BP_CITY | X1: BP_SHIPMENT_REGION | Y1: BP_POSTAL | Z1: BP_CHAR | AA1: FINALDELIVERYADDRESS | AB1: INVOICE_REGION | AC1: MACHINESERIALNUMBER | AD1: MACHINETYPE | AE1: Tenant | AF1: Weight | AG1: WAREHOUSE | AH1: ORDERREF | AI1: SHIPPER | AJ1: BP_REP | AK1: SHIPMENT_REP | AL1: INVOICE_REP | AM1: VALUE CHAIN | AN1: CS PRODUCT LEVEL 1 | AO1: DISTRIBUTION CHANNEL | AP1: SHIPMENT_BP_NAME | AQ1: -1 | AR1: Cat obj | AS1: Type service | AT1: période Cal
A2: 99.20.6 | B2: Lift Truck Service Compagny | C2: COMBILIFT | D2: AMLIFT | E2: MS02 Prestations de services | F2: Montage Atelier | G2: 20 | H2: 60 | I2: Colonne1 | J2: 706000 - Prestations de Services Presses Mobile | K2: 999105 - Service COGS Account | L2: Colonne2 | M2: janvier | N2: =DATE(O2,VLOOKUP(M2,Feuil3!$A$1:$B$12,2,0),1) -> 43101 | O2: 2018 | P2: 20183 | Q2: VMF173329 | R2: 204 | S2: Colonne5 | T2: 1207680 | U2: SHIPMENT | V2: 85 | W2: LA CHAPELLE ACHARD | X2: F04 - secteur LV | Y2: 85150 | Z2: AMLIFT Parc d'activités ZI Sud Est | AA2: BMO BRIANCONCENTRE D' ACTIVITES SUDRUE DES LAMPIERSMr CABANNE Christophe : 04.92.21.36.54BRIANCON | AB2: 06 - Ouest | AC2: Colonne6 | AD2: Colonne7 | AE2: Solideal | AF2: 132,70 | AG2: CS Noyal – Pontivy | AH2: MAIL CHARLOTTE | AI2: DACHSER - Messagerie | AJ2: Joffrey Bailliez | AK2: Joffrey Bailliez8 | AL2: Joffrey Bailliez9 | AM2: MH Tire System | AN2: Non Products | AO2: AFTERMARKET | AP2: AMLIFT10 | AQ2: Colonne11 | AR2: PRESTA | AS2: Atelier | AT2: Colonne12
A3: 99.20.6 | B3: Lift Truck Service Compagny | C3: COMBILIFT | D3: AMLIFT | E3: MS02 Prestations de services | F3: Montage Atelier | G3: 12 | H3: 36 | J3: 706000 - Prestations de Services Presses Mobile | K3: 999105 - Service COGS Account | M3: janvier | N3: =DATE(O3,VLOOKUP(M3,Feuil3!$A$1:$B$12,2,0),1) -> 43101 | O3: 2018 | P3: 2018 | Q3: VMF173329 | R3: 40 | T3: 1207680 | U3: SHIPMENT | V3: 85 | W3: LA CHAPELLE ACHARD | X3: F04 - secteur LV | Y3: 85150 | Z3: AMLIFT Parc d'activités ZI Sud Est | AA3: BMO BRIANCONCENTRE D' ACTIVITES SUDRUE DES LAMPIERSMr CABANNE Christophe : 04.92.21.36.54BRIANCON | AB3: 06 - Ouest | AE3: Solideal | AF3: 132.7 | AG3: CS Noyal – Pontivy | AH3: MAIL CHARLOTTE | AI3: DACHSER - Messagerie | AJ3: Joffrey Bailliez | AK3: Joffrey Bailliez | AL3: Joffrey Bailliez | AM3: MH Tire System | AN3: Non Products | AO3: AFTERMARKET | AP3: AMLIFT | AR3: PRESTA | AS3: Atelier
A4: 99.20.6 | B4: Lift Truck Service Compagny | C4: COMBILIFT | D4: AMLIFT | E4: MS02 Prestations de services | F4: Montage Atelier | G4: 20 | H4: 60 | J4: 706000 - Prestations de Services Presses Mobile | K4: 999105 - Service COGS Account | M4: février | N4: =DATE(O4,VLOOKUP(M4,Feuil3!$A$1:$B$12,2,0),1) -> 43132 | O4: 2018 | P4: 2018 | Q4: VMF173557 | R4: 20 | T4: 1207677 | U4: SHIPMENT | V4: 85 | W4: LA CHAPELLE ACHARD | X4: F04 - secteur LV | Y4: 85150 | Z4: AMLIFT Parc d'activités ZI Sud Est | AA4: ONDUCLAIR RUE RENE DESCARTES ZA MAURICE SCHUMANN MR POUDROUX 03.20.45.42.00COMINES | AB4: 06 - Ouest | AE4: Solideal | AF4: 53.2 | AG4: CS Noyal – Pontivy | AH4: MAIL CHARLOTTE | AI4: DACHSER - Messagerie | AJ4: Joffrey Bailliez | AK4: Joffrey Bailliez | AL4: Joffrey Bailliez | AM4: MH Tire System | AN4: Non Products | AO4: AFTERMARKET | AP4: AMLIFT | AR4: PRESTA | AS4: Atelier
A5: 99.20.6 | B5: Lift Truck Service Compagny | C5: COMBILIFT | D5: AMLIFT | E5: MS02 Prestations de services | F5: Montage Atelier | G5: 20 | H5: 60 | J5: 706000 - Prestations de Services Presses Mobile | K5: 999105 - Service COGS Account | M5: février | N5: =DATE(O5,VLOOKUP(M5,Feuil3!$A$1:$B$12,2,0),1) -> 43132 | O5: 2018 | P5: 2018 | Q5: VMF173558 | R5: 20 | T5: 1207683 | U5: SHIPMENT | V5: 85 | W5: LA CHAPELLE ACHARD | X5: F04 - secteur LV | Y5: 85150 | Z5: AMLIFT Parc d'activités ZI Sud Est | AA5: ARCELOR MITTAL DISTRIBUTION 51ATTN MR LOISEAUZI DES COIDESST BRICE COURCELLES | AB5: 06 - Ouest | AE5: Solideal | AF5: 69.6 | AG5: CS Noyal – Pontivy | AH5: MAIL CHARLOTTE | AI5: DACHSER - Messagerie | AJ5: Joffrey Bailliez | AK5: Joffrey Bailliez | AL5: Joffrey Bailliez | AM5: MH Tire System | AN5: Non Products | AO5: AFTERMARKET | AP5: AMLIFT | AR5: PRESTA | AS5: Atelier
A6: 99.20.6 | B6: Lift Truck Service Compagny | C6: COMBILIFT | D6: AMLIFT | E6: MS02 Prestations de services | F6: Montage Atelier | G6: 20 | H6: 60 | J6: 706000 - Prestations de Services Presses Mobile | K6: 999105 - Service COGS Account | M6: mars | N6: =DATE(O6,VLOOKUP(M6,Feuil3!$A$1:$B$12,2,0),1) -> 43160 | O6: 2018 | P6: 2018 | Q6: VMF173334 | R6: 20 | T6: 1207703 | U6: SHIPMENT | V6: 85 | W6: LA CHAPELLE ACHARD | X6: F04 - secteur LV | Y6: 85150 | Z6: AMLIFT Parc d'activités ZI Sud Est | AA6: BMO ARGONAYDOMINIQUE SAN MIGUEL 04.50.57.12.67225 ROUTE DU FIERLIEU DIT GRUYEREARGONAY | AB6: 06 - Ouest | AE6: Solideal | AF6: 69.6 | AG6: CS Noyal – Pontivy | AH6: mail charlotte | AI6: DACHSER - Messagerie | AJ6: Joffrey Bailliez | AK6: Joffrey Bailliez | AL6: Joffrey Bailliez | AM6: MH Tire System | AN6: Non Products | AO6: AFTERMARKET | AP6: AMLIFT | AR6: PRESTA | AS6: Atelier
A7: 99.20.6 | B7: Lift Truck Service Compagny | C7: MANULOC | D7: AMONITE SUD-EST | E7: MS02 Prestations de services | F7: Montage Atelier | G7: 20 | H7: 60 | J7: 706000 - Prestations de Services Presses Mobile | K7: 999105 - Service COGS Account | M7: mars | N7: =DATE(O7,VLOOKUP(M7,Feuil3!$A$1:$B$12,2,0),1) -> 43160 | O7: 2018 | P7: 2018 | Q7: VMF173419 | R7: 40 | T7: 1207926 | U7: SHIPMENT | V7: 69 | W7: SAINT PIERRE DE CHANDIEU | X7: F07 - secteur SL | Y7: 69780 | Z7: AMONITE SUD-EST 48 CHEMIN DE MURE LIEU DIT FORET DE L AIGLE | AB7: 03 - Rhône-Alpes | AE7: Solideal | AF7: 193.2 | AG7: CS Saint Priest | AH7: 439183 aom | AI7: ENLEVEMENT CLIENT | AJ7: Thierry Mercier | AK7: Thierry Mercier | AL7: Thierry Mercier | AM7: MH Tire System | AN7: Non Products | AO7: AFTERMARKET | AP7: AMONITE SUD-EST | AR7: PRESTA | AS7: Atelier
A8: 99.20.6 | B8: Lift Truck Service Compagny | C8: MANULOC | D8: AMONITE SUD-EST | E8: MS02 Prestations de services | F8: Montage Atelier | G8: 30 | H8: 90 | J8: 706000 - Prestations de Services Presses Mobile | K8: 999105 - Service COGS Account | M8: avril | N8: =DATE(O8,VLOOKUP(M8,Feuil3!$A$1:$B$12,2,0),1) -> 43556 | O8: 2019 | P8: 2018 | Q8: VMF173419 | R8: 20 | T8: 1207926 | U8: SHIPMENT | V8: 69 | W8: SAINT PIERRE DE CHANDIEU | X8: F07 - secteur SL | Y8: 69780 | Z8: AMONITE SUD-EST 48 CHEMIN DE MURE LIEU DIT FORET DE L AIGLE | AB8: 03 - Rhône-Alpes | AE8: Solideal | AF8: 193.2 | AG8: CS Saint Priest | AH8: 439183 aom | AI8: ENLEVEMENT CLIENT | AJ8: Thierry Mercier | AK8: Thierry Mercier | AL8: Thierry Mercier | AM8: MH Tire System | AN8: Non Products | AO8: AFTERMARKET | AP8: AMONITE SUD-EST | AR8: PRESTA | AS8: Atelier
A9: 99.20.8 | B9: Lift Truck Service Compagny | C9: MANULOC | D9: AMONITE SUD-EST | E9: MS02 Prestations de services | F9: Montage Presse Mobile par Pouce (Déchets inclus) | G9: -18 | H9: -81 | J9: 706000 - Prestations de Services Presses Mobile | M9: avril | N9: =DATE(O9,VLOOKUP(M9,Feuil3!$A$1:$B$12,2,0),1) -> 43556 | O9: 2019 | P9: 2018 | Q9: AMF304249 | R9: 20 | S9: AVOIR S FACTURE VMF172767 ERREUR ADRESSE FACTURATION | U9: INVOICE WITH NO SHIPMENT | V9: 70 | W9: SAINT PIERRE DE CHANDIEU | X9: F07 - secteur SL | Y9: 69781 | Z9: AMONITE SUD-EST 48 CHEMIN DE MURE LIEU DIT FORET DE L AIGLE | AB9: 03 - Rhône-Alpes | AE9: Solideal | AJ9: Stéphane Loncke | AM9: MH Tire System | AN9: Non Products | AO9: AFTERMARKET | AR9: PRESTA | AS9: Presse M
A10: 99.20.8 | B10: Lift Truck Service Compagny | C10: MANULOC | D10: AMONITE SUD-EST | E10: MS02 Prestations de services | F10: Montage Presse Mobile par Pouce (Déchets inclus) | G10: -36 | H10: -162 | J10: 706000 - Prestations de Services Presses Mobile | M10: mai | N10: =DATE(O10,VLOOKUP(M10,Feuil3!$A$1:$B$12,2,0),1) -> 43586 | O10: 2019 | P10: 2018 | Q10: AMF304250 | R10: 30 | S10: AVOIR SUR FACTUREVMF172769 ERREUR ADRESSE DE FACTURATION | U10: INVOICE WITH NO SHIPMENT | V10: 71 | W10: SAINT PIERRE DE CHANDIEU | X10: F07 - secteur SL | Y10: 69782 | Z10: AMONITE SUD-EST 48 CHEMIN DE MURE LIEU DIT FORET DE L AIGLE | AB10: 03 - Rhône-Alpes | AE10: Solideal | AJ10: Stéphane Loncke | AM10: MH Tire System | AN10: Non Products | AO10: AFTERMARKET | AR10: PRESTA | AS10: Presse M
A11: 99.20.8 | B11: Lift Truck Service Compagny | C11: MANULOC | D11: AMONITE SUD-EST | E11: MS02 Prestations de services | F11: Montage Presse Mobile par Pouce (Déchets inclus) | G11: -42 | H11: -189 | J11: 706000 - Prestations de Services Presses Mobile | M11: mai | N11: =DATE(O11,VLOOKUP(M11,Feuil3!$A$1:$B$12,2,0),1) -> 43586 | O11: 2019 | P11: 2018 | Q11: AMF304251 | R11: 30 | S11: AVOIR SUR FACTURE VMF172768 ERREUR ADRESSE FACTURATION | U11: INVOICE WITH NO SHIPMENT | V11: 72 | W11: SAINT PIERRE DE CHANDIEU | X11: F07 - secteur SL | Y11: 69783 | Z11: AMONITE SUD-EST 48 CHEMIN DE MURE LIEU DIT FORET DE L AIGLE | AB11: 03 - Rhône-Alpes | AE11: Solideal | AJ11: Stéphane Loncke | AM11: MH Tire System | AN11: Non Products | AO11: AFTERMARKET | AR11: PRESTA | AS11: Presse M
A12: 99.20.8 | B12: Lift Truck Service Compagny | C12: MANULOC | D12: AMONITE SUD-EST | E12: MS02 Prestations de services | F12: Montage Presse Mobile par Pouce (Déchets inclus) | G12: -18 | H12: -81 | J12: 706000 - Prestations de Services Presses Mobile | M12: juin | N12: =DATE(O12,VLOOKUP(M12,Feuil3!$A$1:$B$12,2,0),1) -> 43617 | O12: 2019 | P12: 2018 | Q12: AMF304252 | R12: 20 | S12: AVOIR SUR FACTURE VMF 172766 ERREUR ADRESSE FACTURATION | U12: INVOICE WITH NO SHIPMENT | V12: 73 | W12: SAINT PIERRE DE CHANDIEU | X12: F07 - secteur SL | Y12: 69784 | Z12: AMONITE SUD-EST 48 CHEMIN DE MURE LIEU DIT FORET DE L AIGLE | AB12: 03 - Rhône-Alpes | AE12: Solideal | AJ12: Stéphane Loncke | AM12: MH Tire System | AN12: Non Products | AO12: AFTERMARKET | AR12: PRESTA | AS12: Presse M
A13: 99.20.8 | B13: Lift Truck Service Compagny | C13: MANULOC | D13: AMONITE SUD-EST | E13: MS02 Prestations de services | F13: Montage Presse Mobile par Pouce (Déchets inclus) | G13: 18 | H13: 81 | J13: 706000 - Prestations de Services Presses Mobile | M13: juin | N13: =DATE(O13,VLOOKUP(M13,Feuil3!$A$1:$B$12,2,0),1) -> 43617 | O13: 2019 | P13: 2018 | Q13: VMF173463 | R13: 20 | S13: SUITE ERREUR ADRESSE DE FACTURATION REGULARISATION CDE 431247 AOM | U13: INVOICE WITH NO SHIPMENT | V13: 74 | W13: SAINT PIERRE DE CHANDIEU | X13: F07 - secteur SL | Y13: 69785 | Z13: AMONITE SUD-EST 48 CHEMIN DE MURE LIEU DIT FORET DE L AIGLE | AB13: 03 - Rhône-Alpes | AE13: Solideal | AJ13: Stéphane Loncke | AM13: MH Tire System | AN13: Non Products | AO13: AFTERMARKET | AR13: PRESTA | AS13: Presse M
A14: 99.20.8 | B14: Lift Truck Service Compagny | C14: MANULOC | D14: AMONITE SUD-EST | E14: MS02 Prestations de services | F14: Montage Presse Mobile par Pouce (Déchets inclus) | G14: 42 | H14: 189 | J14: 706000 - Prestations de Services Presses Mobile | M14: juillet | N14: =DATE(O14,VLOOKUP(M14,Feuil3!$A$1:$B$12,2,0),1) -> 43647 | O14: 2019 | P14: 2018 | Q14: VMF173466 | R14: 30 | S14: SUITE ERREUR ADRESSE DE FACTURATION REGULARISATION CDE 431230 AOM | U14: INVOICE WITH NO SHIPMENT | V14: 75 | W14: SAINT PIERRE DE CHANDIEU | X14: F07 - secteur SL | Y14: 69786 | Z14: AMONITE SUD-EST 48 CHEMIN DE MURE LIEU DIT FORET DE L AIGLE | AB14: 03 - Rhône-Alpes | AE14: Solideal | AJ14: Stéphane Loncke | AM14: MH Tire System | AN14: Non Products | AO14: AFTERMARKET | AR14: PRESTA | AS14: Presse M
A15: 99.20.8 | B15: Lift Truck Service Compagny | C15: MANULOC | D15: AMONITE SUD-EST | E15: MS02 Prestations de services | F15: Montage Presse Mobile par Pouce (Déchets inclus) | G15: 36 | H15: 162 | J15: 706000 - Prestations de Services Presses Mobile | M15: juillet | N15: =DATE(O15,VLOOKUP(M15,Feuil3!$A$1:$B$12,2,0),1) -> 43647 | O15: 2019 | P15: 2018 | Q15: VMF173472 | R15: 30 | S15: SUITE ERREUR ADRESSE DE FACTURATION REGULARISATION CDE 431255 AOM | U15: INVOICE WITH NO SHIPMENT | V15: 76 | W15: SAINT PIERRE DE CHANDIEU | X15: F07 - secteur SL | Y15: 69787 | Z15: AMONITE SUD-EST 48 CHEMIN DE MURE LIEU DIT FORET DE L AIGLE | AB15: 03 - Rhône-Alpes | AE15: Solideal | AJ15: Stéphane Loncke | AM15: MH Tire System | AN15: Non Products | AO15: AFTERMARKET | AR15: PRESTA | AS15: Presse M
A16: 99.20.8 | B16: Lift Truck Service Compagny | C16: MANULOC | D16: AMONITE SUD-EST | E16: MS02 Prestations de services | F16: Montage Presse Mobile par Pouce (Déchets inclus) | G16: 18 | H16: 81 | J16: 706000 - Prestations de Services Presses Mobile | M16: août | N16: =DATE(O16,VLOOKUP(M16,Feuil3!$A$1:$B$12,2,0),1) -> 43678 | O16: 2019 | P16: 2018 | Q16: VMF173471 | R16: 20 | S16: SUITE ERREUR ADRESSE DE FACTURATION REGULARISATION CDE 431243 | U16: INVOICE WITH NO SHIPMENT | V16: 77 | W16: SAINT PIERRE DE CHANDIEU | X16: F07 - secteur SL | Y16: 69788 | Z16: AMONITE SUD-EST 48 CHEMIN DE MURE LIEU DIT FORET DE L AIGLE | AB16: 03 - Rhône-Alpes | AE16: Solideal | AJ16: Stéphane Loncke | AM16: MH Tire System | AN16: Non Products | AO16: AFTERMARKET | AR16: PRESTA | AS16: Presse M
A17: 99.20.8 | B17: Lift Truck Service Compagny | C17: APROLIS | D17: APROLIS (SIEGE) | E17: MS02 Prestations de services | F17: Montage Presse Mobile par Pouce (Déchets inclus) | G17: 16 | H17: 72 | J17: 706000 - Prestations de Services Presses Mobile | K17: 999105 - Service COGS Account | M17: août | N17: =DATE(O17,VLOOKUP(M17,Feuil3!$A$1:$B$12,2,0),1) -> 43678 | O17: 2019 | P17: 2018 | Q17: VMF173400 | R17: 20 | T17: 1207934 | U17: SHIPMENT | V17: 44 | W17: BOUGUENAIS | X17: F03 - secteur JB | Y17: 44344 | Z17: ZI DU CHAFFAULT RUE DE L'AERONAUTIQUE | AA17: DELABLIME DENKMANN AU 06.82.56.70.488 AVENUE FAIDHERBEMr ETEVE : 05.46.48.78.12JONZAC | AB17: 07 - Ile-de-France | AC17: ETB1321623 (PARC 1) | AD17: EP18NT | AE17: Solideal | AF17: 41.2 | AG17: ZS85 - Zone de service 85 | AH17: W1A 285393 | AI17: PM85 - PRUVOST Christian | AJ17: Yves Meurville | AK17: Joffrey Bailliez | AL17: Sebastien Dervaux | AM17: MH Tire System | AN17: Non Products | AO17: AFTERMARKET | AP17: APROLIS (SIEGE) | AR17: PRESTA | AS17: Presse M
A18: 99.20.8 | B18: Lift Truck Service Compagny | C18: APROLIS | D18: APROLIS (SIEGE) | E18: MS02 Prestations de services | F18: Montage Presse Mobile par Pouce (Déchets inclus) | G18: 20 | H18: 90 | J18: 706000 - Prestations de Services Presses Mobile | K18: 999105 - Service COGS Account | M18: septembre | N18: =DATE(O18,VLOOKUP(M18,Feuil3!$A$1:$B$12,2,0),1) -> 43709 | O18: 2019 | P18: 2018 | Q18: VMF173397 | R18: 20 | T18: 1207931 | U18: SHIPMENT | V18: 44 | W18: BOUGUENAIS | X18: F03 - secteur JB | Y18: 44344 | Z18: ZI DU CHAFFAULT RUE DE L'AERONAUTIQUE | AA18: DELABLIME DENKMANN AU 06.82.56.70.488 AVENUE FAIDHERBEMr ETEVE : 05.46.48.78.12JONZAC | AB18: 07 - Ile-de-France | AC18: ETB1721090 PARC 11 | AD18: EP20CN | AE18: Solideal | AF18: 53.2 | AG18: ZS85 - Zone de service 85 | AH18: W1A 284328 | AI18: PM85 - PRUVOST Christian | AJ18: Yves Meurville | AK18: Joffrey Bailliez | AL18: Sebastien Dervaux | AM18: MH Tire System | AN18: Non Products | AO18: AFTERMARKET | AP18: APROLIS (SIEGE) | AR18: PRESTA | AS18: Presse M
A19: 99.20.8 | B19: Lift Truck Service Compagny | C19: APROLIS | D19: APROLIS (SIEGE) | E19: MS02 Prestations de services | F19: Montage Presse Mobile par Pouce (Déchets inclus) | G19: 16 | H19: 72 | J19: 706000 - Prestations de Services Presses Mobile | K19: 999105 - Service COGS Account | M19: septembre | N19: =DATE(O19,VLOOKUP(M19,Feuil3!$A$1:$B$12,2,0),1) -> 43709 | O19: 2019 | P19: 2018 | Q19: VMF173398 | R19: 20 | T19: 1207932 | U19: SHIPMENT | V19: 44 | W19: BOUGUENAIS | X19: F03 - secteur JB | Y19: 44344 | Z19: ZI DU CHAFFAULT RUE DE L'AERONAUTIQUE | AA19: DELABLIME DENKMANN AU 06.82.56.70.488 AVENUE FAIDHERBEMr ETEVE : 05.46.48.78.12JONZAC | AB19: 07 - Ile-de-France | AC19: ETB1321625 PARC 10 | AD19: EP18NT | AE19: Solideal | AF19: 30 | AG19: ZS85 - Zone de service 85 | AH19: W1A 284325 | AI19: PM85 - PRUVOST Christian | AJ19: Yves Meurville | AK19: Joffrey Bailliez | AL19: Sebastien Dervaux | AM19: MH Tire System | AN19: Non Products | AO19: AFTERMARKET | AP19: APROLIS (SIEGE) | AR19: PRESTA | AS19: Presse M
A20: 99.20.8 | B20: Lift Truck Service Compagny | C20: APROLIS | D20: APROLIS (SIEGE) | E20: MS02 Prestations de services | F20: Montage Presse Mobile par Pouce (Déchets inclus) | G20: 16 | H20: 72 | J20: 706000 - Prestations de Services Presses Mobile | K20: 999105 - Service COGS Account | M20: octobre | N20: =DATE(O20,VLOOKUP(M20,Feuil3!$A$1:$B$12,2,0),1) -> 43739 | O20: 2019 | P20: 2018 | Q20: VMF173399 | R20: 20 | T20: 1207933 | U20: SHIPMENT | V20: 44 | W20: BOUGUENAIS | X20: F03 - secteur JB | Y20: 44344 | Z20: ZI DU CHAFFAULT RUE DE L'AERONAUTIQUE | AA20: DELABLIME DENKMANN AU 06.82.56.70.488 AVENUE FAIDHERBEMr ETEVE : 05.46.48.78.12JONZAC | AB20: 07 - Ile-de-France | AC20: ETB5A27339 PARC 5 | AD20: EP18KT | AE20: Solideal | AF20: 41.2 | AG20: ZS85 - Zone de service 85 | AH20: W1A 284324 | AI20: PM85 - PRUVOST Christian | AJ20: Yves Meurville | AK20: Joffrey Bailliez | AL20: Sebastien Dervaux | AM20: MH Tire System | AN20: Non Products | AO20: AFTERMARKET | AP20: APROLIS (SIEGE) | AR20: PRESTA | AS20: Presse M
A21: 99.20.8 | B21: Lift Truck Service Compagny | C21: APROLIS | D21: APROLIS (SIEGE) | E21: MS02 Prestations de services | F21: Montage Presse Mobile par Pouce (Déchets inclus) | G21: 18 | H21: 81 | J21: 706000 - Prestations de Services Presses Mobile | K21: 999105 - Service COGS Account | M21: octobre | N21: =DATE(O21,VLOOKUP(M21,Feuil3!$A$1:$B$12,2,0),1) -> 43739 | O21: 2019 | P21: 2018 | Q21: VMF173447 | R21: 20 | T21: 1208057 | U21: SHIPMENT | V21: 60 | W21: RIEUX CEDEX | X21: F01 - secteur JCL | Y21: 60871 | Z21: APROLIS (60.VIL) ZA Rue Albert Thomas BP 37 Villers Saint-Paul | AA21: CASTORAMAZAC LONGERES DES HAIESMR LESCHUITTA - 06-87-61-92-08 (APROLIS)SAINT MAXIMIN | AB21: 07 - Ile-de-France | AC21: ET17DL53784 | AD21: CATER GP25N | AE21: Solideal | AF21: 48.6 | AG21: CS Goussainville | AH21: CDE W44/286168 | AI21: PM95 - LOBO Manuel | AJ21: Yves Meurville | AK21: Jean-Christophe Leroy | AL21: Sebastien Dervaux | AM21: MH Tire System | AN21: Non Products | AO21: AFTERMARKET | AP21: APROLIS (SIEGE) | AR21: PRESTA | AS21: Presse M
A22: 99.20.8 | B22: Lift Truck Service Compagny | C22: APROLIS | D22: APROLIS (SIEGE) | E22: MS02 Prestations de services | F22: Montage Presse Mobile par Pouce (Déchets inclus) | G22: 18 | H22: 81 | J22: 706000 - Prestations de Services Presses Mobile | K22: 999105 - Service COGS Account | M22: novembre | N22: =DATE(O22,VLOOKUP(M22,Feuil3!$A$1:$B$12,2,0),1) -> 43770 | O22: 2019 | P22: 2018 | Q22: VMF173448 | R22: 20 | T22: 1208058 | U22: SHIPMENT | V22: 60 | W22: RIEUX CEDEX | X22: F01 - secteur JCL | Y22: 60871 | Z22: APROLIS (60.VIL) ZA Rue Albert Thomas BP 37 Villers Saint-Paul | AA22: CASTORAMAZAC LONGERES DES HAIESMR LESCHUITTA - 06-87-61-92-08 (APROLIS)SAINT MAXIMIN | AB22: 07 - Ile-de-France | AC22: ET17DL53785 | AD22: CATER GP25N | AE22: Solideal | AF22: 48.6 | AG22: CS Goussainville | AH22: CDE W44/286165 | AI22: PM95 - LOBO Manuel | AJ22: Yves Meurville | AK22: Jean-Christophe Leroy | AL22: Sebastien Dervaux | AM22: MH Tire System | AN22: Non Products | AO22: AFTERMARKET | AP22: APROLIS (SIEGE) | AR22: PRESTA | AS22: Presse M
A23: 99.20.8 | B23: Lift Truck Service Compagny | C23: APROLIS | D23: APROLIS (SIEGE) | E23: MS02 Prestations de services | F23: Montage Presse Mobile par Pouce (Déchets inclus) | G23: 24 | H23: 108 | J23: 706000 - Prestations de Services Presses Mobile | K23: 999105 - Service COGS Account | M23: novembre | N23: =DATE(O23,VLOOKUP(M23,Feuil3!$A$1:$B$12,2,0),1) -> 43770 | O23: 2019 | P23: 2018 | Q23: VMF173446 | R23: 20 | T23: 1208056 | U23: SHIPMENT | V23: 60 | W23: RIEUX CEDEX | X23: F01 - secteur JCL | Y23: 60871 | Z23: APROLIS (60.VIL) ZA Rue Albert Thomas BP 37 Villers Saint-Paul | AA23: MONIER SASROUTE DE CHEVRIERESB.P 90123MR FARIA - 06-82-87-54-28 (APROLIS)VERBERIE | AB23: 07 - Ile-de-France | AC23: G813B0218UJ | AD23: YALE GDP45VX | AE23: Solideal | AF23: 94.6 | AG23: CS Goussainville | AH23: CDE W44/286097 | AI23: PM95 - LOBO Manuel | AJ23: Yves Meurville | AK23: Jean-Christophe Leroy | AL23: Sebastien Dervaux | AM23: MH Tire System | AN23: Non Products | AO23: AFTERMARKET | AP23: APROLIS (SIEGE) | AR23: PRESTA | AS23: Presse M
A24: 99.20.6 | B24: Lift Truck Service Compagny | C24: APROLIS | D24: APROLIS (SIEGE) | E24: MS02 Prestations de services | F24: Montage Atelier | G24: 32 | H24: 96 | J24: 706000 - Prestations de Services Presses Mobile | K24: 999105 - Service COGS Account | M24: décembre | N24: =DATE(O24,VLOOKUP(M24,Feuil3!$A$1:$B$12,2,0),1) -> 43800 | O24: 2019 | P24: 2018 | Q24: VMF173424 | R24: 30 | T24: 1207893 | U24: SHIPMENT | V24: 69 | W24: VENISSIEUX CEDEX | X24: F07 - secteur SL | Y24: 69637 | Z24: 28 ter RUE EUGENE HENAFF | AB24: 07 - Ile-de-France | AE24: Solideal | AF24: 61.8 | AG24: CS Saint Priest | AH24: 12JC01591 | AI24: Livraison par commercial | AJ24: Yves Meurville | AK24: Thierry Mercier | AL24: Sebastien Dervaux | AM24: MH Tire System | AN24: Non Products | AO24: AFTERMARKET | AP24: APROLIS (SIEGE) | AR24: PRESTA | AS24: Atelier
A25: 99.20.8 | B25: Lift Truck Service Compagny | C25: APROLIS | D25: APROLIS (SIEGE) | E25: MS02 Prestations de services | F25: Montage Presse Mobile par Pouce (Déchets inclus) | G25: 20 | H25: 90 | J25: 706000 - Prestations de Services Presses Mobile | K25: 999105 - Service COGS Account | M25: décembre | N25: =DATE(O25,VLOOKUP(M25,Feuil3!$A$1:$B$12,2,0),1) -> 43800 | O25: 2019 | P25: 2018 | Q25: VMF173454 | R25: 20 | T25: 1208064 | U25: SHIPMENT | V25: 95 | W25: ROISSY CHARLES DE GAULLE | X25: F05 - secteur SD | Y25: 95700 | Z25: 3412B, rue de la jeune fille Zone de Fret n°4 | AA25: LEROY MERLINCENTRE COMMERCIAL BAY 2AVENUE DU GENERAL DE GAULLEMR OUDART - 06-37-00-33-23 (APROLIS)COLLEGIEN | AB25: 07 - Ile-de-France | AC25: ETB1371149 | AD25: CATER | AE25: Solideal | AF25: 73.2 | AG25: CS Goussainville | AH25: CDE W33/286404 | AI25: PM95 - LOBO Manuel | AJ25: Yves Meurville | AK25: Sebastien Dervaux | AL25: Sebastien Dervaux | AM25: MH Tire System | AN25: Non Products | AO25: AFTERMARKET | AP25: APROLIS (SIEGE) | AR25: PRESTA | AS25: Presse M
A26: 99.20.8 | B26: Lift Truck Service Compagny | C26: APROLIS | D26: APROLIS (SIEGE) | E26: MS02 Prestations de services | F26: Montage Presse Mobile par Pouce (Déchets inclus) | G26: 18 | H26: 81 | J26: 706000 - Prestations de Services Presses Mobile | K26: 999105 - Service COGS Account | M26: janvier | N26: =DATE(O26,VLOOKUP(M26,Feuil3!$A$1:$B$12,2,0),1) -> 43101 | O26: 2018 | P26: 2018 | Q26: VMF173454 | R26: 40 | T26: 1208064 | U26: SHIPMENT | V26: 95 | W26: ROISSY CHARLES DE GAULLE | X26: F05 - secteur SD | Y26: 95700 | Z26: 3412B, rue de la jeune fille Zone de Fret n°4 | AA26: LEROY MERLINCENTRE COMMERCIAL BAY 2AVENUE DU GENERAL DE GAULLEMR OUDART - 06-37-00-33-23 (APROLIS)COLLEGIEN | AB26: 07 - Ile-de-France | AC26: ETB1371149 | AD26: CATER | AE26: Solideal | AF26: 73.2 | AG26: CS Goussainville | AH26: CDE W33/286404 | AI26: PM95 - LOBO Manuel | AJ26: Yves Meurville | AK26: Sebastien Dervaux | AL26: Sebastien Dervaux | AM26: MH Tire System | AN26: Non Products | AO26: AFTERMARKET | AP26: APROLIS (SIEGE) | AR26: PRESTA | AS26: Presse M
A27: 99.20.6 | B27: Tyre Dealer | C27: EUROMASTER | D27: EUROMASTER FRANCE (SIEGE) - | E27: MS02 Prestations de services | F27: Montage Atelier | G27: 46 | H27: 92 | J27: 706000 - Prestations de Services Presses Mobile | K27: 999105 - Service COGS Account | M27: février | N27: =DATE(O27,VLOOKUP(M27,Feuil3!$A$1:$B$12,2,0),1) -> 43132 | O27: 2018 | P27: 2018 | Q27: VMF173420 | R27: 30 | T27: 1207744 | U27: SHIPMENT | V27: 69 | W27: CORBAS | X27: F07 - secteur SL | Y27: 69960 | Z27: EUROMASTER FRANCE - 2EA 52 Rue Louis Pardel, Z.I. de Corbas | AB27: 031 - Rhône-Alpes négoce | AE27: Solideal | AF27: 342 | AG27: CS Saint Priest | AH27: FONDERIE DE VENISSIE | AI27: RC | AJ27: Stéphane Loncke | AK27: Stéphane Loncke | AL27: Stéphane Loncke | AM27: MH Tire System | AN27: Non Products | AO27: AFTERMARKET | AP27: EUROMASTER FRANCE (SIEGE) - | AR27: PRESTA | AS27: Atelier
A28: 99.20.6 | B28: Tyre Dealer | C28: EUROMASTER | D28: EUROMASTER FRANCE (SIEGE) - | E28: MS02 Prestations de services | F28: Montage Atelier | G28: 24 | H28: 48 | J28: 706000 - Prestations de Services Presses Mobile | K28: 999105 - Service COGS Account | M28: avril | N28: =DATE(O28,VLOOKUP(M28,Feuil3!$A$1:$B$12,2,0),1) -> 43191 | O28: 2018 | P28: 2018 | Q28: VMF173420 | R28: 50 | T28: 1207744 | U28: SHIPMENT | V28: 69 | W28: CORBAS | X28: F07 - secteur SL | Y28: 69960 | Z28: EUROMASTER FRANCE - 2EA 52 Rue Louis Pardel, Z.I. de Corbas | AB28: 031 - Rhône-Alpes négoce | AE28: Solideal | AF28: 342 | AG28: CS Saint Priest | AH28: FONDERIE DE VENISSIE | AI28: RC | AJ28: Stéphane Loncke | AK28: Stéphane Loncke | AL28: Stéphane Loncke | AM28: MH Tire System | AN28: Non Products | AO28: AFTERMARKET | AP28: EUROMASTER FRANCE (SIEGE) - | AR28: PRESTA | AS28: Atelier
A29: 99.20.6 | B29: Tyre Dealer | C29: EUROMASTER | D29: EUROMASTER FRANCE (SIEGE) - | E29: MS02 Prestations de services | F29: Montage Atelier | G29: 36 | H29: 72 | J29: 706000 - Prestations de Services Presses Mobile | K29: 999105 - Service COGS Account | M29: avril | N29: =DATE(O29,VLOOKUP(M29,Feuil3!$A$1:$B$12,2,0),1) -> 43556 | O29: 2019 | P29: 2019 | Q29: VMF173420 | R29: 80 | T29: 1207744 | U29: SHIPMENT | V29: 69 | W29: CORBAS | X29: F07 - secteur SL | Y29: 69960 | Z29: EUROMASTER FRANCE - 2EA 52 Rue Louis Pardel, Z.I. de Corbas | AB29: 031 - Rhône-Alpes négoce | AE29: Solideal | AF29: 342 | AG29: CS Saint Priest | AH29: FONDERIE DE VENISSIE | AI29: RC | AJ29: Stéphane Loncke | AK29: Stéphane Loncke | AL29: Stéphane Loncke | AM29: MH Tire System | AN29: Non Products | AO29: AFTERMARKET | AP29: EUROMASTER FRANCE (SIEGE) - | AR29: PRESTA | AS29: Atelier
A30: 99.20.6 | B30: Tyre Dealer | C30: EUROMASTER | D30: EUROMASTER FRANCE (SIEGE) - | E30: MS02 Prestations de services | F30: Montage Atelier | G30: 60 | H30: 120 | J30: 706000 - Prestations de Services Presses Mobile | K30: 999105 - Service COGS Account | M30: avril | N30: =DATE(O30,VLOOKUP(M30,Feuil3!$A$1:$B$12,2,0),1) -> 43556 | O30: 2019 | P30: 2019 | Q30: VMF173420 | R30: 90 | T30: 1207744 | U30: SHIPMENT | V30: 69 | W30: CORBAS | X30: F07 - secteur SL | Y30: 69960 | Z30: EUROMASTER FRANCE - 2EA 52 Rue Louis Pardel, Z.I. de Corbas | AB30: 031 - Rhône-Alpes négoce | AE30: Solideal | AF30: 342 | AG30: CS Saint Priest | AH30: FONDERIE DE VENISSIE | AI30: RC | AJ30: Stéphane Loncke | AK30: Stéphane Loncke | AL30: Stéphane Loncke | AM30: MH Tire System | AN30: Non Products | AO30: AFTERMARKET | AP30: EUROMASTER FRANCE (SIEGE) - | AR30: PRESTA | AS30: Atelier
A31: 99.20.8 | B31: Lift Truck Service Compagny | C31: FENWICK | D31: FENWICK-LINDE (SIEGE-ELA) | E31: MS02 Prestations de services | F31: Montage Presse Mobile par Pouce (Déchets inclus) | G31: 16 | H31: 72 | J31: 706000 - Prestations de Services Presses Mobile | K31: 999105 - Service COGS Account | M31: avril | N31: =DATE(O31,VLOOKUP(M31,Feuil3!$A$1:$B$12,2,0),1) -> 43556 | O31: 2019 | P31: 2019 | Q31: VMF173462 | R31: 20 | T31: 1208071 | U31: SHIPMENT | V31: 78 | W31: MORAINVILLIERS | X31: F05 - secteur SD | Y31: 78630 | Z31: FENWICK LINDE (78.MOR) Agence Ile de France Ouest 48/50 Rue de La Croix de l'Orme | AA31: SOFLOG TELIS CHEZ HISPANO SUIZA18 BOULEVARD LOUIS SEGUINMR SANCHEZ - 06-18-37-97-29 / 01-69-87-21-01COLOMBES | AB31: 07 - Ile-de-France | AC31: H2X386U05633 | AD31: FENWICK | AE31: Solideal | AF31: 19.6 | AG31: CS Goussainville | AH31: CDE 47828489 | AI31: PM95 - LOBO Manuel | AJ31: Yves Meurville | AK31: Sebastien Dervaux | AL31: Sebastien Dervaux | AM31: MH Tire System | AN31: Non Products | AO31: AFTERMARKET | AP31: FENWICK-LINDE (SIEGE-ELA) | AR31: PRESTA | AS31: Presse M
A32: 99.20.8 | B32: Lift Truck Service Compagny | C32: FENWICK | D32: FENWICK-LINDE (SIEGE-ELA) | E32: MS02 Prestations de services | F32: Montage Presse Mobile par Pouce (Déchets inclus) | G32: 16 | H32: 72 | J32: 706000 - Prestations de Services Presses Mobile | K32: 999105 - Service COGS Account | M32: avril | N32: =DATE(O32,VLOOKUP(M32,Feuil3!$A$1:$B$12,2,0),1) -> 43556 | O32: 2019 | P32: 2019 | Q32: VMF173456 | R32: 20 | T32: 1208068 | U32: SHIPMENT | V32: 78 | W32: MORAINVILLIERS | X32: F05 - secteur SD | Y32: 78630 | Z32: FENWICK LINDE (78.MOR) Agence Ile de France Ouest 48/50 Rue de La Croix de l'Orme | AA32: SOFLOG TELIS CHEZ HISPANO SUIZA18 BOULEVARD LOUIS SEGUINMR SANCHEZ - 06-18-37-97-29 / 01-69-87-21-01COLOMBES | AB32: 07 - Ile-de-France | AC32: H2X386U04583 | AD32: FENWICK | AE32: Solideal | AF32: 19.6 | AG32: CS Goussainville | AH32: CDE 47828507 | AI32: PM95 - LOBO Manuel | AJ32: Yves Meurville | AK32: Sebastien Dervaux | AL32: Sebastien Dervaux | AM32: MH Tire System | AN32: Non Products | AO32: AFTERMARKET | AP32: FENWICK-LINDE (SIEGE-ELA) | AR32: PRESTA | AS32: Presse M
A33: 99.20.8 | B33: Lift Truck Service Compagny | C33: FENWICK | D33: FENWICK-LINDE (SIEGE-ELA) | E33: MS02 Prestations de services | F33: Montage Presse Mobile par Pouce (Déchets inclus) | G33: 16 | H33: 72 | J33: 706000 - Prestations de Services Presses Mobile | K33: 999105 - Service COGS Account | M33: avril | N33: =DATE(O33,VLOOKUP(M33,Feuil3!$A$1:$B$12,2,0),1) -> 43556 | O33: 2019 | P33: 2019 | Q33: VMF173455 | R33: 20 | T33: 1208065 | U33: SHIPMENT | V33: 95 | W33: GONESSE CEDEX | X33: F05 - secteur SD | Y33: 95503 | Z33: 5 rue des frères Montgolfier BP 75 | AA33: MERCEDES BENZ PARISCENTRE TECHNOLOGIQUE DE REPARATIONAVENUE DE LA RESISTANCESTAINS59 | AB33: 07 - Ile-de-France | AE33: Solideal | AF33: 44.6 | AG33: CS Goussainville | AH33: CDE 47832048 | AI33: PM95 - LOBO Manuel | AJ33: Yves Meurville | AK33: Sebastien Dervaux | AL33: Sebastien Dervaux | AM33: MH Tire System | AN33: Non Products | AO33: AFTERMARKET | AP33: FENWICK-LINDE (SIEGE-ELA) | AR33: PRESTA | AS33: Presse M

Sheet Tableau de bord
A3: Année fiscale | B3: 2019
A4: Période | B4: mars
A5: Prorata de l'objectif annuel | B5: =SUMIFS([3]Feuil1!$I$8:$I$65,[3]Feuil1!$A$8:$A$65,'Tableau de bord'!$B$4) -> #VALUE! | G5: Fonction du choix dans le menu déroulant, je dois réussir à cumuler les quantités de la colonne G mais sur plusieurs critères et non un seul comme dans cette formule
A6: Secteur commercial | B6: F07 - secteur SL | G6: C’est-à-dire pour "Mars"= additionner les qtés pour "Avril, Mai, Juin, Juillet, août, septembre, octobre, novembre, décembre, janvier, février et mars
A7: Grand Compte | G7: Pour "Juillet" ce serait = Avril, Mai et Juin uniquement.
A8: Client (NAICS) | B8: APROLIS
A9: Enseigne
A10: Ville
B13: Qté FY18 | C13: Qté FY19 | D13: Diff | E13: CA FY18 | F13: Qté FY19 | G13: Diff | H13: Qté Obj | I13: Diff | J13: CA Obj | K13: Diff
A14: Manutention
A15: Prestations | B15: =SUMPRODUCT(('cumul 2014-2018'!$M$2:$M$33='Tableau de bord'!$B$4)*('cumul 2014-2018'!$O$2:$O$33=2018)*('cumul 2014-2018'!$X$2:$X$33='Tableau de bord'!$B$6)*('cumul 2014-2018'!$AR$2:$AR$33="presta")*('cumul 2014-2018'!$G$2:$G$33)) -> 20 | E15: =SUMIFS('cumul 2014-2018'!$H:$H,'cumul 2014-2018'!$P:$P,"2018",'cumul 2014-2018'!$X:$X,'Tableau de bord'!B6,'cumul 2014-2018'!$AR:$AR,"PRESTA",'cumul 2014-2018'!$M:$M,IF('Tableau de bord'!B4="Mars","Avril",FALSE)) -> 57
A16: Presse Mobile
A17: Atelier
A18: Gonflage PU
A20: Pneus Pleins | D20: =SOMME.SI.ENS('cumul 2014-2018'!$G:$G;'cumul 2014-2018'!$N:$N;"2018";'cumul 2014-2018'!$V:$V;'Tableau de bord'!B6;'cumul 2014-2018'!$AP:$AP;"PRESTA";'cumul 2014-2018'!$L:$L;SI('Tableau de bord'!B4="Mars";"Avril";FAUX))
A21: RES660
A22: RES550
A23: RES330
A24: SolidAir
A26: Bandages Frettés
A28: Pneus Gonflables Manuten°
A29: Hauler
A30: AIR550
A31: AIR561
A32: AIR570
A33: AIR775
A35: Construction
... A38: Chenilles

Sheet Feuil3
A1: janvier | B1: 1 | C1: F01 - secteur JCL
A2: février | B2: 2 | C2: F02 - secteur GR
A3: mars | B3: 3 | C3: F03 - secteur JB
A4: avril | B4: 4 | C4: F04 - secteur LV
A5: mai | B5: 5 | C5: F05 - secteur SD
A6: juin | B6: 6 | C6: F06 - secteur EM
A7: juillet | B7: 7 | C7: F07 - secteur SL
A8: août | B8: 8 | C8: F08 - secteur NP
A9: septembre | B9: 9 | C9: F09 - secteur XB
A10: octobre | B10: 10 | C10: F10 - secteur RD
A11: novembre | B11: 11 | C11: F11 - secteur OB
A12: décembre | B12: 12 | C12: F12 - secteur PMS
