Workbook

Sheet Feuille 1
A1: sujet | B1: bloc | C1: temps | D1: ACC | E1: Colonne1
A2: 39 | B2: 1 | C2: 383 | D2: 0 | E2: =SUMPRODUCT(('Feuille 2'!$A$2:$A$23='Feuille 1'!A2)*('Feuille 2'!$B$1:$E$1='Feuille 1'!B2)*('Feuille 2'!$B$2:$E$23)*(D2=0)) -> 709.9
A3: 39 | B3: 1 | C3: 389 | D3: 0 | E3: =SUMPRODUCT(('Feuille 2'!$A$2:$A$23='Feuille 1'!A3)*('Feuille 2'!$B$1:$E$1='Feuille 1'!B3)*('Feuille 2'!$B$2:$E$23)*(D3=0)) -> 709.9
A4: 39 | B4: 1 | C4: 1557 | D4: 0 | E4: =SUMPRODUCT(('Feuille 2'!$A$2:$A$23='Feuille 1'!A4)*('Feuille 2'!$B$1:$E$1='Feuille 1'!B4)*('Feuille 2'!$B$2:$E$23)*(D4=0)) -> 709.9
A5: 39 | B5: 1 | C5: 554 | D5: 0 | E5: =SUMPRODUCT(('Feuille 2'!$A$2:$A$23='Feuille 1'!A5)*('Feuille 2'!$B$1:$E$1='Feuille 1'!B5)*('Feuille 2'!$B$2:$E$23)*(D5=0)) -> 709.9
A6: 39 | B6: 1 | C6: 551 | D6: 0 | E6: =SUMPRODUCT(('Feuille 2'!$A$2:$A$23='Feuille 1'!A6)*('Feuille 2'!$B$1:$E$1='Feuille 1'!B6)*('Feuille 2'!$B$2:$E$23)*(D6=0)) -> 709.9
A7: 39 | B7: 1 | C7: 567 | D7: 0 | E7: =SUMPRODUCT(('Feuille 2'!$A$2:$A$23='Feuille 1'!A7)*('Feuille 2'!$B$1:$E$1='Feuille 1'!B7)*('Feuille 2'!$B$2:$E$23)*(D7=0)) -> 709.9
A8: 39 | B8: 1 | C8: 351 | D8: 0 | E8: =SUMPRODUCT(('Feuille 2'!$A$2:$A$23='Feuille 1'!A8)*('Feuille 2'!$B$1:$E$1='Feuille 1'!B8)*('Feuille 2'!$B$2:$E$23)*(D8=0)) -> 709.9
A9: 39 | B9: 2 | C9: 456 | D9: 1 | E9: =SUMPRODUCT(('Feuille 2'!$A$2:$A$23='Feuille 1'!A9)*('Feuille 2'!$B$1:$E$1='Feuille 1'!B9)*('Feuille 2'!$B$2:$E$23)*(D9=0)) -> 0
A10: 39 | B10: 2 | C10: 477 | D10: 1 | E10: =SUMPRODUCT(('Feuille 2'!$A$2:$A$23='Feuille 1'!A10)*('Feuille 2'!$B$1:$E$1='Feuille 1'!B10)*('Feuille 2'!$B$2:$E$23)*(D10=0)) -> 0
A11: 39 | B11: 2 | C11: 387 | D11: 1 | E11: =SUMPRODUCT(('Feuille 2'!$A$2:$A$23='Feuille 1'!A11)*('Feuille 2'!$B$1:$E$1='Feuille 1'!B11)*('Feuille 2'!$B$2:$E$23)*(D11=0)) -> 0
A12: 39 | B12: 2 | C12: 378 | D12: 1 | E12: =SUMPRODUCT(('Feuille 2'!$A$2:$A$23='Feuille 1'!A12)*('Feuille 2'!$B$1:$E$1='Feuille 1'!B12)*('Feuille 2'!$B$2:$E$23)*(D12=0)) -> 0
A13: 39 | B13: 2 | C13: 370 | D13: 1 | E13: =SUMPRODUCT(('Feuille 2'!$A$2:$A$23='Feuille 1'!A13)*('Feuille 2'!$B$1:$E$1='Feuille 1'!B13)*('Feuille 2'!$B$2:$E$23)*(D13=0)) -> 0
... A41: 41 | B41: 1 | C41: 961 | D41: 0 | E41: =SUMPRODUCT(('Feuille 2'!$A$2:$A$23='Feuille 1'!A41)*('Feuille 2'!$B$1:$E$1='Feuille 1'!B41)*('Feuille 2'!$B$2:$E$23)*(D41=0)) -> 796.91463

Sheet Feuille 2
A1: Colonne1 | B1: 1 | C1: 2 | D1: 3 | E1: 4
A2: 39 | B2: 709.9 | C2: 753.34921 | D2: 943.16129 | E2: 918.83099
A3: 40 | B3: 902.93617 | C3: 876.32632 | D3: 1085.8778 | E3: 928.125
A4: 41 | B4: 796.91463 | C4: 774.24719 | D4: 764.95556 | E4: 763.32653
A5: 42 | B5: 861.06593 | C5: 905.20455 | D5: 990.47312 | E5: 1129.8605
A6: 43 | B6: 781.73684 | C6: 886.125 | D6: 831 | E6: 920.96
A7: 44 | B7: 975.82353 | C7: 965.03529 | D7: 936.875 | E7: 1264.5455
A8: 45 | B8: 828.74699 | C8: 750.45055 | D8: 819.24719 | E8: 916.78
A9: 46 | B9: 1129.7561 | C9: 961.45122 | D9: 1249.9706 | E9: 1295.4286
A10: 47 | B10: 890.45977 | C10: 791.72222 | D10: 819.35227 | E10: 941.56604
A11: 49 | B11: 811.33333 | C11: 813.83871 | D11: 836.91026 | E11: 928.92
A12: 50 | B12: 969.11364 | C12: 1062.2667 | D12: 1136.9062 | E12: 964.75
A13: 52 | B13: 830.57143 | C13: 851.6383 | D13: 852.05747 | E13: 823.64706
... A23: 62 | B23: 671.41791 | C23: 514.91803 | D23: 462.43396 | E23: 1430.7368
